Workbook
Name _product_code: data!$B$72
Name adpi.: data!$A$2:$A$5
Name getCdiagram: IF('LMC-ADequations'!$B$32=2,diagrams!$B$10,diagrams!$B$11)
Name getDirectionDischarge: IF('LMC-AD'!$F$56="A",diagrams!$D$12,IF('LMC-AD'!$F$56="B",diagrams!$D$13,diagrams!$D$14))
Name getImage: IF('LMC-AD'!$E$19<0.4,diagrams!$A$1,IF('LMC-AD'!$E$19<0.65,diagrams!$A$2,IF('LMC-AD'!$E$19<1,diagrams!$A$3,diagrams!$A$4)))
Name getLayout: IF('LMC-ADequations'!$B$14=2,diagrams!$A$6,diagrams!$A$7)

Sheet LMC-AD
D2: SMARTEMP PRODUCT SELECTION CALCULATOR
D3: Linear Multistream Ceiling Diffuser [LMC-AD]
C5: Project: | D5: <Project Name>
D7: Inputs | J7: Detailed Selection | S7: v 8.1 [08/2026]
D9: Maximum Airflow Rate | E9: 250 | F9: [L/s/m] | G9: [m3/h/m] | K9: Air Pattern | L9: 2-Way | M9: 1-Way
D11: VAV (turndown to) | E11: 100 | F11: % 10% to 100% (use 100% for CAV) | K11: ADPI ≥ | L11: 0.9 | N11: default ≥ 90% | T11: Specific Airflow Rate (heating) | U11: 5 | V11: L/s/m2 | W11: 2 to 10 L/s/m2 (default 5 L/s/m2)
D13: Maximum Permissible Static Pressure | E13: 30 | F13: Pa default 30 Pa | K13: Diffuser Location | L13: Closed Ceiling | N13: Freely Suspended
D15: ΔT (cooling) | E15: -12 | F15: K 0 K to -16 K (default -12 K) | J15: Draught Rating & Heating
D17: Diffuser Height | E17: 2.7 | F17: m 2 m to 7 m (heating & cooling) | J17: Diffuser Coverage = Average (Max, Min) 'C' Distance | N17: see Distance section in Results
F18: 2 m to 11 m (cooling only) | J18: OR | L18: ="average distance = "&ROUND('LMC-ADequations'!B297,1) -> average distance = 14.6 | M18: m
D19: Active Length Ratio (see diagram) | E19: 0.5 | F19: * 0.1 to 1.0 (default 0.5) | K19: Manual Diffuser Coverage | L19: 3.4 | M19: m | N19: see 'C' in diagram below
J20: OR | L20: ="Average Specific Airflow: "& ROUND('LMC-ADequations'!B309,1) -> Average Specific Airflow: 8.5 | M20: ='LMC-ADequations'!C4 -> L/s/m²
K21: Specific Airflow Rate | L21: 5 | M21: ='LMC-ADequations'!C4 -> L/s/m² | N21: ="≤ "&'LMC-ADequations'!B392&" "&'LMC-ADequations'!C4 -> ≤ 30 L/s/m²
L22: ="average diffuser coverage: "& ROUND('LMC-ADequations'!B303,1) -> average diffuser coverage: 25 | M22: m
K23: Room Temperature (draught rating) | L23: 23 | M23: °C | N23: 20 °C to 26 °C (default 23 °C)
K25: Low Level Return (heating) | L25: 0 | M25: % | N25: 0% to 100% (default 0%)
K28: Thermal Comfort Guide
K29: ADPI ≥ 95%; ṽ ≤ 0.20 m/s: | L29: Premium comfort, sedentary activity, such as in auditoria.
D30: Spigot Size | E30: ASNZ Sizes (DN150; DN200; DN250; DN300; DN350) | K30: ADPI ≥ 90%; ṽ ≤ 0.25 m/s: | L30: High comfort near-sedentary activity, such as in board rooms, high end offices and libraries.
E31: DIN Sizes (DN160; DN200; DN250; DN315; DN355) | K31: ADPI ≥ 80%; ṽ ≤ 0.29 m/s: | L31: Good comfort near sedentary activity, such as open-plan offices and meeting rooms.
K32: ADPI ≥ 70%; ṽ ≤ 0.33 m/s: | L32: Standard comfort medium activity, such as in transient spaces, retail and lobbies.
C33: Related Products
C34: Smartemp LJC-AD: | D34: for increased flow rates; optionally with thermal/electric adjustment
C35: Smartemp LDB 12: | D35: engineered by LTG for an ultra-slim look
C36: Smartemp LDB 12 Clean: | D36: engineered by LTG with SystemClean™ for minimal ceiling smudging and diffuser condensation
C37: Smartemp LDB 50 Maxx: | D37: engineered by LTG for high flow rates
C38: Smartemp LMW-AD: | D38: for a wall-mounted solution
C41: Results | D41: SMARTEMP LMC-AD | F41: 1 Slot | G41: 2 Slots | H41: 3 Slots | I41: 4 Slots | J41: 5 Slots | K41: 6 Slots | L41: 7 Slots | M41: 8 Slots | N41: Key: | O41: Suitable | P41: Not Suitable | Q41: Warning
C42: Dimensions * | D42: Width Flangeless Face | E42: [mm] | F42: 31 | G42: 59 | H42: 87 | I42: 115 | J42: 143 | K42: 171 | L42: 199 | M42: 227
D43: Width Flanged Face | E43: [mm] | F43: 48 | G43: 76 | H43: 104 | I43: 132 | J43: 160 | K43: 188 | L43: 216 | M43: 244
D44: Width of Diffuser Throat | E44: [mm] | F44: 27 | G44: 55 | H44: 83 | I44: 111 | J44: 139 | K44: 167 | L44: 195 | M44: 223
C45: Airflow | D45: Selected Airflow Rate | E45: ='LMC-ADequations'!$C$3 -> [L/s/m] | F45: ='LMC-ADequations'!B351 -> 250 | G45: ='LMC-ADequations'!C351 -> 250 | H45: ='LMC-ADequations'!D351 -> 250 | I45: ='LMC-ADequations'!E351 -> 250 | J45: ='LMC-ADequations'!F351 -> 250 | K45: ='LMC-ADequations'!G351 -> 250 | L45: ='LMC-ADequations'!H351 -> 250 | M45: ='LMC-ADequations'!I351 -> 250
D46: Airflow @ Max Static Pressure | E46: ='LMC-ADequations'!$C$3 -> [L/s/m] | F46: ='LMC-ADequations'!B352 -> 34 | G46: ='LMC-ADequations'!C352 -> 71 | H46: ='LMC-ADequations'!D352 -> 109 | I46: ='LMC-ADequations'!E352 -> 144 | J46: ='LMC-ADequations'!F352 -> 186 | K46: ='LMC-ADequations'!G352 -> 229 | L46: ='LMC-ADequations'!H352 -> 262 | M46: ='LMC-ADequations'!I352 -> 308
D47: Min Selected Airflow | E47: ='LMC-ADequations'!$C$3 -> [L/s/m] | F47: ='LMC-ADequations'!B353 -> 250 | G47: ='LMC-ADequations'!C353 -> 250 | H47: ='LMC-ADequations'!D353 -> 250 | I47: ='LMC-ADequations'!E353 -> 250 | J47: ='LMC-ADequations'!F353 -> 250 | K47: ='LMC-ADequations'!G353 -> 250 | L47: ='LMC-ADequations'!H353 -> 250 | M47: ='LMC-ADequations'!I353 -> 250
D48: ='LMC-ADequations'!A354 -> Min Permissible Airflow @ -12 K | E48: ='LMC-ADequations'!$C$3 -> [L/s/m] | F48: ='LMC-ADequations'!B354 -> 7.6 | G48: ='LMC-ADequations'!C354 -> 16 | H48: ='LMC-ADequations'!D354 -> 24.2 | I48: ='LMC-ADequations'!E354 -> 32.3 | J48: ='LMC-ADequations'!F354 -> 40.7 | K48: ='LMC-ADequations'!G354 -> 49.4 | L48: ='LMC-ADequations'!H354 -> 57.4 | M48: ='LMC-ADequations'!I354 -> 65.8
D49: Min % Turndown to | F49: ='LMC-ADequations'!B355 -> 1 | G49: ='LMC-ADequations'!C355 -> 1 | H49: ='LMC-ADequations'!D355 -> 1 | I49: ='LMC-ADequations'!E355 -> 1 | J49: ='LMC-ADequations'!F355 -> 1 | K49: ='LMC-ADequations'!G355 -> 1 | L49: ='LMC-ADequations'!H355 -> 1 | M49: ='LMC-ADequations'!I355 -> 1
D50: Min Permissible % Turndown to | F50: ='LMC-ADequations'!B356 -> 0.03 | G50: ='LMC-ADequations'!C356 -> 0.06 | H50: ='LMC-ADequations'!D356 -> 0.1 | I50: ='LMC-ADequations'!E356 -> 0.13 | J50: ='LMC-ADequations'!F356 -> 0.16 | K50: ='LMC-ADequations'!G356 -> 0.2 | L50: ='LMC-ADequations'!H356 -> 0.23 | M50: ='LMC-ADequations'!I356 -> 0.26
C51: Pressure | D51: Static Pressure @ 100% Airflow | E51: [Pa] | F51: ='LMC-ADequations'!B357 -> 1663.1 | G51: ='LMC-ADequations'!C357 -> 375.3 | H51: ='LMC-ADequations'!D357 -> 158.5 | I51: ='LMC-ADequations'!E357 -> 90.9 | J51: ='LMC-ADequations'!F357 -> 54.2 | K51: ='LMC-ADequations'!G357 -> 35.8 | L51: ='LMC-ADequations'!H357 -> 27.2 | M51: ='LMC-ADequations'!I357 -> 19.8
D52: Total Pressure @ 100% Airflow | E52: [Pa] | F52: ='LMC-ADequations'!B358 -> 1670.8 | G52: ='LMC-ADequations'!C358 -> 382.9 | H52: ='LMC-ADequations'!D358 -> 166.2 | I52: ='LMC-ADequations'!E358 -> 98.5 | J52: ='LMC-ADequations'!F358 -> 61.9 | K52: ='LMC-ADequations'!G358 -> 43.4 | L52: ='LMC-ADequations'!H358 -> 34.9 | M52: ='LMC-ADequations'!I358 -> 27.4
D53: Max Selected Total Pressure | E53: [Pa] | F53: ='LMC-ADequations'!B359 -> 30 | G53: ='LMC-ADequations'!C359 -> 30 | H53: ='LMC-ADequations'!D359 -> 30 | I53: ='LMC-ADequations'!E359 -> 30 | J53: ='LMC-ADequations'!F359 -> 30 | K53: ='LMC-ADequations'!G359 -> 30 | L53: ='LMC-ADequations'!H359 -> 30 | M53: ='LMC-ADequations'!I359 -> 30
...

Sheet LMC-ADequations
A1: Units
A3: Units | B3: 1 | C3: =IF(B3=1,"[L/s/m]","[m³/h/m]") -> [L/s/m] | D3: =IF(B3=1,"L/s/m","m³/h/m") -> L/s/m
A4: Units Multiplier | B4: =IF(B3=1,1,3.6) -> 1 | C4: =IF(B4=1,"L/s/m²","m³/h/m²") -> L/s/m² | D4: =IF(B3=1,"L/s","m³/h") -> L/s
A6: Input Values
A8: Airflow Rate | B8: ='LMC-AD'!E9 -> 250
A9: VAV | B9: ='LMC-AD'!E11 -> 100
A10: Max Total Pressure | B10: ='LMC-AD'!E13 -> 30
A11: dT(cooling) | B11: ='LMC-AD'!E15 -> -12
A12: Room Height | B12: ='LMC-AD'!E17 -> 2.7
A13: Length Ratio | B13: ='LMC-AD'!E19 -> 0.5
A14: Air Pattern | B14: 2
A15: Specific airflow | B15: ='LMC-AD'!L21/B4 -> 5
A16: ADPI | B16: ='LMC-AD'!L11 -> 0.9
A17: LRA | B17: ='LMC-AD'!L25 -> 0
A18: Ceiling | B18: 1
A19: Room Temperature | B19: ='LMC-AD'!L23 -> 23 | C19: C
A20: Manual C distance | B20: ='LMC-AD'!L19 -> 3.4 | C20: m
A21: distance input type | B21: 1
A23: Input Validation
A25: Airflow Rate | B25: =B8/B4 -> 250
A26: VAV | B26: =B9/100 -> 1
A27: Airflow Rate (TD) | B27: =B25*B26 -> 250
A28: Max Total Pressure | B28: =B10 -> 30
A29: dT(cooling) | B29: =ABS(B11) -> 12
A30: Room Height | B30: =B12 -> 2.7
A31: Length Ratio | B31: =B13 -> 0.5
A32: Air Pattern | B32: =B14 -> 2
A34: ADPI | B34: =B16 -> 0.9
A35: Local Velocity | B35: =VLOOKUP('LMC-ADequations'!B34,data!A2:B5,2,0) -> 0.25
A36: LRA | B36: =(1+B17/100) -> 1
A37: Ceiling Type | B37: =B18-1 -> 0 | C37: =IF(B37=0,"Closed","Free") -> Closed
A38: Ceiling Type Heating | B38: =IF(B37=1,0.833,1) -> 1
A39: Ceiling Type Hmin | B39: =IF(B37=1,1.1,1) -> 1
A41: Draft Rating | B41: =(34-$B$19)*($B$35-0.05)^0.62*(0.37*B35*40+3.14)/100 -> 0.27738782
A42: Global Distance | B42: =B297 -> 14.642564
A44: Spigot Selection | B44: 1 | E44: AU/NZ | I44: DIN | K44: v
A45: Spigot size | B45: =IF(B44=1,E50,I50) -> 300 | C45: mm | D45: 1 | E45: 150 | F45: =PI()*(E45/2000)^2 -> 0.017671459 | G45: =IF($B$25/1000/F45>3.6,0,$B$25/1000/F45) -> 0 | H45: 1 | I45: 160 | J45: =PI()*(I45/2000)^2 -> 0.020106193 | K45: =IF($B$25/1000/J45>3.6,0,$B$25/1000/J45) -> 0
A46: Spigot Area | B46: =IF(B44=1,F50,J50) -> 0.070685835 | C46: m2 | D46: 2 | E46: 200 | F46: =PI()*(E46/2000)^2 -> 0.031415927 | G46: =IF($B$25/1000/F46>3.6,0,$B$25/1000/F46) -> 0 | H46: 2 | I46: 200 | J46: =PI()*(I46/2000)^2 -> 0.031415927 | K46: =IF($B$25/1000/J46>3.6,0,$B$25/1000/J46) -> 0
A47: Spigot Velocity | B47: =IF(B44=1,G50,K50) -> 3.5367765 | C47: m/s | D47: 3 | E47: 250 | F47: =PI()*(E47/2000)^2 -> 0.049087385 | G47: =IF($B$25/1000/F47>3.6,0,$B$25/1000/F47) -> 0 | H47: 3 | I47: 250 | J47: =PI()*(I47/2000)^2 -> 0.049087385 | K47: =IF($B$25/1000/J47>3.6,0,$B$25/1000/J47) -> 0
D48: 4 | E48: 300 | F48: =PI()*(E48/2000)^2 -> 0.070685835 | G48: =IF($B$25/1000/F48>3.6,0,$B$25/1000/F48) -> 3.5367765 | H48: 4 | I48: 315 | J48: =PI()*(I48/2000)^2 -> 0.077931133 | K48: =IF($B$25/1000/J48>3.6,0,$B$25/1000/J48) -> 3.2079606
...

Sheet Notes
D2: SMARTEMP PRODUCT SELECTION CALCULATOR
D3: Linear Multistream Ceiling Diffuser [LMC-AD] Notes
C6: Notes
C8: Pressure is inclusive of side-entry connection box pressure loss.
C10: Centreline distance is the spacing between two 2-way blow diffuser rows. Halve this value for throw to walls or maximum throw of a 1-way diffuser. Refer to Diffuser Location notes below.
C12: Select desired comfort level (ADPI setting) to determine minimum and maximum spacing or throw (centreline distances) and minimum discharge height.
C14: Sound pressure level [NC] is valid in a standard commercial office with a 2.7 m to 3 m ceiling.
C16: Inputs
C18: Active Length Ratio = LA / L | F18: where: | G18: LA = ∑ LA,i | H18: and | L18: e.g. | N18: Active Length Ratio | O18: = (1.2+1.2)/4.8
G19: LA ≥ 0.1 ∙ L | O19: = 0.5
G20: Refer to Fig. 1, Fig. 2 for description of lengths 'L' and 'LA'
C23: Layout/Coverage Distances
H25: For 2-Way Discharge | S25: For 1-Way Discharge
C56: Air Direction Settings
C58: A | D58: 0⁰ to -15⁰ discharge to the horizontal
C59: B | D59: 0⁰ to -30⁰ discharge to the horizontal
C60: C | D60: ≈ -45⁰ discharge to the horizontal
C61: D | D61: ≈ -60⁰ discharge to the horizontal
C62: E | D62: vertical discharge
C64: Sound
C65: Sound Pressure Level (NC/m) based on 10 dB room absorption

Sheet Diffuser Layout 
D2: SMARTEMP PRODUCT SELECTION CALCULATOR
D3: Linear Multistream Ceiling Diffuser [LMC-AD] Notes
C6: Notes
C8: Total pressure is inclusive of side-entry connection box pressure loss.
C10: Centreline distance is the spacing between two 2-way blow diffuser rows. Halve this value for throw to walls or maximum throw of a 1-way diffuser. Refer to Diffuser Location notes below.
C12: Select desired comfort level (ADPI setting) to determine minimum and maximum spacing or throw (centreline distances) and minimum discharge height.
C14: Sound pressure level [NC] is valid in a standard commercial office with a 2.7 m to 3 m ceiling.
C16: Inputs
C18: Active Length Ratio = LA / L | F18: where: | G18: LA = ∑ LA,i | H18: and | O18: e.g. | Q18: Active Length Ratio | R18: = (1.2+1.2)/4.8
G19: LA ≥ 0.1 ∙ L | R19: = 0.5
G20: Refer to Fig. 1, Fig. 2 for description of lengths 'L' and 'LA'
C22: Diffuser Distance
D24: =IF('LMC-ADequations'!B14=2,"For 2-Way Blow", "For 2-Way Blow (not selected)") -> For 2-Way Blow | F24: ='LMC-AD'!$E$9 -> 250 | G24: ='LMC-ADequations'!$D$3 -> L/s/m | P24: =IF('LMC-ADequations'!B14=1,"For 1-Way Blow", "For 1-Way Blow (not selected)") -> For 1-Way Blow (not selected) | T24: ='LMC-AD'!$E$9 -> 250 | U24: ='LMC-ADequations'!$D$3 -> L/s/m
D30: C | E30: =ROUND('LMC-AD'!F62,1)&" ≤ C ≤ "&ROUND('LMC-AD'!#REF!,1) -> #VALUE!
D31: C/2 | E31: =ROUND('LMC-AD'!F62/2,1)&" ≤ Cwall ≤ "&ROUND('LMC-AD'!#REF!/2,1) -> #VALUE!
D32: C/4
D33: C/8
V43: ALL DIMENSIONS IN m
C44: Air Direction Settings
C46: A | D46: 0⁰ to -15⁰ discharge to the horizontal
C47: B | D47: 0⁰ to -30⁰ discharge to the horizontal
C48: C | D48: ≈ -45⁰ discharge to the horizontal
C49: D | D49: ≈ -60⁰ discharge to the horizontal
C51: Sound
C52: Sound Pressure Level (NC/m) based on 10 dB room absorption

Sheet Dimensions
D2: SMARTEMP PRODUCT SELECTION CALCULATOR
D3: Linear Multistream Ceiling Diffuser [LMC-AD] Dimensions
C6: Dimensions
M24: 1 Slot | N24: 2 Slots | O24: 3 Slots | P24: 4 Slots | Q24: 5 Slots | R24: 6 Slots | S24: 7 Slots | T24: 8 Slots
H25: Width Flangeless Face (Wn) | M25: 31 | N25: 59 | O25: 87 | P25: 115 | Q25: 143 | R25: 171 | S25: 199 | T25: 227 | U25: mm
H26: Width Flanged Face (Wf) | M26: 48 | N26: 76 | O26: 104 | P26: 132 | Q26: 160 | R26: 188 | S26: 216 | T26: 244 | U26: mm
H27: Width of Diffuser Throat (Wt) | M27: 27 | N27: 55 | O27: 83 | P27: 111 | Q27: 139 | R27: 167 | S27: 195 | T27: 223 | U27: mm
H28: Recommended Plenum Height A * | M28: D + 76 | U28: mm
H29: Recommended Plenum Width B * | M29: 81 | N29: 109 | O29: 137 | P29: 165 | Q29: 193 | R29: 221 | S29: 249 | T29: 277 | U29: mm
H30: Recommended Spigot Dimension D * per 1 m length | M30: 124 | N30: 179 | O30: 224 | P30: 249 | Q30: 299 | R30: 299 | S30: 314 | T30: 349 | U30: mm
H31: Recommended Spigot Dimension D * per 1.2 m length | M31: 149 | N31: 199 | O31: 224 | P31: 299 | Q31: 299 | R31: 314 | S31: 349 | T31: 399 | U31: mm
H32: Recommended Spigot Dimension D * per 1.5 m length | M32: 149 | N32: 224 | O32: 249 | P32: 299 | Q32: 314 | R32: 349 | S32: 399 | T32: - | U32: mm
L33: * | M33: Plenum box dimensions are for internal dimensions (excludes insulation and acoustic lining)
L34: * | M34: Check exact dimensions with local supplier

Sheet diagrams

Sheet data
A1: ADPI
A2: 0.95 | B2: 0.2
A3: 0.9 | B3: 0.25
A4: 0.8 | B4: 0.29
A5: 0.7 | B5: 0.33 | E5: 1 | F5: N1200 | G5: Neck
E6: 2 | F6: F1195 | G6: Face
A7: Length | B7: =VLOOKUP(C7,E5:F25,2,0) -> F1195 | C7: 2 | D7: =IF(C7=1,G5,G6) -> Face | E7: 3 | F7: <length> | G7: =IF(C7=1,"neck length","face length") -> face length
A8: nslots | B8: =IF(C8=9,"<slots>",C8) -> 0 | C8: 0
A10: Supply Return
A11: Radio Input | B11: 1
A12: Type | B12: Supply | C12: AD | D12: ="" | E12: Linear Multistream Adjustable Diffuser | F12: =""
B13: Return | C13: RA | D13: - Diffuser perfomance data not applicable for return grille | E13: Linear Multistream Return Air Grille | F13: Note: Diffuser perfomance data not applicable for return grille
A14: Selection | B14: =IF($B$11=1, B12,B13) -> Supply | C14: =IF($B$11=1, C12,C13) -> AD | D14: =IF($B$11=1, D12,D13) | E14: =IF($B$11=1, E12,E13) -> Linear Multistream Adjustable Diffuser | F14: =IF($B$11=1, F12,F13)
A16: airpatternnum | B16: ='LMC-ADequations'!B32 -> 2
B18: 1 | C18: 2 | D18: 3 | E18: 4 | F18: 5 | G18: 6 | H18: 7
A19: 1way text | B19: recommended | C19: AB | D19: AC | E19: BC | F19: BD | G19: EE (vertical) | H19: custom
A20: 2way text | B20: recommended | C20: A* (0 to -15°) | D20: B (0 to -30°) | E20: C (≈ -45°) | F20: D (≈ -60°) | G20: E (vertical) | H20: custom
A21: =IF($B$16=2,A20,A19) -> 2way text | B21: =IF($B$16=2,B20,B19) -> recommended | C21: =IF($B$16=2,C20,C19) -> A* (0 to -15°) | D21: =IF($B$16=2,D20,D19) -> B (0 to -30°) | E21: =IF($B$16=2,E20,E19) -> C (≈ -45°) | F21: =IF($B$16=2,F20,F19) -> D (≈ -60°) | G21: =IF($B$16=2,G20,G19) -> E (vertical) | H21: =IF($B$16=2,H20,H19) -> custom
A22: 1way code | C22: =C19 -> AB | D22: =D19 -> AC | E22: =E19 -> BC | F22: =F19 -> BD | G22: EE | H22: <direction>
A23: 2way code | C23: A | D23: B | E23: C | F23: D | G23: E | H23: <direction>
A24: Result | B24: =C115 -> Air Pattern Setting | C24: =IF($B$16=1,C22,C23) -> A | D24: =IF($B$16=1,D22,D23) -> B | E24: =IF($B$16=1,E22,E23) -> C | F24: =IF($B$16=1,F22,F23) -> D | G24: =IF($B$16=1,G22,G23) -> E | H24: <direction>
A26: airpatterletter | B26: =IF(C26=1,B24,HLOOKUP(C26,C18:H24,7,0)) -> Air Pattern Setting | C26: 1
A28: Colour | B28: =IF(C28=1,"RAL9003",IF(C28=2,"RAL9005","<colour>")) -> RAL9003 | C28: 1 | D28: ='LMC-AD'!$I$80 -> RAL9005 (jet black)
A29: Barrel | B29: =IF(C29=1,"B","W") -> B | C29: 1
A31: Side Profile | C31: Code | D31: Description
B32: 1 | C32: SF | D32: with side flanges
B33: 2 | C33: SN | D33: flangeless side profile
A34: Selection | B34: 1 | C34: =VLOOKUP(B34,B32:D33,2,0) -> SF | D34: =VLOOKUP(B34,B32:D33,3,0) -> with side flanges
A37: Diffuser Ends
C38: Code | D38: Description
B39: 1 | C39: E2 | D39: with two end flanges
B40: 2 | C40: E1 | D40: with one end flange + one pair of joining strips
B41: 3 | C41: EJ | D41: include one pair of joining strips
B42: 4 | C42: E0 | D42: without end flanges
A43: Selection | B43: 1 | C43: =VLOOKUP(B43,B39:D42,2,0) -> E2 | D43: =VLOOKUP(B43,B39:D42,3,0) -> with two end flanges
A45: Fixing | C45: Code | D45: Description
B46: 1 | C46: F0 | D46: fixing by others; without accessories
B47: 2 | C47: EX | D47: expansion bracket fixing
B48: 3 | C48: MFP | D48: mounting frame for plasterboard
A49: Selection | B49: 1 | C49: =VLOOKUP(B49,B46:D48,2,0) -> F0 | D49: =VLOOKUP(B49,B46:D48,3,0) -> fixing by others; without accessories
...

Sheet Selection Summary
B1: LMC-AD Performance Calculator Summary
F2: ='LMC-AD'!S7 -> v 8.1 [08/2026]
A3: Project | B3: ='LMC-AD'!D5 -> <Project Name>
A4: Diffuser Location | B4: <Name>
A5: Consultant | B5: <Name>
A7: Product | B7: =data!B73 -> SMARTEMP LMC-AD
B8: =data!E14 -> Linear Multistream Adjustable Diffuser
A9: Size | B9: =data!B81 -> Face 1195 mm × please select number of slots
A10: Discharge Direction | B10: =data!B82 -> 2-way blow
A11: Diffuser Location | B11: =data!B83 -> Closed Ceiling
A12: =data!F14
A13: Summary
A14: Selected Airflow | B14: =data!B134 -> Selected Airflow [L/s/m] L/s/m @ Max Total Pressure (Pa) Pa total (Max Static Pressure (Pa) Pa static)
A15: Min Selected Airflow | B15: =data!B135 -> #VALUE!
A16: Max Recommended Heating ΔT | B16: =data!B138 -> + Centre Zone: Setting 'A' K for centre zones; + Perimeter Zone: Setting 'A' K for perimeter zones (pattern 'Air Pattern Setting')
A17: Selected Air Discharge Setting | B17: =data!B139 -> 2-way blow, setting 'Air Pattern Setting'
A19: Acoustic Performance
A20: Sound Power Level | B20: =data!B142 -> Sound Power Level (dBA) dB(A)/m
A21: Sound Pressure Level ^ | B21: =data!B143 -> Sound Pressure Level (NC) NC/m | D21: ^ based on 10dB room absorption
A22: Recommended Plenum Box Spigot Diameter (per 1200 mm length) | B22: =data!B144 -> Nominal Spigot Size mm
A25: Comfort Performance
A26: ADPI | B26: =data!B147 -> #VALUE!
A27: Mean Room Air Velocity | B27: =data!B148 -> Mean Room Air V m/s
A28: Mean Draught Rating | B28: =data!B149 -> #VALUE!
A29: Mean PPD | B29: =data!B150 -> #VALUE!
A30: Satisfies PPD (ISO7730) | B30: =data!B151 -> Category PPD Class
A31: Mean PMV * | B31: =data!B152 -> -PMV < PMV < +PMV
A32: * ISO7730; ASHRAE Std 55
A44: Description | B44: =data!B87 -> 1195 mm face length with (number of slots not selected)
B45: =data!B88 -> 2-way blow with discharge direction 'Air Pattern Setting'
B46: =data!B89 -> with side flanges
B47: =data!B90 -> with two end flanges
B48: =data!B91 -> fixing by others; without accessories
B49: =data!B92 -> profile powder coated to RAL9003 with black barrels
B50: =data!B93 -> no connection box
A52: Order Code | B52: =_product_code -> Please select length and number of slots
