Workbook
Name _product_code: data!$B$72
Name adpi.: data!$A$2:$A$5
Name getCdiagram: IF('LMC-ADequations'!$B$32=2,diagrams!$B$10,diagrams!$B$11)
Name getDirectionDischarge: IF('LMC-AD'!$F$56="A",diagrams!$D$12,IF('LMC-AD'!$F$56="B",diagrams!$D$13,diagrams!$D$14))
Name getImage: IF('LMC-AD'!$E$19<0.4,diagrams!$A$1,IF('LMC-AD'!$E$19<0.65,diagrams!$A$2,IF('LMC-AD'!$E$19<1,diagrams!$A$3,diagrams!$A$4)))
Name getLayout: IF('LMC-ADequations'!$B$14=2,diagrams!$A$6,diagrams!$A$7)

Sheet LMC-AD
D2: SMARTEMP PRODUCT SELECTION CALCULATOR
D3: Linear Multistream Ceiling Diffuser [LMC-AD]
C5: Project: | D5: <Project Name>
D7: Inputs | J7: Detailed Selection | S7: v 8.1 [08/2026]
D9: Maximum Airflow Rate | E9: 250 | F9: [L/s/m] | G9: [m3/h/m] | K9: Air Pattern | L9: 2-Way | M9: 1-Way
D11: VAV (turndown to) | E11: 100 | F11: % 10% to 100% (use 100% for CAV) | K11: ADPI ≥ | L11: 0.9 | N11: default ≥ 90% | T11: Specific Airflow Rate (heating) | U11: 5 | V11: L/s/m2 | W11: 2 to 10 L/s/m2 (default 5 L/s/m2)
D13: Maximum Permissible Static Pressure | E13: 30 | F13: Pa default 30 Pa | K13: Diffuser Location | L13: Closed Ceiling | N13: Freely Suspended
D15: ΔT (cooling) | E15: -12 | F15: K 0 K to -16 K (default -12 K) | J15: Draught Rating & Heating
D17: Diffuser Height | E17: 2.7 | F17: m 2 m to 7 m (heating & cooling) | J17: Diffuser Coverage = Average (Max, Min) 'C' Distance | N17: see Distance section in Results
F18: 2 m to 11 m (cooling only) | J18: OR | L18: ="average distance = "&ROUND('LMC-ADequations'!B297,1) -> average distance = 14.6 | M18: m
D19: Active Length Ratio (see diagram) | E19: 0.5 | F19: * 0.1 to 1.0 (default 0.5) | K19: Manual Diffuser Coverage | L19: 3.4 | M19: m | N19: see 'C' in diagram below
J20: OR | L20: ="Average Specific Airflow: "& ROUND('LMC-ADequations'!B309,1) -> Average Specific Airflow: 8.5 | M20: ='LMC-ADequations'!C4 -> L/s/m²
K21: Specific Airflow Rate | L21: 5 | M21: ='LMC-ADequations'!C4 -> L/s/m² | N21: ="≤ "&'LMC-ADequations'!B392&" "&'LMC-ADequations'!C4 -> ≤ 30 L/s/m²
L22: ="average diffuser coverage: "& ROUND('LMC-ADequations'!B303,1) -> average diffuser coverage: 25 | M22: m
K23: Room Temperature (draught rating) | L23: 23 | M23: °C | N23: 20 °C to 26 °C (default 23 °C)
K25: Low Level Return (heating) | L25: 0 | M25: % | N25: 0% to 100% (default 0%)
K28: Thermal Comfort Guide
K29: ADPI ≥ 95%; ṽ ≤ 0.20 m/s: | L29: Premium comfort, sedentary activity, such as in auditoria.
D30: Spigot Size | E30: ASNZ Sizes (DN150; DN200; DN250; DN300; DN350) | K30: ADPI ≥ 90%; ṽ ≤ 0.25 m/s: | L30: High comfort near-sedentary activity, such as in board rooms, high end offices and libraries.
E31: DIN Sizes (DN160; DN200; DN250; DN315; DN355) | K31: ADPI ≥ 80%; ṽ ≤ 0.29 m/s: | L31: Good comfort near sedentary activity, such as open-plan offices and meeting rooms.
K32: ADPI ≥ 70%; ṽ ≤ 0.33 m/s: | L32: Standard comfort medium activity, such as in transient spaces, retail and lobbies.
C33: Related Products
C34: Smartemp LJC-AD: | D34: for increased flow rates; optionally with thermal/electric adjustment
C35: Smartemp LDB 12: | D35: engineered by LTG for an ultra-slim look
C36: Smartemp LDB 12 Clean: | D36: engineered by LTG with SystemClean™ for minimal ceiling smudging and diffuser condensation
C37: Smartemp LDB 50 Maxx: | D37: engineered by LTG for high flow rates
C38: Smartemp LMW-AD: | D38: for a wall-mounted solution
C41: Results | D41: SMARTEMP LMC-AD | F41: 1 Slot | G41: 2 Slots | H41: 3 Slots | I41: 4 Slots | J41: 5 Slots | K41: 6 Slots | L41: 7 Slots | M41: 8 Slots | N41: Key: | O41: Suitable | P41: Not Suitable | Q41: Warning
C42: Dimensions * | D42: Width Flangeless Face | E42: [mm] | F42: 31 | G42: 59 | H42: 87 | I42: 115 | J42: 143 | K42: 171 | L42: 199 | M42: 227
D43: Width Flanged Face | E43: [mm] | F43: 48 | G43: 76 | H43: 104 | I43: 132 | J43: 160 | K43: 188 | L43: 216 | M43: 244
D44: Width of Diffuser Throat | E44: [mm] | F44: 27 | G44: 55 | H44: 83 | I44: 111 | J44: 139 | K44: 167 | L44: 195 | M44: 223
C45: Airflow | D45: Selected Airflow Rate | E45: ='LMC-ADequations'!$C$3 -> [L/s/m] | F45: ='LMC-ADequations'!B351 -> 250 | G45: ='LMC-ADequations'!C351 -> 250 | H45: ='LMC-ADequations'!D351 -> 250 | I45: ='LMC-ADequations'!E351 -> 250 | J45: ='LMC-ADequations'!F351 -> 250 | K45: ='LMC-ADequations'!G351 -> 250 | L45: ='LMC-ADequations'!H351 -> 250 | M45: ='LMC-ADequations'!I351 -> 250
D46: Airflow @ Max Static Pressure | E46: ='LMC-ADequations'!$C$3 -> [L/s/m] | F46: ='LMC-ADequations'!B352 -> 34 | G46: ='LMC-ADequations'!C352 -> 71 | H46: ='LMC-ADequations'!D352 -> 109 | I46: ='LMC-ADequations'!E352 -> 144 | J46: ='LMC-ADequations'!F352 -> 186 | K46: ='LMC-ADequations'!G352 -> 229 | L46: ='LMC-ADequations'!H352 -> 262 | M46: ='LMC-ADequations'!I352 -> 308
D47: Min Selected Airflow | E47: ='LMC-ADequations'!$C$3 -> [L/s/m] | F47: ='LMC-ADequations'!B353 -> 250 | G47: ='LMC-ADequations'!C353 -> 250 | H47: ='LMC-ADequations'!D353 -> 250 | I47: ='LMC-ADequations'!E353 -> 250 | J47: ='LMC-ADequations'!F353 -> 250 | K47: ='LMC-ADequations'!G353 -> 250 | L47: ='LMC-ADequations'!H353 -> 250 | M47: ='LMC-ADequations'!I353 -> 250
D48: ='LMC-ADequations'!A354 -> Min Permissible Airflow @ -12 K | E48: ='LMC-ADequations'!$C$3 -> [L/s/m] | F48: ='LMC-ADequations'!B354 -> 7.6 | G48: ='LMC-ADequations'!C354 -> 16 | H48: ='LMC-ADequations'!D354 -> 24.2 | I48: ='LMC-ADequations'!E354 -> 32.3 | J48: ='LMC-ADequations'!F354 -> 40.7 | K48: ='LMC-ADequations'!G354 -> 49.4 | L48: ='LMC-ADequations'!H354 -> 57.4 | M48: ='LMC-ADequations'!I354 -> 65.8
D49: Min % Turndown to | F49: ='LMC-ADequations'!B355 -> 1 | G49: ='LMC-ADequations'!C355 -> 1 | H49: ='LMC-ADequations'!D355 -> 1 | I49: ='LMC-ADequations'!E355 -> 1 | J49: ='LMC-ADequations'!F355 -> 1 | K49: ='LMC-ADequations'!G355 -> 1 | L49: ='LMC-ADequations'!H355 -> 1 | M49: ='LMC-ADequations'!I355 -> 1
D50: Min Permissible % Turndown to | F50: ='LMC-ADequations'!B356 -> 0.03 | G50: ='LMC-ADequations'!C356 -> 0.06 | H50: ='LMC-ADequations'!D356 -> 0.1 | I50: ='LMC-ADequations'!E356 -> 0.13 | J50: ='LMC-ADequations'!F356 -> 0.16 | K50: ='LMC-ADequations'!G356 -> 0.2 | L50: ='LMC-ADequations'!H356 -> 0.23 | M50: ='LMC-ADequations'!I356 -> 0.26
C51: Pressure | D51: Static Pressure @ 100% Airflow | E51: [Pa] | F51: ='LMC-ADequations'!B357 -> 1663.1 | G51: ='LMC-ADequations'!C357 -> 375.3 | H51: ='LMC-ADequations'!D357 -> 158.5 | I51: ='LMC-ADequations'!E357 -> 90.9 | J51: ='LMC-ADequations'!F357 -> 54.2 | K51: ='LMC-ADequations'!G357 -> 35.8 | L51: ='LMC-ADequations'!H357 -> 27.2 | M51: ='LMC-ADequations'!I357 -> 19.8
D52: Total Pressure @ 100% Airflow | E52: [Pa] | F52: ='LMC-ADequations'!B358 -> 1670.8 | G52: ='LMC-ADequations'!C358 -> 382.9 | H52: ='LMC-ADequations'!D358 -> 166.2 | I52: ='LMC-ADequations'!E358 -> 98.5 | J52: ='LMC-ADequations'!F358 -> 61.9 | K52: ='LMC-ADequations'!G358 -> 43.4 | L52: ='LMC-ADequations'!H358 -> 34.9 | M52: ='LMC-ADequations'!I358 -> 27.4
D53: Max Selected Total Pressure | E53: [Pa] | F53: ='LMC-ADequations'!B359 -> 30 | G53: ='LMC-ADequations'!C359 -> 30 | H53: ='LMC-ADequations'!D359 -> 30 | I53: ='LMC-ADequations'!E359 -> 30 | J53: ='LMC-ADequations'!F359 -> 30 | K53: ='LMC-ADequations'!G359 -> 30 | L53: ='LMC-ADequations'!H359 -> 30 | M53: ='LMC-ADequations'!I359 -> 30
C54: Acoustic | D54: Sound Power Level | E54: [dB(A)/m] | F54: ='LMC-ADequations'!B360 -> 65.1 | G54: ='LMC-ADequations'!C360 -> 61.3 | H54: ='LMC-ADequations'!D360 -> 56.8 | I54: ='LMC-ADequations'!E360 -> 51 | J54: ='LMC-ADequations'!F360 -> 45.9 | K54: ='LMC-ADequations'!G360 -> 42.6 | L54: ='LMC-ADequations'!H360 -> 39.4 | M54: ='LMC-ADequations'!I360 -> 35.3
D55: Sound Pressure Level ^ | E55: [NC/m] | F55: ='LMC-ADequations'!B361 -> 50.1 | G55: ='LMC-ADequations'!C361 -> 46.3 | H55: ='LMC-ADequations'!D361 -> 41.8 | I55: ='LMC-ADequations'!E361 -> 36 | J55: ='LMC-ADequations'!F361 -> 30.9 | K55: ='LMC-ADequations'!G361 -> 27.6 | L55: ='LMC-ADequations'!H361 -> 24.4 | M55: ='LMC-ADequations'!I361 -> 20.3
C56: Cooling & Heating | D56: Air Direction Setting ** | F56: ='LMC-ADequations'!B369 -> A | G56: ='LMC-ADequations'!C369 -> A | H56: ='LMC-ADequations'!D369 -> A | I56: ='LMC-ADequations'!E369 -> A | J56: ='LMC-ADequations'!F369 -> A | K56: ='LMC-ADequations'!G369 -> A | L56: ='LMC-ADequations'!H369 -> A | M56: ='LMC-ADequations'!I369 -> A | N56: - Direction setting for balanced cooling and heating performance
D57: Centre Zone: Heating ΔT Max | E57: [K] | F57: ='LMC-ADequations'!B362 -> 10 | G57: ='LMC-ADequations'!C362 -> 10 | H57: ='LMC-ADequations'!D362 -> 10 | I57: ='LMC-ADequations'!E362 -> 10 | J57: ='LMC-ADequations'!F362 -> 10 | K57: ='LMC-ADequations'!G362 -> 10 | L57: ='LMC-ADequations'!H362 -> 10 | M57: ='LMC-ADequations'!I362 -> 10
D58: Perimeter Zone: Heating ΔT Max | E58: [K] | F58: ='LMC-ADequations'!B363 -> 10 | G58: ='LMC-ADequations'!C363 -> 10 | H58: ='LMC-ADequations'!D363 -> 10 | I58: ='LMC-ADequations'!E363 -> 10 | J58: ='LMC-ADequations'!F363 -> 10 | K58: ='LMC-ADequations'!G363 -> 10 | L58: ='LMC-ADequations'!H363 -> 10 | M58: ='LMC-ADequations'!I363 -> 10 | N58: Heating ΔT valid at 100% airflow rate
C59: Max Heating | D59: ΔT with Vertical Discharge | E59: [K] | F59: ='LMC-ADequations'!B364 -> 15 | G59: ='LMC-ADequations'!C364 -> 15 | H59: ='LMC-ADequations'!D364 -> 15 | I59: ='LMC-ADequations'!E364 -> 15 | J59: ='LMC-ADequations'!F364 -> 15 | K59: ='LMC-ADequations'!G364 -> 15 | L59: ='LMC-ADequations'!H364 -> 15 | M59: ='LMC-ADequations'!I364 -> 15 | N59: - Direction setting 'E' (90° Discharge)
C60: Recommended Distances & Layout ** | D60: Max Coverage Centre Zones (Cmax) | E60: [m] | F60: ='LMC-ADequations'!B365 | G60: ='LMC-ADequations'!C365 | H60: ='LMC-ADequations'!D365 -> 21 | I60: ='LMC-ADequations'!E365 -> 18.8 | J60: ='LMC-ADequations'!F365 -> 17.5 | K60: ='LMC-ADequations'!G365 -> 16.6 | L60: ='LMC-ADequations'!H365 -> 16 | M60: ='LMC-ADequations'!I365 -> 15.5
D61: Max Coverage Perimeter Zones (Cmax) | E61: [m] | F61: ='LMC-ADequations'!B366 | G61: ='LMC-ADequations'!C366 | H61: ='LMC-ADequations'!D366 -> 21 | I61: ='LMC-ADequations'!E366 -> 18.8 | J61: ='LMC-ADequations'!F366 -> 17.5 | K61: ='LMC-ADequations'!G366 -> 16.6 | L61: ='LMC-ADequations'!H366 -> 16 | M61: ='LMC-ADequations'!I366 -> 15.5 | N61: Rows 60 - 62 Warning: Threat of draught when Cmin > Cmax. Consider: increasing 'Active Length Ratio', increasing 'Turndown To', or decreasing 'ADPI'
D62: Min Coverage (Cmin) | E62: [m] | F62: ='LMC-ADequations'!B367 | G62: ='LMC-ADequations'!C367 -> 94.6 | H62: ='LMC-ADequations'!D367 -> 25.2 | I62: ='LMC-ADequations'!E367 -> 18.6 | J62: ='LMC-ADequations'!F367 -> 16 | K62: ='LMC-ADequations'!G367 -> 14.6 | L62: ='LMC-ADequations'!H367 -> 13.8 | M62: ='LMC-ADequations'!I367 -> 13.3
D63: Min Diffuser Height | E63: [m] | F63: ='LMC-ADequations'!B368 -> 2.7 | G63: ='LMC-ADequations'!C368 -> 2.8 | H63: ='LMC-ADequations'!D368 -> 2.8 | I63: ='LMC-ADequations'!E368 -> 2.9 | J63: ='LMC-ADequations'!F368 -> 2.9 | K63: ='LMC-ADequations'!G368 -> 3 | L63: ='LMC-ADequations'!H368 -> 3.1 | M63: ='LMC-ADequations'!I368 -> 3.1
C64: Comfort | D64: Mean Room Air Velocity [m/s] | E64: [m/s] | F64: ='LMC-ADequations'!B370 -> 0.32 | G64: ='LMC-ADequations'!C370 -> 0.25 | H64: ='LMC-ADequations'!D370 -> 0.22 | I64: ='LMC-ADequations'!E370 -> 0.21 | J64: ='LMC-ADequations'!F370 -> 0.2 | K64: ='LMC-ADequations'!G370 -> 0.19 | L64: ='LMC-ADequations'!H370 -> 0.19 | M64: ='LMC-ADequations'!I370 -> 0.18 | N64: ="Note: Comfort criteria valid for diffuser spacing of "&ROUND('LMC-ADequations'!B300,1) & " m "& "& room temperature of "& L23&" °C (see cells L18:L21 & L23)" -> Note: Comfort criteria valid for diffuser spacing of 14.6 m & room temperature of 23 °C (see cells L18:L21 & L23)
D65: Mean Draught Rating (DR) | F65: ='LMC-ADequations'!B371 -> 0.38 | G65: ='LMC-ADequations'!C371 -> 0.276 | H65: ='LMC-ADequations'!D371 -> 0.238 | I65: ='LMC-ADequations'!E371 -> 0.219 | J65: ='LMC-ADequations'!F371 -> 0.206 | K65: ='LMC-ADequations'!G371 -> 0.197 | L65: ='LMC-ADequations'!H371 -> 0.19 | M65: ='LMC-ADequations'!I371 -> 0.186
D66: Mean PPD | F66: ='LMC-ADequations'!B372 -> 0.197 | G66: ='LMC-ADequations'!C372 -> 0.137 | H66: ='LMC-ADequations'!D372 -> 0.118 | I66: ='LMC-ADequations'!E372 -> 0.109 | J66: ='LMC-ADequations'!F372 -> 0.103 | K66: ='LMC-ADequations'!G372 -> 0.098 | L66: ='LMC-ADequations'!H372 -> 0.096 | M66: ='LMC-ADequations'!I372 -> 0.094 | N66: * | O66: Refer to 'Dimensions LMC-AD' worksheet for details
D67: |PMV| | F67: ="< "&'LMC-ADequations'!B373 -> < 0.8 | G67: ="< "&'LMC-ADequations'!C373 -> < 0.7 | H67: ="< "&'LMC-ADequations'!D373 -> < 0.6 | I67: ="< "&'LMC-ADequations'!E373 -> < 0.6 | J67: ="< "&'LMC-ADequations'!F373 -> < 0.5 | K67: ="< "&'LMC-ADequations'!G373 -> < 0.5 | L67: ="< "&'LMC-ADequations'!H373 -> < 0.5 | M67: ="< "&'LMC-ADequations'!I373 -> < 0.5 | N67: ** | O67: Refer to 'Notes LMC-AD' worksheet for definitions and details
D68: Satisfies PPD Category (ISO7730) | F68: ='LMC-ADequations'!B374 -> - | G68: ='LMC-ADequations'!C374 -> C | H68: ='LMC-ADequations'!D374 -> C | I68: ='LMC-ADequations'!E374 -> C | J68: ='LMC-ADequations'!F374 -> C | K68: ='LMC-ADequations'!G374 -> B | L68: ='LMC-ADequations'!H374 -> B | M68: ='LMC-ADequations'!I374 -> B | N68: ^ | O68: Based on 10 dB room absorption
D69: Nominal Spigot Size /m | F69: ='LMC-ADequations'!B375 -> DN300 | G69: ='LMC-ADequations'!C375 -> DN300 | H69: ='LMC-ADequations'!D375 -> DN300 | I69: ='LMC-ADequations'!E375 -> DN300 | J69: ='LMC-ADequations'!F375 -> DN300 | K69: ='LMC-ADequations'!G375 -> DN300 | L69: ='LMC-ADequations'!H375 -> DN300 | M69: ='LMC-ADequations'!I375 -> DN300
D71: Product Selection & Code Generator
D72: Select model to create product code | F72: 1 slot | G72: 2 slots | H72: 3 slots | I72: 4 slots | J72: 5 slots | K72: 6 slots | L72: 7 slots | M72: 8 slots
D73: Supply/Return | G73: supply: adjustable direction | I73: return air | N73: =data!D14
D74: Nominal Length | G74: 1195 mm* (face) | I74: 1200 mm (neck) | K74: custom^ (face) ≤ 1500 mm
D75: Air Pattern Setting | G75: =IF('LMC-ADequations'!B14=2,"2-way blow selected","1-way blow selected") -> 2-way blow selected | N75: - see Cell K8
D76: Air Direction Setting | F76: recommended | G76: =data!C21 -> A* (0 to -15°) | I76: =data!D21 -> B (0 to -30°) | J76: =data!E21 -> C (≈ -45°) | K76: =data!F21 -> D (≈ -60°) | L76: =data!G21 -> E (vertical) | M76: custom
D77: Side Profile | G77: with side flanges* | I77: flangeless
D78: Diffuser Ends | F78: 2 end flanges * | H78: 1 end flange & 1 pair joining strips | K78: 1 pair joining strips | M78: no end flanges
D79: Fixing | F79: without accessories/by others * | I79: expansion bracket | K79: mounting frame for plasterboard
D80: Profile Colour | G80: RAL9003* (signal white) | I80: RAL9005 (jet black) | K80: other ^ | N80: ^ contact Smartair Diffusion for custom lengths and colours
D81: Barrel Colour | G81: black* | H81: white | N81: * indicates standard/default option
D82: Connection Box | F82: No connection box * | H82: uninsulated connection box | K82: internally insulated connection box
I83: clipped to diffuser throat | K83: screwed to diffuser throat | N83: options only available with connection box
D84: Product Code | F84: =_product_code -> Please select length and number of slots | L84: more detailed options available in the LMC-AD product brochure
L85: go to 'LMC-AD Selection Print Summary' for a printable summary of the selection
H88: click here to see product on smartair.asia | P88: Copyright © 2023 SMARTAIR DIFFUSION

Sheet LMC-ADequations
A1: Units
A3: Units | B3: 1 | C3: =IF(B3=1,"[L/s/m]","[m³/h/m]") -> [L/s/m] | D3: =IF(B3=1,"L/s/m","m³/h/m") -> L/s/m
A4: Units Multiplier | B4: =IF(B3=1,1,3.6) -> 1 | C4: =IF(B4=1,"L/s/m²","m³/h/m²") -> L/s/m² | D4: =IF(B3=1,"L/s","m³/h") -> L/s
A6: Input Values
A8: Airflow Rate | B8: ='LMC-AD'!E9 -> 250
A9: VAV | B9: ='LMC-AD'!E11 -> 100
A10: Max Total Pressure | B10: ='LMC-AD'!E13 -> 30
A11: dT(cooling) | B11: ='LMC-AD'!E15 -> -12
A12: Room Height | B12: ='LMC-AD'!E17 -> 2.7
A13: Length Ratio | B13: ='LMC-AD'!E19 -> 0.5
A14: Air Pattern | B14: 2
A15: Specific airflow | B15: ='LMC-AD'!L21/B4 -> 5
A16: ADPI | B16: ='LMC-AD'!L11 -> 0.9
A17: LRA | B17: ='LMC-AD'!L25 -> 0
A18: Ceiling | B18: 1
A19: Room Temperature | B19: ='LMC-AD'!L23 -> 23 | C19: C
A20: Manual C distance | B20: ='LMC-AD'!L19 -> 3.4 | C20: m
A21: distance input type | B21: 1
A23: Input Validation
A25: Airflow Rate | B25: =B8/B4 -> 250
A26: VAV | B26: =B9/100 -> 1
A27: Airflow Rate (TD) | B27: =B25*B26 -> 250
A28: Max Total Pressure | B28: =B10 -> 30
A29: dT(cooling) | B29: =ABS(B11) -> 12
A30: Room Height | B30: =B12 -> 2.7
A31: Length Ratio | B31: =B13 -> 0.5
A32: Air Pattern | B32: =B14 -> 2
A34: ADPI | B34: =B16 -> 0.9
A35: Local Velocity | B35: =VLOOKUP('LMC-ADequations'!B34,data!A2:B5,2,0) -> 0.25
A36: LRA | B36: =(1+B17/100) -> 1
A37: Ceiling Type | B37: =B18-1 -> 0 | C37: =IF(B37=0,"Closed","Free") -> Closed
A38: Ceiling Type Heating | B38: =IF(B37=1,0.833,1) -> 1
A39: Ceiling Type Hmin | B39: =IF(B37=1,1.1,1) -> 1
A41: Draft Rating | B41: =(34-$B$19)*($B$35-0.05)^0.62*(0.37*B35*40+3.14)/100 -> 0.27738782
A42: Global Distance | B42: =B297 -> 14.642564
A44: Spigot Selection | B44: 1 | E44: AU/NZ | I44: DIN | K44: v
A45: Spigot size | B45: =IF(B44=1,E50,I50) -> 300 | C45: mm | D45: 1 | E45: 150 | F45: =PI()*(E45/2000)^2 -> 0.017671459 | G45: =IF($B$25/1000/F45>3.6,0,$B$25/1000/F45) -> 0 | H45: 1 | I45: 160 | J45: =PI()*(I45/2000)^2 -> 0.020106193 | K45: =IF($B$25/1000/J45>3.6,0,$B$25/1000/J45) -> 0
A46: Spigot Area | B46: =IF(B44=1,F50,J50) -> 0.070685835 | C46: m2 | D46: 2 | E46: 200 | F46: =PI()*(E46/2000)^2 -> 0.031415927 | G46: =IF($B$25/1000/F46>3.6,0,$B$25/1000/F46) -> 0 | H46: 2 | I46: 200 | J46: =PI()*(I46/2000)^2 -> 0.031415927 | K46: =IF($B$25/1000/J46>3.6,0,$B$25/1000/J46) -> 0
A47: Spigot Velocity | B47: =IF(B44=1,G50,K50) -> 3.5367765 | C47: m/s | D47: 3 | E47: 250 | F47: =PI()*(E47/2000)^2 -> 0.049087385 | G47: =IF($B$25/1000/F47>3.6,0,$B$25/1000/F47) -> 0 | H47: 3 | I47: 250 | J47: =PI()*(I47/2000)^2 -> 0.049087385 | K47: =IF($B$25/1000/J47>3.6,0,$B$25/1000/J47) -> 0
D48: 4 | E48: 300 | F48: =PI()*(E48/2000)^2 -> 0.070685835 | G48: =IF($B$25/1000/F48>3.6,0,$B$25/1000/F48) -> 3.5367765 | H48: 4 | I48: 315 | J48: =PI()*(I48/2000)^2 -> 0.077931133 | K48: =IF($B$25/1000/J48>3.6,0,$B$25/1000/J48) -> 3.2079606
D49: 5 | E49: 350 | F49: =PI()*(E49/2000)^2 -> 0.096211275 | G49: =IF($B$25/1000/F49>3.6,0,$B$25/1000/F49) -> 2.5984481 | H49: 5 | I49: 355 | J49: =PI()*(I49/2000)^2 -> 0.098979804 | K49: =IF($B$25/1000/J49>3.6,0,$B$25/1000/J49) -> 2.5257678
D50: =6-COUNTIF(G45:G49,">0") -> 4 | E50: =VLOOKUP($D$50,$D$45:$G$49,2,0) -> 300 | F50: =VLOOKUP($D$50,$D$45:$G$49,3,0) -> 0.070685835 | G50: =VLOOKUP($D$50,$D$45:$G$49,4,0) -> 3.5367765 | H50: =6-COUNTIF(K45:K49,">0") -> 4 | I50: =VLOOKUP($H$50,$H$45:$K$49,2,0) -> 315 | J50: =VLOOKUP($H$50,$H$45:$K$49,3,0) -> 0.077931133 | K50: =VLOOKUP($H$50,$H$45:$K$49,4,0) -> 3.2079606
A52: Cmin Ceiling Factor | B52: =IF($B$37=1,0.85,1) -> 1
A53: Cmax Ceiling Factor | B53: =IF($B$37=1,0.8,1) -> 1
A55: V_turndown | B55: =B25*B26 -> 250 | D55: v_td=fr*vav
A57: Diffuser Airflow for Neck Length | B57: =IFERROR(ROUND(C57*B8,1),"custom") -> 290.8 | C57: =D57/1000 -> 1.163 | D57: =IF(data!C7=1,1200,IF(data!C7=2,1163,"")) -> 1163
A59: Hmin
A61: Hmin 2WAY | B61: =D61*SQRT($B$25)+E61 -> 2.8500436 | D61: 0.04282 | E61: 2.173
A62: Hmin 1WAY | B62: =D61*SQRT($B$25*2)+E61 -> 3.1304843
A63: Hmin Select | B63: =IF($B$32=2,$B$61,$B$62) -> 2.8500436
A65: Hmin DT factor | B65: =0.9+0.1*($B$29/8) -> 1.05
A67: ADPI
A68: Hmin | B68: 0.95 | C68: =C69+0.1 -> 2.9500436
B69: 0.9 | C69: =B63 -> 2.8500436
B70: 0.8 | C70: =C69-0.1 -> 2.7500436
B71: 0.7 | C71: =C70-0.1 -> 2.6500436
A73: Cmin | B73: 2-WAY | F73: 1-WAY | K73: Q' to v'
D74: Target Q'' | H74: Target Q'' | L74: 2-Way | N74: 1-Way | P74: Selection
A75: H | B75: ax | C75: ^b | D75: Q'' | F75: ax | G75: ^b | H75: Q'' | L75: ax | M75: ^b | N75: ax | O75: ^b | P75: ax | Q75: ^b
A76: 2.7 | B76: 4510 | C76: 2.2693 | D76: =B76*$B$35^C76 -> 194.05364 | F76: 2886 | G76: 2.152 | H76: =F76*$B$35^G76 -> 146.10438 | K76: 2.7 | L76: 0.02455 | M76: 0.4405 | N76: 0.02466 | O76: 0.4647 | P76: =IF($B$32=2,L76,N76) -> 0.02455 | Q76: =IF($B$32=2,M76,O76) -> 0.4405
A77: 4 | B77: 3884 | C77: 2.2426 | D77: =B77*$B$35^C77 -> 173.42012 | F77: 2651 | G77: 2.175 | H77: =F77*$B$35^G77 -> 129.99578 | K77: 4 | L77: 0.0251 | M77: 0.4458 | N77: 0.02669 | O77: 0.4597 | P77: =IF($B$32=2,L77,N77) -> 0.0251 | Q77: =IF($B$32=2,M77,O77) -> 0.4458
A78: 10.0001 | B78: 3435 | C78: 2.2754 | D78: =B78*$B$35^C78 -> 146.55459 | F78: 2317 | G78: 2.194 | H78: =F78*$B$35^G78 -> 110.66401 | K78: 10.0001 | L78: 0.02797 | M78: 0.4391 | N78: 0.02927 | O78: 0.4557 | P78: =IF($B$32=2,L78,N78) -> 0.02797 | Q78: =IF($B$32=2,M78,O78) -> 0.4391
B79: Ax | C79: ^b | F79: Ax | G79: ^b
A80: =B30 -> 2.7 | B80: =EXP(INDEX(LINEST(LN(D76:D78),LN(A76:A78),,),1,2)) -> 235.858 | C80: =INDEX(LINEST(LN(D76:D78),LN(A76:A78),,),1) -> -0.20897278 | D80: =B80*A80^C80 -> 191.64934 | E80: W/m2 | F80: =EXP(INDEX(LINEST(LN(H76:H78),LN(A76:A78),,),1,2)) -> 176.59451 | G80: =INDEX(LINEST(LN(H76:H78),LN(A76:A78),,),1) -> -0.20572782 | H80: =F80*A80^G80 -> 143.9573 | I80: W/m2
A81: Q" allowed | B81: =IF($B$32=2,D80,H80) -> 191.64934
A82: v' for Vmax | B82: =$B$81/$B$29 -> 15.970778 | C82: L/s/m2
A83: v' for Vmin | B83: =B82+B84 -> 19.970778 | C83: L/s/m2
A84: v'' + correction factor | B84: 4
A86: Active Length Factor | B86: =B31^0.151 -> 0.90062598
A88: Cmax
A89: ADPI | B89: for Vmax | C89: for Vmin | E89: Hfactor @ Vmax | F89: Hfactor @ Vmin
A90: 0.95 | B90: 1.91 | C90: 2.54 | E90: 5.3170379 | F90: 4.4308649
A91: 0.9 | B91: 1.5 | C91: 2 | E91: 6 | F91: 5
A92: 0.8 | B92: 1 | C92: 1.32 | E92: 7.3659242 | F92: 6.1382702
A93: 0.7 | B93: 0.7 | C93: 0.94 | E93: 8.7318484 | F93: 7.2765403 | BK93: Q | BL93: SWL | BM93: P | BO93: A | BP93: B
A94: at Vmax | B94: =VLOOKUP($B$34,A90:F93,2,0) -> 1.5 | D94: at adpi | E94: =VLOOKUP($B$34,A90:F93,5,0) -> 6 | BK94: 130 | BL94: =BK94^2*$BA$137+BK94*$BB$137+$BC$137 -> 0 | BM94: =(BK94/$AY$125)^2*$AY$127 -> 5.3438336 | BO94: 15.324 | BP94: -2.6401
A95: at Vmin | B95: =VLOOKUP($B$34,A90:F93,3,0) -> 2 | E95: =VLOOKUP($B$34,A90:F93,6,0) -> 5 | BK95: 210 | BL95: =BK95^2*$BA$137+BK95*$BB$137+$BC$137 -> 0 | BM95: =(BK95/$AY$125)^2*$AY$127 -> 13.94456
BK96: 280 | BL96: =BK96^2*$BA$137+BK96*$BB$137+$BC$137 -> 0 | BM96: =(BK96/$AY$125)^2*$AY$127 -> 24.790329
A97: Cmax-Centre Zone
A98: ADPI | B98: for Vmax | C98: for Vmin | E98: Hfactor @ Vmax | F98: Hfactor @ Vmin
A99: 0.95 | B99: 1.5 | C99: 2 | E99: 5.3170379 | F99: 4.4308649
A100: 0.9 | B100: 1.215234 | C100: 1.61654 | E100: 6 | F100: 5
A101: 0.8 | B101: 0.805874 | C101: 1.07635 | E101: 7.3659242 | F101: 6.1382702
A102: 0.7 | B102: 0.7 | C102: 0.94 | E102: 8.7318484 | F102: 7.2765403
A103: at Vmax | B103: =VLOOKUP($B$34,A99:F102,2,0) -> 1.215234 | D103: at adpi | E103: =VLOOKUP($B$34,A99:F102,5,0) -> 6
A104: at Vmin | B104: =VLOOKUP($B$34,A99:F102,3,0) -> 1.61654 | E104: =VLOOKUP($B$34,A99:F102,6,0) -> 5 | BK104: 330 | BL104: =BK104^2*$BA$137+BK104*$BB$137+$BC$137 -> 0 | BM104: =(BK104/$AY$125)^2*$AY$127 -> 34.434525
A106: Heating
A108: Height | B108: Slope
A109: 2 | B109: 1.011236 | BK109: SWL | BL109: =BO94*LN(AY128)+BP94 -> 43.083593
A110: 2.7 | B110: 0.66725664
A111: 3 | B111: 0.54867257
A112: 4 | B112: 0.27433628
A113: 5 | B113: 0.088495575
A114: =B30 -> 2.7 | B114: =5.7114*EXP(-0.804*A114) -> 0.65159256
A116: Air Pattern Settings | C116: 2 WAY | D116: 1 WAY | E116: Selection
A117: 1 | B117: =3*$B$39*(0.1*($B$29/8)+0.9) -> 3.15 | C117: A | D117: AB | E117: =IF($B$32=2,C117,D117) -> A
A118: 2 | B118: =4*$B$39*(0.1*($B$29/8)+0.9) -> 4.2 | C118: B | D118: AC | E118: =IF($B$32=2,C118,D118) -> B
A119: 3 | C119: C | D119: BC | E119: =IF($B$32=2,C119,D119) -> C
A121: Exit width per row | B121: 0.013
A123: 1Slot | H123: 2Slot | O123: 3Slot | V123: 4Slot | AC123: 5Slot | AJ123: 6Slot | AQ123: 7Slot | AX123: 8Slot
...

Sheet Notes
D2: SMARTEMP PRODUCT SELECTION CALCULATOR
D3: Linear Multistream Ceiling Diffuser [LMC-AD] Notes
C6: Notes
C8: Pressure is inclusive of side-entry connection box pressure loss.
C10: Centreline distance is the spacing between two 2-way blow diffuser rows. Halve this value for throw to walls or maximum throw of a 1-way diffuser. Refer to Diffuser Location notes below.
C12: Select desired comfort level (ADPI setting) to determine minimum and maximum spacing or throw (centreline distances) and minimum discharge height.
C14: Sound pressure level [NC] is valid in a standard commercial office with a 2.7 m to 3 m ceiling.
C16: Inputs
C18: Active Length Ratio = LA / L | F18: where: | G18: LA = ∑ LA,i | H18: and | L18: e.g. | N18: Active Length Ratio | O18: = (1.2+1.2)/4.8
G19: LA ≥ 0.1 ∙ L | O19: = 0.5
G20: Refer to Fig. 1, Fig. 2 for description of lengths 'L' and 'LA'
C23: Layout/Coverage Distances
H25: For 2-Way Discharge | S25: For 1-Way Discharge
C56: Air Direction Settings
C58: A | D58: 0⁰ to -15⁰ discharge to the horizontal
C59: B | D59: 0⁰ to -30⁰ discharge to the horizontal
C60: C | D60: ≈ -45⁰ discharge to the horizontal
C61: D | D61: ≈ -60⁰ discharge to the horizontal
C62: E | D62: vertical discharge
C64: Sound
C65: Sound Pressure Level (NC/m) based on 10 dB room absorption

Sheet Diffuser Layout 
D2: SMARTEMP PRODUCT SELECTION CALCULATOR
D3: Linear Multistream Ceiling Diffuser [LMC-AD] Notes
C6: Notes
C8: Total pressure is inclusive of side-entry connection box pressure loss.
C10: Centreline distance is the spacing between two 2-way blow diffuser rows. Halve this value for throw to walls or maximum throw of a 1-way diffuser. Refer to Diffuser Location notes below.
C12: Select desired comfort level (ADPI setting) to determine minimum and maximum spacing or throw (centreline distances) and minimum discharge height.
C14: Sound pressure level [NC] is valid in a standard commercial office with a 2.7 m to 3 m ceiling.
C16: Inputs
C18: Active Length Ratio = LA / L | F18: where: | G18: LA = ∑ LA,i | H18: and | O18: e.g. | Q18: Active Length Ratio | R18: = (1.2+1.2)/4.8
G19: LA ≥ 0.1 ∙ L | R19: = 0.5
G20: Refer to Fig. 1, Fig. 2 for description of lengths 'L' and 'LA'
C22: Diffuser Distance
D24: =IF('LMC-ADequations'!B14=2,"For 2-Way Blow", "For 2-Way Blow (not selected)") -> For 2-Way Blow | F24: ='LMC-AD'!$E$9 -> 250 | G24: ='LMC-ADequations'!$D$3 -> L/s/m | P24: =IF('LMC-ADequations'!B14=1,"For 1-Way Blow", "For 1-Way Blow (not selected)") -> For 1-Way Blow (not selected) | T24: ='LMC-AD'!$E$9 -> 250 | U24: ='LMC-ADequations'!$D$3 -> L/s/m
D30: C | E30: =ROUND('LMC-AD'!F62,1)&" ≤ C ≤ "&ROUND('LMC-AD'!#REF!,1) -> #VALUE!
D31: C/2 | E31: =ROUND('LMC-AD'!F62/2,1)&" ≤ Cwall ≤ "&ROUND('LMC-AD'!#REF!/2,1) -> #VALUE!
D32: C/4
D33: C/8
V43: ALL DIMENSIONS IN m
C44: Air Direction Settings
C46: A | D46: 0⁰ to -15⁰ discharge to the horizontal
C47: B | D47: 0⁰ to -30⁰ discharge to the horizontal
C48: C | D48: ≈ -45⁰ discharge to the horizontal
C49: D | D49: ≈ -60⁰ discharge to the horizontal
C51: Sound
C52: Sound Pressure Level (NC/m) based on 10 dB room absorption

Sheet Dimensions
D2: SMARTEMP PRODUCT SELECTION CALCULATOR
D3: Linear Multistream Ceiling Diffuser [LMC-AD] Dimensions
C6: Dimensions
M24: 1 Slot | N24: 2 Slots | O24: 3 Slots | P24: 4 Slots | Q24: 5 Slots | R24: 6 Slots | S24: 7 Slots | T24: 8 Slots
H25: Width Flangeless Face (Wn) | M25: 31 | N25: 59 | O25: 87 | P25: 115 | Q25: 143 | R25: 171 | S25: 199 | T25: 227 | U25: mm
H26: Width Flanged Face (Wf) | M26: 48 | N26: 76 | O26: 104 | P26: 132 | Q26: 160 | R26: 188 | S26: 216 | T26: 244 | U26: mm
H27: Width of Diffuser Throat (Wt) | M27: 27 | N27: 55 | O27: 83 | P27: 111 | Q27: 139 | R27: 167 | S27: 195 | T27: 223 | U27: mm
H28: Recommended Plenum Height A * | M28: D + 76 | U28: mm
H29: Recommended Plenum Width B * | M29: 81 | N29: 109 | O29: 137 | P29: 165 | Q29: 193 | R29: 221 | S29: 249 | T29: 277 | U29: mm
H30: Recommended Spigot Dimension D * per 1 m length | M30: 124 | N30: 179 | O30: 224 | P30: 249 | Q30: 299 | R30: 299 | S30: 314 | T30: 349 | U30: mm
H31: Recommended Spigot Dimension D * per 1.2 m length | M31: 149 | N31: 199 | O31: 224 | P31: 299 | Q31: 299 | R31: 314 | S31: 349 | T31: 399 | U31: mm
H32: Recommended Spigot Dimension D * per 1.5 m length | M32: 149 | N32: 224 | O32: 249 | P32: 299 | Q32: 314 | R32: 349 | S32: 399 | T32: - | U32: mm
L33: * | M33: Plenum box dimensions are for internal dimensions (excludes insulation and acoustic lining)
L34: * | M34: Check exact dimensions with local supplier

Sheet diagrams

Sheet data
A1: ADPI
A2: 0.95 | B2: 0.2
A3: 0.9 | B3: 0.25
A4: 0.8 | B4: 0.29
A5: 0.7 | B5: 0.33 | E5: 1 | F5: N1200 | G5: Neck
E6: 2 | F6: F1195 | G6: Face
A7: Length | B7: =VLOOKUP(C7,E5:F25,2,0) -> F1195 | C7: 2 | D7: =IF(C7=1,G5,G6) -> Face | E7: 3 | F7: <length> | G7: =IF(C7=1,"neck length","face length") -> face length
A8: nslots | B8: =IF(C8=9,"<slots>",C8) -> 0 | C8: 0
A10: Supply Return
A11: Radio Input | B11: 1
A12: Type | B12: Supply | C12: AD | D12: ="" | E12: Linear Multistream Adjustable Diffuser | F12: =""
B13: Return | C13: RA | D13: - Diffuser perfomance data not applicable for return grille | E13: Linear Multistream Return Air Grille | F13: Note: Diffuser perfomance data not applicable for return grille
A14: Selection | B14: =IF($B$11=1, B12,B13) -> Supply | C14: =IF($B$11=1, C12,C13) -> AD | D14: =IF($B$11=1, D12,D13) | E14: =IF($B$11=1, E12,E13) -> Linear Multistream Adjustable Diffuser | F14: =IF($B$11=1, F12,F13)
A16: airpatternnum | B16: ='LMC-ADequations'!B32 -> 2
B18: 1 | C18: 2 | D18: 3 | E18: 4 | F18: 5 | G18: 6 | H18: 7
A19: 1way text | B19: recommended | C19: AB | D19: AC | E19: BC | F19: BD | G19: EE (vertical) | H19: custom
A20: 2way text | B20: recommended | C20: A* (0 to -15°) | D20: B (0 to -30°) | E20: C (≈ -45°) | F20: D (≈ -60°) | G20: E (vertical) | H20: custom
A21: =IF($B$16=2,A20,A19) -> 2way text | B21: =IF($B$16=2,B20,B19) -> recommended | C21: =IF($B$16=2,C20,C19) -> A* (0 to -15°) | D21: =IF($B$16=2,D20,D19) -> B (0 to -30°) | E21: =IF($B$16=2,E20,E19) -> C (≈ -45°) | F21: =IF($B$16=2,F20,F19) -> D (≈ -60°) | G21: =IF($B$16=2,G20,G19) -> E (vertical) | H21: =IF($B$16=2,H20,H19) -> custom
A22: 1way code | C22: =C19 -> AB | D22: =D19 -> AC | E22: =E19 -> BC | F22: =F19 -> BD | G22: EE | H22: <direction>
A23: 2way code | C23: A | D23: B | E23: C | F23: D | G23: E | H23: <direction>
A24: Result | B24: =C115 -> Air Pattern Setting | C24: =IF($B$16=1,C22,C23) -> A | D24: =IF($B$16=1,D22,D23) -> B | E24: =IF($B$16=1,E22,E23) -> C | F24: =IF($B$16=1,F22,F23) -> D | G24: =IF($B$16=1,G22,G23) -> E | H24: <direction>
A26: airpatterletter | B26: =IF(C26=1,B24,HLOOKUP(C26,C18:H24,7,0)) -> Air Pattern Setting | C26: 1
A28: Colour | B28: =IF(C28=1,"RAL9003",IF(C28=2,"RAL9005","<colour>")) -> RAL9003 | C28: 1 | D28: ='LMC-AD'!$I$80 -> RAL9005 (jet black)
A29: Barrel | B29: =IF(C29=1,"B","W") -> B | C29: 1
A31: Side Profile | C31: Code | D31: Description
B32: 1 | C32: SF | D32: with side flanges
B33: 2 | C33: SN | D33: flangeless side profile
A34: Selection | B34: 1 | C34: =VLOOKUP(B34,B32:D33,2,0) -> SF | D34: =VLOOKUP(B34,B32:D33,3,0) -> with side flanges
A37: Diffuser Ends
C38: Code | D38: Description
B39: 1 | C39: E2 | D39: with two end flanges
B40: 2 | C40: E1 | D40: with one end flange + one pair of joining strips
B41: 3 | C41: EJ | D41: include one pair of joining strips
B42: 4 | C42: E0 | D42: without end flanges
A43: Selection | B43: 1 | C43: =VLOOKUP(B43,B39:D42,2,0) -> E2 | D43: =VLOOKUP(B43,B39:D42,3,0) -> with two end flanges
A45: Fixing | C45: Code | D45: Description
B46: 1 | C46: F0 | D46: fixing by others; without accessories
B47: 2 | C47: EX | D47: expansion bracket fixing
B48: 3 | C48: MFP | D48: mounting frame for plasterboard
A49: Selection | B49: 1 | C49: =VLOOKUP(B49,B46:D48,2,0) -> F0 | D49: =VLOOKUP(B49,B46:D48,3,0) -> fixing by others; without accessories
A51: connection box
B52: 1 | C52: K0 | D52: no connection box
B53: 2 | C53: K | D53: uninsulated connection box
B54: 3 | C54: KI | D54: internally insulated connection box
A55: Selection | B55: 1 | C55: =VLOOKUP(B55,B52:D54,2,0) -> K0 | D55: =VLOOKUP(B55,B52:D54,3,0) -> no connection box
B57: 0
B58: 1 | C58: t | D58: clipped to diffuser throat
B59: 2 | C59: n | D59: screwed to diffuser throat
A60: Selection | B60: 1
B61: =IF(B55=1,0,B60) -> 0 | C61: =VLOOKUP(B61,B57:D59,2,0) | D61: =VLOOKUP(B61,B57:D59,3,0)
A62: Selection | C62: =C55&C61 -> K0 | D62: =D55&" "&D61 -> no connection box
A65: Naming
B66: nominal length | C66: nslots | D66: airpattern num | E66: airpattern letter | F66: profile type | G66: diffuserends | H66: fixing | I66: profile colour | J66: barrelcolour | K66: Box
A67: ="SMARTEMP LMC-"&C14&"-" -> SMARTEMP LMC-AD- | B67: =B7&"-" -> F1195- | C67: =B8&"-" -> 0- | D67: =B16 -> 2 | E67: =B26&"-" -> Air Pattern Setting- | F67: =C34&"-" -> SF- | G67: =C43&"-" -> E2- | H67: =C49&"-" -> F0- | I67: =B28&"-" -> RAL9003- | J67: =B29&"-" -> B- | K67: =C62 -> K0
A70: AD: | B70: =IF(OR(B8=0,C7=0),"Please select length and number of slots",CONCATENATE(A67,B67,C67,D67,E67,F67,G67,H67,I67,J67,K67)) -> Please select length and number of slots
A71: RA: | B71: =IF(OR(B8=0,C7=0),"Please select length and number of slots",CONCATENATE(A67,B67,C67,F67,G67,H67,I67,J67,K67)) -> Please select length and number of slots
A72: CODE | B72: =IF($B$11=1,B70,B71) -> Please select length and number of slots
A73: Type | B73: ="SMARTEMP LMC-"&C14 -> SMARTEMP LMC-AD
A75: Bespoke dimensions
A78: Summary
A79: Length | B79: =IF(C7=3,"Custom Face Length",IF(C7=0,"please select a length",D7&" "&RIGHT(B7,4)&" mm")) -> Face 1195 mm
A80: Slots | B80: =IF(C8=9,"Custom Slots",IF(C8=0,"please select number of",B8)) -> please select number of
A81: Size | B81: =B79&" × "&B80&" slots" -> Face 1195 mm × please select number of slots
A82: Air pattern | B82: ='LMC-ADequations'!B14&"-way blow" -> 2-way blow
A83: Location | B83: =IF('LMC-ADequations'!B18=1,"Closed Ceiling","Freely Suspended") -> Closed Ceiling
A87: Description | B87: =C87&" with "&D87 -> 1195 mm face length with (number of slots not selected) | C87: =IF(C7=3, "custom face length", RIGHT(B7,4)&" mm "&G7) -> 1195 mm face length | D87: =IF(C8=0,"(number of slots not selected)",B8&" slots") -> (number of slots not selected)
B88: =IF(B11=1,'LMC-ADequations'!B14&"-way blow with discharge direction '"&B26&"'",E14) -> 2-way blow with discharge direction 'Air Pattern Setting'
B89: =D34 -> with side flanges
B90: =D43 -> with two end flanges
B91: =D49 -> fixing by others; without accessories
B92: ="profile powder coated to "&C92&" with "&D92& " barrels" -> profile powder coated to RAL9003 with black barrels | C92: =IF(C28=3,"custom colour",B28) -> RAL9003 | D92: =IF(C29=1,"black","white") -> black
B93: =D62 -> no connection box
D95: Format
A96: 0 | B96: Slots | C96: =OFFSET('LMC-ADequations'!$B$350,data!A96,data!$C$8-1) -> Slots
A97: 1 | B97: Selected Airflow [L/s/m] | C97: =OFFSET('LMC-ADequations'!$B$350,data!A97,data!$C$8-1) -> Selected Airflow [L/s/m]
A98: 2 | B98: Airflow @ Max Static Pressure[L/s/m] | C98: =OFFSET('LMC-ADequations'!$B$350,data!A98,data!$C$8-1) -> Airflow @ Max Static Pressure[L/s/m]
A99: 3 | B99: Min Selected Airflow [L/s/m] | C99: =OFFSET('LMC-ADequations'!$B$350,data!A99,data!$C$8-1) -> Min Selected Airflow [L/s/m]
A100: 4 | B100: Min Permissible Airflow [L/s/m] | C100: =OFFSET('LMC-ADequations'!$B$350,data!A100,data!$C$8-1) -> Min Permissible Airflow @ -12 K
A101: 5 | B101: Min % Turndown to | C101: =OFFSET('LMC-ADequations'!$B$350,data!A101,data!$C$8-1) -> Min % Turndown to | D101: =C101*100 -> #VALUE!
A102: 6 | B102: Min Permissible % Turndown to | C102: =OFFSET('LMC-ADequations'!$B$350,data!A102,data!$C$8-1) -> Min Permissible % Turndown to
A103: 7 | B103: Max Static Pressure (Pa) | C103: =OFFSET('LMC-ADequations'!$B$350,data!A103,data!$C$8-1) -> Max Static Pressure (Pa)
A104: 8 | B104: Max Total Pressure (Pa) | C104: =OFFSET('LMC-ADequations'!$B$350,data!A104,data!$C$8-1) -> Max Total Pressure (Pa)
A105: 9 | B105: Max Permissible Pressure (Pa) | C105: =OFFSET('LMC-ADequations'!$B$350,data!A105,data!$C$8-1) -> Max Permissible Pressure (Pa)
A106: 10 | B106: Sound Power Level (dBA) | C106: =OFFSET('LMC-ADequations'!$B$350,data!A106,data!$C$8-1) -> Sound Power Level (dBA)
A107: 11 | B107: Sound Pressure Level (NC) | C107: =OFFSET('LMC-ADequations'!$B$350,data!A107,data!$C$8-1) -> Sound Pressure Level (NC)
A108: 12 | B108: Centre Zones for Air Direction 'A' [K] | C108: =OFFSET('LMC-ADequations'!$B$350,data!A108,data!$C$8-1) -> Centre Zone: Setting 'A'
A109: 13 | B109: Perimeter Zones for Air Direction 'A' [K] | C109: =OFFSET('LMC-ADequations'!$B$350,data!A109,data!$C$8-1) -> Perimeter Zone: Setting 'A'
A110: 14 | B110: Max Permissible ΔT (heating) E (K) | C110: =OFFSET('LMC-ADequations'!$B$350,data!A110,data!$C$8-1) -> Max Permissible ΔT (heating) E (K)
A111: 15 | B111: Max Centre C/L Distance (m) | C111: =OFFSET('LMC-ADequations'!$B$350,data!A111,data!$C$8-1) -> Max Coverage Dist Centre Zone
A112: 16 | B112: Max Perim C/L Distance (m) | C112: =OFFSET('LMC-ADequations'!$B$350,data!A112,data!$C$8-1) -> Max C/L Distance (m) Perimeter
A113: 17 | B113: Min C/L Distance (m) | C113: =OFFSET('LMC-ADequations'!$B$350,data!A113,data!$C$8-1) -> Min C/L Distance (m)
... A121: 25 | B121: Nominal Spigot Size | C121: =OFFSET('LMC-ADequations'!$B$350,data!A121,data!$C$8-1) -> Nominal Spigot Size
A122: 26 | B122: ADPI actual (centre) | C122: =OFFSET('LMC-ADequations'!$B$350,data!A122,data!$C$8-1) -> ADPI actual (centre) | D122: =IF(C122=0,"N/A for centre zones","≥ "&C122*100&"% (for centre zones)") -> #VALUE!
A123: 27 | B123: ADPI actual (perim) | C123: =OFFSET('LMC-ADequations'!$B$350,data!A123,data!$C$8-1) -> ADPI actual (perim) | D123: =IF(C123=0,"N/A for perimeter zones","≥ "&C123*100&"% (for perimeter zones)") -> #VALUE!
A126: dt | B126: ='LMC-AD'!E15 -> -12
A127: room temp | B127: ='LMC-AD'!L23 -> 23
A128: dist type selection | B128: ='LMC-ADequations'!B21 -> 1
A129: height | B129: ='LMC-AD'!E17 -> 2.7
A130: Units | B130: ='LMC-ADequations'!D3 -> L/s/m | C130: ='LMC-ADequations'!C4 -> L/s/m²
A132: Summary
...

Sheet Selection Summary
B1: LMC-AD Performance Calculator Summary
F2: ='LMC-AD'!S7 -> v 8.1 [08/2026]
A3: Project | B3: ='LMC-AD'!D5 -> <Project Name>
A4: Diffuser Location | B4: <Name>
A5: Consultant | B5: <Name>
A7: Product | B7: =data!B73 -> SMARTEMP LMC-AD
B8: =data!E14 -> Linear Multistream Adjustable Diffuser
A9: Size | B9: =data!B81 -> Face 1195 mm × please select number of slots
A10: Discharge Direction | B10: =data!B82 -> 2-way blow
A11: Diffuser Location | B11: =data!B83 -> Closed Ceiling
A12: =data!F14
A13: Summary
A14: Selected Airflow | B14: =data!B134 -> Selected Airflow [L/s/m] L/s/m @ Max Total Pressure (Pa) Pa total (Max Static Pressure (Pa) Pa static)
A15: Min Selected Airflow | B15: =data!B135 -> #VALUE!
A16: Max Recommended Heating ΔT | B16: =data!B138 -> + Centre Zone: Setting 'A' K for centre zones; + Perimeter Zone: Setting 'A' K for perimeter zones (pattern 'Air Pattern Setting')
A17: Selected Air Discharge Setting | B17: =data!B139 -> 2-way blow, setting 'Air Pattern Setting'
A19: Acoustic Performance
A20: Sound Power Level | B20: =data!B142 -> Sound Power Level (dBA) dB(A)/m
A21: Sound Pressure Level ^ | B21: =data!B143 -> Sound Pressure Level (NC) NC/m | D21: ^ based on 10dB room absorption
A22: Recommended Plenum Box Spigot Diameter (per 1200 mm length) | B22: =data!B144 -> Nominal Spigot Size mm
A25: Comfort Performance
A26: ADPI | B26: =data!B147 -> #VALUE!
A27: Mean Room Air Velocity | B27: =data!B148 -> Mean Room Air V m/s
A28: Mean Draught Rating | B28: =data!B149 -> #VALUE!
A29: Mean PPD | B29: =data!B150 -> #VALUE!
A30: Satisfies PPD (ISO7730) | B30: =data!B151 -> Category PPD Class
A31: Mean PMV * | B31: =data!B152 -> -PMV < PMV < +PMV
A32: * ISO7730; ASHRAE Std 55
A44: Description | B44: =data!B87 -> 1195 mm face length with (number of slots not selected)
B45: =data!B88 -> 2-way blow with discharge direction 'Air Pattern Setting'
B46: =data!B89 -> with side flanges
B47: =data!B90 -> with two end flanges
B48: =data!B91 -> fixing by others; without accessories
B49: =data!B92 -> profile powder coated to RAL9003 with black barrels
B50: =data!B93 -> no connection box
A52: Order Code | B52: =_product_code -> Please select length and number of slots
