Workbook
Name _control_diagram: IF(data!$C$29,IF(data!$C$7>1,charts!$A$1,charts!$A$2),charts!$A$3)
Name _defaultADPI: data!$E$247
Name _defaultAirflow: data!$E$241
Name _defaultCoverage: data!$E$248
Name _defaultDT: data!$E$244
Name _defaultHeight: data!$E$245
Name _defaultInput: data!$E$241:$E$253
Name _defaultLowLevel: data!$E$253
Name _defaultPressure: data!$E$243
Name _defaultRatio: data!$E$246
Name _defaultSetback: data!$E$252
Name _defaultSpecFlow: data!$E$249
Name _defaultTempCool: data!$E$250
Name _defaultTempHeat: data!$E$251
Name _defaultVAV: data!$E$242
Name _getDirectionDiagram: IF('LJC-AD'!$G$54="A",diagrams!$D$12,IF('LJC-AD'!$G$54="B",diagrams!$D$13,diagrams!$D$14))
Name _product_code: data!$B$99
Name adpi.: data!$A$2:$A$5
Name getCdiagram: IF(equations!$B$45=2,diagrams!$B$10,diagrams!$B$11)
Name getImage: IF('LJC-AD'!$E$19<0.4,diagrams!$A$1,IF('LJC-AD'!$E$19<0.65,diagrams!$A$2,IF('LJC-AD'!$E$19<1,diagrams!$A$3,diagrams!$A$4)))
Name getLayout: IF(equations!$B$22=2,diagrams!$A$6,diagrams!$A$7)

Sheet LJC-AD
D2: SMARTEMP PRODUCT SELECTION CALCULATOR
D3: Linear Multi-Jet Ceiling Diffuser [LJC-AD]
C5: Project: | D5: <Project Name>
D7: Inputs | L7: Detailed Selection | X7: v 3.3 [02/2025]
D9: Maximum Airflow Rate | E9: =_defaultAirflow -> 100 | F9: L/s/m | G9: m3/h/m | H9: ft³/min/ft | M9: Air Pattern | N9: 2-Way | O9: 1-Way
D11: VAV (turndown to) | E11: 100 | F11: % | G11: 10% to 100% (use 100% for CAV) | L11: Draught Rating & Comfort | Y11: Specific Airflow Rate (heating) | Z11: 5 | AA11: L/s/m2 | AB11: 2 to 10 L/s/m2 (default 5 L/s/m2)
D13: Maximum Permissible Static Pressure | E13: =_defaultPressure -> 30 | F13: =equations!J9 -> Pa | G13: =data!B270 -> default 30 Pa | M13: ADPI ≥ | N13: 0.9 | P13: default ≥ 90%
D15: ΔT (cooling) | E15: =_defaultDT -> -12 | F15: =equations!O9 -> K | G15: =data!B271 -> 0K to -16K (default -12K) | M15: Diffuser Location | N15: Closed Ceiling | P15: Freely Suspended
D17: Diffuser Height | E17: =_defaultHeight -> 2.7 | F17: =equations!$B$9 -> m | G17: =data!B272 -> 2 m to 10 m (heating and cooling) | L17: Diffuser Coverage = Average (Max, Min) 'C' Distance | P17: see Distance section in Results (Row 60:62)
G18: =data!B273 -> 2 m to 15 m (cooling only) | L18: OR | N18: =data!B274 -> nominal distance = 9.9 m
D19: Active Length Ratio (see diagram) | E19: =_defaultRatio -> 0.5 | F19: * | G19: 0.1 to 1.0 (default 0.5) | M19: Manual Diffuser Coverage | N19: =_defaultCoverage -> 7 | O19: =equations!B9 -> m | P19: see 'C' in diagram below
L20: OR | N20: =data!B275 -> average specific flow rate: 5.03 L/s/m²
M21: Specific Airflow Rate | N21: =_defaultSpecFlow -> 5 | O21: =equations!H9 -> L/s/m² | P21: =data!B276 -> ≤ 30 L/s/m²
N22: =data!B277 -> average diffuser coverage: 10 m
M23: Room Temperature (cooling) | N23: =_defaultTempCool -> 23 | O23: =equations!L9 -> °C | P23: =data!B278 -> 20 °C to 26 °C (for draught rating)
L25: Heating
M27: Room Temperature (heating) | N27: =_defaultTempHeat -> 21 | O27: =equations!$L$9 -> °C | P27: check for manual input
N28: =data!B279 -> auto room temp. (heating) = 21 °C
M29: Room Temp. @ heating startup | N29: =_defaultSetback -> 16 | O29: =equations!$L$9 -> °C | P29: =data!B280 -> night setback temperature default (16 °C)
D31: Spigot Size | E31: ASNZ Sizes (DN150; DN200; DN250; DN300; DN350) | M31: % Low Level Return (heating) | N31: =_defaultLowLevel -> 0 | O31: % | P31: 0% to 100% (default 0%)
E32: DIN Sizes (DN160; DN200; DN250; DN315; DN355)
C33: See 'Notes' for resetting to default values
C34: Related Products | M34: Thermal Comfort Guide
C35: Smartemp LMC-AD: | D35: for an identical look with slimmer profile; manual adjustment only | M35: ADPI ≥ 95%; ṽ ≤ 0.20 m/s: | N35: Premium comfort, sedentary activity, such as in auditoria.
C36: Smartemp LDB 12: | D36: engineered by LTG for an ultra-slim look | M36: ADPI ≥ 90%; ṽ ≤ 0.25 m/s: | N36: High comfort near-sedentary activity, such as in board rooms, high end offices and libraries.
C37: Smartemp LDB 12 Clean: | D37: engineered by LTG with SystemClean™ for minimal ceiling smudging and diffuser condensation | M37: ADPI ≥ 80%; ṽ ≤ 0.29 m/s: | N37: Good comfort near sedentary activity, such as open-plan offices and meeting rooms.
C38: Smartemp LDB 50 Maxx: | D38: engineered by LTG for high flow rates | M38: ADPI ≥ 70%; ṽ ≤ 0.33 m/s: | N38: Standard comfort medium activity, such as in transient spaces, retail and lobbies.
C39: Smartemp LJW-AD: | D39: for a wall-mounted solution; also available with electric and thermal actuator
C42: Results | D42: SMARTEMP LJC-AD | G42: 1 Slot | H42: 2 Slots | I42: 3 Slots | J42: 4 Slots | K42: 5 Slots | L42: 6 Slots | M42: Key: | N42: Suitable | O42: Not Suitable | P42: Warning
C43: Airflow | D43: Selected Airflow Rate | F43: =equations!$F$10 -> [L/s/m] | G43: =equations!B448 -> 100 | H43: =equations!C448 -> 100 | I43: =equations!D448 -> 100 | J43: =equations!E448 -> 100 | K43: =equations!F448 -> 100 | L43: =equations!G448 -> 100 | N43: * Refer to 'Notes' worksheet for definitions and details
D44: Airflow @ Max Static Pressure | F44: =equations!$F$10 -> [L/s/m] | G44: =equations!B449 -> 53 | H44: =equations!C449 -> 108 | I44: =equations!D449 -> 164 | J44: =equations!E449 -> 228 | K44: =equations!F449 -> 283 | L44: =equations!G449 -> 339 | N44: ** Refer to 'Dimensions & Connection Box' worksheet for details
D45: Min Selected Airflow | F45: =equations!$F$10 -> [L/s/m] | G45: =equations!B450 -> 100 | H45: =equations!C450 -> 100 | I45: =equations!D450 -> 100 | J45: =equations!E450 -> 100 | K45: =equations!F450 -> 100 | L45: =equations!G450 -> 100
D46: =equations!A451 -> Min Permissible Airflow @ ΔT = -12K | F46: =equations!$F$10 -> [L/s/m] | G46: =equations!B451 -> 13.6 | H46: =equations!C451 -> 28.8 | I46: =equations!D451 -> 43.6 | J46: =equations!E451 -> 58.1 | K46: =equations!F451 -> 73.3 | L46: =equations!G451 -> 88.9
D47: Min % Turndown to | G47: =equations!B452 -> 1 | H47: =equations!C452 -> 1 | I47: =equations!D452 -> 1 | J47: =equations!E452 -> 1 | K47: =equations!F452 -> 1 | L47: =equations!G452 -> 1
D48: Min Permissible % Turndown to | G48: =equations!B453 -> 0.14 | H48: =equations!C453 -> 0.29 | I48: =equations!D453 -> 0.44 | J48: =equations!E453 -> 0.58 | K48: =equations!F453 -> 0.73 | L48: =equations!G453 -> 0.89
C49: Pressure* | D49: Static Pressure @ 100% Airflow | F49: =equations!$J$10 -> [Pa] | G49: =equations!B454 -> 107.8 | H49: =equations!C454 -> 25.9 | I49: =equations!D454 -> 11.2 | J49: =equations!E454 -> 5.8 | K49: =equations!F454 -> < 5 | L49: =equations!G454 -> < 5 | M49: * Values valid for diffuser including side-entry connection box with round spigot (refer to 'Dimensions & Connection Box' sheet for details
D50: Total Pressure @ 100% Airflow | F50: =equations!$J$10 -> [Pa] | G50: =equations!B455 -> 127 | H50: =equations!C455 -> 28.4 | I50: =equations!D455 -> 12.4 | J50: =equations!E455 -> 7 | K50: =equations!F455 -> < 5 | L50: =equations!G455 -> < 5
D51: Max Selected Total Pressure | F51: =equations!$J$10 -> [Pa] | G51: =equations!B456 -> 30 | H51: =equations!C456 -> 30 | I51: =equations!D456 -> 30 | J51: =equations!E456 -> 30 | K51: =equations!F456 -> 30 | L51: =equations!G456 -> 30
C52: Acoustics | D52: Sound Power Level | F52: =equations!V10 -> [db(A)/m] | G52: =equations!B457 -> 44.9 | H52: =equations!C457 -> 36.9 | I52: =equations!D457 -> 29.2 | J52: =equations!E457 -> 21.2 | K52: =equations!F457 -> 16.9 | L52: =equations!G457 -> < 15 | M52: - see 'Notes' for Sound Power/Pressure Level adjustment for other lengths
D53: Sound Pressure Level * | F53: =equations!W10 -> [NC/m] | G53: =equations!B458 -> 29.9 | H53: =equations!C458 -> 21.9 | I53: =equations!D458 -> 14.2 | J53: =equations!E458 -> < 10 | K53: =equations!F458 -> < 10 | L53: =equations!G458 -> < 10 | M53: * Based on 10 dB room absorption (refer to 'Notes' sheet for details)
C54: Cooling and Heating | D54: Manually Adjusted Air Direction Setting: ** | G54: =equations!B459 -> A | H54: =equations!C459 -> A | I54: =equations!D459 -> A | J54: =equations!E459 -> A | K54: =equations!F459 -> A | L54: =equations!G459 -> A | M54: Row 54: Direction setting for balanced cooling and heating performance
D55: Centre Zone: Heating ΔT Max | F55: =equations!$O$10 -> [K] | G55: =equations!B460 -> 15 | H55: =equations!C460 -> 15 | I55: =equations!D460 -> 15 | J55: =equations!E460 -> 15 | K55: =equations!F460 -> 15 | L55: =equations!G460 -> 15 | M55: =data!B287 -> Rows 55:56: Typical max vertical temperature gradient 2 to 3°C/m Row 57: Typical vertical temperature gradient ≤ 1°C/m Vertical discharge: manual setting 'E' or with thermal/electric actuator. Thermal and electric actuator available for 2 slots or more only.
D56: Perimeter Zone: Heating ΔT Max | F56: =equations!$O$10 -> [K] | G56: =equations!B461 -> 15 | H56: =equations!C461 -> 15 | I56: =equations!D461 -> 15 | J56: =equations!E461 -> 15 | K56: =equations!F461 -> 13.3 | L56: =equations!G461 -> 11.6
C57: Max (Vertical) Heating | D57: ΔT Vertical Discharge: Setting 'E' | F57: =equations!$O$10 -> [K] | G57: =equations!B462 -> 20 | H57: =equations!C462 -> 20 | I57: =equations!D462 -> 20 | J57: =equations!E462 -> 13.8 | K57: =equations!F462 -> 9.3 | L57: =equations!G462 -> 6.7
C58: Recommended Distances & Layout ** | D58: Max Coverage Centre Zones (Cmax) | F58: =equations!$B$10 -> [m] | G58: =equations!B463 -> 19.7 | H58: =equations!C463 -> 15.8 | I58: =equations!D463 -> 14.6 | J58: =equations!E463 -> 14.1 | K58: =equations!F463 -> 13.7 | L58: =equations!G463 -> 13.5 | M58: =data!B298
D59: Max Coverage Perimeter Zones (Cmax) | F59: =equations!$B$10 -> [m] | G59: =equations!B464 -> 19.7 | H59: =equations!C464 -> 15.8 | I59: =equations!D464 -> 14.6 | J59: =equations!E464 -> 14.1 | K59: =equations!F464 -> 13.7 | L59: =equations!G464 -> 13.5
D60: Min Coverage (Cmin) | F60: =equations!$B$10 -> [m] | G60: =equations!B465 -> 8.3 | H60: =equations!C465 -> 5.4 | I60: =equations!D465 -> 4.9 | J60: =equations!E465 -> 4.7 | K60: =equations!F465 -> 4.6 | L60: =equations!G465 -> 4.5
D61: Min Diffuser Height | F61: =equations!$B$10 -> [m] | G61: =equations!B466 -> 2.3 | H61: =equations!C466 -> 2.4 | I61: =equations!D466 -> 2.4 | J61: =equations!E466 -> 2.5 | K61: =equations!F466 -> 2.5 | L61: =equations!G466 -> 2.6
C62: Comfort | D62: Mean Room Air Velocity | F62: =equations!$T$10 -> [m/s] | G62: =equations!B467 -> 0.17 | H62: =equations!C467 -> 0.15 | I62: =equations!D467 -> 0.14 | J62: =equations!E467 -> 0.14 | K62: =equations!F467 -> 0.13 | L62: =equations!G467 -> 0.13 | M62: =data!$B$300 -> Comfort criteria valid for diffuser spacing of 9.9 m & room temperature of 23°C (see cells L18:L21 & L23)
D63: Mean Draught Rating (DR) | G63: =equations!B468 -> 0.167 | H63: =equations!C468 -> 0.138 | I63: =equations!D468 -> 0.129 | J63: =equations!E468 -> 0.124 | K63: =equations!F468 -> 0.121 | L63: =equations!G468 -> 0.119
D64: Mean PPD | G64: =equations!B469 -> 0.086 | H64: =equations!C469 -> 0.074 | I64: =equations!D469 -> 0.07 | J64: =equations!E469 -> 0.069 | K64: =equations!F469 -> 0.067 | L64: =equations!G469 -> 0.067
D65: |PMV| | G65: ="< "&equations!B470 -> < 0.4 | H65: ="< "&equations!C470 -> < 0.3 | I65: ="< "&equations!D470 -> < 0.3 | J65: ="< "&equations!E470 -> < 0.3 | K65: ="< "&equations!F470 -> < 0.3 | L65: ="< "&equations!G470 -> < 0.3
D66: Satisfies PPD Category (ISO7730) | G66: =equations!B471 -> B | H66: =equations!C471 -> B | I66: =equations!D471 -> B | J66: =equations!E471 -> B | K66: =equations!F471 -> B | L66: =equations!G471 -> B
C67: T-Element | D67: Thermal Element Setting | F67: =equations!$L$10 -> [°C] | G67: Thermal/ Electric actuator avalable for 2+ slots only | H67: =equations!C472 -> n.r. | I67: =equations!D472 -> n.r. | J67: =equations!E472 -> 30† | K67: =equations!F472 -> 29 | L67: =equations!G472 -> 27 | M67: n.r. - thermal element not recommended; consider electric actuator † - slightly elevated air velocities in heating ‡ - moderately elevated air velocities in heating Thermal Element for Heating When the thermal element is used, the space should always be warmed up from night setback using a supply air temperature greater than or equal to the thermal element setting (row 69), otherwise the guide-ring will retract and prevent heat projection to the floor. Consider introducing a Pre-Occupancy Warm-Up Boost mode. Pre Occupancy Warm-Up Boost - see ‘Notes’ rows 70-89
C68: Pre-Occupancy Warm-up Boost | D68: Warm-Up Max Boost ΔT | F68: =equations!O10 -> [K] | H68: =equations!C473 | I68: =equations!D473 | J68: =equations!E473 -> 14 | K68: =equations!F473 -> 13.3 | L68: =equations!G473 -> 10.7
D69: Warm-Up Airflow Boost Factor | H69: =equations!C474 | I69: =equations!D474 | J69: =equations!E474 -> 1.009026 | K69: =equations!F474 -> 1.1966969 | L69: =equations!G474 -> 1.2642681
D70: Warm-Up Pressure Boost Factor | H70: =equations!C475 | I70: =equations!D475 | J70: =equations!E475 -> 1.0181334 | K70: =equations!F475 -> 1.4320835 | L70: =equations!G475 -> 1.5983738
D71: Diffusers Active During Warm-Up Boost | F71: % | H71: =equations!C476 | I71: =equations!D476 | J71: =equations!E476 -> 0.99105479 | K71: =equations!F476 -> 0.83563348 | L71: =equations!G476 -> 0.79097149
C72: Dimensions ** | D72: Width Flangeless Face | F72: =equations!$R$10 -> [mm] | G72: ='Dimensions & Connection Box'!M25 -> 43.5 | H72: ='Dimensions & Connection Box'!N25 -> 85.5 | I72: ='Dimensions & Connection Box'!O25 -> 127.5 | J72: ='Dimensions & Connection Box'!P25 -> 169.5 | K72: ='Dimensions & Connection Box'!Q25 -> 211.5 | L72: ='Dimensions & Connection Box'!R25 -> 253.5 | M72: Refer to 'Dimensions & Connection Box' worksheet for details
D73: Width Flanged Face | F73: =equations!$R$10 -> [mm] | G73: ='Dimensions & Connection Box'!M26 -> 72 | H73: ='Dimensions & Connection Box'!N26 -> 114 | I73: ='Dimensions & Connection Box'!O26 -> 156 | J73: ='Dimensions & Connection Box'!P26 -> 198 | K73: ='Dimensions & Connection Box'!Q26 -> 240 | L73: ='Dimensions & Connection Box'!R26 -> 282
D74: Width of Diffuser Throat | F74: =equations!$R$10 -> [mm] | G74: ='Dimensions & Connection Box'!M27 -> 38 | H74: ='Dimensions & Connection Box'!N27 -> 80 | I74: ='Dimensions & Connection Box'!O27 -> 122 | J74: ='Dimensions & Connection Box'!P27 -> 164 | K74: ='Dimensions & Connection Box'!Q27 -> 206 | L74: ='Dimensions & Connection Box'!R27 -> 248
C75: Spigot | D75: =equations!A477 -> Nominal Spigot Size / 1200 mm | F75: =equations!$R$10 -> [mm] | G75: =equations!B477 -> DN250 | H75: =equations!C477 -> DN250 | I75: =equations!D477 -> DN250 | J75: =equations!E477 -> DN250 | K75: =equations!F477 -> DN250 | L75: =equations!G477 -> DN250 | M75: It is highly recommended to use multiple spigot connections. Spigot size/unit length can be downsized accordingly.
D77: Product Selection & Code Generator | O77: * indicates standard/default option
D78: Select model to create product code | G78: 1 slot | H78: 2 slots | I78: 3 slots | J78: 4 slots | K78: 5 slots | L78: 6 slots | M78: custom | O78: other slots available upon request
D79: Supply/Return | G79: supply: adjustable direction | J79: return air | L79: return air boosted | O79: see 'Notes' Row 16 for performance adjustments as a return air inlet
D80: Nominal Length | G80: =data!E10 -> 1200* mm (neck) | I80: =data!E11 -> 1195 mm (face) | K80: =data!E12 -> custom^ ≤ 1200 mm (neck) | O80: ^ contact Smartair Diffusion for custom lengths and colours
D81: Air Pattern Setting | G81: =IF(equations!B22=2,"2-way blow selected (see Cell L9)","1-way blow selected (see Cell L9)") -> 2-way blow selected (see Cell L9)
D82: Adjustment | G82: manual | H82: =data!D52 -> thermal actuator | J82: electric actuator (24V, 2-10V) | N82: electric actuator (24V, 3-pt) | O82: =data!E55 -> manual adjustment only
D83: Air Direction Setting | G83: recommended* | H83: =data!C39 -> A (0 to -15°) | J83: =data!D39 -> B (0 to -30°) | K83: =data!E39 -> C (≈ -45°) | L83: =data!F39 -> D (≈ -60°) | M83: =data!G39 -> E (vertical) | N83: custom | O83: N/A for return air inlet
D84: Side Profile | G84: with side flanges* | I84: flangeless
D85: Diffuser Ends | G85: 2 end flanges * | I85: 1 end flange & 1 pair joining strips | L85: 1 pair joining strips | N85: no end flanges | O85: joining strips for a continuous look
D86: Fixing | G86: without accessories/by others * | J86: expansion bracket | L86: mounting frame for plasterboard
D87: Profile Colour | G87: RAL9003* (signal white) | I87: RAL9005 (jet black) | K87: other ^
D88: Barrel Colour | G88: black* | H88: white
D89: Connection Box | G89: no connection box * | I89: uninsulated connection box | L89: internally insulated connection box
J90: clipped to diffuser throat | L90: screwed to diffuser throat | O90: options only available with connection box
D92: Product Code | F92: =_product_code -> Please select length and number of slots | M92: more detailed options available in the LJC-AD product brochure
F93: =data!B320 -> • LJC-AD (supply air) • 1200 mm neck length; (number of slots not selected) • 2-way blow • discharge direction manually set to 'Air Pattern Setting' | I93: =data!C320 -> • profile powder coated to RAL9003 with black barrels • with side flanges • with two end flanges • fixing by others; without accessories • no connection box | M93: see 'Selection Summary & Print' for a printable summary of the selection
I95: click here to see product on smartair.asia | Q95: Copyright © 2024 SMARTAIR DIFFUSION

Sheet equations
A1: Units
B3: Length | D3: Flow rate | F3: Flow rate/unit length | H3: Specific Flow rate | J3: Pressure | L3: temperature | O3: Delta T | R3: Length | T3: velocity | V3: acoustic
A4: Selection | B4: Unit | C4: conv to SI | D4: Unit | E4: conv to SI | F4: Unit | G4: conv to SI | H4: Unit | I4: conv to SI | J4: Unit | K4: conv to SI | L4: Unit | N4: conv to SI | O4: Unit | Q4: conv to SI | R4: Unit | S4: conv to SI | T4: Unit | U4: conv to SI | X4: db(A) (addition)
A5: 1 | B5: m | C5: 1 | D5: L/s | E5: 1 | F5: L/s/m | G5: 1 | H5: L/s/m² | I5: 1 | J5: Pa | K5: 1 | L5: °C | M5: C | N5: FALSE | O5: K | P5: 1 | Q5: FALSE | R5: mm | S5: 1 | T5: m/s | U5: 1 | V5: db(A)/m | W5: NC/m | X5: 0
A6: 2 | B6: m | C6: 1 | D6: m³/h | E6: =1/3.6 -> 0.27777778 | F6: m³/h/m | G6: =1/3.6 -> 0.27777778 | H6: m³/h/m² | I6: =1/3.6 -> 0.27777778 | J6: Pa | K6: 1 | L6: °C | M6: C | N6: FALSE | O6: K | P6: 1 | Q6: FALSE | R6: mm | S6: 1 | T6: m/s | U6: 1 | V6: db(A)/m | W6: NC/m | X6: 0
A7: 3 | B7: ft | C7: =1/3.28084 -> 0.30479999 | D7: ft³/min | E7: 0.47194745 | F7: ft³/min/ft | G7: 1.5483841 | H7: ft³/min/ft² | I7: 5.0800004 | J7: inH₂O | K7: 248.84 | L7: °F | M7: F | N7: TRUE | O7: ∆°F | P7: =5/9 -> 0.55555556 | Q7: TRUE | R7: in | S7: 25.4 | T7: ft/s | U7: 0.30479999 | V7: db(A)/4ft | W7: NC/4ft | X7: =10*LOG(4*C7/1) -> 0.8607494
A8: Units | B8: 1
A9: Units Multiplier | B9: {=VLOOKUP(B8,$A$5:$X$7,{2,3,4,5,6,7,8,9,10,11,12,13,14,15,16,17,18,19,20,21,22,23,24},0)} -> m | C9: 1 | D9: L/s | E9: 1 | F9: L/s/m | G9: 1 | H9: L/s/m² | I9: 1 | J9: Pa | K9: 1 | L9: °C | M9: C | N9: FALSE | O9: K | P9: 1 | Q9: FALSE | R9: mm | S9: 1 | T9: m/s | U9: 1 | V9: db(A)/m | W9: NC/m | X9: 0
A10: Formatting | B10: ="["&B9&"]" -> [m] | C10: =B5&"/"&B9 -> m/m | D10: ="["&D9&"]" -> [L/s] | E10: =D5&"/"&D9 -> L/s/L/s | F10: ="["&F9&"]" -> [L/s/m] | G10: =F5&"/"&F9 -> L/s/m/L/s/m | H10: ="["&H9&"]" -> [L/s/m²] | I10: =H5&"/"&H9 -> L/s/m²/L/s/m² | J10: ="["&J9&"]" -> [Pa] | K10: =J5&"/"&J9 -> Pa/Pa | L10: ="["&L9&"]" -> [°C] | M10: =L5&"/"&L9 -> °C/°C | O10: ="["&O9&"]" -> [K] | P10: =O5&"/"&O9 -> K/K | R10: ="["&R9&"]" -> [mm] | S10: =R5&"/"&R9 -> mm/mm | T10: ="["&T9&"]" -> [m/s] | U10: =T5&"/"&T9 -> m/s/m/s | V10: ="["&V9&"]" -> [db(A)/m] | W10: ="["&W9&"]" -> [NC/m] | X10: =W5&"/"&W9 -> NC/m/NC/m
A11: Want
A14: Input Values
A16: Airflow Rate | B16: ='LJC-AD'!E9 -> 100 | C16: =F9 -> L/s/m
A17: VAV | B17: ='LJC-AD'!E11 -> 100
A18: Max Total Pressure | B18: ='LJC-AD'!E13 -> 30 | C18: =$J$9 -> Pa
A19: dT(cooling) | B19: ='LJC-AD'!E15 -> -12 | C19: =$L$9 -> °C
A20: Room Height | B20: ='LJC-AD'!E17 -> 2.7 | C20: =B9 -> m
A21: Length Ratio | B21: ='LJC-AD'!E19 -> 0.5
A22: Air Pattern | B22: 2
A23: Specific airflow | B23: ='LJC-AD'!N21 -> 5 | C23: =H9 -> L/s/m²
A24: ADPI | B24: ='LJC-AD'!N13 -> 0.9
A25: LRA | B25: ='LJC-AD'!N31 -> 0
A26: Ceiling | B26: 1
A27: Manual C distance | B27: ='LJC-AD'!N19 -> 7 | C27: =B9 -> m
A28: distance input type | B28: 1
A29: dT (Heating) | B29: 12 | C29: K
A30: Room Temperature (cooling) | B30: ='LJC-AD'!N23 -> 23 | C30: =$L$9 -> °C
A31: Manual Supply Heating DT | B31: FALSE
A32: Manual Heating Temp | B32: FALSE
A33: Room Temp (heating) | B33: ='LJC-AD'!N27 -> 21 | C33: =$L$9 -> °C
A34: T night setback | B34: ='LJC-AD'!N29 -> 16 | C34: =$L$9 -> °C
A36: Input Validation and Conversion
A38: Airflow Rate | B38: =B16*$E$9 -> 100 | C38: L/s/m
A39: VAV | B39: =B17/100 -> 1
A40: Airflow Rate (TD) | B40: =B38*B39 -> 100
A41: Max Total Pressure | B41: =B18*K9 -> 30 | C41: Pa
A42: dT(cooling) | B42: =ABS(B19*P9) -> 12 | C42: C
A43: Diffuser Height | B43: =B20*C9 -> 2.7 | C43: m
A44: Length Ratio | B44: =B21 -> 0.5
A45: Air Pattern | B45: =B22 -> 2
A47: ADPI | B47: =B24 -> 0.9
A48: Low level return multiplier | B48: =B25/100 -> 0
A49: Local Velocity | B49: =VLOOKUP(equations!B47,data!A2:B5,2,0) -> 0.25
A50: Ceiling Type | B50: =B26-1 -> 0 | C50: =IF(B50=0,"Closed","Free") -> Closed
A51: Ceiling Type Heating | B51: =IF(B50=1,0.833,1) -> 1
A52: Manual C Distance | B52: =B27*C9 -> 7 | C52: m
A53: Specific airflow | B53: =B23*I9 -> 5 | C53: m3/s/m2
A55: Room Temperature (cooling) | B55: =ROUND(IF($N$9,CONVERT(B30,"F","C"),B30),1) -> 23 | C55: C
A56: Room Temp (heating) | B56: =ROUND(IF($N$9,CONVERT(B33,"F","C"),B33),1) -> 21 | C56: C
A57: T night setback | B57: =ROUND(IF($N$9,CONVERT(B34,"F","C"),B34),1) -> 16 | C57: C
A58: Room Temp (Heating) Selected/auto | B58: =IF(B32,B56,B55-2) -> 21 | C58: C
I70: AU/NZ | M70: DIN | O70: v | R70: I-P
A71: Ceiling Type Hmin | B71: =IF(B50=1,1.1,1) -> 1 | D71: H actual | E71: Height Adjusted | H71: 1 | I71: 150 | J71: =PI()*(I71/2000)^2 -> 0.017671459 | K71: =IF($B$38/1000*1.2/J71>3.6,0,$B$38/1000*1.2/J71) -> 0 | L71: 1 | M71: 160 | N71: =PI()*(M71/2000)^2 -> 0.020106193 | O71: =IF($B$38/1000*1.2/N71>3.6,0,$B$38/1000*1.2/N71) -> 0 | Q71: 1 | R71: 6 | S71: =CONVERT(R71,"in","m")*1000 -> 152.4 | T71: =PI()*(S71/2000)^2 -> 0.018241469 | U71: =IF($B$38/1000*1.2/T71>3.6,0,$B$38/1000*1.2/T71) -> 0
A72: Heating Height | B72: =IF(B43>4.5,B43,D74*$B$43+E74) -> 1.7 | D72: 2.7 | E72: 1.7 | H72: 2 | I72: 200 | J72: =PI()*(I72/2000)^2 -> 0.031415927 | K72: =IF($B$38/1000*1.2/J72>3.6,0,$B$38/1000*1.2/J72) -> 0 | L72: 2 | M72: 200 | N72: =PI()*(M72/2000)^2 -> 0.031415927 | O72: =IF($B$38/1000*1.2/N72>3.6,0,$B$38/1000*1.2/N72) -> 0 | P72: =N72/N71 -> 1.5625 | Q72: 2 | R72: 7 | S72: =CONVERT(R72,"in","m")*1000 -> 177.8 | T72: =PI()*(S72/2000)^2 -> 0.024828666 | U72: =IF($B$38/1000*1.2/T72>3.6,0,$B$38/1000*1.2/T72) -> 0
D73: 5 | E73: 5 | H73: 3 | I73: 250 | J73: =PI()*(I73/2000)^2 -> 0.049087385 | K73: =IF($B$38/1000*1.2/J73>3.6,0,$B$38/1000*1.2/J73) -> 2.4446199 | L73: 3 | M73: 250 | N73: =PI()*(M73/2000)^2 -> 0.049087385 | O73: =IF($B$38/1000*1.2/N73>3.6,0,$B$38/1000*1.2/N73) -> 2.4446199 | P73: =N73/N72 -> 1.5625 | Q73: 3 | R73: 10 | S73: =CONVERT(R73,"in","m")*1000 -> 254 | T73: =PI()*(S73/2000)^2 -> 0.050670748 | U73: =IF($B$38/1000*1.2/T73>3.6,0,$B$38/1000*1.2/T73) -> 2.3682303
D74: =SLOPE(E72:E73,D72:D73) -> 1.4347826 | E74: =INTERCEPT(E72:E73,D72:D73) -> -2.173913 | H74: 4 | I74: 300 | J74: =PI()*(I74/2000)^2 -> 0.070685835 | K74: =IF($B$38/1000*1.2/J74>3.6,0,$B$38/1000*1.2/J74) -> 1.6976527 | L74: 4 | M74: 315 | N74: =PI()*(M74/2000)^2 -> 0.077931133 | O74: =IF($B$38/1000*1.2/N74>3.6,0,$B$38/1000*1.2/N74) -> 1.5398211 | P74: =N74/N73 -> 1.5876 | Q74: 4 | R74: 12 | S74: =CONVERT(R74,"in","m")*1000 -> 304.8 | T74: =PI()*(S74/2000)^2 -> 0.072965877 | U74: =IF($B$38/1000*1.2/T74>3.6,0,$B$38/1000*1.2/T74) -> 1.6446044
A75: Draft Rating | B75: =(34-$B$55)*($B$49-0.05)^0.62*(0.37*B49*40+3.14)/100 -> 0.27738782 | H75: 5 | I75: 350 | J75: =PI()*(I75/2000)^2 -> 0.096211275 | K75: =IF($B$38/1000*1.2/J75>3.6,0,$B$38/1000*1.2/J75) -> 1.2472551 | L75: 5 | M75: 355 | N75: =PI()*(M75/2000)^2 -> 0.098979804 | O75: =IF($B$38/1000*1.2/N75>3.6,0,$B$38/1000*1.2/N75) -> 1.2123685 | P75: =N75/N74 -> 1.2700932 | Q75: 5 | R75: 14 | S75: =CONVERT(R75,"in","m")*1000 -> 355.6 | T75: =PI()*(S75/2000)^2 -> 0.099314666 | U75: =IF($B$38/1000*1.2/T75>3.6,0,$B$38/1000*1.2/T75) -> 1.2082808
A76: Global Distance | B76: =B352 -> 9.9342442 | H76: 6 | I76: 400 | J76: =PI()*(I76/2000)^2 -> 0.12566371 | K76: =IF($B$38/1000*1.2/J76>3.6,0,$B$38/1000*1.2/J76) -> 0.95492966 | L76: 6 | M76: 400 | N76: =PI()*(M76/2000)^2 -> 0.12566371 | O76: =IF($B$38/1000*1.2/N76>3.6,0,$B$38/1000*1.2/N76) -> 0.95492966 | P76: =N76/N75 -> 1.2695894 | Q76: 6 | R76: 16 | S76: =CONVERT(R76,"in","m")*1000 -> 406.4 | T76: =PI()*(S76/2000)^2 -> 0.12971711 | U76: =IF($B$38/1000*1.2/T76>3.6,0,$B$38/1000*1.2/T76) -> 0.92508996
H77: =H76+1-COUNTIF(K71:K76,">0") -> 3 | I77: =VLOOKUP($H$77,$H$71:$K$76,2,0) -> 250 | J77: =VLOOKUP($H$77,$H$71:$K$76,3,0) -> 0.049087385 | K77: =VLOOKUP($H$77,$H$71:$K$76,4,0) -> 2.4446199 | L77: =L76+1-COUNTIF(O71:O76,">0") -> 3 | M77: =VLOOKUP($L$77,$L$71:$O$76,2,0) -> 250 | N77: =VLOOKUP($L$77,$L$71:$O$76,3,0) -> 0.049087385 | O77: =VLOOKUP($L$77,$L$71:$O$76,4,0) -> 2.4446199 | Q77: =Q76+1-COUNTIF(U71:U76,">0") -> 3 | R77: =VLOOKUP($Q$77,$Q$71:$U$76,2,0) -> 10 | S77: =VLOOKUP($Q$77,$Q$71:$U$76,3,0) -> 254 | T77: =VLOOKUP($Q$77,$Q$71:$U$76,4,0) -> 0.050670748 | U77: =VLOOKUP($Q$77,$Q$71:$U$76,5,0) -> 2.3682303
A79: Spigot Selection | B79: 1 | D79: Selection | E79: Spigot Size | F79: Area | G79: Velocity
A80: Units Selection | B80: =IF(B8=3,3,B79) -> 1 | D80: 1 | E80: =I77 -> 250 | F80: =J77 -> 0.049087385 | G80: =K77 -> 2.4446199 | H80: mm
A81: Spigot size | B81: =VLOOKUP($B$80,$D$80:$G$82,2,0) -> 250 | C81: =VLOOKUP($B$80,$D$80:$H$82,5,0) -> mm | D81: 2 | E81: =M77 -> 250 | F81: =N77 -> 0.049087385 | G81: =O77 -> 2.4446199 | H81: mm
A82: Spigot Area | B82: =VLOOKUP($B$80,$D$80:$G$82,3,0) -> 0.049087385 | C82: m2 | D82: 3 | E82: =R77 -> 10 | F82: =T77 -> 0.050670748 | G82: =U77 -> 2.3682303 | H82: in
A83: Spigot Velocity | B83: =VLOOKUP($B$80,$D$80:$G$82,4,0) -> 2.4446199 | C83: m/s
A85: Cmin Ceiling Factor | B85: =IF($B$50=1,0.85,1) -> 1
A86: Cmax Ceiling Factor | B86: =IF($B$50=1,0.8,1) -> 1
A88: V_turndown | B88: =B38*B39 -> 100 | D88: v_td=fr*vav
A90: Diffuser Airflow for Neck Length | B90: =IFERROR(ROUND(C90*B16,1),"custom") -> 120 | C90: =D90/1000 -> 1.2 | D90: =IF(data!B13=1,1200,IF(data!B13=2,1163,"")) -> 1200
A92: Hmin
A94: Hmin 2WAY | B94: =D94*SQRT($B$38)+E94 -> 2.6012 | D94: 0.04282 | E94: 2.173
A95: Hmin 1WAY | B95: =D94*SQRT($B$38*2)+E94 -> 2.7785662
A96: Hmin Select | B96: =IF($B$45=2,$B$94,$B$95) -> 2.6012
A98: ADPI
A99: Hmin | B99: 0.95 | C99: =C100+0.1 -> 2.7012
B100: 0.9 | C100: =B96 -> 2.6012
B101: 0.8 | C101: =C100-0.1 -> 2.5012
B102: 0.7 | C102: =C101-0.1 -> 2.4012
A104: Cmin | B104: 2-WAY | F104: 1-WAY | K104: Q' to v'
D105: Target Q'' | H105: Target Q'' | L105: 2-Way | N105: 1-Way | P105: Selection
A106: H | B106: ax | C106: ^b | D106: Q'' | F106: ax | G106: ^b | H106: Q'' | L106: ax | M106: ^b | N106: ax | O106: ^b | P106: ax | Q106: ^b
A107: 2.7 | B107: 4510 | C107: 2.2693 | D107: =B107*$B$49^C107 -> 194.05364 | F107: 2886 | G107: 2.152 | H107: =F107*$B$49^G107 -> 146.10438 | K107: 2.7 | L107: 0.02455 | M107: 0.4405 | N107: 0.02466 | O107: 0.4647 | P107: =IF($B$45=2,L107,N107) -> 0.02455 | Q107: =IF($B$45=2,M107,O107) -> 0.4405
A108: 4 | B108: 3884 | C108: 2.2426 | D108: =B108*$B$49^C108 -> 173.42012 | F108: 2651 | G108: 2.175 | H108: =F108*$B$49^G108 -> 129.99578 | K108: 4 | L108: 0.0251 | M108: 0.4458 | N108: 0.02669 | O108: 0.4597 | P108: =IF($B$45=2,L108,N108) -> 0.0251 | Q108: =IF($B$45=2,M108,O108) -> 0.4458
A109: 10.0001 | B109: 3435 | C109: 2.2754 | D109: =B109*$B$49^C109 -> 146.55459 | F109: 2317 | G109: 2.194 | H109: =F109*$B$49^G109 -> 110.66401 | K109: 10.0001 | L109: 0.02797 | M109: 0.4391 | N109: 0.02927 | O109: 0.4557 | P109: =IF($B$45=2,L109,N109) -> 0.02797 | Q109: =IF($B$45=2,M109,O109) -> 0.4391
B110: Ax | C110: ^b | F110: Ax | G110: ^b
A111: =B43 -> 2.7 | B111: =EXP(INDEX(LINEST(LN(D107:D109),LN(A107:A109),,),1,2)) -> 235.858 | C111: =INDEX(LINEST(LN(D107:D109),LN(A107:A109),,),1) -> -0.20897278 | D111: =B111*A111^C111 -> 191.64934 | E111: W/m2 | F111: =EXP(INDEX(LINEST(LN(H107:H109),LN(A107:A109),,),1,2)) -> 176.59451 | G111: =INDEX(LINEST(LN(H107:H109),LN(A107:A109),,),1) -> -0.20572782 | H111: =F111*A111^G111 -> 143.9573 | I111: W/m2
A112: Q" allowed | B112: =IF($B$45=2,D111,H111) -> 191.64934
A113: v' for Vmax | B113: =$B$112/$B$42 -> 15.970778 | C113: L/s/m2
A114: v' for Vmin | B114: =B113+B115 -> 19.970778 | C114: L/s/m2
A115: v'' + correction factor | B115: 4
A117: Active Length Ratio Factor | B117: =B44^0.151 -> 0.90062598
A119: Cmax
A120: ADPI | B120: for Vmax | C120: for Vmin | E120: Hfactor @ Vmax | F120: Hfactor @ Vmin
A121: 0.95 | B121: 1.91 | C121: 2.54 | E121: 5.3170379 | F121: 4.4308649
A122: 0.9 | B122: 1.5 | C122: 2 | E122: 6 | F122: 5
A123: 0.8 | B123: 1 | C123: 1.32 | E123: 7.3659242 | F123: 6.1382702
A124: 0.7 | B124: 0.7 | C124: 0.94 | E124: 8.7318484 | F124: 7.2765403 | BK124: Q | BL124: SWL | BM124: P | BO124: A | BP124: B
A125: at Vmax | B125: =VLOOKUP($B$47,A121:F124,2,0) -> 1.5 | D125: at adpi | E125: =VLOOKUP($B$47,A121:F124,5,0) -> 6 | BK125: 130 | BL125: =BK125^2*$BA$178+BK125*$BB$178+$BC$178 -> 0 | BM125: =(BK125/$AY$163)^2*$AY$166 -> 1.788052 | BO125: 15.324 | BP125: -2.6401
A126: at Vmin | B126: =VLOOKUP($B$47,A121:F124,3,0) -> 2 | E126: =VLOOKUP($B$47,A121:F124,6,0) -> 5 | BK126: 210 | BL126: =BK126^2*$BA$178+BK126*$BB$178+$BC$178 -> 0 | BM126: =(BK126/$AY$163)^2*$AY$166 -> 4.6658635
BK127: 280 | BL127: =BK127^2*$BA$178+BK127*$BB$178+$BC$178 -> 0 | BM127: =(BK127/$AY$163)^2*$AY$166 -> 8.2948684
A128: Cmax-Centre Zone
A129: ADPI | B129: for Vmax | C129: for Vmin | E129: Hfactor @ Vmax | F129: Hfactor @ Vmin
...

Sheet data
A1: ADPI
A2: 0.95 | B2: 0.2
A3: 0.9 | B3: 0.25
A4: 0.8 | B4: 0.29
A5: 0.7 | B5: 0.33
A7: nslots | B7: 0 | C7: =IF($B$7=7,"<slots>",$B$7) -> 0
C9: code | D9: type | E9: display | F9: note
A10: Length | B10: 1 | C10: =IF(equations!$B$8=3,data!D19,data!D16) -> N1200 | D10: =IF(equations!$B$8=3,data!E19,data!E16) -> Neck | E10: =IF(equations!$B$8=3,data!F19,data!F16) -> 1200* mm (neck) | F10: =IF(equations!$B$8=3,data!G19,data!G16) -> 1200 mm neck length
B11: 2 | C11: =IF(equations!$B$8=3,data!D20,data!D17) -> F1195 | D11: =IF(equations!$B$8=3,data!E20,data!E17) -> Face | E11: =IF(equations!$B$8=3,data!F20,data!F17) -> 1195 mm (face) | F11: =IF(equations!$B$8=3,data!G20,data!G17) -> 1195 mm face length
B12: 3 | C12: =IF(equations!$B$8=3,data!D21,data!D18) -> <length> | D12: =IF(equations!$B$8=3,data!E21,data!E18) -> neck length | E12: =IF(equations!$B$8=3,data!F21,data!F18) -> custom^ ≤ 1200 mm (neck) | F12: =IF(equations!$B$8=3,data!G21,data!G18) -> custom neck length
B13: 1 | C13: {=VLOOKUP(B13,$B$10:$F$12,{2,3,4,5},0)} -> N1200 | D13: Neck | E13: 1200* mm (neck) | F13: 1200 mm neck length
C15: Options | D15: Code | E15: Type | F15: Display | G15: Note
C16: 1 | D16: N1200 | E16: Neck | F16: 1200* mm (neck) | G16: 1200 mm neck length
C17: 2 | D17: F1195 | E17: Face | F17: 1195 mm (face) | G17: 1195 mm face length
C18: 3 | D18: <length> | E18: neck length | F18: custom^ ≤ 1200 mm (neck) | G18: custom neck length
C19: 1 | D19: N4' | E19: Neck | F19: 4 ft.* (neck) | G19: 4 ft. neck length
C20: 2 | D20: F3'11.8 | E20: Face | F20: 3 ft. 11.8 in. (face) | G20: 3 ft. 11.8 in. face length
C21: 3 | D21: <length> | E21: neck length | F21: custom^ ≤ 4 ft (neck) | G21: custom neck length
A24: Supply Return | C24: Code | D24: Description | E24: Comment
B25: 1 | C25: AD | D25: supply | E25: see 'Notes' Row 16 for performance adjustments as a return air inlet | F25: LJC-AD (supply air)
B26: 2 | C26: RA | D26: return air | F26: LJC-RA (return air)
B27: 3 | C27: RA2 | D27: return air 2 | F27: LJC-RA2 (return air boosted)
B28: 1 | C28: {=VLOOKUP($B$28,$B$25:$F$27,{2,3,4,5},0)} -> AD | D28: supply | E28: see 'Notes' Row 16 for performance adjustments as a return air inlet | F28: LJC-AD (supply air)
B29: Supply Air Selected | C29: =B28=1 -> TRUE
A31: Air Pattern | B31: =equations!B45 -> 2
A33: Colour | B33: =IF(C33=1,"RAL9003",IF(C33=2,"RAL9005","<colour>")) -> RAL9003 | C33: 1 | D33: ='LJC-AD'!$I$87 -> RAL9005 (jet black)
A34: Barrel | B34: =IF(C34=1,"B","W") -> B | C34: 1
A36: Air Direction | B36: 1 | C36: 2 | D36: 3 | E36: 4 | F36: 5 | G36: 6 | H36: 7
A37: 1way text | B37: recommended | C37: AB | D37: AC | E37: BC | F37: BD | G37: EE (vertical) | H37: custom
A38: 2way text | B38: recommended | C38: A (0 to -15°) | D38: B (0 to -30°) | E38: C (≈ -45°) | F38: D (≈ -60°) | G38: E (vertical) | H38: custom
A39: =IF($B$31=2,A38,A37) -> 2way text | B39: =IF($B$31=2,B38,B37) -> recommended | C39: =IF($B$31=2,C38,C37) -> A (0 to -15°) | D39: =IF($B$31=2,D38,D37) -> B (0 to -30°) | E39: =IF($B$31=2,E38,E37) -> C (≈ -45°) | F39: =IF($B$31=2,F38,F37) -> D (≈ -60°) | G39: =IF($B$31=2,G38,G37) -> E (vertical) | H39: =IF($B$31=2,H38,H37) -> custom
A40: 1way code | C40: =C37 -> AB | D40: =D37 -> AC | E40: =E37 -> BC | F40: =F37 -> BD | G40: EE | H40: <direction>
A41: 2way code | C41: A | D41: B | E41: C | F41: D | G41: E | H41: <direction>
A42: Result | B42: =C126 -> Air Pattern Setting | C42: =IF($B$31=1,C40,C41) -> A | D42: =IF($B$31=1,D40,D41) -> B | E42: =IF($B$31=1,E40,E41) -> C | F42: =IF($B$31=1,F40,F41) -> D | G42: =IF($B$31=1,G40,G41) -> E | H42: <direction>
A43: Air Direction | B43: =IF($C$29,IF(C43=1,B42,HLOOKUP(C43,C36:H42,7,0)),"C") -> Air Pattern Setting | C43: 1
A45: Adjustment Type
A46: Shading | B46: M | C46: T | D46: E
C47: =IF($C$114<=1, 1,0) -> 0 | D47: =IF($C$114<=1, 1,0) -> 0
A48: Slots
C49: Code | D49: Description | E49: Comment | F49: Note type 2
B50: 0 | D50: <adj.type>
B51: 1 | C51: ="M."&B43 -> M.Air Pattern Setting | D51: manual | E51: manual adjustment only
B52: 2 | C52: =IF($C$114=1,"T<n/a>","T"&C139) -> TThermal Element Setting | D52: =IF($C$114=1, "thermal actuator (n/a)", "thermal actuator") -> thermal actuator | E52: =IF($C$114=1,"thermal actuator not available for 1-slot LJC","thermal actuator set to " &E139 & "°C"&C147) -> thermal actuator set to Th°Cthermal element note
B53: 3 | C53: =IF($C$114=1,"E<n/a>","E1") -> E1 | D53: =IF($C$114=1, "electric actuator (n/a)", "electric actuator") -> electric actuator | E53: =IF($C$114=1,"electric actuator not available for 1-slot LJC","24V electric actuator 2-10V") -> 24V electric actuator 2-10V | F53: 24V electric actuator 2-10V (see recommended control curve below)
B54: 4 | C54: =IF($C$114=1,"E<n/a>","E2") -> E2 | D54: =IF($C$114=1, "electric actuator (n/a)", "electric actuator") -> electric actuator | E54: =IF($C$114=1,"electric actuator not available for 1-slot LJC","24V electric actuator 3-pt") -> 24V electric actuator 3-pt | F54: 24V electric actuator 3pt
A55: Selection | B55: 1 | C55: =VLOOKUP(B55,B50:D54,2,0) -> M.Air Pattern Setting | D55: =VLOOKUP(B55,B50:D54,3,0) -> manual | E55: =VLOOKUP(B55,B50:E54,4,0) -> manual adjustment only | F55: =VLOOKUP(B55,$B$50:$F$54,5,0) -> 0
A57: Side Profile | C57: Code | D57: Description
B58: 1 | C58: SF | D58: with side flanges
B59: 2 | C59: SN | D59: flangeless side profile
A60: Selection | B60: 1 | C60: =VLOOKUP(B60,B58:D59,2,0) -> SF | D60: =VLOOKUP(B60,B58:D59,3,0) -> with side flanges
A63: Diffuser Ends
C64: Code | D64: Description
B65: 1 | C65: DE2 | D65: with two end flanges
B66: 2 | C66: DE1 | D66: with one end flange + one pair of joining strips
B67: 3 | C67: DEJ | D67: include one pair of joining strips
B68: 4 | C68: DE0 | D68: without end flanges
A69: Selection | B69: 1 | C69: =VLOOKUP(B69,B65:D68,2,0) -> DE2 | D69: =VLOOKUP(B69,B65:D68,3,0) -> with two end flanges
A71: Fixing | C71: Code | D71: Description
B72: 1 | C72: F0 | D72: fixing by others; without accessories
B73: 2 | C73: EX | D73: expansion bracket fixing
B74: 3 | C74: MFP | D74: mounting frame for plasterboard
A75: Selection | B75: 1 | C75: =VLOOKUP(B75,B72:D74,2,0) -> F0 | D75: =VLOOKUP(B75,B72:D74,3,0) -> fixing by others; without accessories
A77: connection box
B78: 1 | C78: K0 | D78: no connection box
B79: 2 | C79: K | D79: uninsulated connection box
B80: 3 | C80: KI | D80: internally insulated connection box
A81: Selection | B81: 1 | C81: =VLOOKUP(B81,B78:D80,2,0) -> K0 | D81: =VLOOKUP(B81,B78:D80,3,0) -> no connection box
B83: 0
B84: 1 | C84: t | D84: clipped to diffuser throat
B85: 2 | C85: n | D85: screwed to diffuser throat
A86: Selection | B86: 0
B87: =IF(B81=1,0,B86) -> 0 | C87: =VLOOKUP(B87,B83:D85,2,0) | D87: =VLOOKUP(B87,B83:D85,3,0)
A88: Selection | C88: =C81&C87 -> K0 | D88: =D81&" "&D87 -> no connection box
A91: Naming
A92: Supply | B92: Supply/Return | C92: nominal length | D92: nslots | E92: airpattern num | F92: adj type | G92: profile type | H92: diffuserends | I92: fixing | J92: profile colour | K92: barrelcolour | L92: Box
A93: SMARTEMP LJC- | B93: =$C$28&"-" -> AD- | C93: =$C$13&"-" -> N1200- | D93: =$C$7&"-" -> 0- | E93: =$B$31&"W-" -> 2W- | F93: =$C$55&"-" -> M.Air Pattern Setting- | G93: =$C$60&"-" -> SF- | H93: =$C$69&"-" -> DE2- | I93: =$C$75&"-" -> F0- | J93: =$B$33&"-" -> RAL9003- | K93: =$B$34&"-" -> B- | L93: =$C$88 -> K0
A94: Return | B94: Supply/Return | C94: nominal length | D94: nslots | E94: airpattern num | F94: adj type | G94: profile type | H94: diffuserends | I94: fixing | J94: profile colour | K94: barrelcolour | L94: Box
A95: SMARTEMP LJC- | B95: =$C$28&"-" -> AD- | C95: =$C$13&"-" -> N1200- | D95: =$C$7&"-" -> 0- | G95: =$C$60&"-" -> SF- | H95: =$C$69&"-" -> DE2- | I95: =$C$75&"-" -> F0- | J95: =$B$33&"-" -> RAL9003- | K95: =$B$34&"-" -> B- | L95: =$C$88 -> K0
A97: Supply | B97: =IF(OR(C7=0,B13=0),"Please select length and number of slots",CONCATENATE(A93,B93,C93,D93,E93,,F93,G93,H93,I93,J93,K93,L93)) -> Please select length and number of slots | C97: SMARTEMP LJC-AD
A98: Return | B98: =IF(OR(C7=0,B13=0),"Please select length and number of slots",CONCATENATE(A95,B95,C95,D95,E95,,F95,G95,H95,I95,J95,K95,L95)) -> Please select length and number of slots | C98: SMARTEMP LJC-RA
A99: product code | B99: =IF($B$28=1,B97,B98) -> Please select length and number of slots | C99: =IF($B$28=1,C97,C98) -> SMARTEMP LJC-AD
A102: Bespoke dimensions
A105: Summary
A106: Length
A107: Slots | B107: =IF(B7=9,"Custom Slots",IF(B7=0,"please select number of",C7)) -> please select number of
A108: Size | B108: =F13&" × "&B107&" slots" -> 1200 mm neck length × please select number of slots
A109: Air pattern | B109: =equations!B22&"-way blow" -> 2-way blow
A110: Location | B110: =IF(equations!B26=1,"Closed Ceiling","Freely Suspended") -> Closed Ceiling
D113: Units | E113: Format
A114: 0 | B114: Slots | C114: =OFFSET(equations!$B$447,data!A114,data!$B$7-1) -> Slots
A115: 1 | B115: Selected Airflow [L/s/m] | C115: =OFFSET(equations!$B$447,data!A115,data!$B$7-1) -> Selected Airflow [L/s] | D115: =equations!$F$9 -> L/s/m | E115: =C115&" "&D115 -> Selected Airflow [L/s] L/s/m
A116: 2 | B116: Airflow @ Max Static Pressure[L/s/m] | C116: =OFFSET(equations!$B$447,data!A116,data!$B$7-1) -> Airflow @ Max Static Pressure[L/s] | D116: =equations!$F$9 -> L/s/m | E116: =C116&" "&D116 -> Airflow @ Max Static Pressure[L/s] L/s/m
A117: 3 | B117: Min Selected Airflow [L/s/m] | C117: =OFFSET(equations!$B$447,data!A117,data!$B$7-1) -> Min Selected Airflow [m] | D117: =equations!$F$9 -> L/s/m | E117: =C117&" "&D117 -> Min Selected Airflow [m] L/s/m
A118: 4 | B118: Min Permissible Airflow @ -12 K | C118: =OFFSET(equations!$B$447,data!A118,data!$B$7-1) -> Min Permissible Airflow @ ΔT = -12K
A119: 5 | B119: Min % Turndown to | C119: =OFFSET(equations!$B$447,data!A119,data!$B$7-1) -> Min % Turndown to | E119: =C119*100 -> #VALUE!
A120: 6 | B120: Min Permissible % Turndown to | C120: =OFFSET(equations!$B$447,data!A120,data!$B$7-1) -> Min Permissible % Turndown to
A121: 7 | B121: Max Static Pressure (Pa) | C121: =OFFSET(equations!$B$447,data!A121,data!$B$7-1) -> Max Static Pressure (Pa) | D121: =equations!$J$9 -> Pa | E121: =C121&" "&D121 -> Max Static Pressure (Pa) Pa
A122: 8 | B122: Max Total Pressure (Pa) | C122: =OFFSET(equations!$B$447,data!A122,data!$B$7-1) -> Max Total Pressure (Pa) | D122: =equations!$J$9 -> Pa | E122: =C122&" "&D122 -> Max Total Pressure (Pa) Pa
A123: 9 | B123: Max Permissible Pressure (Pa) | C123: =OFFSET(equations!$B$447,data!A123,data!$B$7-1) -> Max Permissible Pressure (Pa) | D123: =equations!$J$9 -> Pa | E123: =C123&" "&D123 -> Max Permissible Pressure (Pa) Pa
A124: 10 | B124: Sound Power Level (dBA) | C124: =OFFSET(equations!$B$447,data!A124,data!$B$7-1) -> Sound Power Level (dBA) | D124: =equations!$V$9 -> db(A)/m | E124: =C124&" "&D124 -> Sound Power Level (dBA) db(A)/m
...

Sheet Selection Summary & Print
B1: LJC-AD Performance Calculator Summary | H1: LJC-AD Performance Calculator Summary
A3: Project | B3: ='LJC-AD'!D5 -> <Project Name> | G3: Direction Adjustment | H3: =data!$B$232 -> Manual adjustment
A4: Diffuser Location | B4: <Name> | H4: =data!$B$233
A5: Consultant | B5: <Name>
G6: Description | H6: =data!B302 -> LJC-AD (supply air)
A7: Product | B7: =data!C99 -> SMARTEMP LJC-AD | H7: =data!B303 -> 1200 mm neck length; (number of slots not selected)
B8: Linear Multi-Jet Adjustable Diffuser | H8: =data!C304 -> 2-way blow
A9: Size | B9: =data!B108 -> 1200 mm neck length × please select number of slots | H9: =data!B306 -> profile powder coated to RAL9003 with black barrels
A10: Discharge Pattern | B10: =data!B109 -> 2-way blow | H10: =data!B307 -> with side flanges
A11: Diffuser Location | B11: =data!B110 -> Closed Ceiling | H11: =data!B308 -> with two end flanges
H12: =data!B309 -> fixing by others; without accessories
A13: =data!A159 -> Summary | H13: =data!B310 -> no connection box
A14: Selected Airflow | B14: =data!B160 -> Selected Airflow [L/s] L/s/m @ Max Total Pressure (Pa) Pa total (Max Static Pressure (Pa) Pa static)
A15: Min Selected Airflow (Supply) | B15: =data!B161 -> #VALUE!
A16: Max Recommended Heating ΔT | B16: =data!B164 -> +Centre Zones with Direction 'A' K for centre zones; +Perimeter Zones with Direction 'A' K for perimeter zones (pattern 'Air Pattern Setting')
A18: Acoustic Performance | G18: Order Code (select to copy) | H18: =_product_code -> Please select length and number of slots
A19: Sound Power Level | B19: =data!B170 -> Sound Power Level (dBA) db(A)/m
A20: Sound Pressure Level ^ | B20: =data!B171 -> Sound Pressure Level (NC) NC/m | D20: ^ based on 10dB room absorption | G20: Recommended Control Curve (for electric actuator 2-10V)
A21: =data!A172 -> Recommended Connection Box Spigot Diameter per 1200 mm length | B21: =data!B172 -> Nominal Spigot Size / 1200 mm mm
A25: =data!B213
A26: =data!B217
A30: =data!A174 -> Comfort Performance
A31: ADPI | B31: =data!B175 -> #VALUE!
A32: Mean Room Air Velocity | B32: =data!B176 -> Mean Room Air V m/s
A33: Mean Draught Rating | B33: =data!B177 -> #VALUE!
A34: Mean PPD | B34: =data!B178 -> #VALUE!
A35: Satisfies PPD (ISO7730) | B35: =data!B179 -> Category PPD Class
A36: Mean PMV * | B36: =data!B180 -> -PMV < PMV < +PMV
A37: * ISO7730; ASHRAE Std 55
F51: ='LJC-AD'!X7 -> v 3.3 [02/2025]
M52: ='LJC-AD'!X7 -> v 3.3 [02/2025]

Sheet Notes
D2: SMARTEMP PRODUCT SELECTION CALCULATOR
D3: Linear Multi-Jet Ceiling Diffuser [LJC-AD] Notes
C6: NOTES
C7: ΔT -ve denotes cooling | F7: ΔT +ve denotes heating
C8: Pressure is inclusive of side-entry connection box pressure loss.
C9: Centreline distance is the spacing between two 2-way blow diffuser rows. Halve this value for throw to walls or maximum throw of a 1-way diffuser. Refer to Diffuser Location notes below.
C10: Select desired comfort level (ADPI setting) to determine minimum and maximum spacing or throw (centreline distances) and minimum discharge height.
C12: NOISE AND ACOUSTIC
C13: Sound Pressure Level [NC] is an estimate for a single diffuser only located at 2.7 to 3.0 m height in a 70 m3 space (typical office) with 10 dB(A) room absorption that is uniformly distributed, measured 2.1 m from the diffuser. Sound Pressure Level is provided as a guide only for a standard, carpeted single office with acoustic ceiling. An acoustical engineer should be consulted for detailed calculations, especially for applications with more than one diffuser or where hard surfaces are involved.
C16: Adjustments to Noise Levels (Row 52 & 53)
C17: Length | E17: =equations!B10 -> [m] | F17: =equations!A548 -> 0.5 | G17: =equations!B548 -> 1 | H17: =equations!C548 -> 2 | I17: =equations!D548 -> 3 | J17: =equations!E548 -> 4 | K17: =equations!F548 -> 5 | L17: =equations!G548 -> 6
C18: SWL adjustment | E18: [db(A)] | F18: =equations!A549 -> -3 | G18: =equations!B549 -> 0 | H18: =equations!C549 -> 3 | I18: =equations!D549 -> 4.8 | J18: =equations!E549 -> 6 | K18: =equations!F549 -> 7 | L18: =equations!G549 -> 7.8
C19: SPL adjustment | E19: [NC]
C21: DIFFUSER AS RETURN AIR (R/A) INLET
C22: 1. Use setting 'C' for R/A.
C23: 2. R/A diffuser pressure loss is up to 25% greater than supply air static pressure.
C24: 3. R/A diffuser sound power level is up to 3 db(A) greater than the supply air sound power level.
C25: 4. R/A boosted: If three out of every four barrels are removed, then R/A airflow may be doubled without exceeding the above stated pressure loss and sound power levels.
C27: ACTIVE LENGTH RATIO
C29: Active Length Ratio = LA / L | F29: where: | G29: LA = ∑ LA,i | H29: and
G30: LA ≥ 0.1 ∙ L
C31: Refer to Figure (right) for description of lengths 'L' and 'LA'
G32: e.g. Active Length Ratio | H32: = (1.2+1.2)/4.8
H33: = 0.5
C36: LAYOUT/COVERAGE DISTANCE
E38: For 2-Way Discharge | L38: For 1-Way Discharge
C68: PRE-OCCUPANCY WARM-UP BOOST
C69: For warm-up from a low night setback temperature (cell L27), especially where high infiltration heat loss occurs (e.g. lobbies), consider introducing a Pre-Occupancy Warm-Up Boost mode that increases diffuser airflow by the Airflow Boost Factor (row 61) and pressure by the Pressure Boost Factor (row 74) during pre-occupancy warm-up only. This is typically achieved by either:
C71: 1. | D71: Speeding up the supply fan to increase total airflow by the Airflow Boost Factor (row 74); or
C72: 2. | D72: By not increasing total airflow, but instead only supplying air to the percentage of Diffusers Active During Warm-Up Boost (row 76), typically achieved by having motorised dampers (by others) shut off airflow to the remaining diffusers (typically to a duct run of diffusers). Round up/down the percentage to avoid fractions of diffusers to which airflow is to be shut-off. Minimise motorised dampers by grouping diffusers to be shut-off onto common ducts. Refer to example below.
C75: Pre-Occupancy Warm-Up is to be deactivated when room temperature setpoint is achieved, and is to remain deactivated until the next warm-up cycle is initiated.
C76: Example of Option 2, above:
C77: Selected Airflow | F77: 110 L/s @ 13.6 Pa static
C78: Room Temperature Setpoint | F78: 22°C
C79: Night Setback Temperature | F79: 16°C
C80: Results: | I80: Explanation:
C81: Row 59 | D81: Thermal Element Setting | H81: 27°C | I81: - Supply air to be greater than or equal to 27 °C, otherwise the guide-ring will retract and prevent heat project to the floor.
C82: Row 60 | D82: Warm-Up Max Boost ΔT | H82: 11.3 K
C83: Row 61 | D83: Warm-Up Airflow Boost Factor | H83: 1.43 | I83: - Boosted Airflow per diffuser: 1.43 × 110 L/s = 157 L/s
C84: Row 62 | D84: Warm-Up Pressure Boost Factor | H84: 2.05 | I84: - Pressure required to achieve Boosted Airflow: 2.05 × 13.6 = 27.9 Pa
C85: Row 63 | D85: Diffusers Active During Warm-Up Boost | H85: 0.7 | I85: - Boost airflow by supplying the fixed total airflow only to the percentage of Diffusers Active During Warm-Up (70%), achieved by shutting off airflow, via motorised dampers, to the remaining diffusers (i.e. 30%).
C88: AIR DIRECTION SETTINGS
C90: A | D90: 0⁰ to -15⁰ discharge to the horizontal
C91: B | D91: 0⁰ to -30⁰ discharge to the horizontal
C92: C | D92: ≈ -45⁰ discharge to the horizontal
C93: D | D93: ≈ -60⁰ discharge to the horizontal
C94: E | D94: vertical discharge
C96: DEFAULT VALUES
C97: The default expression is entered as a formula.
C98: Field | G98: Default Value (SI) (L/s/m) | I98: Default Value (SI) (m3/h/m) | K98: Default Value (I-P) (ft³/min/ft) | M98: Default Expression | O98: e.g.
C99: ='LJC-AD'!D9 -> Maximum Airflow Rate | G99: 100 | I99: 360 | K99: 220 | M99: _defaultAirflow | O99: Maximum Airflow Rate | Q99: =_defaultAirflow
C100: ='LJC-AD'!D11 -> VAV (turndown to) | G100: 100 | I100: 100 | K100: 100 | M100: _defaultVAV
C101: ='LJC-AD'!D13 -> Maximum Permissible Static Pressure | G101: 30 | I101: 30 | K101: 0.121 | M101: _defaultPressure
C102: ='LJC-AD'!D15 -> ΔT (cooling) | G102: -12 | I102: -12 | K102: -22 | M102: _defaultDT
C103: ='LJC-AD'!D17 -> Diffuser Height | G103: 3.2 | I103: 3.2 | K103: 10 | M103: _defaultHeight
C104: ='LJC-AD'!D19 -> Active Length Ratio (see diagram) | G104: 0.5 | I104: 0.5 | K104: 0.5 | M104: _defaultRatio
C105: ='LJC-AD'!M9 -> Air Pattern | G105: 2-Way | I105: 2-Way | K105: 2-Way
C106: ADPI | G106: 0.9 | I106: 0.9 | K106: 0.9
C107: Diffuser Location | G107: Closed Ceiling | I107: Closed Ceiling | K107: Closed Ceiling
C108: Diffuser Coverage | G108: - | I108: - | K108: -
C109: Manual Diffuser Coverage | G109: 7 | I109: 7 | K109: 23 | M109: _defaultCoverage
C110: Specific Airflow Rate | G110: 5 | I110: 18 | K110: 1 | M110: _defaultSpecFlow
C111: Room Temperature (cooling) | G111: 23 | I111: 23 | K111: 73 | M111: _defaultTempCool
C112: Room Tempreture (heating) | G112: 21 | I112: 21 | K112: 70 | M112: _defaultTempHeat
C113: Room Temp. @ heating startup | G113: 16 | I113: 16 | K113: 61 | M113: _defaultSetback
C114: % Low Level Return (heating) | G114: 0 | I114: 0 | K114: 0 | M114: _defaultLowLevel

Sheet Diffuser Layout (not used)
D2: SMARTEMP PRODUCT SELECTION CALCULATOR
D3: Linear Multistream Ceiling Diffuser [LMC-AD] Notes
C6: Notes
C8: Total pressure is inclusive of side-entry connection box pressure loss.
C10: Centreline distance is the spacing between two 2-way blow diffuser rows. Halve this value for throw to walls or maximum throw of a 1-way diffuser. Refer to Diffuser Location notes below.
C12: Select desired comfort level (ADPI setting) to determine minimum and maximum spacing or throw (centreline distances) and minimum discharge height.
C14: Sound pressure level [NC] is valid in a standard commercial office with a 2.7 m to 3 m ceiling.
C16: Inputs
C18: Active Length Ratio = LA / L | F18: where: | G18: LA = ∑ LA,i | H18: and | O18: e.g. | Q18: Active Length Ratio | R18: = (1.2+1.2)/4.8
G19: LA ≥ 0.1 ∙ L | R19: = 0.5
G20: Refer to Fig. 1, Fig. 2 for description of lengths 'L' and 'LA'
C22: Diffuser Distance
D24: =IF(equations!B22=2,"For 2-Way Blow", "For 2-Way Blow (not selected)") -> For 2-Way Blow | F24: ='LJC-AD'!$E$9 -> 100 | G24: =equations!$F$9 -> L/s/m | P24: =IF(equations!B22=1,"For 1-Way Blow", "For 1-Way Blow (not selected)") -> For 1-Way Blow (not selected) | T24: ='LJC-AD'!$E$9 -> 100 | U24: =equations!$F$9 -> L/s/m
D30: C | E30: =ROUND('LJC-AD'!G60,1)&" ≤ C ≤ "&ROUND('LJC-AD'!#REF!,1) -> #REF!
D31: C/2 | E31: =ROUND('LJC-AD'!G60/2,1)&" ≤ Cwall ≤ "&ROUND('LJC-AD'!#REF!/2,1) -> #REF!
D32: C/4
D33: C/8
V43: ALL DIMENSIONS IN m
C44: Air Direction Settings
C46: A | D46: 0⁰ to -15⁰ discharge to the horizontal
C47: B | D47: 0⁰ to -30⁰ discharge to the horizontal
C48: C | D48: ≈ -45⁰ discharge to the horizontal
C49: D | D49: ≈ -60⁰ discharge to the horizontal
C50: E | D50: vertical discharge
C52: Sound
C53: Sound Pressure Level (NC/m) based on 10 dB room absorption

Sheet Dimensions & Connection Box
D2: SMARTEMP PRODUCT SELECTION CALCULATOR
D3: Linear Multi-Jet Ceiling Diffuser [LJC-AD] Dimensions
C6: Dimensions
W23: ="DIMENSIONS IN "&equations!R9 -> DIMENSIONS IN mm
M24: 1 Slot | N24: 2 Slots | O24: 3 Slots | P24: 4 Slots | Q24: 5 Slots | R24: 6 Slots
H25: Width Flangeless Face (Wn) | M25: =equations!F530 -> 43.5 | N25: =equations!G530 -> 85.5 | O25: =equations!H530 -> 127.5 | P25: =equations!I530 -> 169.5 | Q25: =equations!J530 -> 211.5 | R25: =equations!K530 -> 253.5 | S25: =equations!$R$9 -> mm
H26: Width Flanged Face (Wf) | M26: =equations!F531 -> 72 | N26: =equations!G531 -> 114 | O26: =equations!H531 -> 156 | P26: =equations!I531 -> 198 | Q26: =equations!J531 -> 240 | R26: =equations!K531 -> 282 | S26: =equations!$R$9 -> mm
H27: Width of Diffuser Throat (Wt) | M27: =equations!F532 -> 38 | N27: =equations!G532 -> 80 | O27: =equations!H532 -> 122 | P27: =equations!I532 -> 164 | Q27: =equations!J532 -> 206 | R27: =equations!K532 -> 248 | S27: =equations!$R$9 -> mm
H28: Recommended Internal Plenum Height A * | M28: =equations!F533 -> D + 76 | S28: =equations!$R$9 -> mm
H29: Recommended Internal Plenum Width B * | M29: =equations!C537 -> 63 | N29: =equations!G534 -> 135.5 | O29: =equations!H534 -> 177.5 | P29: =equations!I534 -> 219.5 | Q29: =equations!J534 -> 261.5 | R29: =equations!K534 -> 303.5 | S29: =equations!$R$9 -> mm
H30: Recommended Spigot Dimension D * per 1 m length | U30: mm
H31: Recommended Spigot Dimension D * per 1.2 m length | U31: mm
H32: Recommended Spigot Dimension D * per 1.5 m length | U32: mm
L33: * | M33: Plenum box dimensions are for internal dimensions (excludes insulation and acoustic lining)
L34: * | M34: Check exact dimensions with local supplier

Sheet diagrams

Sheet charts
A2: Electric and Thermal Actuators available for 2+ slots only
A3: Control Curve N/A for return air inlet
A4: ="Recommended Actuator Control for " & data!C7&" slot at Max Airflow at " & B4 -> Recommended Actuator Control for 0 slot at Max Airflow at 2.7 m | B4: =equations!B20&" "&equations!C20 -> 2.7 m
