Workbook
Name _control_diagram: IF(data!$C$29,IF(data!$C$7>1,charts!$A$1,charts!$A$2),charts!$A$3)
Name _defaultADPI: data!$E$247
Name _defaultAirflow: data!$E$241
Name _defaultCoverage: data!$E$248
Name _defaultDT: data!$E$244
Name _defaultHeight: data!$E$245
Name _defaultInput: data!$E$241:$E$253
Name _defaultLowLevel: data!$E$253
Name _defaultPressure: data!$E$243
Name _defaultRatio: data!$E$246
Name _defaultSetback: data!$E$252
Name _defaultSpecFlow: data!$E$249
Name _defaultTempCool: data!$E$250
Name _defaultTempHeat: data!$E$251
Name _defaultVAV: data!$E$242
Name _getDirectionDiagram: IF('LJC-AD'!$G$54="A",diagrams!$D$12,IF('LJC-AD'!$G$54="B",diagrams!$D$13,diagrams!$D$14))
Name _product_code: data!$B$99
Name adpi.: data!$A$2:$A$5
Name getCdiagram: IF(equations!$B$45=2,diagrams!$B$10,diagrams!$B$11)
Name getImage: IF('LJC-AD'!$E$19<0.4,diagrams!$A$1,IF('LJC-AD'!$E$19<0.65,diagrams!$A$2,IF('LJC-AD'!$E$19<1,diagrams!$A$3,diagrams!$A$4)))
Name getLayout: IF(equations!$B$22=2,diagrams!$A$6,diagrams!$A$7)

Sheet LJC-AD
D2: SMARTEMP PRODUCT SELECTION CALCULATOR
D3: Linear Multi-Jet Ceiling Diffuser [LJC-AD]
C5: Project: | D5: <Project Name>
D7: Inputs | L7: Detailed Selection | X7: v 3.3 [02/2025]
D9: Maximum Airflow Rate | E9: =_defaultAirflow -> 100 | F9: L/s/m | G9: m3/h/m | H9: ft³/min/ft | M9: Air Pattern | N9: 2-Way | O9: 1-Way
D11: VAV (turndown to) | E11: 100 | F11: % | G11: 10% to 100% (use 100% for CAV) | L11: Draught Rating & Comfort | Y11: Specific Airflow Rate (heating) | Z11: 5 | AA11: L/s/m2 | AB11: 2 to 10 L/s/m2 (default 5 L/s/m2)
D13: Maximum Permissible Static Pressure | E13: =_defaultPressure -> 30 | F13: =equations!J9 -> Pa | G13: =data!B270 -> default 30 Pa | M13: ADPI ≥ | N13: 0.9 | P13: default ≥ 90%
D15: ΔT (cooling) | E15: =_defaultDT -> -12 | F15: =equations!O9 -> K | G15: =data!B271 -> 0K to -16K (default -12K) | M15: Diffuser Location | N15: Closed Ceiling | P15: Freely Suspended
D17: Diffuser Height | E17: =_defaultHeight -> 2.7 | F17: =equations!$B$9 -> m | G17: =data!B272 -> 2 m to 10 m (heating and cooling) | L17: Diffuser Coverage = Average (Max, Min) 'C' Distance | P17: see Distance section in Results (Row 60:62)
G18: =data!B273 -> 2 m to 15 m (cooling only) | L18: OR | N18: =data!B274 -> nominal distance = 9.9 m
D19: Active Length Ratio (see diagram) | E19: =_defaultRatio -> 0.5 | F19: * | G19: 0.1 to 1.0 (default 0.5) | M19: Manual Diffuser Coverage | N19: =_defaultCoverage -> 7 | O19: =equations!B9 -> m | P19: see 'C' in diagram below
L20: OR | N20: =data!B275 -> average specific flow rate: 5.03 L/s/m²
M21: Specific Airflow Rate | N21: =_defaultSpecFlow -> 5 | O21: =equations!H9 -> L/s/m² | P21: =data!B276 -> ≤ 30 L/s/m²
N22: =data!B277 -> average diffuser coverage: 10 m
M23: Room Temperature (cooling) | N23: =_defaultTempCool -> 23 | O23: =equations!L9 -> °C | P23: =data!B278 -> 20 °C to 26 °C (for draught rating)
L25: Heating
M27: Room Temperature (heating) | N27: =_defaultTempHeat -> 21 | O27: =equations!$L$9 -> °C | P27: check for manual input
N28: =data!B279 -> auto room temp. (heating) = 21 °C
M29: Room Temp. @ heating startup | N29: =_defaultSetback -> 16 | O29: =equations!$L$9 -> °C | P29: =data!B280 -> night setback temperature default (16 °C)
D31: Spigot Size | E31: ASNZ Sizes (DN150; DN200; DN250; DN300; DN350) | M31: % Low Level Return (heating) | N31: =_defaultLowLevel -> 0 | O31: % | P31: 0% to 100% (default 0%)
E32: DIN Sizes (DN160; DN200; DN250; DN315; DN355)
C33: See 'Notes' for resetting to default values
C34: Related Products | M34: Thermal Comfort Guide
C35: Smartemp LMC-AD: | D35: for an identical look with slimmer profile; manual adjustment only | M35: ADPI ≥ 95%; ṽ ≤ 0.20 m/s: | N35: Premium comfort, sedentary activity, such as in auditoria.
C36: Smartemp LDB 12: | D36: engineered by LTG for an ultra-slim look | M36: ADPI ≥ 90%; ṽ ≤ 0.25 m/s: | N36: High comfort near-sedentary activity, such as in board rooms, high end offices and libraries.
C37: Smartemp LDB 12 Clean: | D37: engineered by LTG with SystemClean™ for minimal ceiling smudging and diffuser condensation | M37: ADPI ≥ 80%; ṽ ≤ 0.29 m/s: | N37: Good comfort near sedentary activity, such as open-plan offices and meeting rooms.
C38: Smartemp LDB 50 Maxx: | D38: engineered by LTG for high flow rates | M38: ADPI ≥ 70%; ṽ ≤ 0.33 m/s: | N38: Standard comfort medium activity, such as in transient spaces, retail and lobbies.
C39: Smartemp LJW-AD: | D39: for a wall-mounted solution; also available with electric and thermal actuator
C42: Results | D42: SMARTEMP LJC-AD | G42: 1 Slot | H42: 2 Slots | I42: 3 Slots | J42: 4 Slots | K42: 5 Slots | L42: 6 Slots | M42: Key: | N42: Suitable | O42: Not Suitable | P42: Warning
C43: Airflow | D43: Selected Airflow Rate | F43: =equations!$F$10 -> [L/s/m] | G43: =equations!B448 -> 100 | H43: =equations!C448 -> 100 | I43: =equations!D448 -> 100 | J43: =equations!E448 -> 100 | K43: =equations!F448 -> 100 | L43: =equations!G448 -> 100 | N43: * Refer to 'Notes' worksheet for definitions and details
D44: Airflow @ Max Static Pressure | F44: =equations!$F$10 -> [L/s/m] | G44: =equations!B449 -> 53 | H44: =equations!C449 -> 108 | I44: =equations!D449 -> 164 | J44: =equations!E449 -> 228 | K44: =equations!F449 -> 283 | L44: =equations!G449 -> 339 | N44: ** Refer to 'Dimensions & Connection Box' worksheet for details
D45: Min Selected Airflow | F45: =equations!$F$10 -> [L/s/m] | G45: =equations!B450 -> 100 | H45: =equations!C450 -> 100 | I45: =equations!D450 -> 100 | J45: =equations!E450 -> 100 | K45: =equations!F450 -> 100 | L45: =equations!G450 -> 100
D46: =equations!A451 -> Min Permissible Airflow @ ΔT = -12K | F46: =equations!$F$10 -> [L/s/m] | G46: =equations!B451 -> 13.6 | H46: =equations!C451 -> 28.8 | I46: =equations!D451 -> 43.6 | J46: =equations!E451 -> 58.1 | K46: =equations!F451 -> 73.3 | L46: =equations!G451 -> 88.9
D47: Min % Turndown to | G47: =equations!B452 -> 1 | H47: =equations!C452 -> 1 | I47: =equations!D452 -> 1 | J47: =equations!E452 -> 1 | K47: =equations!F452 -> 1 | L47: =equations!G452 -> 1
D48: Min Permissible % Turndown to | G48: =equations!B453 -> 0.14 | H48: =equations!C453 -> 0.29 | I48: =equations!D453 -> 0.44 | J48: =equations!E453 -> 0.58 | K48: =equations!F453 -> 0.73 | L48: =equations!G453 -> 0.89
C49: Pressure* | D49: Static Pressure @ 100% Airflow | F49: =equations!$J$10 -> [Pa] | G49: =equations!B454 -> 107.8 | H49: =equations!C454 -> 25.9 | I49: =equations!D454 -> 11.2 | J49: =equations!E454 -> 5.8 | K49: =equations!F454 -> < 5 | L49: =equations!G454 -> < 5 | M49: * Values valid for diffuser including side-entry connection box with round spigot (refer to 'Dimensions & Connection Box' sheet for details
D50: Total Pressure @ 100% Airflow | F50: =equations!$J$10 -> [Pa] | G50: =equations!B455 -> 127 | H50: =equations!C455 -> 28.4 | I50: =equations!D455 -> 12.4 | J50: =equations!E455 -> 7 | K50: =equations!F455 -> < 5 | L50: =equations!G455 -> < 5
D51: Max Selected Total Pressure | F51: =equations!$J$10 -> [Pa] | G51: =equations!B456 -> 30 | H51: =equations!C456 -> 30 | I51: =equations!D456 -> 30 | J51: =equations!E456 -> 30 | K51: =equations!F456 -> 30 | L51: =equations!G456 -> 30
C52: Acoustics | D52: Sound Power Level | F52: =equations!V10 -> [db(A)/m] | G52: =equations!B457 -> 44.9 | H52: =equations!C457 -> 36.9 | I52: =equations!D457 -> 29.2 | J52: =equations!E457 -> 21.2 | K52: =equations!F457 -> 16.9 | L52: =equations!G457 -> < 15 | M52: - see 'Notes' for Sound Power/Pressure Level adjustment for other lengths
D53: Sound Pressure Level * | F53: =equations!W10 -> [NC/m] | G53: =equations!B458 -> 29.9 | H53: =equations!C458 -> 21.9 | I53: =equations!D458 -> 14.2 | J53: =equations!E458 -> < 10 | K53: =equations!F458 -> < 10 | L53: =equations!G458 -> < 10 | M53: * Based on 10 dB room absorption (refer to 'Notes' sheet for details)
...

Sheet equations
A1: Units
B3: Length | D3: Flow rate | F3: Flow rate/unit length | H3: Specific Flow rate | J3: Pressure | L3: temperature | O3: Delta T | R3: Length | T3: velocity | V3: acoustic
A4: Selection | B4: Unit | C4: conv to SI | D4: Unit | E4: conv to SI | F4: Unit | G4: conv to SI | H4: Unit | I4: conv to SI | J4: Unit | K4: conv to SI | L4: Unit | N4: conv to SI | O4: Unit | Q4: conv to SI | R4: Unit | S4: conv to SI | T4: Unit | U4: conv to SI | X4: db(A) (addition)
A5: 1 | B5: m | C5: 1 | D5: L/s | E5: 1 | F5: L/s/m | G5: 1 | H5: L/s/m² | I5: 1 | J5: Pa | K5: 1 | L5: °C | M5: C | N5: FALSE | O5: K | P5: 1 | Q5: FALSE | R5: mm | S5: 1 | T5: m/s | U5: 1 | V5: db(A)/m | W5: NC/m | X5: 0
A6: 2 | B6: m | C6: 1 | D6: m³/h | E6: =1/3.6 -> 0.27777778 | F6: m³/h/m | G6: =1/3.6 -> 0.27777778 | H6: m³/h/m² | I6: =1/3.6 -> 0.27777778 | J6: Pa | K6: 1 | L6: °C | M6: C | N6: FALSE | O6: K | P6: 1 | Q6: FALSE | R6: mm | S6: 1 | T6: m/s | U6: 1 | V6: db(A)/m | W6: NC/m | X6: 0
A7: 3 | B7: ft | C7: =1/3.28084 -> 0.30479999 | D7: ft³/min | E7: 0.47194745 | F7: ft³/min/ft | G7: 1.5483841 | H7: ft³/min/ft² | I7: 5.0800004 | J7: inH₂O | K7: 248.84 | L7: °F | M7: F | N7: TRUE | O7: ∆°F | P7: =5/9 -> 0.55555556 | Q7: TRUE | R7: in | S7: 25.4 | T7: ft/s | U7: 0.30479999 | V7: db(A)/4ft | W7: NC/4ft | X7: =10*LOG(4*C7/1) -> 0.8607494
A8: Units | B8: 1
A9: Units Multiplier | B9: {=VLOOKUP(B8,$A$5:$X$7,{2,3,4,5,6,7,8,9,10,11,12,13,14,15,16,17,18,19,20,21,22,23,24},0)} -> m | C9: 1 | D9: L/s | E9: 1 | F9: L/s/m | G9: 1 | H9: L/s/m² | I9: 1 | J9: Pa | K9: 1 | L9: °C | M9: C | N9: FALSE | O9: K | P9: 1 | Q9: FALSE | R9: mm | S9: 1 | T9: m/s | U9: 1 | V9: db(A)/m | W9: NC/m | X9: 0
A10: Formatting | B10: ="["&B9&"]" -> [m] | C10: =B5&"/"&B9 -> m/m | D10: ="["&D9&"]" -> [L/s] | E10: =D5&"/"&D9 -> L/s/L/s | F10: ="["&F9&"]" -> [L/s/m] | G10: =F5&"/"&F9 -> L/s/m/L/s/m | H10: ="["&H9&"]" -> [L/s/m²] | I10: =H5&"/"&H9 -> L/s/m²/L/s/m² | J10: ="["&J9&"]" -> [Pa] | K10: =J5&"/"&J9 -> Pa/Pa | L10: ="["&L9&"]" -> [°C] | M10: =L5&"/"&L9 -> °C/°C | O10: ="["&O9&"]" -> [K] | P10: =O5&"/"&O9 -> K/K | R10: ="["&R9&"]" -> [mm] | S10: =R5&"/"&R9 -> mm/mm | T10: ="["&T9&"]" -> [m/s] | U10: =T5&"/"&T9 -> m/s/m/s | V10: ="["&V9&"]" -> [db(A)/m] | W10: ="["&W9&"]" -> [NC/m] | X10: =W5&"/"&W9 -> NC/m/NC/m
A11: Want
A14: Input Values
A16: Airflow Rate | B16: ='LJC-AD'!E9 -> 100 | C16: =F9 -> L/s/m
A17: VAV | B17: ='LJC-AD'!E11 -> 100
A18: Max Total Pressure | B18: ='LJC-AD'!E13 -> 30 | C18: =$J$9 -> Pa
A19: dT(cooling) | B19: ='LJC-AD'!E15 -> -12 | C19: =$L$9 -> °C
A20: Room Height | B20: ='LJC-AD'!E17 -> 2.7 | C20: =B9 -> m
A21: Length Ratio | B21: ='LJC-AD'!E19 -> 0.5
A22: Air Pattern | B22: 2
A23: Specific airflow | B23: ='LJC-AD'!N21 -> 5 | C23: =H9 -> L/s/m²
A24: ADPI | B24: ='LJC-AD'!N13 -> 0.9
A25: LRA | B25: ='LJC-AD'!N31 -> 0
A26: Ceiling | B26: 1
A27: Manual C distance | B27: ='LJC-AD'!N19 -> 7 | C27: =B9 -> m
A28: distance input type | B28: 1
A29: dT (Heating) | B29: 12 | C29: K
A30: Room Temperature (cooling) | B30: ='LJC-AD'!N23 -> 23 | C30: =$L$9 -> °C
A31: Manual Supply Heating DT | B31: FALSE
A32: Manual Heating Temp | B32: FALSE
A33: Room Temp (heating) | B33: ='LJC-AD'!N27 -> 21 | C33: =$L$9 -> °C
A34: T night setback | B34: ='LJC-AD'!N29 -> 16 | C34: =$L$9 -> °C
A36: Input Validation and Conversion
A38: Airflow Rate | B38: =B16*$E$9 -> 100 | C38: L/s/m
A39: VAV | B39: =B17/100 -> 1
A40: Airflow Rate (TD) | B40: =B38*B39 -> 100
A41: Max Total Pressure | B41: =B18*K9 -> 30 | C41: Pa
A42: dT(cooling) | B42: =ABS(B19*P9) -> 12 | C42: C
A43: Diffuser Height | B43: =B20*C9 -> 2.7 | C43: m
A44: Length Ratio | B44: =B21 -> 0.5
A45: Air Pattern | B45: =B22 -> 2
A47: ADPI | B47: =B24 -> 0.9
...

Sheet data
A1: ADPI
A2: 0.95 | B2: 0.2
A3: 0.9 | B3: 0.25
A4: 0.8 | B4: 0.29
A5: 0.7 | B5: 0.33
A7: nslots | B7: 0 | C7: =IF($B$7=7,"<slots>",$B$7) -> 0
C9: code | D9: type | E9: display | F9: note
A10: Length | B10: 1 | C10: =IF(equations!$B$8=3,data!D19,data!D16) -> N1200 | D10: =IF(equations!$B$8=3,data!E19,data!E16) -> Neck | E10: =IF(equations!$B$8=3,data!F19,data!F16) -> 1200* mm (neck) | F10: =IF(equations!$B$8=3,data!G19,data!G16) -> 1200 mm neck length
B11: 2 | C11: =IF(equations!$B$8=3,data!D20,data!D17) -> F1195 | D11: =IF(equations!$B$8=3,data!E20,data!E17) -> Face | E11: =IF(equations!$B$8=3,data!F20,data!F17) -> 1195 mm (face) | F11: =IF(equations!$B$8=3,data!G20,data!G17) -> 1195 mm face length
B12: 3 | C12: =IF(equations!$B$8=3,data!D21,data!D18) -> <length> | D12: =IF(equations!$B$8=3,data!E21,data!E18) -> neck length | E12: =IF(equations!$B$8=3,data!F21,data!F18) -> custom^ ≤ 1200 mm (neck) | F12: =IF(equations!$B$8=3,data!G21,data!G18) -> custom neck length
B13: 1 | C13: {=VLOOKUP(B13,$B$10:$F$12,{2,3,4,5},0)} -> N1200 | D13: Neck | E13: 1200* mm (neck) | F13: 1200 mm neck length
C15: Options | D15: Code | E15: Type | F15: Display | G15: Note
C16: 1 | D16: N1200 | E16: Neck | F16: 1200* mm (neck) | G16: 1200 mm neck length
C17: 2 | D17: F1195 | E17: Face | F17: 1195 mm (face) | G17: 1195 mm face length
C18: 3 | D18: <length> | E18: neck length | F18: custom^ ≤ 1200 mm (neck) | G18: custom neck length
C19: 1 | D19: N4' | E19: Neck | F19: 4 ft.* (neck) | G19: 4 ft. neck length
C20: 2 | D20: F3'11.8 | E20: Face | F20: 3 ft. 11.8 in. (face) | G20: 3 ft. 11.8 in. face length
C21: 3 | D21: <length> | E21: neck length | F21: custom^ ≤ 4 ft (neck) | G21: custom neck length
A24: Supply Return | C24: Code | D24: Description | E24: Comment
B25: 1 | C25: AD | D25: supply | E25: see 'Notes' Row 16 for performance adjustments as a return air inlet | F25: LJC-AD (supply air)
B26: 2 | C26: RA | D26: return air | F26: LJC-RA (return air)
B27: 3 | C27: RA2 | D27: return air 2 | F27: LJC-RA2 (return air boosted)
B28: 1 | C28: {=VLOOKUP($B$28,$B$25:$F$27,{2,3,4,5},0)} -> AD | D28: supply | E28: see 'Notes' Row 16 for performance adjustments as a return air inlet | F28: LJC-AD (supply air)
B29: Supply Air Selected | C29: =B28=1 -> TRUE
A31: Air Pattern | B31: =equations!B45 -> 2
A33: Colour | B33: =IF(C33=1,"RAL9003",IF(C33=2,"RAL9005","<colour>")) -> RAL9003 | C33: 1 | D33: ='LJC-AD'!$I$87 -> RAL9005 (jet black)
A34: Barrel | B34: =IF(C34=1,"B","W") -> B | C34: 1
A36: Air Direction | B36: 1 | C36: 2 | D36: 3 | E36: 4 | F36: 5 | G36: 6 | H36: 7
A37: 1way text | B37: recommended | C37: AB | D37: AC | E37: BC | F37: BD | G37: EE (vertical) | H37: custom
A38: 2way text | B38: recommended | C38: A (0 to -15°) | D38: B (0 to -30°) | E38: C (≈ -45°) | F38: D (≈ -60°) | G38: E (vertical) | H38: custom
A39: =IF($B$31=2,A38,A37) -> 2way text | B39: =IF($B$31=2,B38,B37) -> recommended | C39: =IF($B$31=2,C38,C37) -> A (0 to -15°) | D39: =IF($B$31=2,D38,D37) -> B (0 to -30°) | E39: =IF($B$31=2,E38,E37) -> C (≈ -45°) | F39: =IF($B$31=2,F38,F37) -> D (≈ -60°) | G39: =IF($B$31=2,G38,G37) -> E (vertical) | H39: =IF($B$31=2,H38,H37) -> custom
A40: 1way code | C40: =C37 -> AB | D40: =D37 -> AC | E40: =E37 -> BC | F40: =F37 -> BD | G40: EE | H40: <direction>
A41: 2way code | C41: A | D41: B | E41: C | F41: D | G41: E | H41: <direction>
A42: Result | B42: =C126 -> Air Pattern Setting | C42: =IF($B$31=1,C40,C41) -> A | D42: =IF($B$31=1,D40,D41) -> B | E42: =IF($B$31=1,E40,E41) -> C | F42: =IF($B$31=1,F40,F41) -> D | G42: =IF($B$31=1,G40,G41) -> E | H42: <direction>
A43: Air Direction | B43: =IF($C$29,IF(C43=1,B42,HLOOKUP(C43,C36:H42,7,0)),"C") -> Air Pattern Setting | C43: 1
A45: Adjustment Type
A46: Shading | B46: M | C46: T | D46: E
C47: =IF($C$114<=1, 1,0) -> 0 | D47: =IF($C$114<=1, 1,0) -> 0
A48: Slots
C49: Code | D49: Description | E49: Comment | F49: Note type 2
...

Sheet Selection Summary & Print
B1: LJC-AD Performance Calculator Summary | H1: LJC-AD Performance Calculator Summary
A3: Project | B3: ='LJC-AD'!D5 -> <Project Name> | G3: Direction Adjustment | H3: =data!$B$232 -> Manual adjustment
A4: Diffuser Location | B4: <Name> | H4: =data!$B$233
A5: Consultant | B5: <Name>
G6: Description | H6: =data!B302 -> LJC-AD (supply air)
A7: Product | B7: =data!C99 -> SMARTEMP LJC-AD | H7: =data!B303 -> 1200 mm neck length; (number of slots not selected)
B8: Linear Multi-Jet Adjustable Diffuser | H8: =data!C304 -> 2-way blow
A9: Size | B9: =data!B108 -> 1200 mm neck length × please select number of slots | H9: =data!B306 -> profile powder coated to RAL9003 with black barrels
A10: Discharge Pattern | B10: =data!B109 -> 2-way blow | H10: =data!B307 -> with side flanges
A11: Diffuser Location | B11: =data!B110 -> Closed Ceiling | H11: =data!B308 -> with two end flanges
H12: =data!B309 -> fixing by others; without accessories
A13: =data!A159 -> Summary | H13: =data!B310 -> no connection box
A14: Selected Airflow | B14: =data!B160 -> Selected Airflow [L/s] L/s/m @ Max Total Pressure (Pa) Pa total (Max Static Pressure (Pa) Pa static)
A15: Min Selected Airflow (Supply) | B15: =data!B161 -> #VALUE!
A16: Max Recommended Heating ΔT | B16: =data!B164 -> +Centre Zones with Direction 'A' K for centre zones; +Perimeter Zones with Direction 'A' K for perimeter zones (pattern 'Air Pattern Setting')
A18: Acoustic Performance | G18: Order Code (select to copy) | H18: =_product_code -> Please select length and number of slots
A19: Sound Power Level | B19: =data!B170 -> Sound Power Level (dBA) db(A)/m
A20: Sound Pressure Level ^ | B20: =data!B171 -> Sound Pressure Level (NC) NC/m | D20: ^ based on 10dB room absorption | G20: Recommended Control Curve (for electric actuator 2-10V)
A21: =data!A172 -> Recommended Connection Box Spigot Diameter per 1200 mm length | B21: =data!B172 -> Nominal Spigot Size / 1200 mm mm
A25: =data!B213
A26: =data!B217
A30: =data!A174 -> Comfort Performance
A31: ADPI | B31: =data!B175 -> #VALUE!
A32: Mean Room Air Velocity | B32: =data!B176 -> Mean Room Air V m/s
A33: Mean Draught Rating | B33: =data!B177 -> #VALUE!
A34: Mean PPD | B34: =data!B178 -> #VALUE!
A35: Satisfies PPD (ISO7730) | B35: =data!B179 -> Category PPD Class
A36: Mean PMV * | B36: =data!B180 -> -PMV < PMV < +PMV
A37: * ISO7730; ASHRAE Std 55
F51: ='LJC-AD'!X7 -> v 3.3 [02/2025]
M52: ='LJC-AD'!X7 -> v 3.3 [02/2025]

Sheet Notes
D2: SMARTEMP PRODUCT SELECTION CALCULATOR
D3: Linear Multi-Jet Ceiling Diffuser [LJC-AD] Notes
C6: NOTES
C7: ΔT -ve denotes cooling | F7: ΔT +ve denotes heating
C8: Pressure is inclusive of side-entry connection box pressure loss.
C9: Centreline distance is the spacing between two 2-way blow diffuser rows. Halve this value for throw to walls or maximum throw of a 1-way diffuser. Refer to Diffuser Location notes below.
C10: Select desired comfort level (ADPI setting) to determine minimum and maximum spacing or throw (centreline distances) and minimum discharge height.
C12: NOISE AND ACOUSTIC
C13: Sound Pressure Level [NC] is an estimate for a single diffuser only located at 2.7 to 3.0 m height in a 70 m3 space (typical office) with 10 dB(A) room absorption that is uniformly distributed, measured 2.1 m from the diffuser. Sound Pressure Level is provided as a guide only for a standard, carpeted single office with acoustic ceiling. An acoustical engineer should be consulted for detailed calculations, especially for applications with more than one diffuser or where hard surfaces are involved.
C16: Adjustments to Noise Levels (Row 52 & 53)
C17: Length | E17: =equations!B10 -> [m] | F17: =equations!A548 -> 0.5 | G17: =equations!B548 -> 1 | H17: =equations!C548 -> 2 | I17: =equations!D548 -> 3 | J17: =equations!E548 -> 4 | K17: =equations!F548 -> 5 | L17: =equations!G548 -> 6
C18: SWL adjustment | E18: [db(A)] | F18: =equations!A549 -> -3 | G18: =equations!B549 -> 0 | H18: =equations!C549 -> 3 | I18: =equations!D549 -> 4.8 | J18: =equations!E549 -> 6 | K18: =equations!F549 -> 7 | L18: =equations!G549 -> 7.8
C19: SPL adjustment | E19: [NC]
C21: DIFFUSER AS RETURN AIR (R/A) INLET
C22: 1. Use setting 'C' for R/A.
C23: 2. R/A diffuser pressure loss is up to 25% greater than supply air static pressure.
C24: 3. R/A diffuser sound power level is up to 3 db(A) greater than the supply air sound power level.
C25: 4. R/A boosted: If three out of every four barrels are removed, then R/A airflow may be doubled without exceeding the above stated pressure loss and sound power levels.
C27: ACTIVE LENGTH RATIO
C29: Active Length Ratio = LA / L | F29: where: | G29: LA = ∑ LA,i | H29: and
G30: LA ≥ 0.1 ∙ L
C31: Refer to Figure (right) for description of lengths 'L' and 'LA'
G32: e.g. Active Length Ratio | H32: = (1.2+1.2)/4.8
H33: = 0.5
C36: LAYOUT/COVERAGE DISTANCE
E38: For 2-Way Discharge | L38: For 1-Way Discharge
C68: PRE-OCCUPANCY WARM-UP BOOST
C69: For warm-up from a low night setback temperature (cell L27), especially where high infiltration heat loss occurs (e.g. lobbies), consider introducing a Pre-Occupancy Warm-Up Boost mode that increases diffuser airflow by the Airflow Boost Factor (row 61) and pressure by the Pressure Boost Factor (row 74) during pre-occupancy warm-up only. This is typically achieved by either:
C71: 1. | D71: Speeding up the supply fan to increase total airflow by the Airflow Boost Factor (row 74); or
C72: 2. | D72: By not increasing total airflow, but instead only supplying air to the percentage of Diffusers Active During Warm-Up Boost (row 76), typically achieved by having motorised dampers (by others) shut off airflow to the remaining diffusers (typically to a duct run of diffusers). Round up/down the percentage to avoid fractions of diffusers to which airflow is to be shut-off. Minimise motorised dampers by grouping diffusers to be shut-off onto common ducts. Refer to example below.
C75: Pre-Occupancy Warm-Up is to be deactivated when room temperature setpoint is achieved, and is to remain deactivated until the next warm-up cycle is initiated.
C76: Example of Option 2, above:
C77: Selected Airflow | F77: 110 L/s @ 13.6 Pa static
C78: Room Temperature Setpoint | F78: 22°C
C79: Night Setback Temperature | F79: 16°C
C80: Results: | I80: Explanation:
C81: Row 59 | D81: Thermal Element Setting | H81: 27°C | I81: - Supply air to be greater than or equal to 27 °C, otherwise the guide-ring will retract and prevent heat project to the floor.
C82: Row 60 | D82: Warm-Up Max Boost ΔT | H82: 11.3 K
C83: Row 61 | D83: Warm-Up Airflow Boost Factor | H83: 1.43 | I83: - Boosted Airflow per diffuser: 1.43 × 110 L/s = 157 L/s
C84: Row 62 | D84: Warm-Up Pressure Boost Factor | H84: 2.05 | I84: - Pressure required to achieve Boosted Airflow: 2.05 × 13.6 = 27.9 Pa
...

Sheet Diffuser Layout (not used)
D2: SMARTEMP PRODUCT SELECTION CALCULATOR
D3: Linear Multistream Ceiling Diffuser [LMC-AD] Notes
C6: Notes
C8: Total pressure is inclusive of side-entry connection box pressure loss.
C10: Centreline distance is the spacing between two 2-way blow diffuser rows. Halve this value for throw to walls or maximum throw of a 1-way diffuser. Refer to Diffuser Location notes below.
C12: Select desired comfort level (ADPI setting) to determine minimum and maximum spacing or throw (centreline distances) and minimum discharge height.
C14: Sound pressure level [NC] is valid in a standard commercial office with a 2.7 m to 3 m ceiling.
C16: Inputs
C18: Active Length Ratio = LA / L | F18: where: | G18: LA = ∑ LA,i | H18: and | O18: e.g. | Q18: Active Length Ratio | R18: = (1.2+1.2)/4.8
G19: LA ≥ 0.1 ∙ L | R19: = 0.5
G20: Refer to Fig. 1, Fig. 2 for description of lengths 'L' and 'LA'
C22: Diffuser Distance
D24: =IF(equations!B22=2,"For 2-Way Blow", "For 2-Way Blow (not selected)") -> For 2-Way Blow | F24: ='LJC-AD'!$E$9 -> 100 | G24: =equations!$F$9 -> L/s/m | P24: =IF(equations!B22=1,"For 1-Way Blow", "For 1-Way Blow (not selected)") -> For 1-Way Blow (not selected) | T24: ='LJC-AD'!$E$9 -> 100 | U24: =equations!$F$9 -> L/s/m
D30: C | E30: =ROUND('LJC-AD'!G60,1)&" ≤ C ≤ "&ROUND('LJC-AD'!#REF!,1) -> #REF!
D31: C/2 | E31: =ROUND('LJC-AD'!G60/2,1)&" ≤ Cwall ≤ "&ROUND('LJC-AD'!#REF!/2,1) -> #REF!
D32: C/4
D33: C/8
V43: ALL DIMENSIONS IN m
C44: Air Direction Settings
C46: A | D46: 0⁰ to -15⁰ discharge to the horizontal
C47: B | D47: 0⁰ to -30⁰ discharge to the horizontal
C48: C | D48: ≈ -45⁰ discharge to the horizontal
C49: D | D49: ≈ -60⁰ discharge to the horizontal
C50: E | D50: vertical discharge
C52: Sound
C53: Sound Pressure Level (NC/m) based on 10 dB room absorption

Sheet Dimensions & Connection Box
D2: SMARTEMP PRODUCT SELECTION CALCULATOR
D3: Linear Multi-Jet Ceiling Diffuser [LJC-AD] Dimensions
C6: Dimensions
W23: ="DIMENSIONS IN "&equations!R9 -> DIMENSIONS IN mm
M24: 1 Slot | N24: 2 Slots | O24: 3 Slots | P24: 4 Slots | Q24: 5 Slots | R24: 6 Slots
H25: Width Flangeless Face (Wn) | M25: =equations!F530 -> 43.5 | N25: =equations!G530 -> 85.5 | O25: =equations!H530 -> 127.5 | P25: =equations!I530 -> 169.5 | Q25: =equations!J530 -> 211.5 | R25: =equations!K530 -> 253.5 | S25: =equations!$R$9 -> mm
H26: Width Flanged Face (Wf) | M26: =equations!F531 -> 72 | N26: =equations!G531 -> 114 | O26: =equations!H531 -> 156 | P26: =equations!I531 -> 198 | Q26: =equations!J531 -> 240 | R26: =equations!K531 -> 282 | S26: =equations!$R$9 -> mm
H27: Width of Diffuser Throat (Wt) | M27: =equations!F532 -> 38 | N27: =equations!G532 -> 80 | O27: =equations!H532 -> 122 | P27: =equations!I532 -> 164 | Q27: =equations!J532 -> 206 | R27: =equations!K532 -> 248 | S27: =equations!$R$9 -> mm
H28: Recommended Internal Plenum Height A * | M28: =equations!F533 -> D + 76 | S28: =equations!$R$9 -> mm
H29: Recommended Internal Plenum Width B * | M29: =equations!C537 -> 63 | N29: =equations!G534 -> 135.5 | O29: =equations!H534 -> 177.5 | P29: =equations!I534 -> 219.5 | Q29: =equations!J534 -> 261.5 | R29: =equations!K534 -> 303.5 | S29: =equations!$R$9 -> mm
H30: Recommended Spigot Dimension D * per 1 m length | U30: mm
H31: Recommended Spigot Dimension D * per 1.2 m length | U31: mm
H32: Recommended Spigot Dimension D * per 1.5 m length | U32: mm
L33: * | M33: Plenum box dimensions are for internal dimensions (excludes insulation and acoustic lining)
L34: * | M34: Check exact dimensions with local supplier

Sheet diagrams

Sheet charts
A2: Electric and Thermal Actuators available for 2+ slots only
A3: Control Curve N/A for return air inlet
A4: ="Recommended Actuator Control for " & data!C7&" slot at Max Airflow at " & B4 -> Recommended Actuator Control for 0 slot at Max Airflow at 2.7 m | B4: =equations!B20&" "&equations!C20 -> 2.7 m
