Workbook
Name _order_code: [1]Data!$B$71
Name _order_code: Data!$B$71
Name adpi.: [1]Data!$A$23:$A$26
Name adpi.: Data!$A$23:$A$26
Name dischargediagram: INDEX('[1]layout diagrams'!$A$4:$A$7,MATCH('[1]layout diagrams'!$B$2,'[1]layout diagrams'!$B$4:$B$7,0),0)
Name dischargediagram: INDEX('layout diagrams'!$A$3:$A$6,MATCH('layout diagrams'!$B$1,'layout diagrams'!$B$3:$B$6,0),0)
Name dischargedirection.: [1]Data!$A$16:$A$19
Name dischargedirection.: Data!$A$16:$A$19
Name layout.: INDEX('[1]layout diagrams'!$C$8:$C$11,MATCH('[1]layout diagrams'!$B$2,'[1]layout diagrams'!$B$4:$B$7,0),0)
Name layout.: INDEX('layout diagrams'!$C$7:$C$10,MATCH('layout diagrams'!$B$1,'layout diagrams'!$B$3:$B$6,0),0)
Name necksize.: [1]Data!$A$2:$A$4
Name necksize.: Data!$A$2:$A$4

Sheet HSC-FD
D2: SMARTEMP PRODUCT SELECTION CALCULATOR
D3: Fixed Helical Swirl Diffuser [HSC-FD DN250/DN355/DN500]
C5: Project: | D5: <Project Name>
D7: Inputs | K7: Detailed Selection | U7: v 10.14 [09/2025]
D9: Maximum Airflow Rate | E9: 120 | G9: L/s | H9: m³/h | K9: Discharge Direction | M9: 4 Way (360°) | P9: =Data!C54 | V9: Specific Airflow Rate (heating) | W9: 5 | X9: L/s/m2 | Y9: 2 to 10 L/s/m2 (default 5 L/s/m2)
E10: ='HSC-FD Equations'!C8 -> = 432 | F10: ='HSC-FD Equations'!D8 -> m³/h
D11: VAV (turndown to) | E11: 100 | F11: % use 100% for CAV | L11: ADPI ≥ | M11: 0.9 | O11: default ≥ 90%
E12: ='HSC-FD Equations'!C320 -> = 120 | F12: ='HSC-FD Equations'!E3 -> L/s
D13: Maximum Permissible Static Pressure | E13: 35 | F13: Pa default 35 Pa | M13: Include perforated face | O13: only avalable for DN355; 595x595 Face (Rv5/6; 63% open area)
O14: Please contact Smartair Diffusion for custom perforations
D15: ΔT (cooling) | E15: -12 | F15: K -8 to -16 K (default -12 K) | K15: Draught Rating & Heating
F16: use -8 K for 0 K to -8 K
D17: Diffuser Height | E17: 2.7 | F17: m 2 to 5 m | M17: Average Diffuser Coverage (Rows 50-52) | O17: (see 'C' Layout Diagram below)
K18: OR | M18: ="coverage = "&ROUND('HSC-FD Equations'!C208,1) & " m" -> coverage = 7.3 m
D19: Diffuser Neck Size | E19: DN355 | F19: DN250 / DN355 / DN500 | L19: Manual Coverage Distance | M19: 8 | N19: m | O19: (see 'C' in Layout Diagram below)
K20: OR | M20: ="= specfic airflow rate: "&'HSC-FD Equations'!C206&" "&'HSC-FD Equations'!D4 -> = specfic airflow rate: 2.3 L/s/m²
C21: Diffuser as Return Air (R/A) Inlet: | L21: Max Specific Airflow Rate | M21: 15 | N21: ='HSC-FD Equations'!D4 -> L/s/m² | O21: ="≤ "&'HSC-FD Equations'!C209&" "&'HSC-FD Equations'!D4 -> ≤ 30 L/s/m²
C22: 1. R/A diffuser pressure loss to be taken as equal to supply air static pressure. | M22: ="average diffuser coverage 'C': "&ROUND('HSC-FD Equations'!C208,1) & " m" -> average diffuser coverage 'C': 7.3 m
C23: 2. R/A diffuser sound power level is up to 2 dB(A) greater than the supply air sound power level. | L23: Room Temperature (draught rating) | M23: 23 | N23: °C | O23: 20 °C to 26 °C (default 23 °C)
D25: Spigot Sizing | L25: Diffuser Location | M25: Closed Ceiling | O25: Freely Suspended (≥ 600 mm below ceiling)
D27: ASNZ Sizes (DN150; DN200; DN250; DN300; DN350; DN400) | L27: % Low Level Return (heating) | M27: 0 | O27: 0% to 100% (default 0%)
D28: DIN Sizes (DN160; DN200; DN250; DN315; DN355; DN400)
K29: Thermal Comfort Guide
C30: Related Products | K30: ADPI ≥ 95%; ṽ ≤ 0.20 m/s: | L30: Premium comfort, sedentary activity, such as in auditoria.
C31: Smartemp HSC-AD: | D31: for increased flow rates; optionally with thermal/electric adjustment | K31: ADPI ≥ 90%; ṽ ≤ 0.25 m/s: | L31: High comfort near-sedentary activity, such as in board rooms, high end offices and libraries.
C32: Smartemp LMC-AD: | D32: for a high-induction, linear-type solution | K32: ADPI ≥ 80%; ṽ ≤ 0.29 m/s: | L32: Good comfort near sedentary activity, such as open-plan offices and meeting rooms.
C33: Smartemp PMW-AD: | D33: for a high-induction, wall-mounted solution | K33: ADPI ≥ 70%; ṽ ≤ 0.33 m/s: | L33: Standard comfort medium activity, such as in transient spaces, retail and lobbies.
D36: =IF('HSC-FD Equations'!C315,"Perf (L12) only available with DN355 (E19)","SMARTEMP HSC-FD-") -> SMARTEMP HSC-FD- | G36: ='HSC-FD Equations'!C270 -> DN355-R0 | H36: ='HSC-FD Equations'!D270 -> DN355-R1 | I36: ='HSC-FD Equations'!E270 -> DN355-R2 | J36: ='HSC-FD Equations'!F270 -> DN355-R3 | K36: ='HSC-FD Equations'!G270 -> DN355-R4 | L36: ='HSC-FD Equations'!H270 -> DN355-R5 | M36: ='HSC-FD Equations'!I270 -> DN355-R6 | N36: Key: | O36: Suitable | P36: Not Suitable | Q36: Warning / Warning
C37: Airflow | D37: Selected Airflow | F37: ='HSC-FD Equations'!$D$3 -> [L/s] | G37: ='HSC-FD Equations'!C271 -> 120 | H37: ='HSC-FD Equations'!D271 -> 120 | I37: ='HSC-FD Equations'!E271 -> 120 | J37: ='HSC-FD Equations'!F271 -> 120 | K37: ='HSC-FD Equations'!G271 -> 120 | L37: ='HSC-FD Equations'!H271 -> 120 | M37: ='HSC-FD Equations'!I271 -> 120
D38: Airflow @ Selected Pressure | F38: ='HSC-FD Equations'!$D$3 -> [L/s] | G38: ='HSC-FD Equations'!C272 -> 239.9 | H38: ='HSC-FD Equations'!D272 -> 204.2 | I38: ='HSC-FD Equations'!E272 -> 174.1 | J38: ='HSC-FD Equations'!F272 -> 129.2 | K38: ='HSC-FD Equations'!G272 -> 97 | L38: ='HSC-FD Equations'!H272 -> 64.4 | M38: ='HSC-FD Equations'!I272 -> 45.7
D39: Selected Min Airflow (Turndown To) | F39: ='HSC-FD Equations'!$D$3 -> [L/s] | G39: ='HSC-FD Equations'!C273 -> 120 | H39: ='HSC-FD Equations'!D273 -> 120 | I39: ='HSC-FD Equations'!E273 -> 120 | J39: ='HSC-FD Equations'!F273 -> 120 | K39: ='HSC-FD Equations'!G273 -> 120 | L39: ='HSC-FD Equations'!H273 -> 120 | M39: ='HSC-FD Equations'!I273 -> 120
D40: Min Permissible Airflow | F40: ='HSC-FD Equations'!$D$3 -> [L/s] | G40: ='HSC-FD Equations'!C274 -> 47.8 | H40: ='HSC-FD Equations'!D274 -> 41.6 | I40: ='HSC-FD Equations'!E274 -> 34.1 | J40: ='HSC-FD Equations'!F274 -> 26.4 | K40: ='HSC-FD Equations'!G274 -> 19.4 | L40: ='HSC-FD Equations'!H274 -> 13.5 | M40: ='HSC-FD Equations'!I274 -> 9.5
D41: Selected Turndown to % | G41: ='HSC-FD Equations'!C275 -> 1 | H41: ='HSC-FD Equations'!D275 -> 1 | I41: ='HSC-FD Equations'!E275 -> 1 | J41: ='HSC-FD Equations'!F275 -> 1 | K41: ='HSC-FD Equations'!G275 -> 1 | L41: ='HSC-FD Equations'!H275 -> 1 | M41: ='HSC-FD Equations'!I275 -> 1
D42: Min Permissible % Turndown to | G42: ='HSC-FD Equations'!C276 -> 0.399 | H42: ='HSC-FD Equations'!D276 -> 0.347 | I42: ='HSC-FD Equations'!E276 -> 0.285 | J42: ='HSC-FD Equations'!F276 -> 0.22 | K42: ='HSC-FD Equations'!G276 -> 0.162 | L42: ='HSC-FD Equations'!H276 -> 0.112 | M42: ='HSC-FD Equations'!I276 -> 0.079 | U42: `
C43: Pressure* | D43: Static Pressure @ 100% Airflow | F43: [Pa] | G43: ='HSC-FD Equations'!C277 -> 8.8 | H43: ='HSC-FD Equations'!D277 -> 12.1 | I43: ='HSC-FD Equations'!E277 -> 16.6 | J43: ='HSC-FD Equations'!F277 -> 30.2 | K43: ='HSC-FD Equations'!G277 -> 53.6 | L43: ='HSC-FD Equations'!H277 -> 121.5 | M43: ='HSC-FD Equations'!I277 -> 241.6 | N43: * Values valid for diffuser including side-entry plenum box with round spigot (refer to woksheet 'Notes & Drawings HSC-FD')
D44: Total Pressure @ 100% Airflow | F44: [Pa] | G44: ='HSC-FD Equations'!C278 -> 12.4 | H44: ='HSC-FD Equations'!D278 -> 15.7 | I44: ='HSC-FD Equations'!E278 -> 20.3 | J44: ='HSC-FD Equations'!F278 -> 33.8 | K44: ='HSC-FD Equations'!G278 -> 57.2 | L44: ='HSC-FD Equations'!H278 -> 125.1 | M44: ='HSC-FD Equations'!I278 -> 245.3
D45: Max Selected Static Pressure | F45: [Pa] | G45: ='HSC-FD Equations'!C279 -> 35 | H45: ='HSC-FD Equations'!D279 -> 35 | I45: ='HSC-FD Equations'!E279 -> 35 | J45: ='HSC-FD Equations'!F279 -> 35 | K45: ='HSC-FD Equations'!G279 -> 35 | L45: ='HSC-FD Equations'!H279 -> 35 | M45: ='HSC-FD Equations'!I279 -> 35
C46: Acoustics | D46: Sound Power Level | F46: [dB(A)] | G46: ='HSC-FD Equations'!C280 -> 27.2 | H46: ='HSC-FD Equations'!D280 -> 32 | I46: ='HSC-FD Equations'!E280 -> 37 | J46: ='HSC-FD Equations'!F280 -> 40.8 | K46: ='HSC-FD Equations'!G280 -> 46 | L46: ='HSC-FD Equations'!H280 -> 54 | M46: ='HSC-FD Equations'!I280 -> 60.1
D47: Sound Pressure Level* | F47: [NC] | G47: ='HSC-FD Equations'!C281 -> 12.2 | H47: ='HSC-FD Equations'!D281 -> 17 | I47: ='HSC-FD Equations'!E281 -> 22 | J47: ='HSC-FD Equations'!F281 -> 25.8 | K47: ='HSC-FD Equations'!G281 -> 31 | L47: ='HSC-FD Equations'!H281 -> 39 | M47: ='HSC-FD Equations'!I281 -> 45.1 | N47: * Based on 10 dB(A) room absorption
C48: Heating | D48: Max Recommended Heating ΔT (Centre Zone) | F48: [K] | G48: ='HSC-FD Equations'!C282 -> 9.7 | H48: ='HSC-FD Equations'!D282 -> 10.2 | I48: ='HSC-FD Equations'!E282 -> 11.4 | J48: ='HSC-FD Equations'!F282 -> 12.7 | K48: ='HSC-FD Equations'!G282 -> 14.2 | L48: ='HSC-FD Equations'!H282 -> 15.7 | M48: ='HSC-FD Equations'!I282 -> 17.6 | N48: ='HSC-FD Equations'!C318 -> Heating valid for specific flowrate of 2.3 L/s/m² (see Cells K17:K21) at 2.7 m height.
...

Sheet HSC-FD Equations
B1: Units
B3: Unit Type | C3: 1 | D3: =IF(C3=1,"[L/s]","[m³/h]") -> [L/s] | E3: =IF(C3=1,"L/s","m³/h") -> L/s
B4: Unit Multiplier | C4: =IF(C3=1,1,3.6) -> 1 | D4: =IF(C3=1,"L/s/m²","m³/h/m²") -> L/s/m²
B6: Airflow Rate | C6: ='HSC-FD'!E9/C4 -> 120
B8: Converted Flowrate | C8: ="= " &IF(C3=1,'HSC-FD'!E9*3.6,ROUND('HSC-FD'!E9/3.6,1)) -> = 432 | D8: =IF(C3=1,"m³/h","L/s") -> m³/h
B10: Input Values
B12: Neck Size | C12: ='HSC-FD'!E19 -> DN355 | E12: mm | L12: Max Airflow
B13: Airflow Rate - Converted | C13: =C6 -> 120 | E13: L/s | L13: Max Recommended Airflow (L/s)
B14: VAV | C14: ='HSC-FD'!E11 -> 100 | E14: % | L14: Min Airflow (L/s)
B15: Max Static Pressure | C15: ='HSC-FD'!E13 -> 35 | E15: Pa | L15: Min P Airflow
B16: dT (cooling) | C16: ='HSC-FD'!E15 -> -12 | E16: K | L16: Min % Airflow
B17: Room Height | C17: ='HSC-FD'!E17 -> 2.7 | E17: m | L17: Min Permissible % TD to
B18: Discharge Direction | C18: ='HSC-FD'!M9 -> 4 Way (360°) | D18: =Data!B54 -> 4w | L18: Max Total Pressure (Pa)
B19: Spec Airflow Rate | C19: ='HSC-FD'!M21/C4 -> 15 | E19: L/s/m2
B20: ADPI | C20: ='HSC-FD'!M11 -> 0.9 | L20: Sound Power Level (dBA)
B21: perforated plate | C21: FALSE | L21: Sound Pressure Level (NC)
B22: Low level return | C22: ='HSC-FD'!M27 -> 0 | L22: Max Permissible ΔT (heating) (K)
B23: freely suspended | C23: 1
B24: Room Temp | C24: ='HSC-FD'!M23 -> 23 | E24: C
B25: Diffuser dist setting | C25: 1
B26: manual diffuser dist | C26: ='HSC-FD'!M19 -> 8 | E26: m | L26: H_min (m)
L27: C_min (m)
B28: Input Pre Calcs | L28: C_max (m)
B30: Neck Size | C30: =RIGHT(C12,3) -> 355
B31: Airflow Rate -4w equ | C31: =C13*(4/C36) -> 120 | E31: afr = afr *(4/discharge direction)
B32: VAV | C32: =C14/100 -> 1
B33: Max Static Pressure | C33: =C15 -> 35
B34: dT (cooling) | C34: =IF(ABS(C16)<8,8,ABS(C16)) -> 12 | D34: for @ velocity use '-8' for values 0 and -8 K
B35: Room Height | C35: =C17 -> 2.7
B36: Discharge Direction | C36: =_xlfn.NUMBERVALUE(LEFT(C18,1)) -> 4
B37: Spec Airflow Rate for heating | C37: =IF(C25=3,IF(C19>10,10,IF(C19<2,2,C19)),$C$207) -> 2.3
B38: ADPI | C38: =C20*100 -> 90
B39: Local Velocity | C39: =VLOOKUP(C20,Data!$A$28:$B$32,2,0) -> 0.25
B40: Perf-plate pressure | C40: =IF(C21,1.1,1) -> 1
B41: Perf Plate Vmin | C41: =IF(C21,1.7,1) -> 1
B42: Perf-plate noise | C42: =IF(C21,10,0) -> 0
B44: V_turndown | C44: =$C$13*$C$32 -> 120 | E44: v_td=afr*vav
B45: V_turndown - 4 way equiv | C45: =C31*C32 -> 120
B46: Low Level Return | C46: =1+C22 -> 1
B47: free susp | C47: =IF(C23=2,TRUE,FALSE) -> FALSE
...

Sheet Data
A1: Neck Sizes
A2: DN250
A3: DN355
A4: DN500
A6: Reducer
A7: Reducer 0
A8: Reducer 1
A9: Reducer 2
A10: Reducer 3
A11: Reducer 4
A12: Reducer 5
A13: Reducer 6
A15: Discharge Direction | F15: =('HSC-FD'!M9) -> 4 Way (360°) | K15: =LEFT(K13,5)
A16: 4 Way (360°) | B16: 4w | C16: ="" | F16: 4 Way | G16: 4w
A17: 3 Way (270°) | B17: 3w | C17: for installations adjacent to wall | F17: 3 Way | G17: 3w
A18: 2 Way (2×90°) | B18: 2s | C18: for installation in hallways and corridors | F18: 13 | G18: 2s
A19: 2 Way (1×180°) | B19: 2a | C19: for installation in corners | F19: 14 | G19: 2a
A20: Ceiling or Free | B20: ='HSC-FD Equations'!C23 -> 1 | C20: (1 = ceiling; 2 = free)
A22: ADPI display
A23: 0.95
A24: 0.9
A25: 0.8
A26: 0.7
B27: V
A28: 0.95 | B28: 0.2
A29: 0.9 | B29: 0.25
A30: 0.85 | B30: 0.27
A31: 0.8 | B31: 0.29 | E31: Code
A32: 0.7 | B32: 0.33 | D32: 0 | E32: 0
D33: 1 | E33: R0
D34: 2 | E34: R1
D35: 3 | E35: R2
D36: 4 | E36: R3
A37: Code Generator | D37: 5 | E37: R4
A38: Nominal Diameter | B38: ='HSC-FD'!E19 -> DN355 | D38: 6 | E38: R5
A39: Reducer | B39: =C39-1 -> 0 | C39: 1 | D39: 7 | E39: R6
A40: Reducer Validation | B40: =VLOOKUP(C39,D32:E40,2) -> R0 | D40: 8 | E40: RA
A41: Size & Reducer | B41: =B38&"-"&B40 -> DN355-R0
A43: Face Shape
A44: n | B44: code | C44: option | D44: comment | H44: DN250 | K44: DN355 | N44: DN500
...

Sheet Reducer Selector
A1: SMARTEMP PRODUCT SELECTION CALCULATOR
A2: Fixed Helical Swirl Diffuser [HSC-FD DN355 & DN500] | D2: REDUCER Selector
B6: LEGEND: | G6: INSTRUCTIONS:
B7: Warning | G7: To add more rows, copy and insert rows as required from row 17 to row 37 (do not insert above row 17).
B8: Required Manual Input | G8: Do not change formulae/values in columns F to Z, which in rows 17 to 37 are not protected (to allow copy and paste) but contain formulae that MUST NOT BE OVERWRITTEN.
B9: Optional Manual Input
B10: Manual Input overwriting formula | G10: Cells E17 to E37 may be overwritten with 355 or 500 to prevent automatic neck sizing.
O12: Tolerance: | Y12: Tolerance:
A13: Cooling: | B13: dT.supply-room = | D13: Turndown to | E13: P.total Max = | G13: Vmax | H13: =221*SQRT($E$14/35) -> 221 | I13: =192*SQRT($E$14/35) -> 192 | J13: =158*SQRT($E$14/35) -> 158 | K13: =122*SQRT($E$14/35) -> 122 | L13: =90*SQRT($E$14/35) -> 90 | M13: =62*SQRT($E$14/35) -> 62 | N13: =44*SQRT($E$14/35) -> 44 | O13: Vmin * | Q13: L/s | R13: Vmax | S13: =439*SQRT($E$14/35) -> 439 | T13: =389*SQRT($E$14/35) -> 389 | U13: =354*SQRT($E$14/35) -> 354 | V13: =292*SQRT($E$14/35) -> 292 | W13: =218*SQRT($E$14/35) -> 218 | X13: =151*SQRT($E$14/35) -> 151 | Y13: Vmin *
A14: (-8 to -16) | B14: -12 | C14: K | D14: 0.3 | E14: 35 | F14: Pa | G14: Vmin | H14: =47.8*SQRT((IF(ABS($B$14)/12<8/12,8/12,ABS($B$14)/12))) -> 47.8 | I14: =41.6*SQRT((IF(ABS($B$14)/12<8/12,8/12,ABS($B$14)/12))) -> 41.6 | J14: =34.1*SQRT((IF(ABS($B$14)/12<8/12,8/12,ABS($B$14)/12))) -> 34.1 | K14: =26.4*SQRT((IF(ABS($B$14)/12<8/12,8/12,ABS($B$14)/12))) -> 26.4 | L14: =19.4*SQRT((IF(ABS($B$14)/12<8/12,8/12,ABS($B$14)/12))) -> 19.4 | M14: =13.5*SQRT((IF(ABS($B$14)/12<8/12,8/12,ABS($B$14)/12))) -> 13.5 | N14: =9.5*SQRT((IF(ABS($B$14)/12<8/12,8/12,ABS($B$14)/12))) -> 9.5 | O14: 1 | Q14: L/s | R14: Vmin | S14: =95.3*SQRT((IF(ABS($B$14)/12<8/12,8/12,ABS($B$14)/12))) -> 95.3 | T14: =86.2*SQRT((IF(ABS($B$14)/12<8/12,8/12,ABS($B$14)/12))) -> 86.2 | U14: =77.5*SQRT((IF(ABS($B$14)/12<8/12,8/12,ABS($B$14)/12))) -> 77.5 | V14: =63.9*SQRT((IF(ABS($B$14)/12<8/12,8/12,ABS($B$14)/12))) -> 63.9 | W14: =47.6*SQRT((IF(ABS($B$14)/12<8/12,8/12,ABS($B$14)/12))) -> 47.6 | X14: =32.7*SQRT((IF(ABS($B$14)/12<8/12,8/12,ABS($B$14)/12))) -> 32.7 | Y14: 1
C15: Max | D15: Min | F15: HSC-FD- | G15: Vmax/Vmin | H15: Reducer: | O15: 355 | P15: 355 | Q15: HSC-FD- | R15: Vmax/Vmin | S15: Reducer: | Y15: 500 | Z15: 500 | AA15: Remarks
A16: Item | B16: Qty | C16: L/s | D16: L/s | E16: DN | F16: DN355 | G16: WARNING | H16: 0 | I16: 1 | J16: 2 | K16: 3 | L16: 4 | M16: 5 | N16: 6 | O16: Rmin | P16: Rmax | Q16: DN500 | R16: WARNING | S16: 0 | T16: 1 | U16: 2 | V16: 3 | W16: 4 | X16: 5 | Y16: Rmin | Z16: Rmax
A17: eg. West Lobby | B17: 1 | C17: 120 | D17: =C17*D$14 -> 36 | E17: =IF(C17<=H$13,355,500) -> 355 | F17: =IF($E17=355,$B17,0) -> 1 | G17: =IF(F17-SUM(H17:N17)>0,F17-SUM(H17:N17),IF(O17>P17,SUM(H17:N17),0)) -> 0 | H17: =IF(ROUNDDOWN(($O17+$P17)/2,0)=0,$F17,0) -> 0 | I17: =IF(ROUNDDOWN(($O17+$P17)/2,0)=1,$F17,0) -> 0 | J17: =IF(ROUNDDOWN(($O17+$P17)/2,0)=2,$F17,0) -> 1 | K17: =IF(ROUNDDOWN(($O17+$P17)/2,0)=3,$F17,0) -> 0 | L17: =IF(ROUNDDOWN(($O17+$P17)/2,0)=4,$F17,0) -> 0 | M17: =IF(ROUNDDOWN(($O17+$P17)/2,0)=5,$F17,0) -> 0 | N17: =IF(ROUNDDOWN(($O17+$P17)/2,0)=6,$F17,0) -> 0 | O17: =IF(F17>0,IF(D17>=H$14*O$14,"0",IF(D17>=I$14*O$14,"1",IF(D17>=J$14*O$14,"2",IF(D17>=K$14*O$14,"3",IF(D17>=L$14*O$14,"4",IF(D17>=M$14*O$14,"5",IF(D17>=N$14*O$14,"6","7"))))))),"-1") -> 2 | P17: =IF(E17=355,IF(C17<=N$13,"6",IF(C17<=M$13,"5",IF(C17<=L$13,"4",IF(C17<=K$13,"3",IF(C17<=J$13,"2",IF(C17<=I$13,"1",IF(C17<=H$13,"0",-1))))))),"-1") -> 3 | Q17: =IF($E17=500,$B17,0) -> 0 | R17: =IF(Q17-SUM(S17:X17)>0,Q17-SUM(S17:X17),IF(Y17>Z17,SUM(S17:X17),0)) -> 0 | S17: =IF(ROUNDDOWN(($Y17+$Z17)/2,0)=0,$Q17,0) -> 0 | T17: =IF(ROUNDDOWN(($Y17+$Z17)/2,0)=1,$Q17,0) -> 0 | U17: =IF(ROUNDDOWN(($Y17+$Z17)/2,0)=2,$Q17,0) -> 0 | V17: =IF(ROUNDDOWN(($Y17+$Z17)/2,0)=3,$Q17,0) -> 0 | W17: =IF(ROUNDDOWN(($Y17+$Z17)/2,0)=4,$Q17,0) -> 0 | X17: =IF(ROUNDDOWN(($Y17+$Z17)/2,0)=5,$Q17,0) -> 0 | Y17: =IF(Q17>0,IF(D17>=S$14*Y$14,"0",IF(D17>=T$14*Y$14,"1",IF(D17>=U$14*Y$14,"2",IF(D17>=V$14*Y$14,"3",IF(D17>=W$14*Y$14,"4",IF(D17>=X$14*Y$14,"5","6")))))),"-1") -> -1 | Z17: =IF(E17=500,IF(C17<=X$13,"5",IF(C17<=W$13,"4",IF(C17<=V$13,"3",IF(C17<=U$13,"2",IF(C17<=T$13,"1",IF(C17<=S$13,"0",-1)))))),"-1") -> -1
D18: =C18*D$14 -> 0 | E18: =IF(C18<=H$13,355,500) -> 355 | F18: =IF($E18=355,$B18,0) -> 0 | G18: =IF(F18-SUM(H18:N18)>0,F18-SUM(H18:N18),IF(O18>P18,SUM(H18:N18),0)) -> 0 | H18: =IF(ROUNDDOWN(($O18+$P18)/2,0)=0,$F18,0) -> 0 | I18: =IF(ROUNDDOWN(($O18+$P18)/2,0)=1,$F18,0) -> 0 | J18: =IF(ROUNDDOWN(($O18+$P18)/2,0)=2,$F18,0) -> 0 | K18: =IF(ROUNDDOWN(($O18+$P18)/2,0)=3,$F18,0) -> 0 | L18: =IF(ROUNDDOWN(($O18+$P18)/2,0)=4,$F18,0) -> 0 | M18: =IF(ROUNDDOWN(($O18+$P18)/2,0)=5,$F18,0) -> 0 | N18: =IF(ROUNDDOWN(($O18+$P18)/2,0)=6,$F18,0) -> 0 | O18: =IF(F18>0,IF(D18>=H$14*O$14,"0",IF(D18>=I$14*O$14,"1",IF(D18>=J$14*O$14,"2",IF(D18>=K$14*O$14,"3",IF(D18>=L$14*O$14,"4",IF(D18>=M$14*O$14,"5",IF(D18>=N$14*O$14,"6","7"))))))),"-1") -> -1 | P18: =IF(E18=355,IF(C18<=N$13,"6",IF(C18<=M$13,"5",IF(C18<=L$13,"4",IF(C18<=K$13,"3",IF(C18<=J$13,"2",IF(C18<=I$13,"1",IF(C18<=H$13,"0",-1))))))),"-1") -> 6 | Q18: =IF($E18=500,$B18,0) -> 0 | R18: =IF(Q18-SUM(S18:X18)>0,Q18-SUM(S18:X18),IF(Y18>Z18,SUM(S18:X18),0)) -> 0 | S18: =IF(ROUNDDOWN(($Y18+$Z18)/2,0)=0,$Q18,0) -> 0 | T18: =IF(ROUNDDOWN(($Y18+$Z18)/2,0)=1,$Q18,0) -> 0 | U18: =IF(ROUNDDOWN(($Y18+$Z18)/2,0)=2,$Q18,0) -> 0 | V18: =IF(ROUNDDOWN(($Y18+$Z18)/2,0)=3,$Q18,0) -> 0 | W18: =IF(ROUNDDOWN(($Y18+$Z18)/2,0)=4,$Q18,0) -> 0 | X18: =IF(ROUNDDOWN(($Y18+$Z18)/2,0)=5,$Q18,0) -> 0 | Y18: =IF(Q18>0,IF(D18>=S$14*Y$14,"0",IF(D18>=T$14*Y$14,"1",IF(D18>=U$14*Y$14,"2",IF(D18>=V$14*Y$14,"3",IF(D18>=W$14*Y$14,"4",IF(D18>=X$14*Y$14,"5","6")))))),"-1") -> -1 | Z18: =IF(E18=500,IF(C18<=X$13,"5",IF(C18<=W$13,"4",IF(C18<=V$13,"3",IF(C18<=U$13,"2",IF(C18<=T$13,"1",IF(C18<=S$13,"0",-1)))))),"-1") -> -1
D19: =C19*D$14 -> 0 | E19: =IF(C19<=H$13,355,500) -> 355 | F19: =IF($E19=355,$B19,0) -> 0 | G19: =IF(F19-SUM(H19:N19)>0,F19-SUM(H19:N19),IF(O19>P19,SUM(H19:N19),0)) -> 0 | H19: =IF(ROUNDDOWN(($O19+$P19)/2,0)=0,$F19,0) -> 0 | I19: =IF(ROUNDDOWN(($O19+$P19)/2,0)=1,$F19,0) -> 0 | J19: =IF(ROUNDDOWN(($O19+$P19)/2,0)=2,$F19,0) -> 0 | K19: =IF(ROUNDDOWN(($O19+$P19)/2,0)=3,$F19,0) -> 0 | L19: =IF(ROUNDDOWN(($O19+$P19)/2,0)=4,$F19,0) -> 0 | M19: =IF(ROUNDDOWN(($O19+$P19)/2,0)=5,$F19,0) -> 0 | N19: =IF(ROUNDDOWN(($O19+$P19)/2,0)=6,$F19,0) -> 0 | O19: =IF(F19>0,IF(D19>=H$14*O$14,"0",IF(D19>=I$14*O$14,"1",IF(D19>=J$14*O$14,"2",IF(D19>=K$14*O$14,"3",IF(D19>=L$14*O$14,"4",IF(D19>=M$14*O$14,"5",IF(D19>=N$14*O$14,"6","7"))))))),"-1") -> -1 | P19: =IF(E19=355,IF(C19<=N$13,"6",IF(C19<=M$13,"5",IF(C19<=L$13,"4",IF(C19<=K$13,"3",IF(C19<=J$13,"2",IF(C19<=I$13,"1",IF(C19<=H$13,"0",-1))))))),"-1") -> 6 | Q19: =IF($E19=500,$B19,0) -> 0 | R19: =IF(Q19-SUM(S19:X19)>0,Q19-SUM(S19:X19),IF(Y19>Z19,SUM(S19:X19),0)) -> 0 | S19: =IF(ROUNDDOWN(($Y19+$Z19)/2,0)=0,$Q19,0) -> 0 | T19: =IF(ROUNDDOWN(($Y19+$Z19)/2,0)=1,$Q19,0) -> 0 | U19: =IF(ROUNDDOWN(($Y19+$Z19)/2,0)=2,$Q19,0) -> 0 | V19: =IF(ROUNDDOWN(($Y19+$Z19)/2,0)=3,$Q19,0) -> 0 | W19: =IF(ROUNDDOWN(($Y19+$Z19)/2,0)=4,$Q19,0) -> 0 | X19: =IF(ROUNDDOWN(($Y19+$Z19)/2,0)=5,$Q19,0) -> 0 | Y19: =IF(Q19>0,IF(D19>=S$14*Y$14,"0",IF(D19>=T$14*Y$14,"1",IF(D19>=U$14*Y$14,"2",IF(D19>=V$14*Y$14,"3",IF(D19>=W$14*Y$14,"4",IF(D19>=X$14*Y$14,"5","6")))))),"-1") -> -1 | Z19: =IF(E19=500,IF(C19<=X$13,"5",IF(C19<=W$13,"4",IF(C19<=V$13,"3",IF(C19<=U$13,"2",IF(C19<=T$13,"1",IF(C19<=S$13,"0",-1)))))),"-1") -> -1
D20: =C20*D$14 -> 0 | E20: =IF(C20<=H$13,355,500) -> 355 | F20: =IF($E20=355,$B20,0) -> 0 | G20: =IF(F20-SUM(H20:N20)>0,F20-SUM(H20:N20),IF(O20>P20,SUM(H20:N20),0)) -> 0 | H20: =IF(ROUNDDOWN(($O20+$P20)/2,0)=0,$F20,0) -> 0 | I20: =IF(ROUNDDOWN(($O20+$P20)/2,0)=1,$F20,0) -> 0 | J20: =IF(ROUNDDOWN(($O20+$P20)/2,0)=2,$F20,0) -> 0 | K20: =IF(ROUNDDOWN(($O20+$P20)/2,0)=3,$F20,0) -> 0 | L20: =IF(ROUNDDOWN(($O20+$P20)/2,0)=4,$F20,0) -> 0 | M20: =IF(ROUNDDOWN(($O20+$P20)/2,0)=5,$F20,0) -> 0 | N20: =IF(ROUNDDOWN(($O20+$P20)/2,0)=6,$F20,0) -> 0 | O20: =IF(F20>0,IF(D20>=H$14*O$14,"0",IF(D20>=I$14*O$14,"1",IF(D20>=J$14*O$14,"2",IF(D20>=K$14*O$14,"3",IF(D20>=L$14*O$14,"4",IF(D20>=M$14*O$14,"5",IF(D20>=N$14*O$14,"6","7"))))))),"-1") -> -1 | P20: =IF(E20=355,IF(C20<=N$13,"6",IF(C20<=M$13,"5",IF(C20<=L$13,"4",IF(C20<=K$13,"3",IF(C20<=J$13,"2",IF(C20<=I$13,"1",IF(C20<=H$13,"0",-1))))))),"-1") -> 6 | Q20: =IF($E20=500,$B20,0) -> 0 | R20: =IF(Q20-SUM(S20:X20)>0,Q20-SUM(S20:X20),IF(Y20>Z20,SUM(S20:X20),0)) -> 0 | S20: =IF(ROUNDDOWN(($Y20+$Z20)/2,0)=0,$Q20,0) -> 0 | T20: =IF(ROUNDDOWN(($Y20+$Z20)/2,0)=1,$Q20,0) -> 0 | U20: =IF(ROUNDDOWN(($Y20+$Z20)/2,0)=2,$Q20,0) -> 0 | V20: =IF(ROUNDDOWN(($Y20+$Z20)/2,0)=3,$Q20,0) -> 0 | W20: =IF(ROUNDDOWN(($Y20+$Z20)/2,0)=4,$Q20,0) -> 0 | X20: =IF(ROUNDDOWN(($Y20+$Z20)/2,0)=5,$Q20,0) -> 0 | Y20: =IF(Q20>0,IF(D20>=S$14*Y$14,"0",IF(D20>=T$14*Y$14,"1",IF(D20>=U$14*Y$14,"2",IF(D20>=V$14*Y$14,"3",IF(D20>=W$14*Y$14,"4",IF(D20>=X$14*Y$14,"5","6")))))),"-1") -> -1 | Z20: =IF(E20=500,IF(C20<=X$13,"5",IF(C20<=W$13,"4",IF(C20<=V$13,"3",IF(C20<=U$13,"2",IF(C20<=T$13,"1",IF(C20<=S$13,"0",-1)))))),"-1") -> -1
D21: =C21*D$14 -> 0 | E21: =IF(C21<=H$13,355,500) -> 355 | F21: =IF($E21=355,$B21,0) -> 0 | G21: =IF(F21-SUM(H21:N21)>0,F21-SUM(H21:N21),IF(O21>P21,SUM(H21:N21),0)) -> 0 | H21: =IF(ROUNDDOWN(($O21+$P21)/2,0)=0,$F21,0) -> 0 | I21: =IF(ROUNDDOWN(($O21+$P21)/2,0)=1,$F21,0) -> 0 | J21: =IF(ROUNDDOWN(($O21+$P21)/2,0)=2,$F21,0) -> 0 | K21: =IF(ROUNDDOWN(($O21+$P21)/2,0)=3,$F21,0) -> 0 | L21: =IF(ROUNDDOWN(($O21+$P21)/2,0)=4,$F21,0) -> 0 | M21: =IF(ROUNDDOWN(($O21+$P21)/2,0)=5,$F21,0) -> 0 | N21: =IF(ROUNDDOWN(($O21+$P21)/2,0)=6,$F21,0) -> 0 | O21: =IF(F21>0,IF(D21>=H$14*O$14,"0",IF(D21>=I$14*O$14,"1",IF(D21>=J$14*O$14,"2",IF(D21>=K$14*O$14,"3",IF(D21>=L$14*O$14,"4",IF(D21>=M$14*O$14,"5",IF(D21>=N$14*O$14,"6","7"))))))),"-1") -> -1 | P21: =IF(E21=355,IF(C21<=N$13,"6",IF(C21<=M$13,"5",IF(C21<=L$13,"4",IF(C21<=K$13,"3",IF(C21<=J$13,"2",IF(C21<=I$13,"1",IF(C21<=H$13,"0",-1))))))),"-1") -> 6 | Q21: =IF($E21=500,$B21,0) -> 0 | R21: =IF(Q21-SUM(S21:X21)>0,Q21-SUM(S21:X21),IF(Y21>Z21,SUM(S21:X21),0)) -> 0 | S21: =IF(ROUNDDOWN(($Y21+$Z21)/2,0)=0,$Q21,0) -> 0 | T21: =IF(ROUNDDOWN(($Y21+$Z21)/2,0)=1,$Q21,0) -> 0 | U21: =IF(ROUNDDOWN(($Y21+$Z21)/2,0)=2,$Q21,0) -> 0 | V21: =IF(ROUNDDOWN(($Y21+$Z21)/2,0)=3,$Q21,0) -> 0 | W21: =IF(ROUNDDOWN(($Y21+$Z21)/2,0)=4,$Q21,0) -> 0 | X21: =IF(ROUNDDOWN(($Y21+$Z21)/2,0)=5,$Q21,0) -> 0 | Y21: =IF(Q21>0,IF(D21>=S$14*Y$14,"0",IF(D21>=T$14*Y$14,"1",IF(D21>=U$14*Y$14,"2",IF(D21>=V$14*Y$14,"3",IF(D21>=W$14*Y$14,"4",IF(D21>=X$14*Y$14,"5","6")))))),"-1") -> -1 | Z21: =IF(E21=500,IF(C21<=X$13,"5",IF(C21<=W$13,"4",IF(C21<=V$13,"3",IF(C21<=U$13,"2",IF(C21<=T$13,"1",IF(C21<=S$13,"0",-1)))))),"-1") -> -1
D22: =C22*D$14 -> 0 | E22: =IF(C22<=H$13,355,500) -> 355 | F22: =IF($E22=355,$B22,0) -> 0 | G22: =IF(F22-SUM(H22:N22)>0,F22-SUM(H22:N22),IF(O22>P22,SUM(H22:N22),0)) -> 0 | H22: =IF(ROUNDDOWN(($O22+$P22)/2,0)=0,$F22,0) -> 0 | I22: =IF(ROUNDDOWN(($O22+$P22)/2,0)=1,$F22,0) -> 0 | J22: =IF(ROUNDDOWN(($O22+$P22)/2,0)=2,$F22,0) -> 0 | K22: =IF(ROUNDDOWN(($O22+$P22)/2,0)=3,$F22,0) -> 0 | L22: =IF(ROUNDDOWN(($O22+$P22)/2,0)=4,$F22,0) -> 0 | M22: =IF(ROUNDDOWN(($O22+$P22)/2,0)=5,$F22,0) -> 0 | N22: =IF(ROUNDDOWN(($O22+$P22)/2,0)=6,$F22,0) -> 0 | O22: =IF(F22>0,IF(D22>=H$14*O$14,"0",IF(D22>=I$14*O$14,"1",IF(D22>=J$14*O$14,"2",IF(D22>=K$14*O$14,"3",IF(D22>=L$14*O$14,"4",IF(D22>=M$14*O$14,"5",IF(D22>=N$14*O$14,"6","7"))))))),"-1") -> -1 | P22: =IF(E22=355,IF(C22<=N$13,"6",IF(C22<=M$13,"5",IF(C22<=L$13,"4",IF(C22<=K$13,"3",IF(C22<=J$13,"2",IF(C22<=I$13,"1",IF(C22<=H$13,"0",-1))))))),"-1") -> 6 | Q22: =IF($E22=500,$B22,0) -> 0 | R22: =IF(Q22-SUM(S22:X22)>0,Q22-SUM(S22:X22),IF(Y22>Z22,SUM(S22:X22),0)) -> 0 | S22: =IF(ROUNDDOWN(($Y22+$Z22)/2,0)=0,$Q22,0) -> 0 | T22: =IF(ROUNDDOWN(($Y22+$Z22)/2,0)=1,$Q22,0) -> 0 | U22: =IF(ROUNDDOWN(($Y22+$Z22)/2,0)=2,$Q22,0) -> 0 | V22: =IF(ROUNDDOWN(($Y22+$Z22)/2,0)=3,$Q22,0) -> 0 | W22: =IF(ROUNDDOWN(($Y22+$Z22)/2,0)=4,$Q22,0) -> 0 | X22: =IF(ROUNDDOWN(($Y22+$Z22)/2,0)=5,$Q22,0) -> 0 | Y22: =IF(Q22>0,IF(D22>=S$14*Y$14,"0",IF(D22>=T$14*Y$14,"1",IF(D22>=U$14*Y$14,"2",IF(D22>=V$14*Y$14,"3",IF(D22>=W$14*Y$14,"4",IF(D22>=X$14*Y$14,"5","6")))))),"-1") -> -1 | Z22: =IF(E22=500,IF(C22<=X$13,"5",IF(C22<=W$13,"4",IF(C22<=V$13,"3",IF(C22<=U$13,"2",IF(C22<=T$13,"1",IF(C22<=S$13,"0",-1)))))),"-1") -> -1
D23: =C23*D$14 -> 0 | E23: =IF(C23<=H$13,355,500) -> 355 | F23: =IF($E23=355,$B23,0) -> 0 | G23: =IF(F23-SUM(H23:N23)>0,F23-SUM(H23:N23),IF(O23>P23,SUM(H23:N23),0)) -> 0 | H23: =IF(ROUNDDOWN(($O23+$P23)/2,0)=0,$F23,0) -> 0 | I23: =IF(ROUNDDOWN(($O23+$P23)/2,0)=1,$F23,0) -> 0 | J23: =IF(ROUNDDOWN(($O23+$P23)/2,0)=2,$F23,0) -> 0 | K23: =IF(ROUNDDOWN(($O23+$P23)/2,0)=3,$F23,0) -> 0 | L23: =IF(ROUNDDOWN(($O23+$P23)/2,0)=4,$F23,0) -> 0 | M23: =IF(ROUNDDOWN(($O23+$P23)/2,0)=5,$F23,0) -> 0 | N23: =IF(ROUNDDOWN(($O23+$P23)/2,0)=6,$F23,0) -> 0 | O23: =IF(F23>0,IF(D23>=H$14*O$14,"0",IF(D23>=I$14*O$14,"1",IF(D23>=J$14*O$14,"2",IF(D23>=K$14*O$14,"3",IF(D23>=L$14*O$14,"4",IF(D23>=M$14*O$14,"5",IF(D23>=N$14*O$14,"6","7"))))))),"-1") -> -1 | P23: =IF(E23=355,IF(C23<=N$13,"6",IF(C23<=M$13,"5",IF(C23<=L$13,"4",IF(C23<=K$13,"3",IF(C23<=J$13,"2",IF(C23<=I$13,"1",IF(C23<=H$13,"0",-1))))))),"-1") -> 6 | Q23: =IF($E23=500,$B23,0) -> 0 | R23: =IF(Q23-SUM(S23:X23)>0,Q23-SUM(S23:X23),IF(Y23>Z23,SUM(S23:X23),0)) -> 0 | S23: =IF(ROUNDDOWN(($Y23+$Z23)/2,0)=0,$Q23,0) -> 0 | T23: =IF(ROUNDDOWN(($Y23+$Z23)/2,0)=1,$Q23,0) -> 0 | U23: =IF(ROUNDDOWN(($Y23+$Z23)/2,0)=2,$Q23,0) -> 0 | V23: =IF(ROUNDDOWN(($Y23+$Z23)/2,0)=3,$Q23,0) -> 0 | W23: =IF(ROUNDDOWN(($Y23+$Z23)/2,0)=4,$Q23,0) -> 0 | X23: =IF(ROUNDDOWN(($Y23+$Z23)/2,0)=5,$Q23,0) -> 0 | Y23: =IF(Q23>0,IF(D23>=S$14*Y$14,"0",IF(D23>=T$14*Y$14,"1",IF(D23>=U$14*Y$14,"2",IF(D23>=V$14*Y$14,"3",IF(D23>=W$14*Y$14,"4",IF(D23>=X$14*Y$14,"5","6")))))),"-1") -> -1 | Z23: =IF(E23=500,IF(C23<=X$13,"5",IF(C23<=W$13,"4",IF(C23<=V$13,"3",IF(C23<=U$13,"2",IF(C23<=T$13,"1",IF(C23<=S$13,"0",-1)))))),"-1") -> -1
D24: =C24*D$14 -> 0 | E24: =IF(C24<=H$13,355,500) -> 355 | F24: =IF($E24=355,$B24,0) -> 0 | G24: =IF(F24-SUM(H24:N24)>0,F24-SUM(H24:N24),IF(O24>P24,SUM(H24:N24),0)) -> 0 | H24: =IF(ROUNDDOWN(($O24+$P24)/2,0)=0,$F24,0) -> 0 | I24: =IF(ROUNDDOWN(($O24+$P24)/2,0)=1,$F24,0) -> 0 | J24: =IF(ROUNDDOWN(($O24+$P24)/2,0)=2,$F24,0) -> 0 | K24: =IF(ROUNDDOWN(($O24+$P24)/2,0)=3,$F24,0) -> 0 | L24: =IF(ROUNDDOWN(($O24+$P24)/2,0)=4,$F24,0) -> 0 | M24: =IF(ROUNDDOWN(($O24+$P24)/2,0)=5,$F24,0) -> 0 | N24: =IF(ROUNDDOWN(($O24+$P24)/2,0)=6,$F24,0) -> 0 | O24: =IF(F24>0,IF(D24>=H$14*O$14,"0",IF(D24>=I$14*O$14,"1",IF(D24>=J$14*O$14,"2",IF(D24>=K$14*O$14,"3",IF(D24>=L$14*O$14,"4",IF(D24>=M$14*O$14,"5",IF(D24>=N$14*O$14,"6","7"))))))),"-1") -> -1 | P24: =IF(E24=355,IF(C24<=N$13,"6",IF(C24<=M$13,"5",IF(C24<=L$13,"4",IF(C24<=K$13,"3",IF(C24<=J$13,"2",IF(C24<=I$13,"1",IF(C24<=H$13,"0",-1))))))),"-1") -> 6 | Q24: =IF($E24=500,$B24,0) -> 0 | R24: =IF(Q24-SUM(S24:X24)>0,Q24-SUM(S24:X24),IF(Y24>Z24,SUM(S24:X24),0)) -> 0 | S24: =IF(ROUNDDOWN(($Y24+$Z24)/2,0)=0,$Q24,0) -> 0 | T24: =IF(ROUNDDOWN(($Y24+$Z24)/2,0)=1,$Q24,0) -> 0 | U24: =IF(ROUNDDOWN(($Y24+$Z24)/2,0)=2,$Q24,0) -> 0 | V24: =IF(ROUNDDOWN(($Y24+$Z24)/2,0)=3,$Q24,0) -> 0 | W24: =IF(ROUNDDOWN(($Y24+$Z24)/2,0)=4,$Q24,0) -> 0 | X24: =IF(ROUNDDOWN(($Y24+$Z24)/2,0)=5,$Q24,0) -> 0 | Y24: =IF(Q24>0,IF(D24>=S$14*Y$14,"0",IF(D24>=T$14*Y$14,"1",IF(D24>=U$14*Y$14,"2",IF(D24>=V$14*Y$14,"3",IF(D24>=W$14*Y$14,"4",IF(D24>=X$14*Y$14,"5","6")))))),"-1") -> -1 | Z24: =IF(E24=500,IF(C24<=X$13,"5",IF(C24<=W$13,"4",IF(C24<=V$13,"3",IF(C24<=U$13,"2",IF(C24<=T$13,"1",IF(C24<=S$13,"0",-1)))))),"-1") -> -1
D25: =C25*D$14 -> 0 | E25: =IF(C25<=H$13,355,500) -> 355 | F25: =IF($E25=355,$B25,0) -> 0 | G25: =IF(F25-SUM(H25:N25)>0,F25-SUM(H25:N25),IF(O25>P25,SUM(H25:N25),0)) -> 0 | H25: =IF(ROUNDDOWN(($O25+$P25)/2,0)=0,$F25,0) -> 0 | I25: =IF(ROUNDDOWN(($O25+$P25)/2,0)=1,$F25,0) -> 0 | J25: =IF(ROUNDDOWN(($O25+$P25)/2,0)=2,$F25,0) -> 0 | K25: =IF(ROUNDDOWN(($O25+$P25)/2,0)=3,$F25,0) -> 0 | L25: =IF(ROUNDDOWN(($O25+$P25)/2,0)=4,$F25,0) -> 0 | M25: =IF(ROUNDDOWN(($O25+$P25)/2,0)=5,$F25,0) -> 0 | N25: =IF(ROUNDDOWN(($O25+$P25)/2,0)=6,$F25,0) -> 0 | O25: =IF(F25>0,IF(D25>=H$14*O$14,"0",IF(D25>=I$14*O$14,"1",IF(D25>=J$14*O$14,"2",IF(D25>=K$14*O$14,"3",IF(D25>=L$14*O$14,"4",IF(D25>=M$14*O$14,"5",IF(D25>=N$14*O$14,"6","7"))))))),"-1") -> -1 | P25: =IF(E25=355,IF(C25<=N$13,"6",IF(C25<=M$13,"5",IF(C25<=L$13,"4",IF(C25<=K$13,"3",IF(C25<=J$13,"2",IF(C25<=I$13,"1",IF(C25<=H$13,"0",-1))))))),"-1") -> 6 | Q25: =IF($E25=500,$B25,0) -> 0 | R25: =IF(Q25-SUM(S25:X25)>0,Q25-SUM(S25:X25),IF(Y25>Z25,SUM(S25:X25),0)) -> 0 | S25: =IF(ROUNDDOWN(($Y25+$Z25)/2,0)=0,$Q25,0) -> 0 | T25: =IF(ROUNDDOWN(($Y25+$Z25)/2,0)=1,$Q25,0) -> 0 | U25: =IF(ROUNDDOWN(($Y25+$Z25)/2,0)=2,$Q25,0) -> 0 | V25: =IF(ROUNDDOWN(($Y25+$Z25)/2,0)=3,$Q25,0) -> 0 | W25: =IF(ROUNDDOWN(($Y25+$Z25)/2,0)=4,$Q25,0) -> 0 | X25: =IF(ROUNDDOWN(($Y25+$Z25)/2,0)=5,$Q25,0) -> 0 | Y25: =IF(Q25>0,IF(D25>=S$14*Y$14,"0",IF(D25>=T$14*Y$14,"1",IF(D25>=U$14*Y$14,"2",IF(D25>=V$14*Y$14,"3",IF(D25>=W$14*Y$14,"4",IF(D25>=X$14*Y$14,"5","6")))))),"-1") -> -1 | Z25: =IF(E25=500,IF(C25<=X$13,"5",IF(C25<=W$13,"4",IF(C25<=V$13,"3",IF(C25<=U$13,"2",IF(C25<=T$13,"1",IF(C25<=S$13,"0",-1)))))),"-1") -> -1
D26: =C26*D$14 -> 0 | E26: =IF(C26<=H$13,355,500) -> 355 | F26: =IF($E26=355,$B26,0) -> 0 | G26: =IF(F26-SUM(H26:N26)>0,F26-SUM(H26:N26),IF(O26>P26,SUM(H26:N26),0)) -> 0 | H26: =IF(ROUNDDOWN(($O26+$P26)/2,0)=0,$F26,0) -> 0 | I26: =IF(ROUNDDOWN(($O26+$P26)/2,0)=1,$F26,0) -> 0 | J26: =IF(ROUNDDOWN(($O26+$P26)/2,0)=2,$F26,0) -> 0 | K26: =IF(ROUNDDOWN(($O26+$P26)/2,0)=3,$F26,0) -> 0 | L26: =IF(ROUNDDOWN(($O26+$P26)/2,0)=4,$F26,0) -> 0 | M26: =IF(ROUNDDOWN(($O26+$P26)/2,0)=5,$F26,0) -> 0 | N26: =IF(ROUNDDOWN(($O26+$P26)/2,0)=6,$F26,0) -> 0 | O26: =IF(F26>0,IF(D26>=H$14*O$14,"0",IF(D26>=I$14*O$14,"1",IF(D26>=J$14*O$14,"2",IF(D26>=K$14*O$14,"3",IF(D26>=L$14*O$14,"4",IF(D26>=M$14*O$14,"5",IF(D26>=N$14*O$14,"6","7"))))))),"-1") -> -1 | P26: =IF(E26=355,IF(C26<=N$13,"6",IF(C26<=M$13,"5",IF(C26<=L$13,"4",IF(C26<=K$13,"3",IF(C26<=J$13,"2",IF(C26<=I$13,"1",IF(C26<=H$13,"0",-1))))))),"-1") -> 6 | Q26: =IF($E26=500,$B26,0) -> 0 | R26: =IF(Q26-SUM(S26:X26)>0,Q26-SUM(S26:X26),IF(Y26>Z26,SUM(S26:X26),0)) -> 0 | S26: =IF(ROUNDDOWN(($Y26+$Z26)/2,0)=0,$Q26,0) -> 0 | T26: =IF(ROUNDDOWN(($Y26+$Z26)/2,0)=1,$Q26,0) -> 0 | U26: =IF(ROUNDDOWN(($Y26+$Z26)/2,0)=2,$Q26,0) -> 0 | V26: =IF(ROUNDDOWN(($Y26+$Z26)/2,0)=3,$Q26,0) -> 0 | W26: =IF(ROUNDDOWN(($Y26+$Z26)/2,0)=4,$Q26,0) -> 0 | X26: =IF(ROUNDDOWN(($Y26+$Z26)/2,0)=5,$Q26,0) -> 0 | Y26: =IF(Q26>0,IF(D26>=S$14*Y$14,"0",IF(D26>=T$14*Y$14,"1",IF(D26>=U$14*Y$14,"2",IF(D26>=V$14*Y$14,"3",IF(D26>=W$14*Y$14,"4",IF(D26>=X$14*Y$14,"5","6")))))),"-1") -> -1 | Z26: =IF(E26=500,IF(C26<=X$13,"5",IF(C26<=W$13,"4",IF(C26<=V$13,"3",IF(C26<=U$13,"2",IF(C26<=T$13,"1",IF(C26<=S$13,"0",-1)))))),"-1") -> -1
D27: =C27*D$14 -> 0 | E27: =IF(C27<=H$13,355,500) -> 355 | F27: =IF($E27=355,$B27,0) -> 0 | G27: =IF(F27-SUM(H27:N27)>0,F27-SUM(H27:N27),IF(O27>P27,SUM(H27:N27),0)) -> 0 | H27: =IF(ROUNDDOWN(($O27+$P27)/2,0)=0,$F27,0) -> 0 | I27: =IF(ROUNDDOWN(($O27+$P27)/2,0)=1,$F27,0) -> 0 | J27: =IF(ROUNDDOWN(($O27+$P27)/2,0)=2,$F27,0) -> 0 | K27: =IF(ROUNDDOWN(($O27+$P27)/2,0)=3,$F27,0) -> 0 | L27: =IF(ROUNDDOWN(($O27+$P27)/2,0)=4,$F27,0) -> 0 | M27: =IF(ROUNDDOWN(($O27+$P27)/2,0)=5,$F27,0) -> 0 | N27: =IF(ROUNDDOWN(($O27+$P27)/2,0)=6,$F27,0) -> 0 | O27: =IF(F27>0,IF(D27>=H$14*O$14,"0",IF(D27>=I$14*O$14,"1",IF(D27>=J$14*O$14,"2",IF(D27>=K$14*O$14,"3",IF(D27>=L$14*O$14,"4",IF(D27>=M$14*O$14,"5",IF(D27>=N$14*O$14,"6","7"))))))),"-1") -> -1 | P27: =IF(E27=355,IF(C27<=N$13,"6",IF(C27<=M$13,"5",IF(C27<=L$13,"4",IF(C27<=K$13,"3",IF(C27<=J$13,"2",IF(C27<=I$13,"1",IF(C27<=H$13,"0",-1))))))),"-1") -> 6 | Q27: =IF($E27=500,$B27,0) -> 0 | R27: =IF(Q27-SUM(S27:X27)>0,Q27-SUM(S27:X27),IF(Y27>Z27,SUM(S27:X27),0)) -> 0 | S27: =IF(ROUNDDOWN(($Y27+$Z27)/2,0)=0,$Q27,0) -> 0 | T27: =IF(ROUNDDOWN(($Y27+$Z27)/2,0)=1,$Q27,0) -> 0 | U27: =IF(ROUNDDOWN(($Y27+$Z27)/2,0)=2,$Q27,0) -> 0 | V27: =IF(ROUNDDOWN(($Y27+$Z27)/2,0)=3,$Q27,0) -> 0 | W27: =IF(ROUNDDOWN(($Y27+$Z27)/2,0)=4,$Q27,0) -> 0 | X27: =IF(ROUNDDOWN(($Y27+$Z27)/2,0)=5,$Q27,0) -> 0 | Y27: =IF(Q27>0,IF(D27>=S$14*Y$14,"0",IF(D27>=T$14*Y$14,"1",IF(D27>=U$14*Y$14,"2",IF(D27>=V$14*Y$14,"3",IF(D27>=W$14*Y$14,"4",IF(D27>=X$14*Y$14,"5","6")))))),"-1") -> -1 | Z27: =IF(E27=500,IF(C27<=X$13,"5",IF(C27<=W$13,"4",IF(C27<=V$13,"3",IF(C27<=U$13,"2",IF(C27<=T$13,"1",IF(C27<=S$13,"0",-1)))))),"-1") -> -1
D28: =C28*D$14 -> 0 | E28: =IF(C28<=H$13,355,500) -> 355 | F28: =IF($E28=355,$B28,0) -> 0 | G28: =IF(F28-SUM(H28:N28)>0,F28-SUM(H28:N28),IF(O28>P28,SUM(H28:N28),0)) -> 0 | H28: =IF(ROUNDDOWN(($O28+$P28)/2,0)=0,$F28,0) -> 0 | I28: =IF(ROUNDDOWN(($O28+$P28)/2,0)=1,$F28,0) -> 0 | J28: =IF(ROUNDDOWN(($O28+$P28)/2,0)=2,$F28,0) -> 0 | K28: =IF(ROUNDDOWN(($O28+$P28)/2,0)=3,$F28,0) -> 0 | L28: =IF(ROUNDDOWN(($O28+$P28)/2,0)=4,$F28,0) -> 0 | M28: =IF(ROUNDDOWN(($O28+$P28)/2,0)=5,$F28,0) -> 0 | N28: =IF(ROUNDDOWN(($O28+$P28)/2,0)=6,$F28,0) -> 0 | O28: =IF(F28>0,IF(D28>=H$14*O$14,"0",IF(D28>=I$14*O$14,"1",IF(D28>=J$14*O$14,"2",IF(D28>=K$14*O$14,"3",IF(D28>=L$14*O$14,"4",IF(D28>=M$14*O$14,"5",IF(D28>=N$14*O$14,"6","7"))))))),"-1") -> -1 | P28: =IF(E28=355,IF(C28<=N$13,"6",IF(C28<=M$13,"5",IF(C28<=L$13,"4",IF(C28<=K$13,"3",IF(C28<=J$13,"2",IF(C28<=I$13,"1",IF(C28<=H$13,"0",-1))))))),"-1") -> 6 | Q28: =IF($E28=500,$B28,0) -> 0 | R28: =IF(Q28-SUM(S28:X28)>0,Q28-SUM(S28:X28),IF(Y28>Z28,SUM(S28:X28),0)) -> 0 | S28: =IF(ROUNDDOWN(($Y28+$Z28)/2,0)=0,$Q28,0) -> 0 | T28: =IF(ROUNDDOWN(($Y28+$Z28)/2,0)=1,$Q28,0) -> 0 | U28: =IF(ROUNDDOWN(($Y28+$Z28)/2,0)=2,$Q28,0) -> 0 | V28: =IF(ROUNDDOWN(($Y28+$Z28)/2,0)=3,$Q28,0) -> 0 | W28: =IF(ROUNDDOWN(($Y28+$Z28)/2,0)=4,$Q28,0) -> 0 | X28: =IF(ROUNDDOWN(($Y28+$Z28)/2,0)=5,$Q28,0) -> 0 | Y28: =IF(Q28>0,IF(D28>=S$14*Y$14,"0",IF(D28>=T$14*Y$14,"1",IF(D28>=U$14*Y$14,"2",IF(D28>=V$14*Y$14,"3",IF(D28>=W$14*Y$14,"4",IF(D28>=X$14*Y$14,"5","6")))))),"-1") -> -1 | Z28: =IF(E28=500,IF(C28<=X$13,"5",IF(C28<=W$13,"4",IF(C28<=V$13,"3",IF(C28<=U$13,"2",IF(C28<=T$13,"1",IF(C28<=S$13,"0",-1)))))),"-1") -> -1
D29: =C29*D$14 -> 0 | E29: =IF(C29<=H$13,355,500) -> 355 | F29: =IF($E29=355,$B29,0) -> 0 | G29: =IF(F29-SUM(H29:N29)>0,F29-SUM(H29:N29),IF(O29>P29,SUM(H29:N29),0)) -> 0 | H29: =IF(ROUNDDOWN(($O29+$P29)/2,0)=0,$F29,0) -> 0 | I29: =IF(ROUNDDOWN(($O29+$P29)/2,0)=1,$F29,0) -> 0 | J29: =IF(ROUNDDOWN(($O29+$P29)/2,0)=2,$F29,0) -> 0 | K29: =IF(ROUNDDOWN(($O29+$P29)/2,0)=3,$F29,0) -> 0 | L29: =IF(ROUNDDOWN(($O29+$P29)/2,0)=4,$F29,0) -> 0 | M29: =IF(ROUNDDOWN(($O29+$P29)/2,0)=5,$F29,0) -> 0 | N29: =IF(ROUNDDOWN(($O29+$P29)/2,0)=6,$F29,0) -> 0 | O29: =IF(F29>0,IF(D29>=H$14*O$14,"0",IF(D29>=I$14*O$14,"1",IF(D29>=J$14*O$14,"2",IF(D29>=K$14*O$14,"3",IF(D29>=L$14*O$14,"4",IF(D29>=M$14*O$14,"5",IF(D29>=N$14*O$14,"6","7"))))))),"-1") -> -1 | P29: =IF(E29=355,IF(C29<=N$13,"6",IF(C29<=M$13,"5",IF(C29<=L$13,"4",IF(C29<=K$13,"3",IF(C29<=J$13,"2",IF(C29<=I$13,"1",IF(C29<=H$13,"0",-1))))))),"-1") -> 6 | Q29: =IF($E29=500,$B29,0) -> 0 | R29: =IF(Q29-SUM(S29:X29)>0,Q29-SUM(S29:X29),IF(Y29>Z29,SUM(S29:X29),0)) -> 0 | S29: =IF(ROUNDDOWN(($Y29+$Z29)/2,0)=0,$Q29,0) -> 0 | T29: =IF(ROUNDDOWN(($Y29+$Z29)/2,0)=1,$Q29,0) -> 0 | U29: =IF(ROUNDDOWN(($Y29+$Z29)/2,0)=2,$Q29,0) -> 0 | V29: =IF(ROUNDDOWN(($Y29+$Z29)/2,0)=3,$Q29,0) -> 0 | W29: =IF(ROUNDDOWN(($Y29+$Z29)/2,0)=4,$Q29,0) -> 0 | X29: =IF(ROUNDDOWN(($Y29+$Z29)/2,0)=5,$Q29,0) -> 0 | Y29: =IF(Q29>0,IF(D29>=S$14*Y$14,"0",IF(D29>=T$14*Y$14,"1",IF(D29>=U$14*Y$14,"2",IF(D29>=V$14*Y$14,"3",IF(D29>=W$14*Y$14,"4",IF(D29>=X$14*Y$14,"5","6")))))),"-1") -> -1 | Z29: =IF(E29=500,IF(C29<=X$13,"5",IF(C29<=W$13,"4",IF(C29<=V$13,"3",IF(C29<=U$13,"2",IF(C29<=T$13,"1",IF(C29<=S$13,"0",-1)))))),"-1") -> -1
... D37: =C37*D$14 -> 0 | E37: =IF(C37<=H$13,355,500) -> 355 | F37: =IF($E37=355,$B37,0) -> 0 | G37: =IF(F37-SUM(H37:N37)>0,F37-SUM(H37:N37),IF(O37>P37,SUM(H37:N37),0)) -> 0 | H37: =IF(ROUNDDOWN(($O37+$P37)/2,0)=0,$F37,0) -> 0 | I37: =IF(ROUNDDOWN(($O37+$P37)/2,0)=1,$F37,0) -> 0 | J37: =IF(ROUNDDOWN(($O37+$P37)/2,0)=2,$F37,0) -> 0 | K37: =IF(ROUNDDOWN(($O37+$P37)/2,0)=3,$F37,0) -> 0 | L37: =IF(ROUNDDOWN(($O37+$P37)/2,0)=4,$F37,0) -> 0 | M37: =IF(ROUNDDOWN(($O37+$P37)/2,0)=5,$F37,0) -> 0 | N37: =IF(ROUNDDOWN(($O37+$P37)/2,0)=6,$F37,0) -> 0 | O37: =IF(F37>0,IF(D37>=H$14*O$14,"0",IF(D37>=I$14*O$14,"1",IF(D37>=J$14*O$14,"2",IF(D37>=K$14*O$14,"3",IF(D37>=L$14*O$14,"4",IF(D37>=M$14*O$14,"5",IF(D37>=N$14*O$14,"6","7"))))))),"-1") -> -1 | P37: =IF(E37=355,IF(C37<=N$13,"6",IF(C37<=M$13,"5",IF(C37<=L$13,"4",IF(C37<=K$13,"3",IF(C37<=J$13,"2",IF(C37<=I$13,"1",IF(C37<=H$13,"0",-1))))))),"-1") -> 6 | Q37: =IF($E37=500,$B37,0) -> 0 | R37: =IF(Q37-SUM(S37:X37)>0,Q37-SUM(S37:X37),IF(Y37>Z37,SUM(S37:X37),0)) -> 0 | S37: =IF(ROUNDDOWN(($Y37+$Z37)/2,0)=0,$Q37,0) -> 0 | T37: =IF(ROUNDDOWN(($Y37+$Z37)/2,0)=1,$Q37,0) -> 0 | U37: =IF(ROUNDDOWN(($Y37+$Z37)/2,0)=2,$Q37,0) -> 0 | V37: =IF(ROUNDDOWN(($Y37+$Z37)/2,0)=3,$Q37,0) -> 0 | W37: =IF(ROUNDDOWN(($Y37+$Z37)/2,0)=4,$Q37,0) -> 0 | X37: =IF(ROUNDDOWN(($Y37+$Z37)/2,0)=5,$Q37,0) -> 0 | Y37: =IF(Q37>0,IF(D37>=S$14*Y$14,"0",IF(D37>=T$14*Y$14,"1",IF(D37>=U$14*Y$14,"2",IF(D37>=V$14*Y$14,"3",IF(D37>=W$14*Y$14,"4",IF(D37>=X$14*Y$14,"5","6")))))),"-1") -> -1 | Z37: =IF(E37=500,IF(C37<=X$13,"5",IF(C37<=W$13,"4",IF(C37<=V$13,"3",IF(C37<=U$13,"2",IF(C37<=T$13,"1",IF(C37<=S$13,"0",-1)))))),"-1") -> -1
B38: =SUM(B17:B37) -> 1 | F38: =SUM(F17:F37) -> 1 | G38: =SUM(G17:G37) -> 0 | H38: =SUM(H17:H37) -> 0 | I38: =SUM(I17:I37) -> 0 | J38: =SUM(J17:J37) -> 1 | K38: =SUM(K17:K37) -> 0 | L38: =SUM(L17:L37) -> 0 | M38: =SUM(M17:M37) -> 0 | N38: =SUM(N17:P37) -> 0 | Q38: =SUM(Q17:Q37) -> 0 | R38: =SUM(R17:R37) -> 0 | S38: =SUM(S17:S37) -> 0 | T38: =SUM(T17:T37) -> 0 | U38: =SUM(U17:U37) -> 0 | V38: =SUM(V17:V37) -> 0 | W38: =SUM(W17:W37) -> 0 | X38: =SUM(X17:X37) -> 0

Sheet Notes
C2: SMARTEMP PRODUCT SELECTION CALCULATOR
C3: Fixed Helical Swirl Diffuser [HSC-FD DN250/DN355/DN500] Notes
C6: Selection Notes
C7: Total Pressure is inclusive of side-entry connection box pressure loss.
C9: ΔT -ve denotes cooling
C10: ΔT +ve denotes heating
C12: Select desired comfort level (ADPI setting) to determine minimum and maximum centreline distance and minimum diffuser height.
C14: Noise & Acoustic
C15: Sound Pressure Level [NC] is an estimate for a single diffuser only located at 2.7 to 3.0 m height in a 70 m^3 space (typical office) with 10 dB(A) room absorption that is uniformly distributed, measured 2.1 m from the diffuser.
C16: Sound Pressure Level is provided as a guide only for a standard, carpeted single office with acoustic ceiling. An acoustical engineer should be consulted for detailed calculations, especially for applications with more than one diffuser or where hard surfaces are involved.
C18: Perforated Face
C19: Perforated face (63% open area) only available for size DN355. Contact Smartair for custom perforations.
... C26: Max and Min Centreline Distance is to be halved for spacing to walls or glazing.
E28: 4 Way (360°) | L28: 3 Way (270°) | Q28: 2 Way (2×90°) | W28: 2 Way (1×180°)
C45: • | D45: default | I45: • | J45: for installations adjacent to walls | O45: • | P45: for installations in corridors | U45: • | V45: for installations in corners
C46: • | D46: use when D > Cmin/2 | I46: • | J46: use when D < Cmin/2 | O46: • | P46: use when D < Cmin/2 | U46: • | V46: use when D < Cmin/2
C50: Tender Text
C51: Furnish and install SMARTEMP® Fixed Helical Swirl Diffusers, type HSC-FD, to provide diffuse airflow with fixed stable horizontal swirl discharge pattern for the provision of high thermal comfort. Each diffuser is to be made of powder coated steel and shall include 20 off-set radial vanes flush with the flat diffuser face. The diffuser shall be installed complete with a flush colour matching central cap and shall be suitable for ce ntral threaded rod connection. The diffuser face is to be square or round, as specified, and is to be fitted with the optional perforated screen where indicated. The diffuser is to be installed substantially flush with the suspended false ceiling or freely suspended, as specified. Swirl vanes are to include cambered leading edges for reduced noise and pressure drop, and helical swirl vane tips are each to have geometric twist to increase the airflow rate range of operation. Diffuser neck size is to be DN250, DN355 or DN500, as appropriate. Fit optional reducers where low airflow rates are required (DN355 and DN500 only). Install the diffusers at a discharge height of 2.4 to 4.5 m. For VAV applications, operate each diffuser within an airflow rate band turning down to no less than 25% at a ΔTsupply-room ≥ -16 K. For heating applications, observe ΔTsupply-room recommendations. Install segments covers (1/4; 2/4 opposed; 1/2) for diffuser placement near walls, in corridors or in corners. Connect each diffuser to SMARTEMP foam connections boxes, suitable for perimeter magnetic and/or central threaded rod connections, as specified.

Sheet Plenum Box Details
C2: SMARTEMP PRODUCT SELECTION CALCULATOR
C3: Fixed Helical Swirl Diffuser [HSC-FD DN250/DN355/DN500] Notes
C6: Recommended Plenum Box Details
C10: ASNZ nominal sizes | D10: Standard Plenum Box - Round & Ovalised Spigot | K10: 250 mm Low Profile Plenum Box - Ultra Ovalised Spigot
E11: Spigot Diameter | F11: Spigot Height | G11: Spigot End Radius | H11: Spigot Width | I11: Spigot Area (m2) | M11: Spigot Height | N11: Spigot End Radius | O11: Spigot Width | P11: Spigot Area (m2)
D12: H1 | E12: Ø5 | F12: H5 | G12: R₁ | H12: F | L12: H1 | M12: H5 | N12: R₁ | O12: F
C13: DN150 | D13: 300 | E13: 149 | I13: =PI()*(E13/2000)^2 -> 0.017436625 | K13: DN150 | L13: 250 | M13: 100 | N13: 50 | O13: 177 | P13: =(((O13-(2*N13))*M13)+PI()*N13^2)/(1000^2) -> 0.015553982
C14: DN200 | D14: 325 | E14: 199 | I14: =PI()*(E14/2000)^2 -> 0.031102553 | K14: DN200 | L14: 250 | M14: 100 | N14: 50 | O14: 256 | P14: =(((O14-(2*N14))*M14)+PI()*N14^2)/(1000^2) -> 0.023453982
C15: DN250 | D15: 350 | E15: 249 | I15: =PI()*(E15/2000)^2 -> 0.048695472 | K15: DN250 | L15: 250 | M15: 100 | N15: 50 | O15: 334 | P15: =(((O15-(2*N15))*M15)+PI()*N15^2)/(1000^2) -> 0.031253982
C16: DN300 | D16: 375 | F16: 275 | G16: 137.5 | H16: 313 | I16: =(((H16-(2*G16))*F16)+PI()*G16^2)/(1000^2) -> 0.069845736 | K16: DN300 | L16: 250 | M16: 100 | N16: 50 | O16: 413 | P16: =(((O16-(2*N16))*M16)+PI()*N16^2)/(1000^2) -> 0.039153982
C17: DN350 | D17: 400 | F17: 300 | G17: 150 | H17: 377 | I17: =(((H17-(2*G17))*F17)+PI()*G17^2)/(1000^2) -> 0.093785835 | K17: DN350 | L17: 250 | M17: 150 | N17: 75 | O17: 463 | P17: =(((O17-(2*N17))*M17)+PI()*N17^2)/(1000^2) -> 0.064621459
C18: DN400 | D18: 425 | F18: 325 | G18: 162.5 | H18: 441 | I18: =(((H18-(2*G18))*F18)+PI()*G18^2)/(1000^2) -> 0.12065768 | K18: DN400 | L18: 250 | M18: 200 | N18: 100 | O18: 513 | P18: =(((O18-(2*N18))*M18)+PI()*N18^2)/(1000^2) -> 0.094015927
F22: Round Spigot | P22: Low Profile Box
F35: Ovalised Spigot
S47: ALL DIMENSIONS IN mm
C50: DIN nominal sizes | D50: Round Spigot | G50: Ovalised Spigot
E51: Spigot Diameter | F51: Spigot Area (m2) | J51: Spigot Height | K51: Spigot End Radius | L51: Spigot Width | M51: Spigot Area (m2)
D52: H1 | E52: Ø5 | I52: H1 | J52: H5 | K52: R₁ | L52: F
C53: DN160 | D53: 300 | E53: 159 | F53: =PI()*(E53/2000)^2 -> 0.019855651
C54: DN200 | D54: 325 | E54: 199 | F54: =PI()*(E54/2000)^2 -> 0.031102553
C55: DN250 | D55: 375 | E55: 249 | F55: =PI()*(E55/2000)^2 -> 0.048695472
C56: DN315 | D56: =375+65 -> 440 | E56: 314 | F56: =PI()*(E56/2000)^2 -> 0.077437117 | G56: DN315 ovalised | I56: 375 | J56: 250 | K56: 125 | L56: 351 | M56: =(((L56-(2*K56))*J56)+PI()*K56^2)/(1000^2) -> 0.074337385
C57: DN355 | D57: =440+40 -> 480 | E57: 354 | F57: =PI()*(E57/2000)^2 -> 0.098422956 | G57: DN355 ovalised | I57: 385 | J57: 260 | K57: 130 | L57: 408 | M57: =(((L57-(2*K57))*J57)+PI()*K57^2)/(1000^2) -> 0.091572916
C58: DN400 | D58: =480+45 -> 525 | E58: 399 | F58: =PI()*(E58/2000)^2 -> 0.12503617 | G58: DN400 ovalised | I58: 420 | J58: 295 | K58: 147.5 | L58: 458 | M58: =(((L58-(2*K58))*J58)+PI()*K58^2)/(1000^2) -> 0.11643428

Sheet Box Diagrams

Sheet layout diagrams
A1: Selection | B1: =Data!B54 -> 4w
B3: 4w
B4: 3w
B5: 2s
B6: 2a

Sheet Selection Summary
B1: HSC-FD Performance Calculator Summary
A2: Project | B2: ='HSC-FD'!D5 -> <Project Name>
A3: Company | B3: <Name>
A4: Client | B4: <Name>
A6: Product | B6: SMARTEMP HSC-FD
B7: Fixed Helical Swirl Diffuser
A8: Size & Reducer | B8: =Data!B41 -> DN355-R0
A9: Discharge Direction | B9: ='HSC-FD'!M9 -> 4 Way (360°)
A10: Diffuser Location | B10: =Data!B107 -> Closed ceiling
A11: =Data!B57 | B11: =Data!C57
A12: Summary
A13: Selected Airflow ¹ | B13: =Data!E78 -> 120 L/s @ 8.8 Pa static
A14: Min Selected Airflow | B14: =Data!E80 -> 120 L/s (CAV)
A15: Min Permissible Airflow | B15: =Data!E81 -> 47.8 L/s (40%) @ ΔT = -12 K
A16: =Data!B109 -> Max Heating ΔT @ 2.3 L/s/m² | B16: =Data!B108 -> +9.7 K (centre zones) / +6.5 K (perimeter zones)
A18: Acoustic Performance | D18: ¹ Values valid for diffuser including 'Standard Side Entry Plenum Box' with round spigot (refer to worksheet 'Notes and Drawings HSC-FD')
A19: Sound Power Level ¹ | B19: =Data!E87 -> 27.2 dB(A)
A20: Sound Pressure Level ^¹ | B20: =Data!E88 -> 12.2 NC | D20: ^ based on 10 dB(A) room absorption
A21: Recommended Plenum Box Spigot Diameter | B21: =Data!C100 -> DN250
B22: =Data!E101 -> DN300 (Low Profile Box)
A23: =Data!B110
A25: Comfort Performance
A26: Selected ADPI Target | B26: =Data!D133 -> ≥ 90% ADPI
A27: Mean Room Air Velocity | B27: =Data!D135 -> 0.1 m/s @ 2.3 L/s/m² (7.3 m spacing)
A28: Draught Rating (DR) | B28: =Data!D136 -> 7.7% @ room temperature of 23 ºC
A29: PPD | B29: =Data!D137 -> 5.2%
A30: Satisfies PPD (ISO7730) | B30: ="Category "&Data!B138 -> Category A
A31: Satisfies PMV * | B31: =Data!D139 -> -0.2 < PMV < +0.2
A32: * ISO7730; ASHRAE Std 55
A34: =Data!B127 -> C Max = 12.7 m / 11.5 m (centre/perimeter zones)
A35: =Data!B128 -> C Min = 2.5 m
A36: =Data!B129 -> Nominal C = 7.3 m
A37: =Data!B130 -> Specific Airflow Rate @ Nominal C = 2.3 L/s/m²
A39: =Data!B122 -> Min Recommended Diffuser Height = 2.4 m
A40: =Data!B123 -> Selected Diffuser Height = 2.7 m
A42: Configuration | B42: =Data!B147 -> Diffuser size DN355 with no reducer
B43: =Data!C49 -> □ 595 mm square face*
B44: =Data!B148 -> 4 Way (360°) discharge
B45: =Data!B149 -> No perforated face plate
B46: =Data!B150 -> Powder coated to RAL9003
...
