Workbook
Name _order_code: [1]Data!$B$71
Name _order_code: Data!$B$71
Name adpi.: [1]Data!$A$23:$A$26
Name adpi.: Data!$A$23:$A$26
Name dischargediagram: INDEX('[1]layout diagrams'!$A$4:$A$7,MATCH('[1]layout diagrams'!$B$2,'[1]layout diagrams'!$B$4:$B$7,0),0)
Name dischargediagram: INDEX('layout diagrams'!$A$3:$A$6,MATCH('layout diagrams'!$B$1,'layout diagrams'!$B$3:$B$6,0),0)
Name dischargedirection.: [1]Data!$A$16:$A$19
Name dischargedirection.: Data!$A$16:$A$19
Name layout.: INDEX('[1]layout diagrams'!$C$8:$C$11,MATCH('[1]layout diagrams'!$B$2,'[1]layout diagrams'!$B$4:$B$7,0),0)
Name layout.: INDEX('layout diagrams'!$C$7:$C$10,MATCH('layout diagrams'!$B$1,'layout diagrams'!$B$3:$B$6,0),0)
Name necksize.: [1]Data!$A$2:$A$4
Name necksize.: Data!$A$2:$A$4

Sheet HSC-FD
D2: SMARTEMP PRODUCT SELECTION CALCULATOR
D3: Fixed Helical Swirl Diffuser [HSC-FD DN250/DN355/DN500]
C5: Project: | D5: <Project Name>
D7: Inputs | K7: Detailed Selection | U7: v 10.14 [09/2025]
D9: Maximum Airflow Rate | E9: 120 | G9: L/s | H9: m³/h | K9: Discharge Direction | M9: 4 Way (360°) | P9: =Data!C54 | V9: Specific Airflow Rate (heating) | W9: 5 | X9: L/s/m2 | Y9: 2 to 10 L/s/m2 (default 5 L/s/m2)
E10: ='HSC-FD Equations'!C8 -> = 432 | F10: ='HSC-FD Equations'!D8 -> m³/h
D11: VAV (turndown to) | E11: 100 | F11: % use 100% for CAV | L11: ADPI ≥ | M11: 0.9 | O11: default ≥ 90%
E12: ='HSC-FD Equations'!C320 -> = 120 | F12: ='HSC-FD Equations'!E3 -> L/s
D13: Maximum Permissible Static Pressure | E13: 35 | F13: Pa default 35 Pa | M13: Include perforated face | O13: only avalable for DN355; 595x595 Face (Rv5/6; 63% open area)
O14: Please contact Smartair Diffusion for custom perforations
D15: ΔT (cooling) | E15: -12 | F15: K -8 to -16 K (default -12 K) | K15: Draught Rating & Heating
F16: use -8 K for 0 K to -8 K
D17: Diffuser Height | E17: 2.7 | F17: m 2 to 5 m | M17: Average Diffuser Coverage (Rows 50-52) | O17: (see 'C' Layout Diagram below)
K18: OR | M18: ="coverage = "&ROUND('HSC-FD Equations'!C208,1) & " m" -> coverage = 7.3 m
D19: Diffuser Neck Size | E19: DN355 | F19: DN250 / DN355 / DN500 | L19: Manual Coverage Distance | M19: 8 | N19: m | O19: (see 'C' in Layout Diagram below)
K20: OR | M20: ="= specfic airflow rate: "&'HSC-FD Equations'!C206&" "&'HSC-FD Equations'!D4 -> = specfic airflow rate: 2.3 L/s/m²
C21: Diffuser as Return Air (R/A) Inlet: | L21: Max Specific Airflow Rate | M21: 15 | N21: ='HSC-FD Equations'!D4 -> L/s/m² | O21: ="≤ "&'HSC-FD Equations'!C209&" "&'HSC-FD Equations'!D4 -> ≤ 30 L/s/m²
C22: 1. R/A diffuser pressure loss to be taken as equal to supply air static pressure. | M22: ="average diffuser coverage 'C': "&ROUND('HSC-FD Equations'!C208,1) & " m" -> average diffuser coverage 'C': 7.3 m
C23: 2. R/A diffuser sound power level is up to 2 dB(A) greater than the supply air sound power level. | L23: Room Temperature (draught rating) | M23: 23 | N23: °C | O23: 20 °C to 26 °C (default 23 °C)
D25: Spigot Sizing | L25: Diffuser Location | M25: Closed Ceiling | O25: Freely Suspended (≥ 600 mm below ceiling)
D27: ASNZ Sizes (DN150; DN200; DN250; DN300; DN350; DN400) | L27: % Low Level Return (heating) | M27: 0 | O27: 0% to 100% (default 0%)
D28: DIN Sizes (DN160; DN200; DN250; DN315; DN355; DN400)
K29: Thermal Comfort Guide
C30: Related Products | K30: ADPI ≥ 95%; ṽ ≤ 0.20 m/s: | L30: Premium comfort, sedentary activity, such as in auditoria.
C31: Smartemp HSC-AD: | D31: for increased flow rates; optionally with thermal/electric adjustment | K31: ADPI ≥ 90%; ṽ ≤ 0.25 m/s: | L31: High comfort near-sedentary activity, such as in board rooms, high end offices and libraries.
C32: Smartemp LMC-AD: | D32: for a high-induction, linear-type solution | K32: ADPI ≥ 80%; ṽ ≤ 0.29 m/s: | L32: Good comfort near sedentary activity, such as open-plan offices and meeting rooms.
C33: Smartemp PMW-AD: | D33: for a high-induction, wall-mounted solution | K33: ADPI ≥ 70%; ṽ ≤ 0.33 m/s: | L33: Standard comfort medium activity, such as in transient spaces, retail and lobbies.
D36: =IF('HSC-FD Equations'!C315,"Perf (L12) only available with DN355 (E19)","SMARTEMP HSC-FD-") -> SMARTEMP HSC-FD- | G36: ='HSC-FD Equations'!C270 -> DN355-R0 | H36: ='HSC-FD Equations'!D270 -> DN355-R1 | I36: ='HSC-FD Equations'!E270 -> DN355-R2 | J36: ='HSC-FD Equations'!F270 -> DN355-R3 | K36: ='HSC-FD Equations'!G270 -> DN355-R4 | L36: ='HSC-FD Equations'!H270 -> DN355-R5 | M36: ='HSC-FD Equations'!I270 -> DN355-R6 | N36: Key: | O36: Suitable | P36: Not Suitable | Q36: Warning / Warning
C37: Airflow | D37: Selected Airflow | F37: ='HSC-FD Equations'!$D$3 -> [L/s] | G37: ='HSC-FD Equations'!C271 -> 120 | H37: ='HSC-FD Equations'!D271 -> 120 | I37: ='HSC-FD Equations'!E271 -> 120 | J37: ='HSC-FD Equations'!F271 -> 120 | K37: ='HSC-FD Equations'!G271 -> 120 | L37: ='HSC-FD Equations'!H271 -> 120 | M37: ='HSC-FD Equations'!I271 -> 120
D38: Airflow @ Selected Pressure | F38: ='HSC-FD Equations'!$D$3 -> [L/s] | G38: ='HSC-FD Equations'!C272 -> 239.9 | H38: ='HSC-FD Equations'!D272 -> 204.2 | I38: ='HSC-FD Equations'!E272 -> 174.1 | J38: ='HSC-FD Equations'!F272 -> 129.2 | K38: ='HSC-FD Equations'!G272 -> 97 | L38: ='HSC-FD Equations'!H272 -> 64.4 | M38: ='HSC-FD Equations'!I272 -> 45.7
D39: Selected Min Airflow (Turndown To) | F39: ='HSC-FD Equations'!$D$3 -> [L/s] | G39: ='HSC-FD Equations'!C273 -> 120 | H39: ='HSC-FD Equations'!D273 -> 120 | I39: ='HSC-FD Equations'!E273 -> 120 | J39: ='HSC-FD Equations'!F273 -> 120 | K39: ='HSC-FD Equations'!G273 -> 120 | L39: ='HSC-FD Equations'!H273 -> 120 | M39: ='HSC-FD Equations'!I273 -> 120
D40: Min Permissible Airflow | F40: ='HSC-FD Equations'!$D$3 -> [L/s] | G40: ='HSC-FD Equations'!C274 -> 47.8 | H40: ='HSC-FD Equations'!D274 -> 41.6 | I40: ='HSC-FD Equations'!E274 -> 34.1 | J40: ='HSC-FD Equations'!F274 -> 26.4 | K40: ='HSC-FD Equations'!G274 -> 19.4 | L40: ='HSC-FD Equations'!H274 -> 13.5 | M40: ='HSC-FD Equations'!I274 -> 9.5
D41: Selected Turndown to % | G41: ='HSC-FD Equations'!C275 -> 1 | H41: ='HSC-FD Equations'!D275 -> 1 | I41: ='HSC-FD Equations'!E275 -> 1 | J41: ='HSC-FD Equations'!F275 -> 1 | K41: ='HSC-FD Equations'!G275 -> 1 | L41: ='HSC-FD Equations'!H275 -> 1 | M41: ='HSC-FD Equations'!I275 -> 1
D42: Min Permissible % Turndown to | G42: ='HSC-FD Equations'!C276 -> 0.399 | H42: ='HSC-FD Equations'!D276 -> 0.347 | I42: ='HSC-FD Equations'!E276 -> 0.285 | J42: ='HSC-FD Equations'!F276 -> 0.22 | K42: ='HSC-FD Equations'!G276 -> 0.162 | L42: ='HSC-FD Equations'!H276 -> 0.112 | M42: ='HSC-FD Equations'!I276 -> 0.079 | U42: `
C43: Pressure* | D43: Static Pressure @ 100% Airflow | F43: [Pa] | G43: ='HSC-FD Equations'!C277 -> 8.8 | H43: ='HSC-FD Equations'!D277 -> 12.1 | I43: ='HSC-FD Equations'!E277 -> 16.6 | J43: ='HSC-FD Equations'!F277 -> 30.2 | K43: ='HSC-FD Equations'!G277 -> 53.6 | L43: ='HSC-FD Equations'!H277 -> 121.5 | M43: ='HSC-FD Equations'!I277 -> 241.6 | N43: * Values valid for diffuser including side-entry plenum box with round spigot (refer to woksheet 'Notes & Drawings HSC-FD')
D44: Total Pressure @ 100% Airflow | F44: [Pa] | G44: ='HSC-FD Equations'!C278 -> 12.4 | H44: ='HSC-FD Equations'!D278 -> 15.7 | I44: ='HSC-FD Equations'!E278 -> 20.3 | J44: ='HSC-FD Equations'!F278 -> 33.8 | K44: ='HSC-FD Equations'!G278 -> 57.2 | L44: ='HSC-FD Equations'!H278 -> 125.1 | M44: ='HSC-FD Equations'!I278 -> 245.3
D45: Max Selected Static Pressure | F45: [Pa] | G45: ='HSC-FD Equations'!C279 -> 35 | H45: ='HSC-FD Equations'!D279 -> 35 | I45: ='HSC-FD Equations'!E279 -> 35 | J45: ='HSC-FD Equations'!F279 -> 35 | K45: ='HSC-FD Equations'!G279 -> 35 | L45: ='HSC-FD Equations'!H279 -> 35 | M45: ='HSC-FD Equations'!I279 -> 35
C46: Acoustics | D46: Sound Power Level | F46: [dB(A)] | G46: ='HSC-FD Equations'!C280 -> 27.2 | H46: ='HSC-FD Equations'!D280 -> 32 | I46: ='HSC-FD Equations'!E280 -> 37 | J46: ='HSC-FD Equations'!F280 -> 40.8 | K46: ='HSC-FD Equations'!G280 -> 46 | L46: ='HSC-FD Equations'!H280 -> 54 | M46: ='HSC-FD Equations'!I280 -> 60.1
D47: Sound Pressure Level* | F47: [NC] | G47: ='HSC-FD Equations'!C281 -> 12.2 | H47: ='HSC-FD Equations'!D281 -> 17 | I47: ='HSC-FD Equations'!E281 -> 22 | J47: ='HSC-FD Equations'!F281 -> 25.8 | K47: ='HSC-FD Equations'!G281 -> 31 | L47: ='HSC-FD Equations'!H281 -> 39 | M47: ='HSC-FD Equations'!I281 -> 45.1 | N47: * Based on 10 dB(A) room absorption
C48: Heating | D48: Max Recommended Heating ΔT (Centre Zone) | F48: [K] | G48: ='HSC-FD Equations'!C282 -> 9.7 | H48: ='HSC-FD Equations'!D282 -> 10.2 | I48: ='HSC-FD Equations'!E282 -> 11.4 | J48: ='HSC-FD Equations'!F282 -> 12.7 | K48: ='HSC-FD Equations'!G282 -> 14.2 | L48: ='HSC-FD Equations'!H282 -> 15.7 | M48: ='HSC-FD Equations'!I282 -> 17.6 | N48: ='HSC-FD Equations'!C318 -> Heating valid for specific flowrate of 2.3 L/s/m² (see Cells K17:K21) at 2.7 m height.
D49: Max Recommended Heating ΔT (Perimeter) | F49: [K] | G49: ='HSC-FD Equations'!C283 -> 6.5 | H49: ='HSC-FD Equations'!D283 -> 6.8 | I49: ='HSC-FD Equations'!E283 -> 7.6 | J49: ='HSC-FD Equations'!F283 -> 8.4 | K49: ='HSC-FD Equations'!G283 -> 9.5 | L49: ='HSC-FD Equations'!H283 -> 10.5 | M49: ='HSC-FD Equations'!I283 -> 11.7
C50: Distances & Layout | D50: Max Coverage 'Cmax' (for Centre Zones) | F50: [m] | G50: ='HSC-FD Equations'!C284 -> 12.7 | H50: ='HSC-FD Equations'!D284 -> 13 | I50: ='HSC-FD Equations'!E284 -> 13.3 | J50: ='HSC-FD Equations'!F284 -> 14 | K50: ='HSC-FD Equations'!G284 -> 15.3 | L50: ='HSC-FD Equations'!H284 -> 18.8 | M50: ='HSC-FD Equations'!I284 -> 22.9
D51: Max Coverage 'Cmax' (for Perimeter Zones) | F51: [m] | G51: ='HSC-FD Equations'!C285 -> 11.5 | H51: ='HSC-FD Equations'!D285 -> 11.6 | I51: ='HSC-FD Equations'!E285 -> 12 | J51: ='HSC-FD Equations'!F285 -> 12.6 | K51: ='HSC-FD Equations'!G285 -> 13.8 | L51: ='HSC-FD Equations'!H285 -> 17 | M51: ='HSC-FD Equations'!I285 -> 22.9 | N51: ='HSC-FD Equations'!C321
D52: Min Coverage 'Cmin' | F52: [m] | G52: ='HSC-FD Equations'!C286 -> 2.5 | H52: ='HSC-FD Equations'!D286 -> 2.6 | I52: ='HSC-FD Equations'!E286 -> 2.6 | J52: ='HSC-FD Equations'!F286 -> 2.7 | K52: ='HSC-FD Equations'!G286 -> 2.9 | L52: ='HSC-FD Equations'!H286 -> 3.4 | M52: ='HSC-FD Equations'!I286 -> 4.5 | N52: ='HSC-FD Equations'!C322
D53: Min Recommended Diffuser Height | F53: [m] | G53: ='HSC-FD Equations'!C287 -> 2.4 | H53: ='HSC-FD Equations'!D287 -> 2.4 | I53: ='HSC-FD Equations'!E287 -> 2.4 | J53: ='HSC-FD Equations'!F287 -> 2.4 | K53: ='HSC-FD Equations'!G287 -> 2.4 | L53: ='HSC-FD Equations'!H287 -> 2.4 | M53: ='HSC-FD Equations'!I287 -> 2.4 | N53: ='HSC-FD Equations'!C323
C54: Comfort | D54: Mean Room Air Velocity | F54: [m/s] | G54: ='HSC-FD Equations'!C288 -> 0.1 | H54: ='HSC-FD Equations'!D288 -> 0.1 | I54: ='HSC-FD Equations'!E288 -> 0.1 | J54: ='HSC-FD Equations'!F288 -> 0.11 | K54: ='HSC-FD Equations'!G288 -> 0.11 | L54: ='HSC-FD Equations'!H288 -> 0.12 | M54: ='HSC-FD Equations'!I288 -> 0.13
D55: Mean Draught Rating | F55: DR | G55: ='HSC-FD Equations'!C289 -> 0.077 | H55: ='HSC-FD Equations'!D289 -> 0.079 | I55: ='HSC-FD Equations'!E289 -> 0.082 | J55: ='HSC-FD Equations'!F289 -> 0.086 | K55: ='HSC-FD Equations'!G289 -> 0.093 | L55: ='HSC-FD Equations'!H289 -> 0.104 | M55: ='HSC-FD Equations'!I289 -> 0.118
D56: Mean PPD | G56: ='HSC-FD Equations'!C290 -> 0.052 | H56: ='HSC-FD Equations'!D290 -> 0.053 | I56: ='HSC-FD Equations'!E290 -> 0.054 | J56: ='HSC-FD Equations'!F290 -> 0.055 | K56: ='HSC-FD Equations'!G290 -> 0.058 | L56: ='HSC-FD Equations'!H290 -> 0.062 | M56: ='HSC-FD Equations'!I290 -> 0.066 | N56: ='HSC-FD Equations'!C319 -> Comfort criteria for specific airflow rate of 2.3 L/s/m² (see Cells K17:K21) and room temperature of 23°C (Cell M23)
D57: Satisfies PPD Category | F57: ISO7733 | G57: ='HSC-FD Equations'!C291 -> A | H57: ='HSC-FD Equations'!D291 -> A | I57: ='HSC-FD Equations'!E291 -> A | J57: ='HSC-FD Equations'!F291 -> A | K57: ='HSC-FD Equations'!G291 -> A | L57: ='HSC-FD Equations'!H291 -> B | M57: ='HSC-FD Equations'!I291 -> B | N57: "
D58: |PMV| | F58: ISO7730; ASHRAE Std 55 | G58: ='HSC-FD Equations'!C292 -> < 0.2 | H58: ='HSC-FD Equations'!D292 -> < 0.2 | I58: ='HSC-FD Equations'!E292 -> < 0.2 | J58: ='HSC-FD Equations'!F292 -> < 0.2 | K58: ='HSC-FD Equations'!G292 -> < 0.2 | L58: ='HSC-FD Equations'!H292 -> < 0.2 | M58: ='HSC-FD Equations'!I292 -> < 0.3
C59: Plenum Box | D59: Standard Plenum Box Spigot Dia. | F59: [mm] | G59: ='HSC-FD Equations'!C293 -> DN250 | H59: ='HSC-FD Equations'!D293 -> DN250 | I59: ='HSC-FD Equations'!E293 -> DN250 | J59: ='HSC-FD Equations'!F293 -> DN250 | K59: ='HSC-FD Equations'!G293 -> DN250 | L59: ='HSC-FD Equations'!H293 -> DN250 | M59: ='HSC-FD Equations'!I293 -> DN250 | N59: See 'Plenum Box Details' worksheet for spigot and plenum box details and other sizes
D60: 250mm Low Profile Plenum Box Spigot Dia. | F60: [mm] | G60: ='HSC-FD Equations'!C294 -> DN300 | H60: ='HSC-FD Equations'!D294 -> DN300 | I60: ='HSC-FD Equations'!E294 -> DN300 | J60: ='HSC-FD Equations'!F294 -> DN300 | K60: ='HSC-FD Equations'!G294 -> DN300 | L60: ='HSC-FD Equations'!H294 -> DN300 | M60: ='HSC-FD Equations'!I294 -> DN300 | N60: Refer to 'Notes' worksheet for selection tool notes
D62: Product Selection & Code Generator
D63: Select reducer to create order code | G63: R0 | H63: R1 | I63: R2 | J63: R3 | K63: R4 | L63: R5 | M63: R6 | N63: return air | O63: * indicates standard/default option
D64: Face Shape | H64: =Data!C46 -> □ 595 mm square face* | J64: =Data!C47 -> ø 500 mm circular face | L64: =Data!C48 -> custom face size | O64: =Data!D49 -> □ 595 mm square face
D65: Discharge Direction | I65: =M9 -> 4 Way (360°) | J65: selected in cell M9 | O65: - see cell M9
D66: Perforated face | I66: Perforated plate (cell L13) | J66: =IF('HSC-FD Equations'!C21,"is selected","is not selected") -> is not selected | O66: - see cell L13
D67: Colour | H67: RAL9003* (signal white) | J67: RAL9005 (jet black) | L67: other | O67: powder coated
D68: Connection Box | G68: No Connection Box * | I68: Insulated box with magnetic fastener & cap | L68: Insulated box with threaded rod fastener and cap | O68: =Data!C64 -> No connection box
D69: Order Code | G69: =_order_code -> SMARTEMP HSC-FD-DN355-S595-R0-4w-P0-RAL9003-0 | O69: - more detailed options available in the HSC-FD product brochure
O70: go to 'Selection Summary' for a printable summary of the selection
I71: click to see product on smartair.asia | S71: Copyright © 2020 SMARTAIR DIFFUSION

Sheet HSC-FD Equations
B1: Units
B3: Unit Type | C3: 1 | D3: =IF(C3=1,"[L/s]","[m³/h]") -> [L/s] | E3: =IF(C3=1,"L/s","m³/h") -> L/s
B4: Unit Multiplier | C4: =IF(C3=1,1,3.6) -> 1 | D4: =IF(C3=1,"L/s/m²","m³/h/m²") -> L/s/m²
B6: Airflow Rate | C6: ='HSC-FD'!E9/C4 -> 120
B8: Converted Flowrate | C8: ="= " &IF(C3=1,'HSC-FD'!E9*3.6,ROUND('HSC-FD'!E9/3.6,1)) -> = 432 | D8: =IF(C3=1,"m³/h","L/s") -> m³/h
B10: Input Values
B12: Neck Size | C12: ='HSC-FD'!E19 -> DN355 | E12: mm | L12: Max Airflow
B13: Airflow Rate - Converted | C13: =C6 -> 120 | E13: L/s | L13: Max Recommended Airflow (L/s)
B14: VAV | C14: ='HSC-FD'!E11 -> 100 | E14: % | L14: Min Airflow (L/s)
B15: Max Static Pressure | C15: ='HSC-FD'!E13 -> 35 | E15: Pa | L15: Min P Airflow
B16: dT (cooling) | C16: ='HSC-FD'!E15 -> -12 | E16: K | L16: Min % Airflow
B17: Room Height | C17: ='HSC-FD'!E17 -> 2.7 | E17: m | L17: Min Permissible % TD to
B18: Discharge Direction | C18: ='HSC-FD'!M9 -> 4 Way (360°) | D18: =Data!B54 -> 4w | L18: Max Total Pressure (Pa)
B19: Spec Airflow Rate | C19: ='HSC-FD'!M21/C4 -> 15 | E19: L/s/m2
B20: ADPI | C20: ='HSC-FD'!M11 -> 0.9 | L20: Sound Power Level (dBA)
B21: perforated plate | C21: FALSE | L21: Sound Pressure Level (NC)
B22: Low level return | C22: ='HSC-FD'!M27 -> 0 | L22: Max Permissible ΔT (heating) (K)
B23: freely suspended | C23: 1
B24: Room Temp | C24: ='HSC-FD'!M23 -> 23 | E24: C
B25: Diffuser dist setting | C25: 1
B26: manual diffuser dist | C26: ='HSC-FD'!M19 -> 8 | E26: m | L26: H_min (m)
L27: C_min (m)
B28: Input Pre Calcs | L28: C_max (m)
B30: Neck Size | C30: =RIGHT(C12,3) -> 355
B31: Airflow Rate -4w equ | C31: =C13*(4/C36) -> 120 | E31: afr = afr *(4/discharge direction)
B32: VAV | C32: =C14/100 -> 1
B33: Max Static Pressure | C33: =C15 -> 35
B34: dT (cooling) | C34: =IF(ABS(C16)<8,8,ABS(C16)) -> 12 | D34: for @ velocity use '-8' for values 0 and -8 K
B35: Room Height | C35: =C17 -> 2.7
B36: Discharge Direction | C36: =_xlfn.NUMBERVALUE(LEFT(C18,1)) -> 4
B37: Spec Airflow Rate for heating | C37: =IF(C25=3,IF(C19>10,10,IF(C19<2,2,C19)),$C$207) -> 2.3
B38: ADPI | C38: =C20*100 -> 90
B39: Local Velocity | C39: =VLOOKUP(C20,Data!$A$28:$B$32,2,0) -> 0.25
B40: Perf-plate pressure | C40: =IF(C21,1.1,1) -> 1
B41: Perf Plate Vmin | C41: =IF(C21,1.7,1) -> 1
B42: Perf-plate noise | C42: =IF(C21,10,0) -> 0
B44: V_turndown | C44: =$C$13*$C$32 -> 120 | E44: v_td=afr*vav
B45: V_turndown - 4 way equiv | C45: =C31*C32 -> 120
B46: Low Level Return | C46: =1+C22 -> 1
B47: free susp | C47: =IF(C23=2,TRUE,FALSE) -> FALSE
B48: Free Susp (heat) | C48: =IF(C47,0.5, 1) -> 1
B49: Free Susp (Hmin) | C49: =IF($C$47,1.1, 1) -> 1
B50: Free susp (Cmin) | C50: =IF($C$47,0.85, 1) -> 1
B51: Free Susp (Cmax) | C51: =IF($C$47,0.8, 1) -> 1
B52: 2-Way 180 deg | C52: =IF(Data!B54="2a",0.5,1) -> 1
B54: Cmin Table
E55: Target Q''
B56: H | C56: ax | D56: ^b | E56: Q''
B57: 2.7 | C57: 4510 | D57: 2.2693 | E57: =C57*$C$39^D57 -> 194.05364
B58: 4 | C58: 3884 | D58: 2.2426 | E58: =C58*$C$39^D58 -> 173.42012
B59: 10.0001 | C59: 3435 | D59: 2.2754 | E59: =C59*$C$39^D59 -> 146.55459
C60: Ax | D60: ^b
B61: =C35 -> 2.7 | C61: =EXP(INDEX(LINEST(LN(E57:E59),LN(B57:B59),,),1,2)) -> 235.858 | D61: =INDEX(LINEST(LN(E57:E59),LN(B57:B59),,),1) -> -0.20897278 | E61: =C61*B61^D61 -> 191.64934 | F61: W/m2
C62: v'
B63: v' & Vmax | C63: =$E$61/$C$34 -> 15.970778
B64: v' & Vmin | C64: =C63+C65 -> 19.970778
B65: v'' +correction factor | C65: 4
B67: Cmax Table
B68: adpi | C68: v' @Vmax | D68: v' @ Vmin | F68: Hfactor @ Vmax | G68: Hfactor @ Vmin
B69: 0.95 | C69: 0.955 | D69: 1.27 | F69: 5.3170379 | G69: 4.4308649
B70: 0.9 | C70: 0.75 | D70: 1 | F70: 6 | G70: 5
B71: 0.85 | C71: =6.623*0.85^2-8.55*0.85+3.09 -> 0.6076175 | D71: =9.17*0.85^2-11.971*0.85+4.3583 -> 0.808275 | F71: =-13.659*0.85+18.293 -> 6.68285 | G71: =-11.383*0.85+15.244 -> 5.56845
B72: 0.8 | C72: 0.5 | D72: 0.66 | F72: 7.3659242 | G72: 6.1382702
B73: 0.7 | C73: 0.35 | D73: 0.47 | F73: 8.7318484 | G73: 7.2765403
B74: v' & Vmax | C74: =VLOOKUP($C$20,$B$69:$D$73,2,0) -> 0.75 | E74: at ADPI | F74: =VLOOKUP($C$20,$B$69:$G$73,5,0) -> 6 | G74: factor * room height
B75: v' & Vmin | C75: =VLOOKUP($C$20,$B$69:$D$73,3,0) -> 1 | F75: =VLOOKUP($C$20,$B$69:$G$73,6,0) -> 5
B77: Cmax-Centre Zone Table
B78: adpi | C78: v' @Vmax | D78: v' @ Vmin | F78: Hfactor @ Vmax | G78: Hfactor @ Vmin
B79: 0.95 | C79: =6.623*(B79-0.05)^2-8.55*(B79-0.05)+3.09 -> 0.75963 | D79: =9.17*(B79-0.05)^2-11.971*(B79-0.05)+4.3583 -> 1.0121 | F79: 5.3170379 | G79: 4.4308649
B80: 0.9 | C80: =6.623*(B80-0.05)^2-8.55*(B80-0.05)+3.09 -> 0.6076175 | D80: =9.17*(B80-0.05)^2-11.971*(B80-0.05)+4.3583 -> 0.808275 | F80: 6 | G80: 5
B81: 0.85 | C81: =6.623*(B81-0.05)^2-8.55*(B81-0.05)+3.09 -> 0.48872 | D81: =9.17*(B81-0.05)^2-11.971*(B81-0.05)+4.3583 -> 0.6503 | F81: =-13.659*0.85+18.293 -> 6.68285 | G81: =-11.383*0.85+15.244 -> 5.56845
B82: 0.8 | C82: =6.623*(B82-0.05)^2-8.55*(B82-0.05)+3.09 -> 0.4029375 | D82: =9.17*(B82-0.05)^2-11.971*(B82-0.05)+4.3583 -> 0.538175 | F82: 7.3659242 | G82: 6.1382702
B83: 0.7 | C83: =6.623*(B83-0.05)^2-8.55*(B83-0.05)+3.09 -> 0.3307175 | D83: =9.17*(B83-0.05)^2-11.971*(B83-0.05)+4.3583 -> 0.451475 | F83: 8.7318484 | G83: 7.2765403
B84: v' & Vmax | C84: =VLOOKUP($C$20,$B$79:$D$83,2,0) -> 0.6076175 | E84: at ADPI | F84: =VLOOKUP($C$20,$B$79:$G$83,5,0) -> 6 | G84: factor * room height
B85: v' & Vmin | C85: =VLOOKUP($C$20,$B$79:$D$83,3,0) -> 0.808275 | F85: =VLOOKUP($C$20,$B$79:$G$83,6,0) -> 5
B87: COVERAGE AND RADIUS - multipliers (discharge patttern)
B88: R multiplier | C88: =IF($C$36=4,1/2,IF($C$36=3,1/SQRT(2),1)) -> 0.5
B89: Area multiplier | C89: =(1/C88)^2 -> 4 | D89: A= M*R^2
B90: R to Coverage Conversion | C90: =IF(D18="2a",1,2) -> 2
B91: Area multiplier from C | C91: =IF($D$18="2s",0.25,IF($D$18="3w",0.5,1)) -> 1 | D91: A= M * C^2
B93: 250 | AY93: 355 | CV93: DN500
B95: 250 Reducer 0 | I95: 250 Reducer 1 | P95: 250 Reducer 2 | W95: 250 Reducer 3 | AD95: 250 Reducer 4 | AK95: 250 Reducer 5 | AR95: 250 Reducer 6 | AY95: Reducer 0 | BF95: Reducer 1 | BM95: Reducer 2 | BT95: Reducer 3 | CA95: Reducer 4 | CH95: Reducer 5 | CO95: Reducer 6 | CV95: Reducer 0 | DC95: Reducer 1 | DJ95: Reducer 2 | DQ95: Reducer 3 | DX95: Reducer 4 | EE95: Reducer 5
B96: data.Flowrate | C96: 110 | D96: L/s | E96: P Static | F96: =35-3.06 -> 31.94 | G96: Pa | I96: data.Flowrate | J96: =BG96/2 -> 96.11 | K96: L/s | L96: P Static | M96: =BJ96 -> 31 | N96: Pa | P96: data.Flowrate | Q96: =BN96/2 -> 78.845 | R96: L/s | S96: P Static | T96: =BQ96 -> 28.7 | U96: Pa | W96: data.Flowrate | X96: =BU96/2 -> 61.005 | Y96: L/s | Z96: P Static | AA96: =BX96 -> 31.2 | AB96: Pa | AD96: data.Flowrate | AE96: =CB96/2 -> 44.89 | AF96: L/s | AG96: P Static | AH96: =CE96 -> 30 | AI96: Pa | AK96: data.Flowrate | AL96: =CI96/2 -> 31.08 | AM96: L/s | AN96: P Static | AO96: =CL96 -> 32.6 | AP96: Pa | AR96: data.Flowrate | AS96: =CP96/2 -> 21.87 | AT96: L/s | AU96: P Static | AV96: =CS96 -> 32.1 | AW96: Pa | AY96: data.Flowrate | AZ96: 221 | BA96: L/s | BB96: P Static | BC96: =35-5.3 -> 29.7 | BD96: Pa | BF96: data.Flowrate | BG96: 192.22 | BH96: L/s | BI96: Vmin | BJ96: =35-4 -> 31 | BK96: Pa | BM96: data.Flowrate | BN96: 157.69 | BO96: L/s | BP96: Vmin | BQ96: =35-6.3 -> 28.7 | BR96: Pa | BT96: data.Flowrate | BU96: 122.01 | BV96: L/s | BW96: P static | BX96: =35-3.8 -> 31.2 | BY96: Pa | CA96: data.Flowrate | CB96: 89.78 | CC96: L/s | CD96: Vmin | CE96: =35-5 -> 30 | CF96: Pa | CH96: data.Flowrate | CI96: 62.16 | CJ96: L/s | CK96: Vmin | CL96: =35-2.4 -> 32.6 | CM96: Pa | CO96: data.Flowrate | CP96: 43.74 | CQ96: L/s | CR96: P static | CS96: =35-2.9 -> 32.1 | CT96: Pa | CV96: data.Flowrate | CW96: 440 | CX96: L/s | CY96: P static | CZ96: =35-8.6 -> 26.4 | DA96: Pa | DC96: data.Flowrate | DD96: 398 | DE96: L/s | DF96: P static | DG96: =35-7 -> 28 | DH96: Pa | DJ96: data.Flowrate | DK96: 358 | DL96: L/s | DM96: Vmin | DN96: =35-5.7 -> 29.3 | DO96: Pa | DQ96: data.Flowrate | DR96: 295 | DS96: L/s | DT96: Vmin | DU96: =35-6.2 -> 28.8 | DV96: Pa | DX96: data.Flowrate | DY96: 220 | DZ96: L/s | EA96: Vmin | EB96: =35-5.3 -> 29.7 | EC96: Pa | EE96: data.Flowrate | EF96: 151 | EG96: L/s | EH96: Vmin | EI96: =35-5.8 -> 29.2 | EJ96: Pa
B97: data.If.Perforated | C97: =C96 -> 110 | D97: L/s | F97: =F96*$C$40 -> 31.94 | G97: Pa | I97: data.If.Perforated | J97: =J96 -> 96.11 | K97: L/s | M97: =M96*$C$40 -> 31 | N97: Pa | P97: data.If.Perforated | Q97: =Q96 -> 78.845 | R97: L/s | T97: =T96*$C$40 -> 28.7 | U97: Pa | W97: data.If.Perforated | X97: =X96 -> 61.005 | Y97: L/s | AA97: =AA96*$C$40 -> 31.2 | AB97: Pa | AD97: data.If.Perforated | AE97: =AE96 -> 44.89 | AF97: L/s | AH97: =AH96*$C$40 -> 30 | AI97: Pa | AK97: data.If.Perforated | AL97: =AL96 -> 31.08 | AM97: L/s | AO97: =AO96*$C$40 -> 32.6 | AP97: Pa | AR97: data.If.Perforated | AS97: =AS96 -> 21.87 | AT97: L/s | AV97: =AV96*$C$40 -> 32.1 | AW97: Pa | AY97: data.Perforated | AZ97: =AZ96 -> 221 | BA97: L/s | BC97: =BC96*$C$40 -> 29.7 | BD97: Pa | BF97: data.Perforated | BG97: =BG96 -> 192.22 | BH97: L/s | BJ97: =BJ96*$C$40 -> 31 | BK97: Pa | BM97: data.Perforated | BN97: =BN96 -> 157.69 | BO97: L/s | BQ97: =BQ96*$C$40 -> 28.7 | BR97: Pa | BT97: data.Perforated | BU97: =BU96 -> 122.01 | BV97: L/s | BX97: =BX96*$C$40 -> 31.2 | BY97: Pa | CA97: data.Perforated | CB97: =CB96 -> 89.78 | CC97: L/s | CE97: =CE96*$C$40 -> 30 | CF97: Pa | CH97: data.Perforated | CI97: =CI96 -> 62.16 | CJ97: L/s | CK97: 28 | CL97: =CL96*$C$40 -> 32.6 | CM97: Pa | CO97: data.Perforated | CP97: =CP96 -> 43.74 | CQ97: L/s | CS97: =CS96*$C$40 -> 32.1 | CT97: Pa | CV97: data.Perforated | CW97: =CW96 -> 440 | CX97: L/s | CZ97: =CZ96*$C$40 -> 26.4 | DA97: Pa | DC97: data.Perforated | DD97: =DD96 -> 398 | DE97: L/s | DG97: =DG96*$C$40 -> 28 | DH97: Pa | DJ97: data.Perforated | DK97: =DK96 -> 358 | DL97: L/s | DN97: =DN96*$C$40 -> 29.3 | DO97: Pa | DQ97: data.Perforated | DR97: =DR96 -> 295 | DS97: L/s | DU97: =DU96*$C$40 -> 28.8 | DV97: Pa | DX97: data.Perforated | DY97: =DY96 -> 220 | DZ97: L/s | EB97: =EB96*$C$40 -> 29.7 | EC97: Pa | EE97: data.Perforated | EF97: =EF96 -> 151 | EG97: L/s | EI97: =EI96*$C$40 -> 29.2 | EJ97: Pa
B98: Static Pressure | C98: =($C$31/C97)^2*F97 -> 38.01124 | I98: Static Pressure | J98: =($C$31/J97)^2*M97 -> 48.326688 | P98: Static Pressure | Q98: =($C$31/Q97)^2*T97 -> 66.480775 | W98: Static Pressure | X98: =($C$31/X97)^2*AA97 -> 120.72194 | AD98: Static Pressure | AE98: =($C$31/AE97)^2*AH97 -> 214.38013 | AK98: Static Pressure | AL98: =($C$31/AL97)^2*AO97 -> 485.97964 | AR98: Static Pressure | AS98: =($C$31/AS97)^2*AV97 -> 966.42901 | AY98: Static Pressure | AZ98: =($C$31/AZ97)^2*BC97 -> 8.7565775 | BF98: Static Pressure | BG98: =($C$31/BG97)^2*BJ97 -> 12.081672 | BM98: Static Pressure | BN98: =($C$31/BN97)^2*BQ97 -> 16.620194 | BT98: Static Pressure | BU98: =($C$31/BU97)^2*BX97 -> 30.180486 | CA98: Static Pressure | CB98: =($C$31/CB97)^2*CE97 -> 53.595033 | CH98: Static Pressure | CI98: =($C$31/CI97)^2*CL97 -> 121.49491 | CO98: Static Pressure | CP98: =($C$31/CP97)^2*CS97 -> 241.60725 | CV98: Static Pressure | CW98: =($C$31/CW97)^2*CZ97 -> 1.9636364 | DC98: Static Pressure | DD98: =($C$31/DD97)^2*DG97 -> 2.5453903 | DJ98: Static Pressure | DK98: =($C$31/DK97)^2*DN97 -> 3.2920321 | DQ98: Static Pressure | DR98: =($C$31/DR97)^2*DU97 -> 4.7655271 | DX98: Static Pressure | DY98: =($C$31/DY97)^2*EB97 -> 8.8363636 | EE98: Static Pressure | EF98: =($C$31/EF97)^2*EI97 -> 18.441296
B99: Total Pressure @ Flowrate | C99: =C98+$C$348 -> 41.654889 | I99: Total Pressure @ Flowrate | J99: =J98+$C$348 -> 51.970337 | P99: Total Pressure @ Flowrate | Q99: =Q98+$C$348 -> 70.124425 | W99: Total Pressure @ Flowrate | X99: =X98+$C$348 -> 124.36559 | AD99: Total Pressure @ Flowrate | AE99: =AE98+$C$348 -> 218.02378 | AK99: Total Pressure @ Flowrate | AL99: =AL98+$C$348 -> 489.62329 | AR99: Total Pressure @ Flowrate | AS99: =AS98+$C$348 -> 970.07266 | AY99: Total Pressure @ Flowrate | AZ99: =AZ98+$C$348 -> 12.400227 | BF99: Total Pressure @ Flowrate | BG99: =BG98+$C$348 -> 15.725321 | BM99: Total Pressure @ Flowrate | BN99: =BN98+$C$348 -> 20.263843 | BT99: Total Pressure @ Flowrate | BU99: =BU98+$C$348 -> 33.824136 | CA99: Total Pressure @ Flowrate | CB99: =CB98+$C$348 -> 57.238683 | CH99: Total Pressure @ Flowrate | CI99: =CI98+$C$348 -> 125.13856 | CO99: Total Pressure @ Flowrate | CP99: =CP98+$C$348 -> 245.2509 | CV99: Total Pressure @ Flowrate | CW99: =CW98+$C$348 -> 5.6072858 | DC99: Total Pressure @ Flowrate | DD99: =DD98+$C$348 -> 6.1890398 | DJ99: Total Pressure @ Flowrate | DK99: =DK98+$C$348 -> 6.9356816 | DQ99: Total Pressure @ Flowrate | DR99: =DR98+$C$348 -> 8.4091766 | DX99: Total Pressure @ Flowrate | DY99: =DY98+$C$348 -> 12.480013 | EE99: Total Pressure @ Flowrate | EF99: =EF98+$C$348 -> 22.084946
B100: Flowrate @ MaxP | C100: =(SQRT($C$33/(F97))*C97)*($C$36/4) -> 115.14876 | I100: Flowrate @ MaxP | J100: =(SQRT($C$33/(M97))*J97)*($C$36/4) -> 102.12257 | P100: Flowrate @ MaxP | Q100: =(SQRT($C$33/(T97))*Q97)*($C$36/4) -> 87.069737 | W100: Flowrate @ MaxP | X100: =(SQRT($C$33/(AA97))*X97)*($C$36/4) -> 64.613335 | AD100: Flowrate @ MaxP | AE100: =(SQRT($C$33/(AH97))*AE97)*($C$36/4) -> 48.486742 | AK100: Flowrate @ MaxP | AL100: =(SQRT($C$33/(AO97))*AL97)*($C$36/4) -> 32.203734 | AR100: Flowrate @ MaxP | AS100: =(SQRT($C$33/(AV97))*AS97)*($C$36/4) -> 22.836539 | AY100: Flowrate @ MaxP | AZ100: =(SQRT($C$33/(BC97))*AZ97)*($C$36/4) -> 239.90985 | BF100: Flowrate @ MaxP | BG100: =(SQRT($C$33/(BJ97))*BG97)*($C$36/4) -> 204.24515 | BM100: Flowrate @ MaxP | BN100: =(SQRT($C$33/(BQ97))*BN97)*($C$36/4) -> 174.13947 | BT100: Flowrate @ MaxP | BU100: =(SQRT($C$33/(BX97))*BU97)*($C$36/4) -> 129.22667 | CA100: Flowrate @ MaxP | CB100: =(SQRT($C$33/(CE97))*CB97)*($C$36/4) -> 96.973483 | CH100: Flowrate @ MaxP | CI100: =(SQRT($C$33/(CL97))*CI97)*($C$36/4) -> 64.407468 | CO100: Flowrate @ MaxP | CP100: =(SQRT($C$33/(CS97))*CP97)*($C$36/4) -> 45.673078 | CV100: Flowrate @ MaxP | CW100: =(SQRT($C$33/(CZ97))*CW97)*($C$36/4) -> 506.62281 | DC100: Flowrate @ MaxP | DD100: =(SQRT($C$33/(DG97))*DD97)*($C$36/4) -> 444.97753 | DJ100: Flowrate @ MaxP | DK100: =(SQRT($C$33/(DN97))*DK97)*($C$36/4) -> 391.27603 | DQ100: Flowrate @ MaxP | DR100: =(SQRT($C$33/(DU97))*DR97)*($C$36/4) -> 325.20693 | DX100: Flowrate @ MaxP | DY100: =(SQRT($C$33/(EB97))*DY97)*($C$36/4) -> 238.82428 | EE100: Flowrate @ MaxP | EF100: =(SQRT($C$33/(EI97))*EF97)*($C$36/4) -> 165.31777
B101: V_min | C101: =(SQRT($C$34/16)*0.25*C97)*($C$36/4)*$C$41 -> 23.815699 | I101: V_min | J101: =(SQRT($C$34/16)*0.25*J97)*($C$36/4)*$C$41 -> 20.808425 | P101: V_min | Q101: =(SQRT($C$34/16)*0.25*Q97)*($C$36/4)*$C$41 -> 17.070443 | W101: V_min | X101: =(SQRT($C$34/16)*0.25*X97)*($C$36/4)*$C$41 -> 13.20797 | AD101: V_min | AE101: =(SQRT($C$34/16)*0.25*AE97)*($C$36/4)*$C$41 -> 9.7189701 | AK101: V_min | AL101: =(SQRT($C$34/16)*0.25*AL97)*($C$36/4)*$C$41 -> 6.7290174 | AR101: V_min | AS101: =(SQRT($C$34/16)*0.25*AS97)*($C$36/4)*$C$41 -> 4.7349939 | AY101: V_min | AZ101: =(SQRT($C$34/16)*0.25*AZ97)*($C$36/4)*$C$41 -> 47.847904 | BF101: V_min | BG101: =(SQRT($C$34/16)*0.25*BG97)*($C$36/4)*$C$41 -> 41.616851 | BM101: V_min | BN101: =(SQRT($C$34/16)*0.25*BN97)*($C$36/4)*$C$41 -> 34.140886 | BT101: V_min | BU101: =(SQRT($C$34/16)*0.25*BU97)*($C$36/4)*$C$41 -> 26.41594 | CA101: V_min | CB101: =(SQRT($C$34/16)*0.25*CB97)*($C$36/4)*$C$41 -> 19.43794 | CH101: V_min | CI101: =(SQRT($C$34/16)*0.25*CI97)*($C$36/4)*$C$41 -> 13.458035 | CO101: V_min | CP101: =(SQRT($C$34/16)*0.25*CP97)*($C$36/4)*$C$41 -> 9.4699878 | CV101: V_min | CW101: =(SQRT($C$34/16)*0.25*CW97)*($C$36/4)*$C$41 -> 95.262794 | DC101: V_min | DD101: =(SQRT($C$34/16)*0.25*DD97)*($C$36/4)*$C$41 -> 86.169528 | DJ101: V_min | DK101: =(SQRT($C$34/16)*0.25*DK97)*($C$36/4)*$C$41 -> 77.509274 | DQ101: V_min | DR101: =(SQRT($C$34/16)*0.25*DR97)*($C$36/4)*$C$41 -> 63.869374 | DX101: V_min | DY101: =(SQRT($C$34/16)*0.25*DY97)*($C$36/4)*$C$41 -> 47.631397 | EE101: V_min | EF101: =(SQRT($C$34/16)*0.25*EF97)*($C$36/4)*$C$41 -> 32.692459
B102: Min % turndown to | C102: =C101/$C$13 -> 0.19846416 | I102: Min % turndown to | J102: =J101/$C$13 -> 0.17340354 | P102: Min % turndown to | Q102: =Q101/$C$13 -> 0.14225369 | W102: Min % turndown to | X102: =X101/$C$13 -> 0.11006642 | AD102: Min % turndown to | AE102: =AE101/$C$13 -> 0.080991417 | AK102: Min % turndown to | AL102: =AL101/$C$13 -> 0.056075145 | AR102: Min % turndown to | AS102: =AS101/$C$13 -> 0.039458282 | AY102: Min % turndown to | AZ102: =AZ101/$C$13 -> 0.39873253 | BF102: Min % turndown to | BG102: =BG101/$C$13 -> 0.34680709 | BM102: Min % turndown to | BN102: =BN101/$C$13 -> 0.28450739 | BT102: Min % turndown to | BU102: =BU101/$C$13 -> 0.22013283 | CA102: Min % turndown to | CB102: =CB101/$C$13 -> 0.16198283 | CH102: Min % turndown to | CI102: =CI101/$C$13 -> 0.11215029 | CO102: Min % turndown to | CP102: =CP101/$C$13 -> 0.078916565 | CV102: Min % turndown to | CW102: =CW101/$C$13 -> 0.79385662 | DC102: Min % turndown to | DD102: =DD101/$C$13 -> 0.7180794 | DJ102: Min % turndown to | DK102: =DK101/$C$13 -> 0.64591061 | DQ102: Min % turndown to | DR102: =DR101/$C$13 -> 0.53224478 | DX102: Min % turndown to | DY102: =DY101/$C$13 -> 0.39692831 | EE102: Min % turndown to | EF102: =EF101/$C$13 -> 0.27243716
B104: SWL | C104: =E104*LN(C98)+F104 -> 44.624386 | E104: 13.415 | F104: -4.1778 | I104: SWL | J104: =L104*LN(J98)+M104 -> 47.324378 | L104: 13.415 | M104: -4.6987767 | P104: SWL | Q104: =S104*LN(Q98)+T104 -> 50.849046 | S104: 13.4 | T104: -5.3895859 | W104: SWL | X104: =Z104*LN(X98)+AA104 -> 57.550312 | Z104: 13.4 | AA104: -6.6824532 | AD104: SWL | AE104: =AG104*LN(AE98)+AH104 -> 64.000499 | AG104: 13.4 | AH104: -7.927361 | AK104: SWL | AL104: =AN104*LN(AL98)+AO104 -> 73.188414 | AN104: 13.4 | AO104: -9.7062197 | AR104: SWL | AS104: =AU104*LN(AS98)+AV104 -> 80.900915 | AU104: 13.4 | AV104: -11.20543 | AY104: SWL | AZ104: =BB104*LN(AZ98)+BC104 -> 27.236665 | BB104: 14.752 | BC104: -4.7723 | BF104: SWL | BG104: =BI104*LN(BG98)+BJ104 -> 31.950199 | BI104: 16.69 | BJ104: -9.6361 | BM104: SWL | BN104: =BP104*$C$31^2+BQ104*$C$31+BR104+$C$42 -> 37.0186 | BP104: -0.000456 | BQ104: 0.343 | BR104: 2.425 | BT104: SWL | BU104: =BW104*$C$31^2+BX104*$C$31+BY104+$C$42 -> 40.75396 | BW104: -0.0006066 | BX104: 0.3922 | BY104: 2.425 | CA104: SWL | CB104: =CD104*$C$31^2+CE104*$C$31+CF104+$C$42 -> 46.01336 | CD104: -0.0005956 | CE104: 0.4122 | CF104: 5.126 | CH104: SWL | CI104: =CK104*$C$31^2+CL104*$C$31+CM104+$C$42 -> 54.0008 | CK104: -0.001488 | CL104: 0.5994 | CM104: 3.5 | CO104: SWL | CP104: =CR104*$C$31^2+CS104*$C$31+CT104+$C$42 -> 60.136 | CR104: -0.003135 | CS104: 0.8437 | CT104: 4.036 | CV104: SWL | CW104: =CY104*LN(CW98)+CZ104 -> 8.3726743 | CY104: 15.353 | CZ104: -1.9875 | DC104: SWL | DD104: =DF104*LN(DD98)+DG104 -> 11.300617 | DF104: 16.463 | DG104: -4.0805 | DJ104: SWL | DK104: =DM104*$C$31^2+DN104*$C$31+DO104+$C$42 -> 22.17384 | DM104: -0.0001339 | DN104: 0.1832 | DO104: 2.118 | DQ104: SWL | DR104: =DT104*$C$31^2+DU104*$C$31+DV104+$C$42 -> 24.12018 | DT104: -0.0001868 | DU104: 0.217 | DV104: 0.7701 | DX104: SWL | DY104: =EA104*$C$31^2+EB104*$C$31+EC104+$C$42 -> 27.86108 | EA104: -0.0001993 | EB104: 0.23 | EC104: 3.131 | EE104: SWL | EF104: =EH104*$C$31^2+EI104*$C$31+EJ104+$C$42 -> 33.809 | EH104: -0.000335 | EI104: 0.2805 | EJ104: 4.973
B105: SPL | C105: =C104-15 -> 29.624386 | I105: SPL | J105: =J104-15 -> 32.324378 | P105: SPL | Q105: =Q104-15 -> 35.849046 | W105: SPL | X105: =X104-15 -> 42.550312 | AD105: SPL | AE105: =AE104-15 -> 49.000499 | AK105: SPL | AL105: =AL104-15 -> 58.188414 | AR105: SPL | AS105: =AS104-15 -> 65.900915 | AY105: SPL | AZ105: =AZ104-15 -> 12.236665 | BF105: SPL | BG105: =BG104-15 -> 16.950199 | BM105: SPL | BN105: =BN104-15 -> 22.0186 | BT105: SPL | BU105: =BU104-15 -> 25.75396 | CA105: SPL | CB105: =CB104-15 -> 31.01336 | CH105: SPL | CI105: =CI104-15 -> 39.0008 | CO105: SPL | CP105: =CP104-15 -> 45.136 | CV105: SPL | CW105: =CW104-15 -> -6.6273257 | DC105: SPL | DD105: =DD104-15 -> -3.6993828 | DJ105: SPL | DK105: =DK104-15 -> 7.17384 | DQ105: SPL | DR105: =DR104-15 -> 9.12018 | DX105: SPL | DY105: =DY104-15 -> 12.86108 | EE105: SPL | EF105: =EF104-15 -> 18.809
B107: Hmin | I107: Hmin | P107: Hmin | W107: Hmin | AD107: Hmin | AK107: Hmin | AR107: Hmin | AY107: Hmin
B108: Factor | C108: =E108*$C$31^2+F108*$C$31+G108 -> 5.17412 | E108: -9.02e-05 | F108: 0.0577 | G108: -0.451 | I108: Factor | J108: =L108*$C$31^2+M108*$C$31+N108 -> 5.17412 | L108: -9.02e-05 | M108: 0.0577 | N108: -0.451 | P108: Factor | Q108: =S108*$C$31^2+T108*$C$31+U108 -> 5.17412 | S108: -9.02e-05 | T108: 0.0577 | U108: -0.451 | W108: Factor | X108: =Z108*$C$31^2+AA108*$C$31+AB108 -> 5.17412 | Z108: -9.02e-05 | AA108: 0.0577 | AB108: -0.451 | AD108: Factor | AE108: =AG108*$C$31^2+AH108*$C$31+AI108 -> 5.17412 | AG108: -9.02e-05 | AH108: 0.0577 | AI108: -0.451 | AK108: Factor | AL108: =AN108*$C$31^2+AO108*$C$31+AP108 -> 5.17412 | AN108: -9.02e-05 | AO108: 0.0577 | AP108: -0.451 | AR108: Factor | AS108: =AU108*$C$31^2+AV108*$C$31+AW108 -> 5.17412 | AU108: -9.02e-05 | AV108: 0.0577 | AW108: -0.451 | AY108: Factor | AZ108: =BB108*$C$31^2+BC108*$C$31+BD108 -> 5.17412 | BB108: -9.02e-05 | BC108: 0.0577 | BD108: -0.451 | BF108: Factor | BG108: =BI108*$C$31^2+BJ108*$C$31+BK108 -> 5.17412 | BI108: -9.02e-05 | BJ108: 0.0577 | BK108: -0.451 | BM108: Factor | BN108: =BP108*$C$31^2+BQ108*$C$31+BR108 -> 5.17412 | BP108: -9.02e-05 | BQ108: 0.0577 | BR108: -0.451 | BT108: Factor | BU108: =BW108*$C$31^2+BX108*$C$31+BY108 -> 5.17412 | BW108: -9.02e-05 | BX108: 0.0577 | BY108: -0.451 | CA108: Factor | CB108: =CD108*$C$31^2+CE108*$C$31+CF108 -> 5.17412 | CD108: -9.02e-05 | CE108: 0.0577 | CF108: -0.451 | CH108: Factor | CI108: =CK108*$C$31^2+CL108*$C$31+CM108 -> 5.17412 | CK108: -9.02e-05 | CL108: 0.0577 | CM108: -0.451 | CO108: Factor | CP108: =CR108*$C$31^2+CS108*$C$31+CT108 -> 5.17412 | CR108: -9.02e-05 | CS108: 0.0577 | CT108: -0.451 | CV108: Factor | CW108: =CY108*$C$31^2+CZ108*$C$31+DA108 -> 2.769628 | CY108: -1.563e-05 | CZ108: 0.02321 | DA108: 0.2095 | DC108: Factor | DD108: =DF108*$C$31^2+DG108*$C$31+DH108 -> 2.769628 | DF108: -1.563e-05 | DG108: 0.02321 | DH108: 0.2095 | DJ108: Factor | DK108: =DM108*$C$31^2+DN108*$C$31+DO108 -> 2.769628 | DM108: -1.563e-05 | DN108: 0.02321 | DO108: 0.2095 | DQ108: Factor | DR108: =DT108*$C$31^2+DU108*$C$31+DV108 -> 2.769628 | DT108: -1.563e-05 | DU108: 0.02321 | DV108: 0.2095 | DX108: Factor | DY108: =EA108*$C$31^2+EB108*$C$31+EC108 -> 2.769628 | EA108: -1.563e-05 | EB108: 0.02321 | EC108: 0.2095 | EE108: Factor | EF108: =EH108*$C$31^2+EI108*$C$31+EJ108 -> 2.769628 | EH108: -1.563e-05 | EI108: 0.02321 | EJ108: 0.2095
B109: H_min_90 | C109: =0.0333*C108+2.1 -> 2.2722982 | I109: H_min_90 | J109: =0.0333*J108+2.1 -> 2.2722982 | P109: H_min_90 | Q109: =0.0333*Q108+2.1 -> 2.2722982 | W109: H_min_90 | X109: =0.0333*X108+2.1 -> 2.2722982 | AD109: H_min_90 | AE109: =0.0333*AE108+2.1 -> 2.2722982 | AK109: H_min_90 | AL109: =0.0333*AL108+2.1 -> 2.2722982 | AR109: H_min_90 | AS109: =0.0333*AS108+2.1 -> 2.2722982 | AY109: H_min_90 | AZ109: =0.0333*AZ108+2.2 -> 2.3722982 | BF109: H_min | BG109: =BG108*BJ109+BK109 -> 2.3722982 | BJ109: 0.0333 | BK109: 2.2 | BM109: H_min | BN109: =BN108*BQ109+BR109 -> 2.3722982 | BQ109: 0.0333 | BR109: 2.2 | BT109: H_min | BU109: =BU108*BX109+BY109 -> 2.3722982 | BX109: 0.0333 | BY109: 2.2 | CA109: H_min | CB109: =CB108*CE109+CF109 -> 2.3722982 | CE109: 0.0333 | CF109: 2.2 | CH109: H_min | CI109: =CI108*CL109+CM109 -> 2.3722982 | CL109: 0.0333 | CM109: 2.2 | CO109: H_min | CP109: =CP108*CS109+CT109 -> 2.3722982 | CS109: 0.0333 | CT109: 2.2 | CV109: H_min | CW109: =CW108*CZ109+DA109 -> 2.3922286 | CZ109: 0.0333 | DA109: 2.3 | DC109: H_min | DD109: =DD108*DG109+DH109 -> 2.3922286 | DG109: 0.0333 | DH109: 2.3 | DJ109: H_min | DK109: =DK108*DN109+DO109 -> 2.3922286 | DN109: 0.0333 | DO109: 2.3 | DQ109: H_min | DR109: =DR108*DU109+DV109 -> 2.3922286 | DU109: 0.0333 | DV109: 2.3 | DX109: H_min | DY109: =DY108*EB109+EC109 -> 2.3922286 | EB109: 0.0333 | EC109: 2.3 | EE109: H_min | EF109: =EF108*EI109+EJ109 -> 2.3922286 | EI109: 0.0333 | EJ109: 2.3
B110: ADPI | I110: ADPI | AY110: ADPI | BF110: ADPI | BM110: ADPI | BT110: ADPI | CA110: ADPI | CH110: ADPI | CO110: ADPI | CV110: ADPI | DC110: ADPI | DJ110: ADPI | DQ110: ADPI | DX110: ADPI | EE110: ADPI
B111: H_min | C111: 0.95 | D111: =D112+0.1 -> 2.3722982 | I111: H_min | J111: 0.95 | K111: =K112+0.1 -> 2.3722982 | P111: H_min | Q111: 0.95 | R111: =R112+0.1 -> 2.3722982 | W111: H_min | X111: 0.95 | Y111: =Y112+0.1 -> 2.3722982 | AD111: H_min | AE111: 0.95 | AF111: =AF112+0.1 -> 2.3722982 | AK111: H_min | AL111: 0.95 | AM111: =AM112+0.1 -> 2.3722982 | AR111: H_min | AS111: 0.95 | AT111: =AT112+0.1 -> 2.3722982 | AY111: H_min | AZ111: 0.95 | BA111: =BA112+0.1 -> 2.4722982 | BF111: H_min | BG111: 0.95 | BH111: =BH112+0.1 -> 2.4722982 | BM111: H_min | BN111: 0.95 | BO111: =BO112+0.1 -> 2.4722982 | BT111: H_min | BU111: 0.95 | BV111: =BV112+0.1 -> 2.4722982 | CA111: H_min | CB111: 0.95 | CC111: =CC112+0.1 -> 2.4722982 | CH111: H_min | CI111: 0.95 | CJ111: =CJ112+0.1 -> 2.4722982 | CO111: H_min | CP111: 0.95 | CQ111: =CQ112+0.1 -> 2.4722982 | CV111: H_min | CW111: 0.95 | CX111: =CX112+0.1 -> 2.4922286 | DC111: H_min | DD111: 0.95 | DE111: =DE112+0.1 -> 2.4922286 | DJ111: H_min | DK111: 0.95 | DL111: =DL112+0.1 -> 2.4922286 | DQ111: H_min | DR111: 0.95 | DS111: =DS112+0.1 -> 2.4922286 | DX111: H_min | DY111: 0.95 | DZ111: =DZ112+0.1 -> 2.4922286 | EE111: H_min | EF111: 0.95 | EG111: =EG112+0.1 -> 2.4922286
C112: 0.9 | D112: =C109 -> 2.2722982 | J112: 0.9 | K112: =J109 -> 2.2722982 | Q112: 0.9 | R112: =Q109 -> 2.2722982 | X112: 0.9 | Y112: =X109 -> 2.2722982 | AE112: 0.9 | AF112: =AE109 -> 2.2722982 | AL112: 0.9 | AM112: =AL109 -> 2.2722982 | AS112: 0.9 | AT112: =AS109 -> 2.2722982 | AZ112: 0.9 | BA112: =AZ109 -> 2.3722982 | BG112: 0.9 | BH112: =BG109 -> 2.3722982 | BN112: 0.9 | BO112: =BN109 -> 2.3722982 | BU112: 0.9 | BV112: =BU109 -> 2.3722982 | CB112: 0.9 | CC112: =CB109 -> 2.3722982 | CI112: 0.9 | CJ112: =CI109 -> 2.3722982 | CP112: 0.9 | CQ112: =CP109 -> 2.3722982 | CW112: 0.9 | CX112: =CW109 -> 2.3922286 | DD112: 0.9 | DE112: =DD109 -> 2.3922286 | DK112: 0.9 | DL112: =DK109 -> 2.3922286 | DR112: 0.9 | DS112: =DR109 -> 2.3922286 | DY112: 0.9 | DZ112: =DY109 -> 2.3922286 | EF112: 0.9 | EG112: =EF109 -> 2.3922286
C113: 0.85 | D113: =D112-0.05 -> 2.2222982 | J113: 0.85 | K113: =K112-0.05 -> 2.2222982 | Q113: 0.85 | R113: =R112-0.05 -> 2.2222982 | X113: 0.85 | Y113: =Y112-0.05 -> 2.2222982 | AE113: 0.85 | AF113: =AF112-0.05 -> 2.2222982 | AL113: 0.85 | AM113: =AM112-0.05 -> 2.2222982 | AS113: 0.85 | AT113: =AT112-0.05 -> 2.2222982 | AZ113: 0.85 | BA113: =BA112-0.05 -> 2.3222982 | BG113: 0.85 | BH113: =BH112-0.05 -> 2.3222982 | BN113: 0.85 | BO113: =BO112-0.05 -> 2.3222982 | BU113: 0.85 | BV113: =BV112-0.05 -> 2.3222982 | CB113: 0.85 | CC113: =CC112-0.05 -> 2.3222982 | CI113: 0.85 | CJ113: =CJ112-0.05 -> 2.3222982 | CP113: 0.85 | CQ113: =CQ112-0.05 -> 2.3222982 | CW113: 0.85 | CX113: =CX112-0.05 -> 2.3422286 | DD113: 0.85 | DE113: =DE112-0.05 -> 2.3422286 | DK113: 0.85 | DL113: =DL112-0.05 -> 2.3422286 | DR113: 0.85 | DS113: =DS112-0.05 -> 2.3422286 | DY113: 0.85 | DZ113: =DZ112-0.05 -> 2.3422286 | EF113: 0.85 | EG113: =EG112-0.05 -> 2.3422286
C114: 0.8 | D114: =D112-0.1 -> 2.1722982 | J114: 0.8 | K114: =K112-0.1 -> 2.1722982 | Q114: 0.8 | R114: =R112-0.1 -> 2.1722982 | X114: 0.8 | Y114: =Y112-0.1 -> 2.1722982 | AE114: 0.8 | AF114: =AF112-0.1 -> 2.1722982 | AL114: 0.8 | AM114: =AM112-0.1 -> 2.1722982 | AS114: 0.8 | AT114: =AT112-0.1 -> 2.1722982 | AZ114: 0.8 | BA114: =BA112-0.1 -> 2.2722982 | BG114: 0.8 | BH114: =BH112-0.1 -> 2.2722982 | BN114: 0.8 | BO114: =BO112-0.1 -> 2.2722982 | BU114: 0.8 | BV114: =BV112-0.1 -> 2.2722982 | CB114: 0.8 | CC114: =CC112-0.1 -> 2.2722982 | CI114: 0.8 | CJ114: =CJ112-0.1 -> 2.2722982 | CP114: 0.8 | CQ114: =CQ112-0.1 -> 2.2722982 | CW114: 0.8 | CX114: =CX112-0.1 -> 2.2922286 | DD114: 0.8 | DE114: =DE112-0.1 -> 2.2922286 | DK114: 0.8 | DL114: =DL112-0.1 -> 2.2922286 | DR114: 0.8 | DS114: =DS112-0.1 -> 2.2922286 | DY114: 0.8 | DZ114: =DZ112-0.1 -> 2.2922286 | EF114: 0.8 | EG114: =EG112-0.1 -> 2.2922286
C115: 0.7 | D115: =D112-0.2 -> 2.0722982 | J115: 0.7 | K115: =K112-0.2 -> 2.0722982 | Q115: 0.7 | R115: =R112-0.2 -> 2.0722982 | X115: 0.7 | Y115: =Y112-0.2 -> 2.0722982 | AE115: 0.7 | AF115: =AF112-0.2 -> 2.0722982 | AL115: 0.7 | AM115: =AM112-0.2 -> 2.0722982 | AS115: 0.7 | AT115: =AT112-0.2 -> 2.0722982 | AZ115: 0.7 | BA115: =BA112-0.2 -> 2.1722982 | BG115: 0.7 | BH115: =BH112-0.2 -> 2.1722982 | BN115: 0.7 | BO115: =BO112-0.2 -> 2.1722982 | BU115: 0.7 | BV115: =BV112-0.2 -> 2.1722982 | CB115: 0.7 | CC115: =CC112-0.2 -> 2.1722982 | CI115: 0.7 | CJ115: =CJ112-0.2 -> 2.1722982 | CP115: 0.7 | CQ115: =CQ112-0.2 -> 2.1722982 | CW115: 0.7 | CX115: =CX112-0.2 -> 2.1922286 | DD115: 0.7 | DE115: =DE112-0.2 -> 2.1922286 | DK115: 0.7 | DL115: =DL112-0.2 -> 2.1922286 | DR115: 0.7 | DS115: =DS112-0.2 -> 2.1922286 | DY115: 0.7 | DZ115: =DZ112-0.2 -> 2.1922286 | EF115: 0.7 | EG115: =EG112-0.2 -> 2.1922286
...

Sheet Data
A1: Neck Sizes
A2: DN250
A3: DN355
A4: DN500
A6: Reducer
A7: Reducer 0
A8: Reducer 1
A9: Reducer 2
A10: Reducer 3
A11: Reducer 4
A12: Reducer 5
A13: Reducer 6
A15: Discharge Direction | F15: =('HSC-FD'!M9) -> 4 Way (360°) | K15: =LEFT(K13,5)
A16: 4 Way (360°) | B16: 4w | C16: ="" | F16: 4 Way | G16: 4w
A17: 3 Way (270°) | B17: 3w | C17: for installations adjacent to wall | F17: 3 Way | G17: 3w
A18: 2 Way (2×90°) | B18: 2s | C18: for installation in hallways and corridors | F18: 13 | G18: 2s
A19: 2 Way (1×180°) | B19: 2a | C19: for installation in corners | F19: 14 | G19: 2a
A20: Ceiling or Free | B20: ='HSC-FD Equations'!C23 -> 1 | C20: (1 = ceiling; 2 = free)
A22: ADPI display
A23: 0.95
A24: 0.9
A25: 0.8
A26: 0.7
B27: V
A28: 0.95 | B28: 0.2
A29: 0.9 | B29: 0.25
A30: 0.85 | B30: 0.27
A31: 0.8 | B31: 0.29 | E31: Code
A32: 0.7 | B32: 0.33 | D32: 0 | E32: 0
D33: 1 | E33: R0
D34: 2 | E34: R1
D35: 3 | E35: R2
D36: 4 | E36: R3
A37: Code Generator | D37: 5 | E37: R4
A38: Nominal Diameter | B38: ='HSC-FD'!E19 -> DN355 | D38: 6 | E38: R5
A39: Reducer | B39: =C39-1 -> 0 | C39: 1 | D39: 7 | E39: R6
A40: Reducer Validation | B40: =VLOOKUP(C39,D32:E40,2) -> R0 | D40: 8 | E40: RA
A41: Size & Reducer | B41: =B38&"-"&B40 -> DN355-R0
A43: Face Shape
A44: n | B44: code | C44: option | D44: comment | H44: DN250 | K44: DN355 | N44: DN500
A45: 0 | B45: <face> | C45: please select a valid face shape | H45: Code | I45: option | J45: comment | K45: Code | L45: option | M45: comment | N45: Code | O45: option | P45: comment
A46: 1 | B46: =IF($B$38="DN250",H50,IF($B$38="DN355",K50,N50)) -> S595 | C46: =IF($B$38="DN250",I50,IF($B$38="DN355",L50,O50)) & "*" -> □ 595 mm square face* | D46: =IF($B$38="DN250",J50,IF($B$38="DN355",M50,P50)) -> □ 595 mm square face | E46: □○ | F46: ø | G46: 1 | H46: S295 | I46: □ 295 mm square face | J46: □ 295 mm square face | K46: S595 | L46: □ 595 mm square face | M46: □ 595 mm square face | N46: S595 | O46: □ 595 mm square face | P46: □ 595 mm square face
A47: 2 | B47: =IF($B$38="DN250",H51,IF($B$38="DN355",K51,N51)) -> C500 | C47: =IF($B$38="DN250",I51,IF($B$38="DN355",L51,O51)) -> ø 500 mm circular face | D47: =IF($B$38="DN250",J51,IF($B$38="DN355",M51,P51)) -> ø 500 mm circular face | G47: 2 | H47: C355 | I47: ø 355 mm circular face | J47: ø 355 mm circular face | K47: C500 | L47: ø 500 mm circular face | M47: ø 500 mm circular face | N47: C710 | O47: ø 710 mm circular face | P47: ø 710 mm circular face
A48: 3 | B48: =IF($B$38="DN250",H52,IF($B$38="DN355",K52,N52)) -> <face> | C48: =IF($B$38="DN250",I52,IF($B$38="DN355",L52,O52)) -> custom face size | D48: =IF($B$38="DN250",J52,IF($B$38="DN355",M52,P52)) -> custom face size (contact Smartair) | G48: 3 | H48: <face> | I48: custom face size | J48: custom face size (contact Smartair) | K48: <face> | L48: custom face size | M48: custom face size (contact Smartair) | N48: <face> | O48: custom face size | P48: custom face size (contact Smartair)
A49: 1 | B49: =VLOOKUP(A49,A45:C48,2,0) -> S595 | C49: =VLOOKUP(A49,A45:C48,3,0) -> □ 595 mm square face* | D49: =VLOOKUP(A49,A45:D48,4,0) -> □ 595 mm square face | G49: 4 | H49: <face-n/a> | I49: option not available | J49: please select a valid face shape | K49: <face-n/a> | L49: option not available | M49: option not available | N49: <face-n/a> | O49: option not available | P49: option not available
G50: 1 | H50: =IF($B$20=1,H46,H47) -> S295 | I50: =IF($B$20=1,I46,I47) -> □ 295 mm square face | J50: =IF($B$20=1,J46,J47) -> □ 295 mm square face | K50: =IF($B$56,K46,IF($B$20=1,K46,K47)) -> S595 | L50: =IF($B$56,L46,IF($B$20=1,L46,L47)) -> □ 595 mm square face | M50: =IF($B$56,M46,IF($B$20=1,M46,M47)) -> □ 595 mm square face | N50: =IF($B$20=1,N46,N47) -> S595 | O50: =IF($B$20=1,O46,O47) -> □ 595 mm square face | P50: =IF($B$20=1,P46,P47) -> □ 595 mm square face
G51: 2 | H51: =IF($B$20=1,H47,H48) -> C355 | I51: =IF($B$20=1,I47,I48) -> ø 355 mm circular face | J51: =IF($B$20=1,J47,J48) -> ø 355 mm circular face | K51: =IF($B$56,K48,IF($B$20=1,K47,K46)) -> C500 | L51: =IF($B$56,L48,IF($B$20=1,L47,L46)) -> ø 500 mm circular face | M51: =IF($B$56,M48,IF($B$20=1,M47,M46)) -> ø 500 mm circular face | N51: =IF($B$20=1,N47,N48) -> C710 | O51: =IF($B$20=1,O47,O48) -> ø 710 mm circular face | P51: =IF($B$20=1,P47,P48) -> ø 710 mm circular face
G52: 3 | H52: =IF($B$20=1,H48,H49) -> <face> | I52: =IF($B$20=1,I48,I49) -> custom face size | J52: =IF($B$20=1,J48,J49) -> custom face size (contact Smartair) | K52: =IF($B$56,K49,IF($B$20=1,K48,K48)) -> <face> | L52: =IF($B$56,L49,IF($B$20=1,L48,L48)) -> custom face size | M52: =IF($B$56,M49,IF($B$20=1,M48,M48)) -> custom face size (contact Smartair) | N52: =IF($B$20=1,N48,N49) -> <face> | O52: =IF($B$20=1,O48,O49) -> custom face size | P52: =IF($B$20=1,P48,P49) -> custom face size (contact Smartair)
A54: Discharge | B54: =VLOOKUP(F15,A16:B19,2,0) -> 4w | C54: =VLOOKUP(F15,A16:C19,3,0)
A56: Face finish | B56: =IF('HSC-FD Equations'!C21,1,0) -> 0
B57: =IF(B56,"Perforated Face","") | C57: =IF(B56,"With perforated face","")
A58: Colour | B58: =IF(C58=1,"RAL9003",IF(C58=2,"RAL9005","<colour>")) -> RAL9003 | C58: 1
A60: Connection Type
A61: 1 | B61: 0 | C61: No connection box
A62: 2 | B62: KF | C62: Thermally insulated foam connection box with magnetic fastener & blanking cap
A63: 3 | B63: KFR | C63: Thermally insulated foam connection box with threaded rod fastener & cap
A64: 1 | B64: =VLOOKUP(A64,A61:C63,2,0) -> 0 | C64: =VLOOKUP(A64,A61:C63,3,0) -> No connection box
B66: Model | C66: Size | D66: Shape | E66: Reducer | F66: Discharge | G66: Face Finish | H66: Colour | I66: Box
B67: SMARTEMP HSC-FD- | C67: =B38&"-" -> DN355- | D67: =B49&"-" -> S595- | E67: =B40&"-" -> R0- | F67: =B54&"-" -> 4w- | G67: ="P"&B56&"-" -> P0- | H67: =B58&"-" -> RAL9003- | I67: =B64 -> 0
A69: Non-Return Air | B69: =IF('HSC-FD Equations'!C315,"Perforated face only available with DN355",IF(C39=0,"please select a valid reducer option",CONCATENATE(B67,C67,D67,E67,F67,G67,H67,I67))) -> SMARTEMP HSC-FD-DN355-S595-R0-4w-P0-RAL9003-0
A70: Return Air | B70: =B67&C67&D67&E67&G67&H67&I67 -> SMARTEMP HSC-FD-DN355-S595-R0-P0-RAL9003-0
A71: Order | B71: =IF(B40="RA",B70,B69) -> SMARTEMP HSC-FD-DN355-S595-R0-4w-P0-RAL9003-0
A74: Summary | F74: ΔT
B75: Reducer Selected | C75: =IF(B40="RA",0,C39-1) -> 0 | D75: Units | E75: TEXT
A76: 1 | B76: {=OFFSET('HSC-FD Equations'!$B$268,A76,0,,)} -> 0 | C76: {=OFFSET('HSC-FD Equations'!$C$268,A76,$C$75,,)} -> 0
A77: 2 | B77: {=OFFSET('HSC-FD Equations'!$B$268,A77,0,,)} -> 0 | C77: {=OFFSET('HSC-FD Equations'!$C$268,A77,$C$75,,)} -> DN355-R0
A78: 3 | B78: {=OFFSET('HSC-FD Equations'!$B$268,A78,0,,)} -> Max Airflow | C78: {=OFFSET('HSC-FD Equations'!$C$268,A78,$C$75,,)} -> 120 | D78: ='HSC-FD Equations'!$E$3 -> L/s | E78: =CONCATENATE(Data!C78," ",Data!D78," @ ",Data!C84," ",Data!D84," static") -> 120 L/s @ 8.8 Pa static
A79: 4 | B79: {=OFFSET('HSC-FD Equations'!$B$268,A79,0,,)} -> Max Permissible Airflow | C79: {=OFFSET('HSC-FD Equations'!$C$268,A79,$C$75,,)} -> 239.9 | D79: ='HSC-FD Equations'!$E$3 -> L/s
A80: 5 | B80: {=OFFSET('HSC-FD Equations'!$B$268,A80,0,,)} -> Min Airflow | C80: {=OFFSET('HSC-FD Equations'!$C$268,A80,$C$75,,)} -> 120 | D80: ='HSC-FD Equations'!$E$3 -> L/s | E80: =C80 & " " & D80 & IF(C82=1," (CAV)"," (VAV turndown to " & ROUND( C82*100,0) & "%)") -> 120 L/s (CAV)
A81: 6 | B81: {=OFFSET('HSC-FD Equations'!$B$268,A81,0,,)} -> Min Permissible Airflow | C81: {=OFFSET('HSC-FD Equations'!$C$268,A81,$C$75,,)} -> 47.8 | D81: ='HSC-FD Equations'!$E$3 -> L/s | E81: =CONCATENATE(C81," ",D81," (",ROUND(C83*100,0),"%) @ ΔT = ",'HSC-FD Equations'!C16," K") -> 47.8 L/s (40%) @ ΔT = -12 K
A82: 7 | B82: {=OFFSET('HSC-FD Equations'!$B$268,A82,0,,)} -> Min % Turndown to | C82: {=OFFSET('HSC-FD Equations'!$C$268,A82,$C$75,,)} -> 1
A83: 8 | B83: {=OFFSET('HSC-FD Equations'!$B$268,A83,0,,)} -> Min Permissible % Turndown to | C83: {=OFFSET('HSC-FD Equations'!$C$268,A83,$C$75,,)} -> 0.399
A84: 9 | B84: {=OFFSET('HSC-FD Equations'!$B$268,A84,0,,)} -> Static Pressure @ 100% Airflow [Pa] | C84: {=OFFSET('HSC-FD Equations'!$C$268,A84,$C$75,,)} -> 8.8 | D84: Pa
A85: 10 | B85: {=OFFSET('HSC-FD Equations'!$B$268,A85,0,,)} -> Total Pressure @ 100% Airflow [Pa] | C85: {=OFFSET('HSC-FD Equations'!$C$268,A85,$C$75,,)} -> 12.4 | D85: Pa
A86: 11 | B86: {=OFFSET('HSC-FD Equations'!$B$268,A86,0,,)} -> Max Permissible Total Pressure [Pa] | C86: {=OFFSET('HSC-FD Equations'!$C$268,A86,$C$75,,)} -> 35
A87: 12 | B87: {=OFFSET('HSC-FD Equations'!$B$268,A87,0,,)} -> Sound Power Level [dB(A)] | C87: {=OFFSET('HSC-FD Equations'!$C$268,A87,$C$75,,)} -> 27.2 | E87: =C87&" dB(A)" -> 27.2 dB(A)
A88: 13 | B88: {=OFFSET('HSC-FD Equations'!$B$268,A88,0,,)} -> Sound Pressure Level [NC] | C88: {=OFFSET('HSC-FD Equations'!$C$268,A88,$C$75,,)} -> 12.2 | E88: =C88&" NC" -> 12.2 NC
A89: 14 | B89: {=OFFSET('HSC-FD Equations'!$B$268,A89,0,,)} -> Max ΔT (heating) - Centre Zone [K] | C89: {=OFFSET('HSC-FD Equations'!$C$268,A89,$C$75,,)} -> 9.7 | E89: ="+" & C89 & " K " -> +9.7 K
A90: 15 | B90: {=OFFSET('HSC-FD Equations'!$B$268,A90,0,,)} -> Max ΔT (heating) - Perimeter [K] | C90: {=OFFSET('HSC-FD Equations'!$C$268,A90,$C$75,,)} -> 6.5 | E90: ="+" & C90 & " K " -> +6.5 K
A91: 16 | B91: {=OFFSET('HSC-FD Equations'!$B$268,A91,0,,)} -> Max Centreline Distance [m] (centre) | C91: {=OFFSET('HSC-FD Equations'!$C$268,A91,$C$75,,)} -> 12.7 | D91: m
A92: 17 | B92: {=OFFSET('HSC-FD Equations'!$B$268,A92,0,,)} -> Max Centreline Distance Perimeter [m] | C92: {=OFFSET('HSC-FD Equations'!$C$268,A92,$C$75,,)} -> 11.5 | D92: m
A93: 18 | B93: {=OFFSET('HSC-FD Equations'!$B$268,A93,0,,)} -> Min Centreline Distance [m] | C93: {=OFFSET('HSC-FD Equations'!$C$268,A93,$C$75,,)} -> 2.5 | D93: m
A94: 19 | B94: {=OFFSET('HSC-FD Equations'!$B$268,A94,0,,)} -> Min Permissible Diffuser Height [m] | C94: {=OFFSET('HSC-FD Equations'!$C$268,A94,$C$75,,)} -> 2.4 | D94: m
A95: 20 | B95: {=OFFSET('HSC-FD Equations'!$B$268,A95,0,,)} -> Mean Room Air Velocity [m/s] | C95: {=OFFSET('HSC-FD Equations'!$C$268,A95,$C$75,,)} -> 0.1
A96: 21 | B96: {=OFFSET('HSC-FD Equations'!$B$268,A96,0,,)} -> Mean Draught Rating (DR) | C96: {=OFFSET('HSC-FD Equations'!$C$268,A96,$C$75,,)} -> 0.077
A97: 22 | B97: {=OFFSET('HSC-FD Equations'!$B$268,A97,0,,)} -> Mean PPD | C97: {=OFFSET('HSC-FD Equations'!$C$268,A97,$C$75,,)} -> 0.052
A98: 23 | B98: {=OFFSET('HSC-FD Equations'!$B$268,A98,0,,)} -> Satisfies PPD Category (ISO7730) | C98: {=OFFSET('HSC-FD Equations'!$C$268,A98,$C$75,,)} -> A
A99: 24 | B99: {=OFFSET('HSC-FD Equations'!$B$268,A99,0,,)} -> PMV | C99: {=OFFSET('HSC-FD Equations'!$C$268,A99,$C$75,,)} -> < 0.2
A100: 25 | B100: {=OFFSET('HSC-FD Equations'!$B$268,A100,0,,)} -> Spigot D | C100: {=OFFSET('HSC-FD Equations'!$C$268,A100,$C$75,,)} -> DN250
A101: 26 | B101: {=OFFSET('HSC-FD Equations'!$B$268,A101,0,,)} -> Low profile spigot | C101: {=OFFSET('HSC-FD Equations'!$C$268,A101,$C$75,,)} -> DN300 | E101: =C101& " (Low Profile Box)" -> DN300 (Low Profile Box)
A102: 27 | B102: {=OFFSET('HSC-FD Equations'!$B$268,A102,0,,)} -> 0 | C102: {=OFFSET('HSC-FD Equations'!$C$268,A102,$C$75,,)} -> 0
A103: 28 | B103: {=OFFSET('HSC-FD Equations'!$B$268,A103,0,,)} -> Shading Rules | C103: {=OFFSET('HSC-FD Equations'!$C$268,A103,$C$75,,)} -> 0
A104: 29 | B104: {=OFFSET('HSC-FD Equations'!$B$268,A104,0,,)} -> High Pressure/Flow | C104: {=OFFSET('HSC-FD Equations'!$C$268,A104,$C$75,,)} -> FALSE
A106: Other Selections and Notes
A107: location note | B107: =IF('HSC-FD Equations'!C23=2,"Freely suspended","Closed ceiling") -> Closed ceiling
A108: heating note | B108: =E89&" (centre zones) / "&E90&" (perimeter zones)" -> +9.7 K (centre zones) / +6.5 K (perimeter zones)
A109: heating heading | B109: ="Max Heating ΔT @ " &B125 -> Max Heating ΔT @ 2.3 L/s/m²
A110: return air | B110: =IF(B40="RA","R/A diffuser sound power level is up to 2 dB(A) greater than the supply air sound power level.","")
A112: Diagram
B113: Cmin | C113: Cmax (Centre) | D113: Cmax (Perimeter)
...

Sheet Reducer Selector
A1: SMARTEMP PRODUCT SELECTION CALCULATOR
A2: Fixed Helical Swirl Diffuser [HSC-FD DN355 & DN500] | D2: REDUCER Selector
B6: LEGEND: | G6: INSTRUCTIONS:
B7: Warning | G7: To add more rows, copy and insert rows as required from row 17 to row 37 (do not insert above row 17).
B8: Required Manual Input | G8: Do not change formulae/values in columns F to Z, which in rows 17 to 37 are not protected (to allow copy and paste) but contain formulae that MUST NOT BE OVERWRITTEN.
B9: Optional Manual Input
B10: Manual Input overwriting formula | G10: Cells E17 to E37 may be overwritten with 355 or 500 to prevent automatic neck sizing.
O12: Tolerance: | Y12: Tolerance:
A13: Cooling: | B13: dT.supply-room = | D13: Turndown to | E13: P.total Max = | G13: Vmax | H13: =221*SQRT($E$14/35) -> 221 | I13: =192*SQRT($E$14/35) -> 192 | J13: =158*SQRT($E$14/35) -> 158 | K13: =122*SQRT($E$14/35) -> 122 | L13: =90*SQRT($E$14/35) -> 90 | M13: =62*SQRT($E$14/35) -> 62 | N13: =44*SQRT($E$14/35) -> 44 | O13: Vmin * | Q13: L/s | R13: Vmax | S13: =439*SQRT($E$14/35) -> 439 | T13: =389*SQRT($E$14/35) -> 389 | U13: =354*SQRT($E$14/35) -> 354 | V13: =292*SQRT($E$14/35) -> 292 | W13: =218*SQRT($E$14/35) -> 218 | X13: =151*SQRT($E$14/35) -> 151 | Y13: Vmin *
A14: (-8 to -16) | B14: -12 | C14: K | D14: 0.3 | E14: 35 | F14: Pa | G14: Vmin | H14: =47.8*SQRT((IF(ABS($B$14)/12<8/12,8/12,ABS($B$14)/12))) -> 47.8 | I14: =41.6*SQRT((IF(ABS($B$14)/12<8/12,8/12,ABS($B$14)/12))) -> 41.6 | J14: =34.1*SQRT((IF(ABS($B$14)/12<8/12,8/12,ABS($B$14)/12))) -> 34.1 | K14: =26.4*SQRT((IF(ABS($B$14)/12<8/12,8/12,ABS($B$14)/12))) -> 26.4 | L14: =19.4*SQRT((IF(ABS($B$14)/12<8/12,8/12,ABS($B$14)/12))) -> 19.4 | M14: =13.5*SQRT((IF(ABS($B$14)/12<8/12,8/12,ABS($B$14)/12))) -> 13.5 | N14: =9.5*SQRT((IF(ABS($B$14)/12<8/12,8/12,ABS($B$14)/12))) -> 9.5 | O14: 1 | Q14: L/s | R14: Vmin | S14: =95.3*SQRT((IF(ABS($B$14)/12<8/12,8/12,ABS($B$14)/12))) -> 95.3 | T14: =86.2*SQRT((IF(ABS($B$14)/12<8/12,8/12,ABS($B$14)/12))) -> 86.2 | U14: =77.5*SQRT((IF(ABS($B$14)/12<8/12,8/12,ABS($B$14)/12))) -> 77.5 | V14: =63.9*SQRT((IF(ABS($B$14)/12<8/12,8/12,ABS($B$14)/12))) -> 63.9 | W14: =47.6*SQRT((IF(ABS($B$14)/12<8/12,8/12,ABS($B$14)/12))) -> 47.6 | X14: =32.7*SQRT((IF(ABS($B$14)/12<8/12,8/12,ABS($B$14)/12))) -> 32.7 | Y14: 1
C15: Max | D15: Min | F15: HSC-FD- | G15: Vmax/Vmin | H15: Reducer: | O15: 355 | P15: 355 | Q15: HSC-FD- | R15: Vmax/Vmin | S15: Reducer: | Y15: 500 | Z15: 500 | AA15: Remarks
A16: Item | B16: Qty | C16: L/s | D16: L/s | E16: DN | F16: DN355 | G16: WARNING | H16: 0 | I16: 1 | J16: 2 | K16: 3 | L16: 4 | M16: 5 | N16: 6 | O16: Rmin | P16: Rmax | Q16: DN500 | R16: WARNING | S16: 0 | T16: 1 | U16: 2 | V16: 3 | W16: 4 | X16: 5 | Y16: Rmin | Z16: Rmax
A17: eg. West Lobby | B17: 1 | C17: 120 | D17: =C17*D$14 -> 36 | E17: =IF(C17<=H$13,355,500) -> 355 | F17: =IF($E17=355,$B17,0) -> 1 | G17: =IF(F17-SUM(H17:N17)>0,F17-SUM(H17:N17),IF(O17>P17,SUM(H17:N17),0)) -> 0 | H17: =IF(ROUNDDOWN(($O17+$P17)/2,0)=0,$F17,0) -> 0 | I17: =IF(ROUNDDOWN(($O17+$P17)/2,0)=1,$F17,0) -> 0 | J17: =IF(ROUNDDOWN(($O17+$P17)/2,0)=2,$F17,0) -> 1 | K17: =IF(ROUNDDOWN(($O17+$P17)/2,0)=3,$F17,0) -> 0 | L17: =IF(ROUNDDOWN(($O17+$P17)/2,0)=4,$F17,0) -> 0 | M17: =IF(ROUNDDOWN(($O17+$P17)/2,0)=5,$F17,0) -> 0 | N17: =IF(ROUNDDOWN(($O17+$P17)/2,0)=6,$F17,0) -> 0 | O17: =IF(F17>0,IF(D17>=H$14*O$14,"0",IF(D17>=I$14*O$14,"1",IF(D17>=J$14*O$14,"2",IF(D17>=K$14*O$14,"3",IF(D17>=L$14*O$14,"4",IF(D17>=M$14*O$14,"5",IF(D17>=N$14*O$14,"6","7"))))))),"-1") -> 2 | P17: =IF(E17=355,IF(C17<=N$13,"6",IF(C17<=M$13,"5",IF(C17<=L$13,"4",IF(C17<=K$13,"3",IF(C17<=J$13,"2",IF(C17<=I$13,"1",IF(C17<=H$13,"0",-1))))))),"-1") -> 3 | Q17: =IF($E17=500,$B17,0) -> 0 | R17: =IF(Q17-SUM(S17:X17)>0,Q17-SUM(S17:X17),IF(Y17>Z17,SUM(S17:X17),0)) -> 0 | S17: =IF(ROUNDDOWN(($Y17+$Z17)/2,0)=0,$Q17,0) -> 0 | T17: =IF(ROUNDDOWN(($Y17+$Z17)/2,0)=1,$Q17,0) -> 0 | U17: =IF(ROUNDDOWN(($Y17+$Z17)/2,0)=2,$Q17,0) -> 0 | V17: =IF(ROUNDDOWN(($Y17+$Z17)/2,0)=3,$Q17,0) -> 0 | W17: =IF(ROUNDDOWN(($Y17+$Z17)/2,0)=4,$Q17,0) -> 0 | X17: =IF(ROUNDDOWN(($Y17+$Z17)/2,0)=5,$Q17,0) -> 0 | Y17: =IF(Q17>0,IF(D17>=S$14*Y$14,"0",IF(D17>=T$14*Y$14,"1",IF(D17>=U$14*Y$14,"2",IF(D17>=V$14*Y$14,"3",IF(D17>=W$14*Y$14,"4",IF(D17>=X$14*Y$14,"5","6")))))),"-1") -> -1 | Z17: =IF(E17=500,IF(C17<=X$13,"5",IF(C17<=W$13,"4",IF(C17<=V$13,"3",IF(C17<=U$13,"2",IF(C17<=T$13,"1",IF(C17<=S$13,"0",-1)))))),"-1") -> -1
D18: =C18*D$14 -> 0 | E18: =IF(C18<=H$13,355,500) -> 355 | F18: =IF($E18=355,$B18,0) -> 0 | G18: =IF(F18-SUM(H18:N18)>0,F18-SUM(H18:N18),IF(O18>P18,SUM(H18:N18),0)) -> 0 | H18: =IF(ROUNDDOWN(($O18+$P18)/2,0)=0,$F18,0) -> 0 | I18: =IF(ROUNDDOWN(($O18+$P18)/2,0)=1,$F18,0) -> 0 | J18: =IF(ROUNDDOWN(($O18+$P18)/2,0)=2,$F18,0) -> 0 | K18: =IF(ROUNDDOWN(($O18+$P18)/2,0)=3,$F18,0) -> 0 | L18: =IF(ROUNDDOWN(($O18+$P18)/2,0)=4,$F18,0) -> 0 | M18: =IF(ROUNDDOWN(($O18+$P18)/2,0)=5,$F18,0) -> 0 | N18: =IF(ROUNDDOWN(($O18+$P18)/2,0)=6,$F18,0) -> 0 | O18: =IF(F18>0,IF(D18>=H$14*O$14,"0",IF(D18>=I$14*O$14,"1",IF(D18>=J$14*O$14,"2",IF(D18>=K$14*O$14,"3",IF(D18>=L$14*O$14,"4",IF(D18>=M$14*O$14,"5",IF(D18>=N$14*O$14,"6","7"))))))),"-1") -> -1 | P18: =IF(E18=355,IF(C18<=N$13,"6",IF(C18<=M$13,"5",IF(C18<=L$13,"4",IF(C18<=K$13,"3",IF(C18<=J$13,"2",IF(C18<=I$13,"1",IF(C18<=H$13,"0",-1))))))),"-1") -> 6 | Q18: =IF($E18=500,$B18,0) -> 0 | R18: =IF(Q18-SUM(S18:X18)>0,Q18-SUM(S18:X18),IF(Y18>Z18,SUM(S18:X18),0)) -> 0 | S18: =IF(ROUNDDOWN(($Y18+$Z18)/2,0)=0,$Q18,0) -> 0 | T18: =IF(ROUNDDOWN(($Y18+$Z18)/2,0)=1,$Q18,0) -> 0 | U18: =IF(ROUNDDOWN(($Y18+$Z18)/2,0)=2,$Q18,0) -> 0 | V18: =IF(ROUNDDOWN(($Y18+$Z18)/2,0)=3,$Q18,0) -> 0 | W18: =IF(ROUNDDOWN(($Y18+$Z18)/2,0)=4,$Q18,0) -> 0 | X18: =IF(ROUNDDOWN(($Y18+$Z18)/2,0)=5,$Q18,0) -> 0 | Y18: =IF(Q18>0,IF(D18>=S$14*Y$14,"0",IF(D18>=T$14*Y$14,"1",IF(D18>=U$14*Y$14,"2",IF(D18>=V$14*Y$14,"3",IF(D18>=W$14*Y$14,"4",IF(D18>=X$14*Y$14,"5","6")))))),"-1") -> -1 | Z18: =IF(E18=500,IF(C18<=X$13,"5",IF(C18<=W$13,"4",IF(C18<=V$13,"3",IF(C18<=U$13,"2",IF(C18<=T$13,"1",IF(C18<=S$13,"0",-1)))))),"-1") -> -1
D19: =C19*D$14 -> 0 | E19: =IF(C19<=H$13,355,500) -> 355 | F19: =IF($E19=355,$B19,0) -> 0 | G19: =IF(F19-SUM(H19:N19)>0,F19-SUM(H19:N19),IF(O19>P19,SUM(H19:N19),0)) -> 0 | H19: =IF(ROUNDDOWN(($O19+$P19)/2,0)=0,$F19,0) -> 0 | I19: =IF(ROUNDDOWN(($O19+$P19)/2,0)=1,$F19,0) -> 0 | J19: =IF(ROUNDDOWN(($O19+$P19)/2,0)=2,$F19,0) -> 0 | K19: =IF(ROUNDDOWN(($O19+$P19)/2,0)=3,$F19,0) -> 0 | L19: =IF(ROUNDDOWN(($O19+$P19)/2,0)=4,$F19,0) -> 0 | M19: =IF(ROUNDDOWN(($O19+$P19)/2,0)=5,$F19,0) -> 0 | N19: =IF(ROUNDDOWN(($O19+$P19)/2,0)=6,$F19,0) -> 0 | O19: =IF(F19>0,IF(D19>=H$14*O$14,"0",IF(D19>=I$14*O$14,"1",IF(D19>=J$14*O$14,"2",IF(D19>=K$14*O$14,"3",IF(D19>=L$14*O$14,"4",IF(D19>=M$14*O$14,"5",IF(D19>=N$14*O$14,"6","7"))))))),"-1") -> -1 | P19: =IF(E19=355,IF(C19<=N$13,"6",IF(C19<=M$13,"5",IF(C19<=L$13,"4",IF(C19<=K$13,"3",IF(C19<=J$13,"2",IF(C19<=I$13,"1",IF(C19<=H$13,"0",-1))))))),"-1") -> 6 | Q19: =IF($E19=500,$B19,0) -> 0 | R19: =IF(Q19-SUM(S19:X19)>0,Q19-SUM(S19:X19),IF(Y19>Z19,SUM(S19:X19),0)) -> 0 | S19: =IF(ROUNDDOWN(($Y19+$Z19)/2,0)=0,$Q19,0) -> 0 | T19: =IF(ROUNDDOWN(($Y19+$Z19)/2,0)=1,$Q19,0) -> 0 | U19: =IF(ROUNDDOWN(($Y19+$Z19)/2,0)=2,$Q19,0) -> 0 | V19: =IF(ROUNDDOWN(($Y19+$Z19)/2,0)=3,$Q19,0) -> 0 | W19: =IF(ROUNDDOWN(($Y19+$Z19)/2,0)=4,$Q19,0) -> 0 | X19: =IF(ROUNDDOWN(($Y19+$Z19)/2,0)=5,$Q19,0) -> 0 | Y19: =IF(Q19>0,IF(D19>=S$14*Y$14,"0",IF(D19>=T$14*Y$14,"1",IF(D19>=U$14*Y$14,"2",IF(D19>=V$14*Y$14,"3",IF(D19>=W$14*Y$14,"4",IF(D19>=X$14*Y$14,"5","6")))))),"-1") -> -1 | Z19: =IF(E19=500,IF(C19<=X$13,"5",IF(C19<=W$13,"4",IF(C19<=V$13,"3",IF(C19<=U$13,"2",IF(C19<=T$13,"1",IF(C19<=S$13,"0",-1)))))),"-1") -> -1
D20: =C20*D$14 -> 0 | E20: =IF(C20<=H$13,355,500) -> 355 | F20: =IF($E20=355,$B20,0) -> 0 | G20: =IF(F20-SUM(H20:N20)>0,F20-SUM(H20:N20),IF(O20>P20,SUM(H20:N20),0)) -> 0 | H20: =IF(ROUNDDOWN(($O20+$P20)/2,0)=0,$F20,0) -> 0 | I20: =IF(ROUNDDOWN(($O20+$P20)/2,0)=1,$F20,0) -> 0 | J20: =IF(ROUNDDOWN(($O20+$P20)/2,0)=2,$F20,0) -> 0 | K20: =IF(ROUNDDOWN(($O20+$P20)/2,0)=3,$F20,0) -> 0 | L20: =IF(ROUNDDOWN(($O20+$P20)/2,0)=4,$F20,0) -> 0 | M20: =IF(ROUNDDOWN(($O20+$P20)/2,0)=5,$F20,0) -> 0 | N20: =IF(ROUNDDOWN(($O20+$P20)/2,0)=6,$F20,0) -> 0 | O20: =IF(F20>0,IF(D20>=H$14*O$14,"0",IF(D20>=I$14*O$14,"1",IF(D20>=J$14*O$14,"2",IF(D20>=K$14*O$14,"3",IF(D20>=L$14*O$14,"4",IF(D20>=M$14*O$14,"5",IF(D20>=N$14*O$14,"6","7"))))))),"-1") -> -1 | P20: =IF(E20=355,IF(C20<=N$13,"6",IF(C20<=M$13,"5",IF(C20<=L$13,"4",IF(C20<=K$13,"3",IF(C20<=J$13,"2",IF(C20<=I$13,"1",IF(C20<=H$13,"0",-1))))))),"-1") -> 6 | Q20: =IF($E20=500,$B20,0) -> 0 | R20: =IF(Q20-SUM(S20:X20)>0,Q20-SUM(S20:X20),IF(Y20>Z20,SUM(S20:X20),0)) -> 0 | S20: =IF(ROUNDDOWN(($Y20+$Z20)/2,0)=0,$Q20,0) -> 0 | T20: =IF(ROUNDDOWN(($Y20+$Z20)/2,0)=1,$Q20,0) -> 0 | U20: =IF(ROUNDDOWN(($Y20+$Z20)/2,0)=2,$Q20,0) -> 0 | V20: =IF(ROUNDDOWN(($Y20+$Z20)/2,0)=3,$Q20,0) -> 0 | W20: =IF(ROUNDDOWN(($Y20+$Z20)/2,0)=4,$Q20,0) -> 0 | X20: =IF(ROUNDDOWN(($Y20+$Z20)/2,0)=5,$Q20,0) -> 0 | Y20: =IF(Q20>0,IF(D20>=S$14*Y$14,"0",IF(D20>=T$14*Y$14,"1",IF(D20>=U$14*Y$14,"2",IF(D20>=V$14*Y$14,"3",IF(D20>=W$14*Y$14,"4",IF(D20>=X$14*Y$14,"5","6")))))),"-1") -> -1 | Z20: =IF(E20=500,IF(C20<=X$13,"5",IF(C20<=W$13,"4",IF(C20<=V$13,"3",IF(C20<=U$13,"2",IF(C20<=T$13,"1",IF(C20<=S$13,"0",-1)))))),"-1") -> -1
D21: =C21*D$14 -> 0 | E21: =IF(C21<=H$13,355,500) -> 355 | F21: =IF($E21=355,$B21,0) -> 0 | G21: =IF(F21-SUM(H21:N21)>0,F21-SUM(H21:N21),IF(O21>P21,SUM(H21:N21),0)) -> 0 | H21: =IF(ROUNDDOWN(($O21+$P21)/2,0)=0,$F21,0) -> 0 | I21: =IF(ROUNDDOWN(($O21+$P21)/2,0)=1,$F21,0) -> 0 | J21: =IF(ROUNDDOWN(($O21+$P21)/2,0)=2,$F21,0) -> 0 | K21: =IF(ROUNDDOWN(($O21+$P21)/2,0)=3,$F21,0) -> 0 | L21: =IF(ROUNDDOWN(($O21+$P21)/2,0)=4,$F21,0) -> 0 | M21: =IF(ROUNDDOWN(($O21+$P21)/2,0)=5,$F21,0) -> 0 | N21: =IF(ROUNDDOWN(($O21+$P21)/2,0)=6,$F21,0) -> 0 | O21: =IF(F21>0,IF(D21>=H$14*O$14,"0",IF(D21>=I$14*O$14,"1",IF(D21>=J$14*O$14,"2",IF(D21>=K$14*O$14,"3",IF(D21>=L$14*O$14,"4",IF(D21>=M$14*O$14,"5",IF(D21>=N$14*O$14,"6","7"))))))),"-1") -> -1 | P21: =IF(E21=355,IF(C21<=N$13,"6",IF(C21<=M$13,"5",IF(C21<=L$13,"4",IF(C21<=K$13,"3",IF(C21<=J$13,"2",IF(C21<=I$13,"1",IF(C21<=H$13,"0",-1))))))),"-1") -> 6 | Q21: =IF($E21=500,$B21,0) -> 0 | R21: =IF(Q21-SUM(S21:X21)>0,Q21-SUM(S21:X21),IF(Y21>Z21,SUM(S21:X21),0)) -> 0 | S21: =IF(ROUNDDOWN(($Y21+$Z21)/2,0)=0,$Q21,0) -> 0 | T21: =IF(ROUNDDOWN(($Y21+$Z21)/2,0)=1,$Q21,0) -> 0 | U21: =IF(ROUNDDOWN(($Y21+$Z21)/2,0)=2,$Q21,0) -> 0 | V21: =IF(ROUNDDOWN(($Y21+$Z21)/2,0)=3,$Q21,0) -> 0 | W21: =IF(ROUNDDOWN(($Y21+$Z21)/2,0)=4,$Q21,0) -> 0 | X21: =IF(ROUNDDOWN(($Y21+$Z21)/2,0)=5,$Q21,0) -> 0 | Y21: =IF(Q21>0,IF(D21>=S$14*Y$14,"0",IF(D21>=T$14*Y$14,"1",IF(D21>=U$14*Y$14,"2",IF(D21>=V$14*Y$14,"3",IF(D21>=W$14*Y$14,"4",IF(D21>=X$14*Y$14,"5","6")))))),"-1") -> -1 | Z21: =IF(E21=500,IF(C21<=X$13,"5",IF(C21<=W$13,"4",IF(C21<=V$13,"3",IF(C21<=U$13,"2",IF(C21<=T$13,"1",IF(C21<=S$13,"0",-1)))))),"-1") -> -1
D22: =C22*D$14 -> 0 | E22: =IF(C22<=H$13,355,500) -> 355 | F22: =IF($E22=355,$B22,0) -> 0 | G22: =IF(F22-SUM(H22:N22)>0,F22-SUM(H22:N22),IF(O22>P22,SUM(H22:N22),0)) -> 0 | H22: =IF(ROUNDDOWN(($O22+$P22)/2,0)=0,$F22,0) -> 0 | I22: =IF(ROUNDDOWN(($O22+$P22)/2,0)=1,$F22,0) -> 0 | J22: =IF(ROUNDDOWN(($O22+$P22)/2,0)=2,$F22,0) -> 0 | K22: =IF(ROUNDDOWN(($O22+$P22)/2,0)=3,$F22,0) -> 0 | L22: =IF(ROUNDDOWN(($O22+$P22)/2,0)=4,$F22,0) -> 0 | M22: =IF(ROUNDDOWN(($O22+$P22)/2,0)=5,$F22,0) -> 0 | N22: =IF(ROUNDDOWN(($O22+$P22)/2,0)=6,$F22,0) -> 0 | O22: =IF(F22>0,IF(D22>=H$14*O$14,"0",IF(D22>=I$14*O$14,"1",IF(D22>=J$14*O$14,"2",IF(D22>=K$14*O$14,"3",IF(D22>=L$14*O$14,"4",IF(D22>=M$14*O$14,"5",IF(D22>=N$14*O$14,"6","7"))))))),"-1") -> -1 | P22: =IF(E22=355,IF(C22<=N$13,"6",IF(C22<=M$13,"5",IF(C22<=L$13,"4",IF(C22<=K$13,"3",IF(C22<=J$13,"2",IF(C22<=I$13,"1",IF(C22<=H$13,"0",-1))))))),"-1") -> 6 | Q22: =IF($E22=500,$B22,0) -> 0 | R22: =IF(Q22-SUM(S22:X22)>0,Q22-SUM(S22:X22),IF(Y22>Z22,SUM(S22:X22),0)) -> 0 | S22: =IF(ROUNDDOWN(($Y22+$Z22)/2,0)=0,$Q22,0) -> 0 | T22: =IF(ROUNDDOWN(($Y22+$Z22)/2,0)=1,$Q22,0) -> 0 | U22: =IF(ROUNDDOWN(($Y22+$Z22)/2,0)=2,$Q22,0) -> 0 | V22: =IF(ROUNDDOWN(($Y22+$Z22)/2,0)=3,$Q22,0) -> 0 | W22: =IF(ROUNDDOWN(($Y22+$Z22)/2,0)=4,$Q22,0) -> 0 | X22: =IF(ROUNDDOWN(($Y22+$Z22)/2,0)=5,$Q22,0) -> 0 | Y22: =IF(Q22>0,IF(D22>=S$14*Y$14,"0",IF(D22>=T$14*Y$14,"1",IF(D22>=U$14*Y$14,"2",IF(D22>=V$14*Y$14,"3",IF(D22>=W$14*Y$14,"4",IF(D22>=X$14*Y$14,"5","6")))))),"-1") -> -1 | Z22: =IF(E22=500,IF(C22<=X$13,"5",IF(C22<=W$13,"4",IF(C22<=V$13,"3",IF(C22<=U$13,"2",IF(C22<=T$13,"1",IF(C22<=S$13,"0",-1)))))),"-1") -> -1
D23: =C23*D$14 -> 0 | E23: =IF(C23<=H$13,355,500) -> 355 | F23: =IF($E23=355,$B23,0) -> 0 | G23: =IF(F23-SUM(H23:N23)>0,F23-SUM(H23:N23),IF(O23>P23,SUM(H23:N23),0)) -> 0 | H23: =IF(ROUNDDOWN(($O23+$P23)/2,0)=0,$F23,0) -> 0 | I23: =IF(ROUNDDOWN(($O23+$P23)/2,0)=1,$F23,0) -> 0 | J23: =IF(ROUNDDOWN(($O23+$P23)/2,0)=2,$F23,0) -> 0 | K23: =IF(ROUNDDOWN(($O23+$P23)/2,0)=3,$F23,0) -> 0 | L23: =IF(ROUNDDOWN(($O23+$P23)/2,0)=4,$F23,0) -> 0 | M23: =IF(ROUNDDOWN(($O23+$P23)/2,0)=5,$F23,0) -> 0 | N23: =IF(ROUNDDOWN(($O23+$P23)/2,0)=6,$F23,0) -> 0 | O23: =IF(F23>0,IF(D23>=H$14*O$14,"0",IF(D23>=I$14*O$14,"1",IF(D23>=J$14*O$14,"2",IF(D23>=K$14*O$14,"3",IF(D23>=L$14*O$14,"4",IF(D23>=M$14*O$14,"5",IF(D23>=N$14*O$14,"6","7"))))))),"-1") -> -1 | P23: =IF(E23=355,IF(C23<=N$13,"6",IF(C23<=M$13,"5",IF(C23<=L$13,"4",IF(C23<=K$13,"3",IF(C23<=J$13,"2",IF(C23<=I$13,"1",IF(C23<=H$13,"0",-1))))))),"-1") -> 6 | Q23: =IF($E23=500,$B23,0) -> 0 | R23: =IF(Q23-SUM(S23:X23)>0,Q23-SUM(S23:X23),IF(Y23>Z23,SUM(S23:X23),0)) -> 0 | S23: =IF(ROUNDDOWN(($Y23+$Z23)/2,0)=0,$Q23,0) -> 0 | T23: =IF(ROUNDDOWN(($Y23+$Z23)/2,0)=1,$Q23,0) -> 0 | U23: =IF(ROUNDDOWN(($Y23+$Z23)/2,0)=2,$Q23,0) -> 0 | V23: =IF(ROUNDDOWN(($Y23+$Z23)/2,0)=3,$Q23,0) -> 0 | W23: =IF(ROUNDDOWN(($Y23+$Z23)/2,0)=4,$Q23,0) -> 0 | X23: =IF(ROUNDDOWN(($Y23+$Z23)/2,0)=5,$Q23,0) -> 0 | Y23: =IF(Q23>0,IF(D23>=S$14*Y$14,"0",IF(D23>=T$14*Y$14,"1",IF(D23>=U$14*Y$14,"2",IF(D23>=V$14*Y$14,"3",IF(D23>=W$14*Y$14,"4",IF(D23>=X$14*Y$14,"5","6")))))),"-1") -> -1 | Z23: =IF(E23=500,IF(C23<=X$13,"5",IF(C23<=W$13,"4",IF(C23<=V$13,"3",IF(C23<=U$13,"2",IF(C23<=T$13,"1",IF(C23<=S$13,"0",-1)))))),"-1") -> -1
D24: =C24*D$14 -> 0 | E24: =IF(C24<=H$13,355,500) -> 355 | F24: =IF($E24=355,$B24,0) -> 0 | G24: =IF(F24-SUM(H24:N24)>0,F24-SUM(H24:N24),IF(O24>P24,SUM(H24:N24),0)) -> 0 | H24: =IF(ROUNDDOWN(($O24+$P24)/2,0)=0,$F24,0) -> 0 | I24: =IF(ROUNDDOWN(($O24+$P24)/2,0)=1,$F24,0) -> 0 | J24: =IF(ROUNDDOWN(($O24+$P24)/2,0)=2,$F24,0) -> 0 | K24: =IF(ROUNDDOWN(($O24+$P24)/2,0)=3,$F24,0) -> 0 | L24: =IF(ROUNDDOWN(($O24+$P24)/2,0)=4,$F24,0) -> 0 | M24: =IF(ROUNDDOWN(($O24+$P24)/2,0)=5,$F24,0) -> 0 | N24: =IF(ROUNDDOWN(($O24+$P24)/2,0)=6,$F24,0) -> 0 | O24: =IF(F24>0,IF(D24>=H$14*O$14,"0",IF(D24>=I$14*O$14,"1",IF(D24>=J$14*O$14,"2",IF(D24>=K$14*O$14,"3",IF(D24>=L$14*O$14,"4",IF(D24>=M$14*O$14,"5",IF(D24>=N$14*O$14,"6","7"))))))),"-1") -> -1 | P24: =IF(E24=355,IF(C24<=N$13,"6",IF(C24<=M$13,"5",IF(C24<=L$13,"4",IF(C24<=K$13,"3",IF(C24<=J$13,"2",IF(C24<=I$13,"1",IF(C24<=H$13,"0",-1))))))),"-1") -> 6 | Q24: =IF($E24=500,$B24,0) -> 0 | R24: =IF(Q24-SUM(S24:X24)>0,Q24-SUM(S24:X24),IF(Y24>Z24,SUM(S24:X24),0)) -> 0 | S24: =IF(ROUNDDOWN(($Y24+$Z24)/2,0)=0,$Q24,0) -> 0 | T24: =IF(ROUNDDOWN(($Y24+$Z24)/2,0)=1,$Q24,0) -> 0 | U24: =IF(ROUNDDOWN(($Y24+$Z24)/2,0)=2,$Q24,0) -> 0 | V24: =IF(ROUNDDOWN(($Y24+$Z24)/2,0)=3,$Q24,0) -> 0 | W24: =IF(ROUNDDOWN(($Y24+$Z24)/2,0)=4,$Q24,0) -> 0 | X24: =IF(ROUNDDOWN(($Y24+$Z24)/2,0)=5,$Q24,0) -> 0 | Y24: =IF(Q24>0,IF(D24>=S$14*Y$14,"0",IF(D24>=T$14*Y$14,"1",IF(D24>=U$14*Y$14,"2",IF(D24>=V$14*Y$14,"3",IF(D24>=W$14*Y$14,"4",IF(D24>=X$14*Y$14,"5","6")))))),"-1") -> -1 | Z24: =IF(E24=500,IF(C24<=X$13,"5",IF(C24<=W$13,"4",IF(C24<=V$13,"3",IF(C24<=U$13,"2",IF(C24<=T$13,"1",IF(C24<=S$13,"0",-1)))))),"-1") -> -1
D25: =C25*D$14 -> 0 | E25: =IF(C25<=H$13,355,500) -> 355 | F25: =IF($E25=355,$B25,0) -> 0 | G25: =IF(F25-SUM(H25:N25)>0,F25-SUM(H25:N25),IF(O25>P25,SUM(H25:N25),0)) -> 0 | H25: =IF(ROUNDDOWN(($O25+$P25)/2,0)=0,$F25,0) -> 0 | I25: =IF(ROUNDDOWN(($O25+$P25)/2,0)=1,$F25,0) -> 0 | J25: =IF(ROUNDDOWN(($O25+$P25)/2,0)=2,$F25,0) -> 0 | K25: =IF(ROUNDDOWN(($O25+$P25)/2,0)=3,$F25,0) -> 0 | L25: =IF(ROUNDDOWN(($O25+$P25)/2,0)=4,$F25,0) -> 0 | M25: =IF(ROUNDDOWN(($O25+$P25)/2,0)=5,$F25,0) -> 0 | N25: =IF(ROUNDDOWN(($O25+$P25)/2,0)=6,$F25,0) -> 0 | O25: =IF(F25>0,IF(D25>=H$14*O$14,"0",IF(D25>=I$14*O$14,"1",IF(D25>=J$14*O$14,"2",IF(D25>=K$14*O$14,"3",IF(D25>=L$14*O$14,"4",IF(D25>=M$14*O$14,"5",IF(D25>=N$14*O$14,"6","7"))))))),"-1") -> -1 | P25: =IF(E25=355,IF(C25<=N$13,"6",IF(C25<=M$13,"5",IF(C25<=L$13,"4",IF(C25<=K$13,"3",IF(C25<=J$13,"2",IF(C25<=I$13,"1",IF(C25<=H$13,"0",-1))))))),"-1") -> 6 | Q25: =IF($E25=500,$B25,0) -> 0 | R25: =IF(Q25-SUM(S25:X25)>0,Q25-SUM(S25:X25),IF(Y25>Z25,SUM(S25:X25),0)) -> 0 | S25: =IF(ROUNDDOWN(($Y25+$Z25)/2,0)=0,$Q25,0) -> 0 | T25: =IF(ROUNDDOWN(($Y25+$Z25)/2,0)=1,$Q25,0) -> 0 | U25: =IF(ROUNDDOWN(($Y25+$Z25)/2,0)=2,$Q25,0) -> 0 | V25: =IF(ROUNDDOWN(($Y25+$Z25)/2,0)=3,$Q25,0) -> 0 | W25: =IF(ROUNDDOWN(($Y25+$Z25)/2,0)=4,$Q25,0) -> 0 | X25: =IF(ROUNDDOWN(($Y25+$Z25)/2,0)=5,$Q25,0) -> 0 | Y25: =IF(Q25>0,IF(D25>=S$14*Y$14,"0",IF(D25>=T$14*Y$14,"1",IF(D25>=U$14*Y$14,"2",IF(D25>=V$14*Y$14,"3",IF(D25>=W$14*Y$14,"4",IF(D25>=X$14*Y$14,"5","6")))))),"-1") -> -1 | Z25: =IF(E25=500,IF(C25<=X$13,"5",IF(C25<=W$13,"4",IF(C25<=V$13,"3",IF(C25<=U$13,"2",IF(C25<=T$13,"1",IF(C25<=S$13,"0",-1)))))),"-1") -> -1
D26: =C26*D$14 -> 0 | E26: =IF(C26<=H$13,355,500) -> 355 | F26: =IF($E26=355,$B26,0) -> 0 | G26: =IF(F26-SUM(H26:N26)>0,F26-SUM(H26:N26),IF(O26>P26,SUM(H26:N26),0)) -> 0 | H26: =IF(ROUNDDOWN(($O26+$P26)/2,0)=0,$F26,0) -> 0 | I26: =IF(ROUNDDOWN(($O26+$P26)/2,0)=1,$F26,0) -> 0 | J26: =IF(ROUNDDOWN(($O26+$P26)/2,0)=2,$F26,0) -> 0 | K26: =IF(ROUNDDOWN(($O26+$P26)/2,0)=3,$F26,0) -> 0 | L26: =IF(ROUNDDOWN(($O26+$P26)/2,0)=4,$F26,0) -> 0 | M26: =IF(ROUNDDOWN(($O26+$P26)/2,0)=5,$F26,0) -> 0 | N26: =IF(ROUNDDOWN(($O26+$P26)/2,0)=6,$F26,0) -> 0 | O26: =IF(F26>0,IF(D26>=H$14*O$14,"0",IF(D26>=I$14*O$14,"1",IF(D26>=J$14*O$14,"2",IF(D26>=K$14*O$14,"3",IF(D26>=L$14*O$14,"4",IF(D26>=M$14*O$14,"5",IF(D26>=N$14*O$14,"6","7"))))))),"-1") -> -1 | P26: =IF(E26=355,IF(C26<=N$13,"6",IF(C26<=M$13,"5",IF(C26<=L$13,"4",IF(C26<=K$13,"3",IF(C26<=J$13,"2",IF(C26<=I$13,"1",IF(C26<=H$13,"0",-1))))))),"-1") -> 6 | Q26: =IF($E26=500,$B26,0) -> 0 | R26: =IF(Q26-SUM(S26:X26)>0,Q26-SUM(S26:X26),IF(Y26>Z26,SUM(S26:X26),0)) -> 0 | S26: =IF(ROUNDDOWN(($Y26+$Z26)/2,0)=0,$Q26,0) -> 0 | T26: =IF(ROUNDDOWN(($Y26+$Z26)/2,0)=1,$Q26,0) -> 0 | U26: =IF(ROUNDDOWN(($Y26+$Z26)/2,0)=2,$Q26,0) -> 0 | V26: =IF(ROUNDDOWN(($Y26+$Z26)/2,0)=3,$Q26,0) -> 0 | W26: =IF(ROUNDDOWN(($Y26+$Z26)/2,0)=4,$Q26,0) -> 0 | X26: =IF(ROUNDDOWN(($Y26+$Z26)/2,0)=5,$Q26,0) -> 0 | Y26: =IF(Q26>0,IF(D26>=S$14*Y$14,"0",IF(D26>=T$14*Y$14,"1",IF(D26>=U$14*Y$14,"2",IF(D26>=V$14*Y$14,"3",IF(D26>=W$14*Y$14,"4",IF(D26>=X$14*Y$14,"5","6")))))),"-1") -> -1 | Z26: =IF(E26=500,IF(C26<=X$13,"5",IF(C26<=W$13,"4",IF(C26<=V$13,"3",IF(C26<=U$13,"2",IF(C26<=T$13,"1",IF(C26<=S$13,"0",-1)))))),"-1") -> -1
D27: =C27*D$14 -> 0 | E27: =IF(C27<=H$13,355,500) -> 355 | F27: =IF($E27=355,$B27,0) -> 0 | G27: =IF(F27-SUM(H27:N27)>0,F27-SUM(H27:N27),IF(O27>P27,SUM(H27:N27),0)) -> 0 | H27: =IF(ROUNDDOWN(($O27+$P27)/2,0)=0,$F27,0) -> 0 | I27: =IF(ROUNDDOWN(($O27+$P27)/2,0)=1,$F27,0) -> 0 | J27: =IF(ROUNDDOWN(($O27+$P27)/2,0)=2,$F27,0) -> 0 | K27: =IF(ROUNDDOWN(($O27+$P27)/2,0)=3,$F27,0) -> 0 | L27: =IF(ROUNDDOWN(($O27+$P27)/2,0)=4,$F27,0) -> 0 | M27: =IF(ROUNDDOWN(($O27+$P27)/2,0)=5,$F27,0) -> 0 | N27: =IF(ROUNDDOWN(($O27+$P27)/2,0)=6,$F27,0) -> 0 | O27: =IF(F27>0,IF(D27>=H$14*O$14,"0",IF(D27>=I$14*O$14,"1",IF(D27>=J$14*O$14,"2",IF(D27>=K$14*O$14,"3",IF(D27>=L$14*O$14,"4",IF(D27>=M$14*O$14,"5",IF(D27>=N$14*O$14,"6","7"))))))),"-1") -> -1 | P27: =IF(E27=355,IF(C27<=N$13,"6",IF(C27<=M$13,"5",IF(C27<=L$13,"4",IF(C27<=K$13,"3",IF(C27<=J$13,"2",IF(C27<=I$13,"1",IF(C27<=H$13,"0",-1))))))),"-1") -> 6 | Q27: =IF($E27=500,$B27,0) -> 0 | R27: =IF(Q27-SUM(S27:X27)>0,Q27-SUM(S27:X27),IF(Y27>Z27,SUM(S27:X27),0)) -> 0 | S27: =IF(ROUNDDOWN(($Y27+$Z27)/2,0)=0,$Q27,0) -> 0 | T27: =IF(ROUNDDOWN(($Y27+$Z27)/2,0)=1,$Q27,0) -> 0 | U27: =IF(ROUNDDOWN(($Y27+$Z27)/2,0)=2,$Q27,0) -> 0 | V27: =IF(ROUNDDOWN(($Y27+$Z27)/2,0)=3,$Q27,0) -> 0 | W27: =IF(ROUNDDOWN(($Y27+$Z27)/2,0)=4,$Q27,0) -> 0 | X27: =IF(ROUNDDOWN(($Y27+$Z27)/2,0)=5,$Q27,0) -> 0 | Y27: =IF(Q27>0,IF(D27>=S$14*Y$14,"0",IF(D27>=T$14*Y$14,"1",IF(D27>=U$14*Y$14,"2",IF(D27>=V$14*Y$14,"3",IF(D27>=W$14*Y$14,"4",IF(D27>=X$14*Y$14,"5","6")))))),"-1") -> -1 | Z27: =IF(E27=500,IF(C27<=X$13,"5",IF(C27<=W$13,"4",IF(C27<=V$13,"3",IF(C27<=U$13,"2",IF(C27<=T$13,"1",IF(C27<=S$13,"0",-1)))))),"-1") -> -1
D28: =C28*D$14 -> 0 | E28: =IF(C28<=H$13,355,500) -> 355 | F28: =IF($E28=355,$B28,0) -> 0 | G28: =IF(F28-SUM(H28:N28)>0,F28-SUM(H28:N28),IF(O28>P28,SUM(H28:N28),0)) -> 0 | H28: =IF(ROUNDDOWN(($O28+$P28)/2,0)=0,$F28,0) -> 0 | I28: =IF(ROUNDDOWN(($O28+$P28)/2,0)=1,$F28,0) -> 0 | J28: =IF(ROUNDDOWN(($O28+$P28)/2,0)=2,$F28,0) -> 0 | K28: =IF(ROUNDDOWN(($O28+$P28)/2,0)=3,$F28,0) -> 0 | L28: =IF(ROUNDDOWN(($O28+$P28)/2,0)=4,$F28,0) -> 0 | M28: =IF(ROUNDDOWN(($O28+$P28)/2,0)=5,$F28,0) -> 0 | N28: =IF(ROUNDDOWN(($O28+$P28)/2,0)=6,$F28,0) -> 0 | O28: =IF(F28>0,IF(D28>=H$14*O$14,"0",IF(D28>=I$14*O$14,"1",IF(D28>=J$14*O$14,"2",IF(D28>=K$14*O$14,"3",IF(D28>=L$14*O$14,"4",IF(D28>=M$14*O$14,"5",IF(D28>=N$14*O$14,"6","7"))))))),"-1") -> -1 | P28: =IF(E28=355,IF(C28<=N$13,"6",IF(C28<=M$13,"5",IF(C28<=L$13,"4",IF(C28<=K$13,"3",IF(C28<=J$13,"2",IF(C28<=I$13,"1",IF(C28<=H$13,"0",-1))))))),"-1") -> 6 | Q28: =IF($E28=500,$B28,0) -> 0 | R28: =IF(Q28-SUM(S28:X28)>0,Q28-SUM(S28:X28),IF(Y28>Z28,SUM(S28:X28),0)) -> 0 | S28: =IF(ROUNDDOWN(($Y28+$Z28)/2,0)=0,$Q28,0) -> 0 | T28: =IF(ROUNDDOWN(($Y28+$Z28)/2,0)=1,$Q28,0) -> 0 | U28: =IF(ROUNDDOWN(($Y28+$Z28)/2,0)=2,$Q28,0) -> 0 | V28: =IF(ROUNDDOWN(($Y28+$Z28)/2,0)=3,$Q28,0) -> 0 | W28: =IF(ROUNDDOWN(($Y28+$Z28)/2,0)=4,$Q28,0) -> 0 | X28: =IF(ROUNDDOWN(($Y28+$Z28)/2,0)=5,$Q28,0) -> 0 | Y28: =IF(Q28>0,IF(D28>=S$14*Y$14,"0",IF(D28>=T$14*Y$14,"1",IF(D28>=U$14*Y$14,"2",IF(D28>=V$14*Y$14,"3",IF(D28>=W$14*Y$14,"4",IF(D28>=X$14*Y$14,"5","6")))))),"-1") -> -1 | Z28: =IF(E28=500,IF(C28<=X$13,"5",IF(C28<=W$13,"4",IF(C28<=V$13,"3",IF(C28<=U$13,"2",IF(C28<=T$13,"1",IF(C28<=S$13,"0",-1)))))),"-1") -> -1
D29: =C29*D$14 -> 0 | E29: =IF(C29<=H$13,355,500) -> 355 | F29: =IF($E29=355,$B29,0) -> 0 | G29: =IF(F29-SUM(H29:N29)>0,F29-SUM(H29:N29),IF(O29>P29,SUM(H29:N29),0)) -> 0 | H29: =IF(ROUNDDOWN(($O29+$P29)/2,0)=0,$F29,0) -> 0 | I29: =IF(ROUNDDOWN(($O29+$P29)/2,0)=1,$F29,0) -> 0 | J29: =IF(ROUNDDOWN(($O29+$P29)/2,0)=2,$F29,0) -> 0 | K29: =IF(ROUNDDOWN(($O29+$P29)/2,0)=3,$F29,0) -> 0 | L29: =IF(ROUNDDOWN(($O29+$P29)/2,0)=4,$F29,0) -> 0 | M29: =IF(ROUNDDOWN(($O29+$P29)/2,0)=5,$F29,0) -> 0 | N29: =IF(ROUNDDOWN(($O29+$P29)/2,0)=6,$F29,0) -> 0 | O29: =IF(F29>0,IF(D29>=H$14*O$14,"0",IF(D29>=I$14*O$14,"1",IF(D29>=J$14*O$14,"2",IF(D29>=K$14*O$14,"3",IF(D29>=L$14*O$14,"4",IF(D29>=M$14*O$14,"5",IF(D29>=N$14*O$14,"6","7"))))))),"-1") -> -1 | P29: =IF(E29=355,IF(C29<=N$13,"6",IF(C29<=M$13,"5",IF(C29<=L$13,"4",IF(C29<=K$13,"3",IF(C29<=J$13,"2",IF(C29<=I$13,"1",IF(C29<=H$13,"0",-1))))))),"-1") -> 6 | Q29: =IF($E29=500,$B29,0) -> 0 | R29: =IF(Q29-SUM(S29:X29)>0,Q29-SUM(S29:X29),IF(Y29>Z29,SUM(S29:X29),0)) -> 0 | S29: =IF(ROUNDDOWN(($Y29+$Z29)/2,0)=0,$Q29,0) -> 0 | T29: =IF(ROUNDDOWN(($Y29+$Z29)/2,0)=1,$Q29,0) -> 0 | U29: =IF(ROUNDDOWN(($Y29+$Z29)/2,0)=2,$Q29,0) -> 0 | V29: =IF(ROUNDDOWN(($Y29+$Z29)/2,0)=3,$Q29,0) -> 0 | W29: =IF(ROUNDDOWN(($Y29+$Z29)/2,0)=4,$Q29,0) -> 0 | X29: =IF(ROUNDDOWN(($Y29+$Z29)/2,0)=5,$Q29,0) -> 0 | Y29: =IF(Q29>0,IF(D29>=S$14*Y$14,"0",IF(D29>=T$14*Y$14,"1",IF(D29>=U$14*Y$14,"2",IF(D29>=V$14*Y$14,"3",IF(D29>=W$14*Y$14,"4",IF(D29>=X$14*Y$14,"5","6")))))),"-1") -> -1 | Z29: =IF(E29=500,IF(C29<=X$13,"5",IF(C29<=W$13,"4",IF(C29<=V$13,"3",IF(C29<=U$13,"2",IF(C29<=T$13,"1",IF(C29<=S$13,"0",-1)))))),"-1") -> -1
... D37: =C37*D$14 -> 0 | E37: =IF(C37<=H$13,355,500) -> 355 | F37: =IF($E37=355,$B37,0) -> 0 | G37: =IF(F37-SUM(H37:N37)>0,F37-SUM(H37:N37),IF(O37>P37,SUM(H37:N37),0)) -> 0 | H37: =IF(ROUNDDOWN(($O37+$P37)/2,0)=0,$F37,0) -> 0 | I37: =IF(ROUNDDOWN(($O37+$P37)/2,0)=1,$F37,0) -> 0 | J37: =IF(ROUNDDOWN(($O37+$P37)/2,0)=2,$F37,0) -> 0 | K37: =IF(ROUNDDOWN(($O37+$P37)/2,0)=3,$F37,0) -> 0 | L37: =IF(ROUNDDOWN(($O37+$P37)/2,0)=4,$F37,0) -> 0 | M37: =IF(ROUNDDOWN(($O37+$P37)/2,0)=5,$F37,0) -> 0 | N37: =IF(ROUNDDOWN(($O37+$P37)/2,0)=6,$F37,0) -> 0 | O37: =IF(F37>0,IF(D37>=H$14*O$14,"0",IF(D37>=I$14*O$14,"1",IF(D37>=J$14*O$14,"2",IF(D37>=K$14*O$14,"3",IF(D37>=L$14*O$14,"4",IF(D37>=M$14*O$14,"5",IF(D37>=N$14*O$14,"6","7"))))))),"-1") -> -1 | P37: =IF(E37=355,IF(C37<=N$13,"6",IF(C37<=M$13,"5",IF(C37<=L$13,"4",IF(C37<=K$13,"3",IF(C37<=J$13,"2",IF(C37<=I$13,"1",IF(C37<=H$13,"0",-1))))))),"-1") -> 6 | Q37: =IF($E37=500,$B37,0) -> 0 | R37: =IF(Q37-SUM(S37:X37)>0,Q37-SUM(S37:X37),IF(Y37>Z37,SUM(S37:X37),0)) -> 0 | S37: =IF(ROUNDDOWN(($Y37+$Z37)/2,0)=0,$Q37,0) -> 0 | T37: =IF(ROUNDDOWN(($Y37+$Z37)/2,0)=1,$Q37,0) -> 0 | U37: =IF(ROUNDDOWN(($Y37+$Z37)/2,0)=2,$Q37,0) -> 0 | V37: =IF(ROUNDDOWN(($Y37+$Z37)/2,0)=3,$Q37,0) -> 0 | W37: =IF(ROUNDDOWN(($Y37+$Z37)/2,0)=4,$Q37,0) -> 0 | X37: =IF(ROUNDDOWN(($Y37+$Z37)/2,0)=5,$Q37,0) -> 0 | Y37: =IF(Q37>0,IF(D37>=S$14*Y$14,"0",IF(D37>=T$14*Y$14,"1",IF(D37>=U$14*Y$14,"2",IF(D37>=V$14*Y$14,"3",IF(D37>=W$14*Y$14,"4",IF(D37>=X$14*Y$14,"5","6")))))),"-1") -> -1 | Z37: =IF(E37=500,IF(C37<=X$13,"5",IF(C37<=W$13,"4",IF(C37<=V$13,"3",IF(C37<=U$13,"2",IF(C37<=T$13,"1",IF(C37<=S$13,"0",-1)))))),"-1") -> -1
B38: =SUM(B17:B37) -> 1 | F38: =SUM(F17:F37) -> 1 | G38: =SUM(G17:G37) -> 0 | H38: =SUM(H17:H37) -> 0 | I38: =SUM(I17:I37) -> 0 | J38: =SUM(J17:J37) -> 1 | K38: =SUM(K17:K37) -> 0 | L38: =SUM(L17:L37) -> 0 | M38: =SUM(M17:M37) -> 0 | N38: =SUM(N17:P37) -> 0 | Q38: =SUM(Q17:Q37) -> 0 | R38: =SUM(R17:R37) -> 0 | S38: =SUM(S17:S37) -> 0 | T38: =SUM(T17:T37) -> 0 | U38: =SUM(U17:U37) -> 0 | V38: =SUM(V17:V37) -> 0 | W38: =SUM(W17:W37) -> 0 | X38: =SUM(X17:X37) -> 0

Sheet Notes
C2: SMARTEMP PRODUCT SELECTION CALCULATOR
C3: Fixed Helical Swirl Diffuser [HSC-FD DN250/DN355/DN500] Notes
C6: Selection Notes
C7: Total Pressure is inclusive of side-entry connection box pressure loss.
C9: ΔT -ve denotes cooling
C10: ΔT +ve denotes heating
C12: Select desired comfort level (ADPI setting) to determine minimum and maximum centreline distance and minimum diffuser height.
C14: Noise & Acoustic
C15: Sound Pressure Level [NC] is an estimate for a single diffuser only located at 2.7 to 3.0 m height in a 70 m^3 space (typical office) with 10 dB(A) room absorption that is uniformly distributed, measured 2.1 m from the diffuser.
C16: Sound Pressure Level is provided as a guide only for a standard, carpeted single office with acoustic ceiling. An acoustical engineer should be consulted for detailed calculations, especially for applications with more than one diffuser or where hard surfaces are involved.
C18: Perforated Face
C19: Perforated face (63% open area) only available for size DN355. Contact Smartair for custom perforations.
... C26: Max and Min Centreline Distance is to be halved for spacing to walls or glazing.
E28: 4 Way (360°) | L28: 3 Way (270°) | Q28: 2 Way (2×90°) | W28: 2 Way (1×180°)
C45: • | D45: default | I45: • | J45: for installations adjacent to walls | O45: • | P45: for installations in corridors | U45: • | V45: for installations in corners
C46: • | D46: use when D > Cmin/2 | I46: • | J46: use when D < Cmin/2 | O46: • | P46: use when D < Cmin/2 | U46: • | V46: use when D < Cmin/2
C50: Tender Text
C51: Furnish and install SMARTEMP® Fixed Helical Swirl Diffusers, type HSC-FD, to provide diffuse airflow with fixed stable horizontal swirl discharge pattern for the provision of high thermal comfort. Each diffuser is to be made of powder coated steel and shall include 20 off-set radial vanes flush with the flat diffuser face. The diffuser shall be installed complete with a flush colour matching central cap and shall be suitable for ce ntral threaded rod connection. The diffuser face is to be square or round, as specified, and is to be fitted with the optional perforated screen where indicated. The diffuser is to be installed substantially flush with the suspended false ceiling or freely suspended, as specified. Swirl vanes are to include cambered leading edges for reduced noise and pressure drop, and helical swirl vane tips are each to have geometric twist to increase the airflow rate range of operation. Diffuser neck size is to be DN250, DN355 or DN500, as appropriate. Fit optional reducers where low airflow rates are required (DN355 and DN500 only). Install the diffusers at a discharge height of 2.4 to 4.5 m. For VAV applications, operate each diffuser within an airflow rate band turning down to no less than 25% at a ΔTsupply-room ≥ -16 K. For heating applications, observe ΔTsupply-room recommendations. Install segments covers (1/4; 2/4 opposed; 1/2) for diffuser placement near walls, in corridors or in corners. Connect each diffuser to SMARTEMP foam connections boxes, suitable for perimeter magnetic and/or central threaded rod connections, as specified.

Sheet Plenum Box Details
C2: SMARTEMP PRODUCT SELECTION CALCULATOR
C3: Fixed Helical Swirl Diffuser [HSC-FD DN250/DN355/DN500] Notes
C6: Recommended Plenum Box Details
C10: ASNZ nominal sizes | D10: Standard Plenum Box - Round & Ovalised Spigot | K10: 250 mm Low Profile Plenum Box - Ultra Ovalised Spigot
E11: Spigot Diameter | F11: Spigot Height | G11: Spigot End Radius | H11: Spigot Width | I11: Spigot Area (m2) | M11: Spigot Height | N11: Spigot End Radius | O11: Spigot Width | P11: Spigot Area (m2)
D12: H1 | E12: Ø5 | F12: H5 | G12: R₁ | H12: F | L12: H1 | M12: H5 | N12: R₁ | O12: F
C13: DN150 | D13: 300 | E13: 149 | I13: =PI()*(E13/2000)^2 -> 0.017436625 | K13: DN150 | L13: 250 | M13: 100 | N13: 50 | O13: 177 | P13: =(((O13-(2*N13))*M13)+PI()*N13^2)/(1000^2) -> 0.015553982
C14: DN200 | D14: 325 | E14: 199 | I14: =PI()*(E14/2000)^2 -> 0.031102553 | K14: DN200 | L14: 250 | M14: 100 | N14: 50 | O14: 256 | P14: =(((O14-(2*N14))*M14)+PI()*N14^2)/(1000^2) -> 0.023453982
C15: DN250 | D15: 350 | E15: 249 | I15: =PI()*(E15/2000)^2 -> 0.048695472 | K15: DN250 | L15: 250 | M15: 100 | N15: 50 | O15: 334 | P15: =(((O15-(2*N15))*M15)+PI()*N15^2)/(1000^2) -> 0.031253982
C16: DN300 | D16: 375 | F16: 275 | G16: 137.5 | H16: 313 | I16: =(((H16-(2*G16))*F16)+PI()*G16^2)/(1000^2) -> 0.069845736 | K16: DN300 | L16: 250 | M16: 100 | N16: 50 | O16: 413 | P16: =(((O16-(2*N16))*M16)+PI()*N16^2)/(1000^2) -> 0.039153982
C17: DN350 | D17: 400 | F17: 300 | G17: 150 | H17: 377 | I17: =(((H17-(2*G17))*F17)+PI()*G17^2)/(1000^2) -> 0.093785835 | K17: DN350 | L17: 250 | M17: 150 | N17: 75 | O17: 463 | P17: =(((O17-(2*N17))*M17)+PI()*N17^2)/(1000^2) -> 0.064621459
C18: DN400 | D18: 425 | F18: 325 | G18: 162.5 | H18: 441 | I18: =(((H18-(2*G18))*F18)+PI()*G18^2)/(1000^2) -> 0.12065768 | K18: DN400 | L18: 250 | M18: 200 | N18: 100 | O18: 513 | P18: =(((O18-(2*N18))*M18)+PI()*N18^2)/(1000^2) -> 0.094015927
F22: Round Spigot | P22: Low Profile Box
F35: Ovalised Spigot
S47: ALL DIMENSIONS IN mm
C50: DIN nominal sizes | D50: Round Spigot | G50: Ovalised Spigot
E51: Spigot Diameter | F51: Spigot Area (m2) | J51: Spigot Height | K51: Spigot End Radius | L51: Spigot Width | M51: Spigot Area (m2)
D52: H1 | E52: Ø5 | I52: H1 | J52: H5 | K52: R₁ | L52: F
C53: DN160 | D53: 300 | E53: 159 | F53: =PI()*(E53/2000)^2 -> 0.019855651
C54: DN200 | D54: 325 | E54: 199 | F54: =PI()*(E54/2000)^2 -> 0.031102553
C55: DN250 | D55: 375 | E55: 249 | F55: =PI()*(E55/2000)^2 -> 0.048695472
C56: DN315 | D56: =375+65 -> 440 | E56: 314 | F56: =PI()*(E56/2000)^2 -> 0.077437117 | G56: DN315 ovalised | I56: 375 | J56: 250 | K56: 125 | L56: 351 | M56: =(((L56-(2*K56))*J56)+PI()*K56^2)/(1000^2) -> 0.074337385
C57: DN355 | D57: =440+40 -> 480 | E57: 354 | F57: =PI()*(E57/2000)^2 -> 0.098422956 | G57: DN355 ovalised | I57: 385 | J57: 260 | K57: 130 | L57: 408 | M57: =(((L57-(2*K57))*J57)+PI()*K57^2)/(1000^2) -> 0.091572916
C58: DN400 | D58: =480+45 -> 525 | E58: 399 | F58: =PI()*(E58/2000)^2 -> 0.12503617 | G58: DN400 ovalised | I58: 420 | J58: 295 | K58: 147.5 | L58: 458 | M58: =(((L58-(2*K58))*J58)+PI()*K58^2)/(1000^2) -> 0.11643428

Sheet Box Diagrams

Sheet layout diagrams
A1: Selection | B1: =Data!B54 -> 4w
B3: 4w
B4: 3w
B5: 2s
B6: 2a

Sheet Selection Summary
B1: HSC-FD Performance Calculator Summary
A2: Project | B2: ='HSC-FD'!D5 -> <Project Name>
A3: Company | B3: <Name>
A4: Client | B4: <Name>
A6: Product | B6: SMARTEMP HSC-FD
B7: Fixed Helical Swirl Diffuser
A8: Size & Reducer | B8: =Data!B41 -> DN355-R0
A9: Discharge Direction | B9: ='HSC-FD'!M9 -> 4 Way (360°)
A10: Diffuser Location | B10: =Data!B107 -> Closed ceiling
A11: =Data!B57 | B11: =Data!C57
A12: Summary
A13: Selected Airflow ¹ | B13: =Data!E78 -> 120 L/s @ 8.8 Pa static
A14: Min Selected Airflow | B14: =Data!E80 -> 120 L/s (CAV)
A15: Min Permissible Airflow | B15: =Data!E81 -> 47.8 L/s (40%) @ ΔT = -12 K
A16: =Data!B109 -> Max Heating ΔT @ 2.3 L/s/m² | B16: =Data!B108 -> +9.7 K (centre zones) / +6.5 K (perimeter zones)
A18: Acoustic Performance | D18: ¹ Values valid for diffuser including 'Standard Side Entry Plenum Box' with round spigot (refer to worksheet 'Notes and Drawings HSC-FD')
A19: Sound Power Level ¹ | B19: =Data!E87 -> 27.2 dB(A)
A20: Sound Pressure Level ^¹ | B20: =Data!E88 -> 12.2 NC | D20: ^ based on 10 dB(A) room absorption
A21: Recommended Plenum Box Spigot Diameter | B21: =Data!C100 -> DN250
B22: =Data!E101 -> DN300 (Low Profile Box)
A23: =Data!B110
A25: Comfort Performance
A26: Selected ADPI Target | B26: =Data!D133 -> ≥ 90% ADPI
A27: Mean Room Air Velocity | B27: =Data!D135 -> 0.1 m/s @ 2.3 L/s/m² (7.3 m spacing)
A28: Draught Rating (DR) | B28: =Data!D136 -> 7.7% @ room temperature of 23 ºC
A29: PPD | B29: =Data!D137 -> 5.2%
A30: Satisfies PPD (ISO7730) | B30: ="Category "&Data!B138 -> Category A
A31: Satisfies PMV * | B31: =Data!D139 -> -0.2 < PMV < +0.2
A32: * ISO7730; ASHRAE Std 55
A34: =Data!B127 -> C Max = 12.7 m / 11.5 m (centre/perimeter zones)
A35: =Data!B128 -> C Min = 2.5 m
A36: =Data!B129 -> Nominal C = 7.3 m
A37: =Data!B130 -> Specific Airflow Rate @ Nominal C = 2.3 L/s/m²
A39: =Data!B122 -> Min Recommended Diffuser Height = 2.4 m
A40: =Data!B123 -> Selected Diffuser Height = 2.7 m
A42: Configuration | B42: =Data!B147 -> Diffuser size DN355 with no reducer
B43: =Data!C49 -> □ 595 mm square face*
B44: =Data!B148 -> 4 Way (360°) discharge
B45: =Data!B149 -> No perforated face plate
B46: =Data!B150 -> Powder coated to RAL9003
B47: =Data!C64 -> No connection box
A48: Order Code | B48: =Data!B71 -> SMARTEMP HSC-FD-DN355-S595-R0-4w-P0-RAL9003-0 | G48: ='HSC-FD'!U7 -> v 10.14 [09/2025]
