Workbook
Name adpi.: 'BMW-Std-selection'!$A$2:$A$5

Sheet BMW-AD-Std Size Calculator
C2: SMARTEMP PRODUCT SELECTION CALCULATOR
C3: Bar Multi-stream Diffuser [BMW-AD]
B5: Project: | D5: <Project Name>
C6: Inputs | K6: Detailed Selection | AB6: v 2.0 [01/2026]
D8: Maximum Airflow Rate | E8: 100 | F8: L/s | G8: m3/h | K8: Draught Rating & Comfort
D10: VAV: Turndown to | E10: 100 | F10: % | G10: use 100% for CAV | M10: ADPI ≥ | N10: 0.9 | Q10: default ≥ 90% | T10: Thermal Comfort Guide
T11: ADPI ≥ 95%; ṽ ≤ 0.20 m/s: Premium comfort, sedentary activity, such as in auditoria.
D12: Maximum Total Pressure | E12: 30 | F12: Pa | G12: default 30 Pa | L12: ='BMW-Std-selection'!B147 -> Nominal Selection: Throw Length/Breadth = 4.3 m/4.3 m (5.3 L/s/m²) | T12: ADPI ≥ 90%; ṽ ≤ 0.25 m/s: High comfort near-sedentary activity, such as in board rooms, high end offices and libraries.
T13: ADPI ≥ 80%; ṽ ≤ 0.29 m/s: Good comfort near sedentary activity, such as open-plan offices and meeting rooms.
D14: Diffuser Height | E14: 2.5 | F14: m | G14: 2.0 m to 5.5 m (recommended) | M14: Manual Throw: Length | N14: 5 | P14: m | T14: ADPI ≥ 70%; ṽ ≤ 0.33 m/s: Standard comfort medium activity, such as in transient spaces, retail and lobbies.
M15: Manual Throw: Breadth | N15: 4 | P15: m | Q15: ="= specific airflow: "& BMW_Std_Eqn!D28 & " " &BMW_Std_Eqn!C5 -> = specific airflow: 5 L/s/m²
D16: ΔT (cooling) | E16: -12 | F16: K | G16: 0 K to -15 K
M17: Specific Airflow Rate | N17: 9.8 | P17: =BMW_Std_Eqn!C5 -> L/s/m² | Q17: ="= floor area: "& BMW_Std_Eqn!D30 & " m²" -> = floor area: 10.2 m²
C18: Related Products
C19: Smartemp PMW-AD: for a perforated face aesthetic | M19: Room Temperature | N19: 23 | P19: °C | Q19: 20 °C to 26 °C (default 23 °C)
C20: Smartemp BAW-FD: budget-friendly option with similar look
K21: Face Selection
C22: Related Projects
C23: Fabrica 1921, Lisbon, PT | K23: With side flanges (default) | N23: Flangeless
C28: BMW-AD- | G28: DN1000 | K28: DN1200 | O28: DN1500 | S28: Key: | T28: Suitable | U28: Not Suitable | V28: Warning
C29: Rows (High) | E29: Hr | G29: 1 | H29: 2 | I29: 3 | J29: 4 | K29: 1 | L29: 2 | M29: 3 | N29: 4 | O29: 1 | P29: 2 | Q29: 3 | R29: 4
C30: Neck | D30: Width (1) | E30: Wn | F30: [mm] | G30: =BMW_Std_Eqn!E269 -> 1000 | K30: =BMW_Std_Eqn!I269 -> 1200 | O30: =BMW_Std_Eqn!M269 -> 1500 | S30: Note (1): | T30: ='BMW-Std-selection'!$B$150 -> + 8 mm to neck dimensions with optional opposed blade damper (OBD)
C31: ='BMW-Std-selection'!E106 -> (no OBD) | D31: Height (1) | E31: Hn | F31: [mm] | G31: =BMW_Std_Eqn!E332 -> 101 | H31: =BMW_Std_Eqn!F332 -> 140 | I31: =BMW_Std_Eqn!G332 -> 179 | J31: =BMW_Std_Eqn!H332 -> 218 | K31: =BMW_Std_Eqn!I332 -> 101 | L31: =BMW_Std_Eqn!J332 -> 140 | M31: =BMW_Std_Eqn!K332 -> 179 | N31: =BMW_Std_Eqn!L332 -> 218 | ... R31: =BMW_Std_Eqn!P332 -> 218 | S31: Note (2): Based on 10dB room absorption
C32: Face | D32: Width | E32: Wf | F32: [mm] | G32: =BMW_Std_Eqn!E333 -> 1052 | K32: =BMW_Std_Eqn!I333 -> 1252 | O32: =BMW_Std_Eqn!M333 -> 1552 | S32: Flangeless face available; see Product Selection (Row 64)
D33: Height | E33: Hf | F33: [mm] | G33: =BMW_Std_Eqn!E334 -> 134 | H33: =BMW_Std_Eqn!F334 -> 173 | I33: =BMW_Std_Eqn!G334 -> 212 | J33: =BMW_Std_Eqn!H334 -> 251 | K33: =BMW_Std_Eqn!I334 -> 134 | L33: =BMW_Std_Eqn!J334 -> 173 | M33: =BMW_Std_Eqn!K334 -> 212 | N33: =BMW_Std_Eqn!L334 -> 251 | ... R33: =BMW_Std_Eqn!P334 -> 251
C34: Total Pressure | E34: Pt | F34: [Pa] | G34: =BMW_Std_Eqn!E335 -> 13.3 | H34: =BMW_Std_Eqn!F335 -> 6.9 | I34: =BMW_Std_Eqn!G335 -> 4.2 | J34: =BMW_Std_Eqn!H335 -> < 3 | K34: =BMW_Std_Eqn!I335 -> 9.1 | L34: =BMW_Std_Eqn!J335 -> 4.7 | M34: =BMW_Std_Eqn!K335 -> < 3 | N34: =BMW_Std_Eqn!L335 -> < 3 | ... R34: =BMW_Std_Eqn!P335 -> < 3
C35: Min Recommended Flow Rate | E35: Vmin | F35: =BMW_Std_Eqn!D4 -> [L/s] | G35: =BMW_Std_Eqn!E336 -> 49.6 | H35: =BMW_Std_Eqn!F336 -> 68.8 | I35: =BMW_Std_Eqn!G336 -> 88 | J35: =BMW_Std_Eqn!H336 -> 107.1 | K35: =BMW_Std_Eqn!I336 -> 60 | L35: =BMW_Std_Eqn!J336 -> 83.1 | M35: =BMW_Std_Eqn!K336 -> 106.3 | N35: =BMW_Std_Eqn!L336 -> 129.5 | ... R35: =BMW_Std_Eqn!P336 -> 162.9
C36: Sound Power Level | E36: Lw | F36: [dB(A)] | G36: =BMW_Std_Eqn!E337 -> 32.2 | H36: =BMW_Std_Eqn!F337 -> 23.2 | I36: =BMW_Std_Eqn!G337 -> 16.4 | J36: =BMW_Std_Eqn!H337 -> < 15 | K36: =BMW_Std_Eqn!I337 -> 27 | L36: =BMW_Std_Eqn!J337 -> 18 | M36: =BMW_Std_Eqn!K337 -> < 15 | N36: =BMW_Std_Eqn!L337 -> < 15 | ... R36: =BMW_Std_Eqn!P337 -> < 15
C37: Sound Pressure Level (2) | E37: Lp | F37: [NC] | G37: =BMW_Std_Eqn!E338 -> 17.2 | H37: =BMW_Std_Eqn!F338 -> 8.2 | I37: =BMW_Std_Eqn!G338 -> < 5 | J37: =BMW_Std_Eqn!H338 -> < 5 | K37: =BMW_Std_Eqn!I338 -> 12 | L37: =BMW_Std_Eqn!J338 -> < 5 | M37: =BMW_Std_Eqn!K338 -> < 5 | N37: =BMW_Std_Eqn!L338 -> < 5 | ... R37: =BMW_Std_Eqn!P338 -> < 5
C38: Min Recommended Diffuser Height | E38: Hmin | F38: [m] | G38: =BMW_Std_Eqn!E339 -> 2.2 | H38: =BMW_Std_Eqn!F339 -> 2.2 | I38: =BMW_Std_Eqn!G339 -> 2.2 | J38: =BMW_Std_Eqn!H339 -> 2.2 | K38: =BMW_Std_Eqn!I339 -> 2.2 | L38: =BMW_Std_Eqn!J339 -> 2.2 | M38: =BMW_Std_Eqn!K339 -> 2.2 | N38: =BMW_Std_Eqn!L339 -> 2.2 | ... R38: =BMW_Std_Eqn!P339 -> 2.1
C39: Throw Setting | D39: Short (S) | E39: Lmin | F39: [m] | G39: =BMW_Std_Eqn!E340 -> 2.3 | H39: =BMW_Std_Eqn!F340 -> 2.2 | I39: =BMW_Std_Eqn!G340 -> 2.2 | J39: =BMW_Std_Eqn!H340 -> 2.2 | K39: =BMW_Std_Eqn!I340 -> 2.2 | L39: =BMW_Std_Eqn!J340 -> 2.2 | M39: =BMW_Std_Eqn!K340 -> 2.2 | N39: =BMW_Std_Eqn!L340 -> 2.2 | ... R39: =BMW_Std_Eqn!P340 -> 2.2
E40: Lmax | F40: [m] | G40: =BMW_Std_Eqn!E341 -> 5.1 | H40: =BMW_Std_Eqn!F341 -> 4.4 | I40: =BMW_Std_Eqn!G341 -> 3.9 | J40: =BMW_Std_Eqn!H341 -> 3.5 | K40: =BMW_Std_Eqn!I341 -> 4.7 | L40: =BMW_Std_Eqn!J341 -> 4 | M40: =BMW_Std_Eqn!K341 -> 3.5 | N40: =BMW_Std_Eqn!L341 -> 3.2 | ... R40: =BMW_Std_Eqn!P341 -> 2.8
E41: Bmin | F41: [m] | G41: =BMW_Std_Eqn!E342 -> 3.9 | H41: =BMW_Std_Eqn!F342 -> 3.9 | I41: =BMW_Std_Eqn!G342 -> 3.9 | J41: =BMW_Std_Eqn!H342 -> 3.9 | K41: =BMW_Std_Eqn!I342 -> 3.9 | L41: =BMW_Std_Eqn!J342 -> 3.9 | M41: =BMW_Std_Eqn!K342 -> 3.9 | N41: =BMW_Std_Eqn!L342 -> 3.9 | ... R41: =BMW_Std_Eqn!P342 -> 3.9
E42: Bmax | F42: [m] | G42: =BMW_Std_Eqn!E343 -> 8.9 | H42: =BMW_Std_Eqn!F343 -> 7.6 | I42: =BMW_Std_Eqn!G343 -> 6.7 | J42: =BMW_Std_Eqn!H343 -> 6.1 | K42: =BMW_Std_Eqn!I343 -> 8.1 | L42: =BMW_Std_Eqn!J343 -> 6.9 | M42: =BMW_Std_Eqn!K343 -> 6.1 | N42: =BMW_Std_Eqn!L343 -> 5.5 | ... R42: =BMW_Std_Eqn!P343 -> 4.9
D43: Medium (M) (default) | E43: Lmin | F43: [m] | G43: =BMW_Std_Eqn!E344 -> 3 | H43: =BMW_Std_Eqn!F344 -> 2.9 | I43: =BMW_Std_Eqn!G344 -> 2.9 | J43: =BMW_Std_Eqn!H344 -> 2.9 | K43: =BMW_Std_Eqn!I344 -> 2.9 | L43: =BMW_Std_Eqn!J344 -> 2.9 | M43: =BMW_Std_Eqn!K344 -> 2.9 | N43: =BMW_Std_Eqn!L344 -> 2.9 | ... R43: =BMW_Std_Eqn!P344 -> 2.9
E44: Lmax | F44: [m] | G44: =BMW_Std_Eqn!E345 -> 6.8 | H44: =BMW_Std_Eqn!F345 -> 5.7 | I44: =BMW_Std_Eqn!G345 -> 5.1 | J44: =BMW_Std_Eqn!H345 -> 4.6 | K44: =BMW_Std_Eqn!I345 -> 6.2 | L44: =BMW_Std_Eqn!J345 -> 5.2 | M44: =BMW_Std_Eqn!K345 -> 4.6 | N44: =BMW_Std_Eqn!L345 -> 4.2 | ... R44: =BMW_Std_Eqn!P345 -> 3.7
E45: Bmin | F45: [m] | G45: =BMW_Std_Eqn!E346 -> 3 | H45: =BMW_Std_Eqn!F346 -> 2.9 | I45: =BMW_Std_Eqn!G346 -> 2.9 | J45: =BMW_Std_Eqn!H346 -> 2.9 | K45: =BMW_Std_Eqn!I346 -> 2.9 | L45: =BMW_Std_Eqn!J346 -> 2.9 | M45: =BMW_Std_Eqn!K346 -> 2.9 | N45: =BMW_Std_Eqn!L346 -> 2.9 | ... R45: =BMW_Std_Eqn!P346 -> 2.9
E46: Bmax | F46: [m] | G46: =BMW_Std_Eqn!E347 -> 6.8 | H46: =BMW_Std_Eqn!F347 -> 5.7 | I46: =BMW_Std_Eqn!G347 -> 5.1 | J46: =BMW_Std_Eqn!H347 -> 4.6 | K46: =BMW_Std_Eqn!I347 -> 6.2 | L46: =BMW_Std_Eqn!J347 -> 5.2 | M46: =BMW_Std_Eqn!K347 -> 4.6 | N46: =BMW_Std_Eqn!L347 -> 4.2 | ... R46: =BMW_Std_Eqn!P347 -> 3.7
D47: Long (L) | E47: Lmin | F47: [m] | G47: =BMW_Std_Eqn!E348 -> 3.9 | H47: =BMW_Std_Eqn!F348 -> 3.8 | I47: =BMW_Std_Eqn!G348 -> 3.8 | J47: =BMW_Std_Eqn!H348 -> 3.8 | K47: =BMW_Std_Eqn!I348 -> 3.9 | L47: =BMW_Std_Eqn!J348 -> 3.8 | M47: =BMW_Std_Eqn!K348 -> 3.8 | N47: =BMW_Std_Eqn!L348 -> 3.8 | ... R47: =BMW_Std_Eqn!P348 -> 3.8
E48: Lmax | F48: [m] | G48: =BMW_Std_Eqn!E349 -> 8.8 | H48: =BMW_Std_Eqn!F349 -> 7.5 | I48: =BMW_Std_Eqn!G349 -> 6.6 | J48: =BMW_Std_Eqn!H349 -> 6 | K48: =BMW_Std_Eqn!I349 -> 8 | L48: =BMW_Std_Eqn!J349 -> 6.8 | M48: =BMW_Std_Eqn!K349 -> 6 | N48: =BMW_Std_Eqn!L349 -> 5.5 | ... R48: =BMW_Std_Eqn!P349 -> 4.9
...

Sheet BMW_Std_Eqn
A1: Inputs
D2: L/s | E2: m³/h
D3: L/s/m² | E3: m³/h/m² | F3: ²
A4: Airflow Rate Input | B4: ='BMW-AD-Std Size Calculator'!E8 -> 100 | C4: =IF($B$5=1,D2,E2) -> L/s | D4: ="["&C4&"]" -> [L/s]
A5: Selection | B5: 1 | C5: =IF($B$5=1,D3,E3) -> L/s/m² | D5: ="["&C5&"]" -> [L/s/m²]
A6: Mutiplier | B6: =IF(B5=1,1,3.6) -> 1
A7: Selected Spec Flow | B7: ='BMW-AD-Std Size Calculator'!N17 -> 9.8
A9: Inputs
A10: Airflow Rate Converted | B10: =B4/B6 -> 100
A11: Turndown % | B11: ='BMW-AD-Std Size Calculator'!E10/100 -> 1
A12: Turndown Flow rate | B12: =B10*B11 -> 100
A13: Max Total Pressure | B13: ='BMW-AD-Std Size Calculator'!E12 -> 30
A14: Height | B14: ='BMW-AD-Std Size Calculator'!E14 -> 2.5
A15: dT (cooling) | B15: =MAX(ABS('BMW-AD-Std Size Calculator'!E16),8) -> 12 | C15: uses 8K for values between 0 to 8
A16: ADPI | B16: ='BMW-AD-Std Size Calculator'!N10 -> 0.9
A18: ADPI-Velocity Chart
A19: 0.95 | B19: 0.2
A20: 0.9 | B20: 0.25
A21: 0.8 | B21: 0.29
A22: 0.7 | B22: 0.33
A23: Target Velocity | B23: =OFFSET(B19,MATCH(B16,A19:A22,0)-1,0) -> 0.25 | C23: m/s
A25: Area Type | B25: 1
A26: Selected L | B26: ='BMW-AD-Std Size Calculator'!N14 -> 5
A27: Selected B | B27: ='BMW-AD-Std Size Calculator'!N15 -> 4
A28: Type 2 Selected Area | B28: =B26*B27 -> 20 | C28: Type 2 Spec Flow | D28: =ROUND(B10/B28*B6,1) -> 5 | E28: =C5 -> L/s/m²
A29: Converted Spec Flow | B29: ='BMW-AD-Std Size Calculator'!$N$17/B6 -> 9.8
A30: Area from spec flow | B30: =B10/B29 -> 10.204082 | C30: m2 | D30: =ROUND(B30,1) -> 10.2
A32: Room Temp | B32: ='BMW-AD-Std Size Calculator'!N19 -> 23
A34: Factors
A35: K.l.min | B35: 7
A36: K.l.max | B36: 21
A37: K.dT | B37: =SQRT(12/B15) -> 1 | C37: -12 K / dT
A38: K.H.min(sp) | B38: =SQRT(1.2065*B14^-0.205) -> 0.999942 | C38: Increased draught risk as height increases, Fig 8, Krantz Layout Criteria TB 69 E | J38: =SQRT(1.209*B14^-0.199) -> 1.0037328 | K38: <old K.H.min
A39: K.H.max(vol) | B39: =SQRT(2.5/B14) -> 1 | C39: Reduce max throw with height to maintain constant volume to prevent stagnation
A40: K.2D/3D | B40: =SQRT(195/145) -> 1.159667 | C40: Fig 8 / Fig 7 @ 0.25, Krantz Layout Criteria TB 69 E
A41: v.room ≤ | B41: =B23 -> 0.25 | C41: m/s, Krantz Layout Criteria TB 69 E | G41: 0.23665 | H41: < old velocity at 90%adpi
A42: K.adpi | B42: =SQRT(19.92*B41^2.153) -> 1.0035224 | C42: Adjustment factor for ADPI
A43: K.h.min | B43: 1.9
A44: K.Pt | B44: 1.07
A46: Target Q'' from ADPI
...

Sheet BMW-Std-selection
A1: ADPI
A2: 0.95
A3: 0.9
A4: 0.8
A5: 0.7
A7: Order Code for DN Sizes
A9: Supply/Return
A10: supp/rtn radio | B10: 1
B11: code | C11: description
A12: 1 | B12: AD | C12: supply: adjustable direction
A13: 2 | B13: RA | C13: return air
A14: Selecte | B14: =VLOOKUP($B$10,A12:C13,2,0) -> AD | C14: =VLOOKUP($B$10,A12:C13,3,0) -> supply: adjustable direction
A16: Size Radio | B16: 0
A17: Radio | B17: Model | C17: Rows
A18: 0 | B18: 0 | C18: 0
A19: 1 | B19: 800 | C19: 1
A20: 2 | B20: 800 | C20: 2
A21: 3 | B21: 800 | C21: 3
A22: 4 | B22: 800 | C22: 4
A23: 5 | B23: 1200 | C23: 1
A24: 6 | B24: 1200 | C24: 2
A25: 7 | B25: 1200 | C25: 3
A26: 8 | B26: 1200 | C26: 4
A27: 9 | B27: 1500 | C27: 1
A28: 10 | B28: 1500 | C28: 2
A29: 11 | B29: 1500 | C29: 3
A30: 12 | B30: 1500 | C30: 4
A31: Selection | B31: =OFFSET(B18,B16,0) -> 0 | C31: =OFFSET(C18,B16,0) -> 0
A32: Text | B32: ="DN" & B31 & "-" &C31 -> DN0-0
A33: Text | B33: ="DN"&B31& " with " &C31 & " rows" -> DN0 with 0 rows
A34: Neck Dimensions | B34: ="Neck W" &D106&" mm × H" &D107&" mm" &" "&E106 -> Neck W[mm] mm × H[mm] mm (no OBD)
A35: Face Dimensions | B35: ="Face W"&D108&" mm × H" &D109&" mm" -> Face W[mm] mm × H[mm] mm
A39: Throw Setting
A40: Throw setting radio | B40: 2
B42: Code | C42: Description
A43: 1 | B43: TS | C43: Short
A44: 2 | B44: TM | C44: Medium
A45: 3 | B45: TL | C45: Long
A46: Select | B46: =OFFSET(B42,B40,0) -> TM | C46: =OFFSET(C42,B40,0) -> Medium
A48: Discharge direction
...

Sheet BMW-AD Std Summary
B1: BMW-AD Performance Calculator Summary
A3: Project | B3: ='BMW-AD-Std Size Calculator'!D5 -> <Project Name>
A4: Company | B4: <Name>
A5: Contact | B5: <Name>
A7: Product | B7: SMARTEMP BMW-AD
B8: Bar Multi-stream Adjustable Wall Diffuser
A9: Size | B9: ='BMW-Std-selection'!B33 -> DN0 with 0 rows
A11: Project Summary
A12: Selected Airflow | B12: ='BMW-Std-selection'!B158 -> 100 L/s @ [Pa] Pa total
A13: Min Selected Airflow | B13: ='BMW-Std-selection'!B159 -> 100 L/s (VAV turndown to 100% )
A14: Min Recommended Airflow | B14: ='BMW-Std-selection'!B160 -> 0 L/s @ ΔT = -12 K
A16: Acoustic Performance
A17: Sound Power Level | B17: ='BMW-Std-selection'!B166 -> [dB(A)] dB(A)
A18: Sound Pressure Level | B18: ='BMW-Std-selection'!B167 -> [NC] NC (based on 10 dB room absorption)
A20: Comfort Performance | B20: (for selected distances see Figure 1)
A21: Selected ADPI | B21: ='BMW-Std-selection'!B170 -> 0.9
A22: Mean Room Air Velocity | B22: ='BMW-Std-selection'!B171 -> [m/s] m/s
A23: Draught Rating (DR) | B23: ='BMW-Std-selection'!B172 -> #VALUE!
A24: Mean PPD | B24: ='BMW-Std-selection'!B173 -> [%]
A25: Satisfies PPD (ISO7730) | B25: ='BMW-Std-selection'!B174 -> Category 0
A26: Satisfies PMV * | B26: ='BMW-Std-selection'!B175 -> -0 ≤ PMV ≤ +0
A27: * ISO7730; ASHRAE Std 55
A29: ='BMW-Std-selection'!A191 -> Recommended distances for ≥ 90% ADPI
A30: ='BMW-Std-selection'!B179 -> Medium throw selected
A31: ='BMW-Std-selection'!B180 -> 2.5 m selected install height ([m] m min recommended)
A36: Description | B36: ='BMW-Std-selection'!A87 -> Diffuser size DN0 with 0 row(s)
B37: ='BMW-Std-selection'!B34 -> Neck W[mm] mm × H[mm] mm (no OBD)
B38: ='BMW-Std-selection'!B35 -> Face W[mm] mm × H[mm] mm
B39: ='BMW-Std-selection'!A88 -> Throw distance set to medium
B40: ='BMW-Std-selection'!A89 -> Centre discharge in direction of airstream
B41: ='BMW-Std-selection'!A90 -> With side flanges
B42: ='BMW-Std-selection'!A91 -> Face painted to Signal White (RAL9003)
B43: ='BMW-Std-selection'!A92 -> Diffuser only (no conection box)
A45: Order Code | B45: ='BMW-Std-selection'!B99 -> Please select a valid size (Row 59)

Sheet BMW-AD Bespoke Calculator
D2: SMARTEMP PRODUCT SELECTION BESPOKE CALCULATOR
D3: Bespoke Bar Multi-stream Diffuser [BMW-AD]
C5: Project: | D5: <Project Name>
D7: Inputs | K7: Bespoke Unit Size | V7: ='BMW-AD-Std Size Calculator'!AB6 -> v 2.0 [01/2026]
D9: Maximum Airflow Rate | E9: 100 | F9: L/s | G9: m3/h | H9: =BMW_Be_Eqn!B11 -> 9 - 600 L/s | M9: Neck Width (Wn) [mm] | N9: 600 | O9: (select from dropdown) | R9: Height Size Guide:
R10: Rh | S10: Hf | T10: Hn
D11: VAV Turndown to | E11: 100 | F11: % | G11: use 100% for CAV | M11: Number of Rows High (Rh) | N11: 2 | O11: 1 ≤ Rh ≤ 4 | S11: (Face) | T11: (Neck)
R12: 1 | S12: 134 | T12: 101
D13: Maximum Total Pressure | E13: 30 | F13: Pa | G13: default 30 Pa | L13: With Side Flanges (default) | O13: Flangless | R13: 2 | S13: 173 | T13: 140
R14: 3 | S14: 212 | T14: 179
D15: Diffuser Height | E15: 2.5 | F15: m | G15: 2.0 m to 5.5 m (recommended) | R15: 4 | S15: 251 | T15: 218
R16: example (below): | T16: Rh = 2 elements high
D17: ΔT (cooling) | E17: -12 | F17: K | G17: 0 K to -15 K
D19: Detailed Selection
D20: Draught Rating & Comfort
D22: ADPI ≥ | E22: 0.9 | G22: default ≥ 90%
D24: ='BMW-Be-Selection'!B152 -> Nominal Selection: Throw Length/Breadth = 5.2 m/5.2 m (3.7 L/s/m²)
U25: Cw : number of element columns wide
D26: Manual Throw Length | E26: 5 | F26: m | U26: Rh : number of element rows high
D27: Manual Throw Breadth | E27: 4 | F27: m | G27: ="= specific airflow rate: "&BMW_Be_Eqn!D38&" " &BMW_Be_Eqn!E38 -> = specific airflow rate: 5 L/s/m² | U27: Wn/Hn : Neck width/height
U28: Wf/Hf : Face width/height
D29: Specific Airflow Rate | E29: 5 | F29: =BMW_Be_Eqn!C5 -> L/s/m² | G29: ="= floor area: "&BMW_Be_Eqn!D40&" m²" -> = floor area: 20 m²
K30: Thermal Comfort Guide
D31: Room Temperature | E31: 23 | F31: °C | K31: ADPI ≥ 95%; ṽ ≤ 0.20 m/s: Premium comfort, sedentary activity, such as in auditoria.
K32: ADPI ≥ 90%; ṽ ≤ 0.25 m/s: High comfort near-sedentary activity, such as in board rooms, high end offices and libraries.
K33: ADPI ≥ 80%; ṽ ≤ 0.29 m/s: Good comfort near sedentary activity, such as open-plan offices and meeting rooms.
K34: ADPI ≥ 70%; ṽ ≤ 0.33 m/s: Standard comfort medium activity, such as in transient spaces, retail and lobbies.
D36: BMW-AD-Bespoke
D37: Size | F37: Wf × Hr | H37: =BMW_Be_Eqn!E329 -> 600 × 2
D38: Neck | E38: Width (1) | F38: Wn | G38: [mm] | H38: =BMW_Be_Eqn!E330 -> 608 | I38: Note (1): | J38: ='BMW-Be-Selection'!B155 -> OBD selected in Cell G66, neck dimensions include additional 8 mm | Q38: Key: | R38: Suitable | S38: Not Suitable | T38: Warning
D39: ='BMW-Be-Selection'!C108 -> (with OBD) | E39: Height (1) | F39: Hn | G39: [mm] | H39: =BMW_Be_Eqn!E331 -> 148 | I39: Flangeless face available; see Product Selection (Row 64)
D40: Face | E40: Width | F40: Wf | G40: [mm] | H40: =BMW_Be_Eqn!E332 -> 652 | I40: Note (2): Based on 10dB room absorption
E41: Height | F41: Hf | G41: [mm] | H41: =BMW_Be_Eqn!E333 -> 173
D42: Total Pressure | F42: Pt | G42: [Pa] | H42: =BMW_Be_Eqn!E334 -> 20.5
D43: Min Recommended Flow Rate | F43: Vmin | G43: =BMW_Be_Eqn!D4 -> [L/s] | H43: =BMW_Be_Eqn!E335 -> 40.1 | N43: Throw Setting Guide
D44: Sound Power Level | F44: Lw | G44: [dB(A)] | H44: =BMW_Be_Eqn!E336 -> 38.1
D45: Sound Pressure Level (2) | F45: Lp | G45: [NC] | H45: =BMW_Be_Eqn!E337 -> 23.1
D46: Min Recommended Diffuser Height | F46: Hmin | G46: [m] | H46: =BMW_Be_Eqn!E338 -> 2.3
D47: Throw Setting | E47: Short (S) | F47: Lmin | G47: [m] | H47: =BMW_Be_Eqn!E339 -> 2.3
F48: Lmax | G48: [m] | H48: =BMW_Be_Eqn!E340 -> 5.6
...

Sheet BMW_Be_Eqn
A1: Inputs
D2: L/s | E2: m³/h
D3: L/s/m² | E3: m³/h/m² | F3: ²
A4: Airflow Rate Input | B4: ='BMW-AD Bespoke Calculator'!E9 -> 100 | C4: =IF($B$5=1,D2,E2) -> L/s | D4: ="["&C4&"]" -> [L/s]
A5: Selection | B5: 1 | C5: =IF($B$5=1,D3,E3) -> L/s/m² | D5: ="["&C5&"]" -> [L/s/m²]
A6: Mutiplier | B6: =IF(B5=1,1,3.6) -> 1
A7: Selected Spec Flow | B7: ='BMW-AD Bespoke Calculator'!E29 -> 5
A9: Min Flow | B9: =9*B6 -> 9
A10: Max Flow | B10: =600*B6 -> 600
A11: Text | B11: =B9&" - "&B10&" "&C4 -> 9 - 600 L/s
A13: Inputs
A14: Airflow Rate Converted | B14: =B4/B6 -> 100
A15: Turndown % | B15: ='BMW-AD Bespoke Calculator'!E11/100 -> 1
A16: Max Total Pressure | B16: ='BMW-AD Bespoke Calculator'!E13 -> 30
A17: Height | B17: ='BMW-AD Bespoke Calculator'!E15 -> 2.5
A18: dT (cooling) | B18: =ABS('BMW-AD Bespoke Calculator'!E17) -> 12
A19: ADPI | B19: ='BMW-AD Bespoke Calculator'!E22 -> 0.9
A21: Input Validation
A22: Turndown Flow rate | B22: =B14*B15 -> 100
A23: dT (cooling) | B23: =MAX(B18,8) -> 12 | C23: uses 8K for values between 0 to 8
A28: ADPI-Velocity Chart
A29: 0.95 | B29: 0.2
A30: 0.9 | B30: 0.25
A31: 0.8 | B31: 0.29
A32: 0.7 | B32: 0.33
A33: Target Velocity | B33: =OFFSET(B29,MATCH(B19,A29:A32,0)-1,0) -> 0.25 | C33: m/s
A35: Area Type | B35: 1
A36: Selected L | B36: ='BMW-AD Bespoke Calculator'!E26 -> 5
A37: Selected B | B37: ='BMW-AD Bespoke Calculator'!E27 -> 4
A38: Type 2 Selected Area | B38: =B36*B37 -> 20 | C38: Type 2 Spec Flow | D38: =ROUND(B14/B38*B6,1) -> 5 | E38: =C5 -> L/s/m²
A39: Converted Spec Flow | B39: =B7/B6 -> 5
A40: Area from spec flow | B40: =B14/B39 -> 20 | C40: m2 | D40: =ROUND(B40,1) -> 20
A42: Room Temp | B42: ='BMW-AD Bespoke Calculator'!E31 -> 23
A44: Factors
A45: K.l.min | B45: 7
A46: K.l.max | B46: 21
A47: K.dT | B47: =SQRT(12/B23) -> 1 | C47: -12 K / dT
A48: K.H.min(sp) | B48: =SQRT(1.209*B17^-0.199) -> 1.0037328 | C48: Increased draught risk as height increases, Fig 8, Krantz Layout Criteria TB 69 E
A49: K.H.max(vol) | B49: =SQRT(2.5/B17) -> 1 | C49: Reduce max throw with height to maintain constant volume to prevent stagnation
A50: K.2D/3D | B50: =SQRT(195/145) -> 1.159667 | C50: Fig 8 / Fig 7 @ 0.25, Krantz Layout Criteria TB 69 E
...

Sheet BMW-Be-Selection
A2: SELECTION
A3: Cw | B3: ='BMW-AD Bespoke Calculator'!N9 -> 600
A4: Hr | B4: ='BMW-AD Bespoke Calculator'!N11 -> 2
A7: Face Dimensions | B7: Neck Options
A8: 200 | B8: =A8-25.6*2 -> 148.8
A9: 400 | B9: =A9-25.6*2 -> 348.8
A10: 600 | B10: =A10-25.6*2 -> 548.8
A11: 800 | B11: =A11-25.6*2 -> 748.8
A12: 1000 | B12: =A12-25.6*2 -> 948.8
A13: 1200 | B13: =A13-25.6*2 -> 1148.8
A14: 1400 | B14: =A14-25.6*2 -> 1348.8
A15: 1500 | B15: =A15-25.6*2 -> 1448.8
A16: 1600 | B16: =A16-25.6*2 -> 1548.8
A30: supply/rtn
A31: Selection | B31: 1
B32: code | C32: description
A33: 1 | B33: AD | C33: supply: adjustable direction
A34: 2 | B34: RA | C34: return air
A35: Selecte | B35: =VLOOKUP($B$31,A33:C34,2,0) -> AD | C35: =VLOOKUP($B$31,A33:C34,3,0) -> supply: adjustable direction
A38: Order Size | B38: Check if matches DN size
A39: Cw | B39: DN
A40: Text | B40: ="FN"&B3&"-"&B4 -> FN600-2 | C40: =IF(ISERROR(#REF!),"SMARTEMP BMW-"&B35&"-BESPOKE","SMARTEMP BMW-") -> SMARTEMP BMW-AD-BESPOKE
A41: Neck Dimensions | B41: ="Neck " &B108&" mm × " &B109&" mm "&C108 -> Neck 608 mm × 148 mm (with OBD)
A42: Face Dimensions | B42: ="Face "&B110&" mm × " &B111&" mm" -> Face 652 mm × 173 mm
A45: Throw Setting
A46: Selection | B46: 2
B48: Code | C48: Description
A49: 1 | B49: TS | C49: Short
A50: 2 | B50: TM | C50: Medium
A51: 3 | B51: TL | C51: Long
A52: Select | B52: =OFFSET(B48,B46,0) -> TM | C52: =OFFSET(C48,B46,0) -> Medium
A54: Discharge direction
A55: Discharge select | B55: 2
B57: Code | C57: Description
A58: 1 | B58: L | C58: Left
A59: 2 | B59: C | C59: Centre
A60: 3 | B60: R | C60: Right
A61: Select | B61: =OFFSET(B57,B55,0) -> C | C61: =OFFSET(C57,B55,0) -> Centre
A63: Face/Flange
A64: face selection | B64: 1
...

Sheet BMW-AD Bespoke Summary
B1: BMW-AD Performance Calculator Summary
A3: Project | B3: ='BMW-AD Bespoke Calculator'!D5 -> <Project Name>
A4: Company | B4: <Name>
A5: Contact | B5: <Name>
A7: Product | B7: SMARTEMP BMW-AD Bespoke
B8: Bar Multi-stream Adjustable Wall Diffuser
A9: Size | B9: ='BMW-Be-Selection'!B41 -> Neck 608 mm × 148 mm (with OBD)
B10: ='BMW-Be-Selection'!B42 -> Face 652 mm × 173 mm
A12: Project Summary
A13: Selected Airflow | B13: ='BMW-Be-Selection'!B146 -> 100 L/s @ 20.5 Pa total
A14: Min Selected Airflow | B14: ='BMW-Be-Selection'!B147 -> 100 L/s (VAV turndown to 100% )
A15: Min Recommended Airflow | B15: ='BMW-Be-Selection'!B148 -> 40.1 L/s @ ΔT = -12 K
A17: Acoustic Performance
A18: Sound Power Level | B18: ='BMW-Be-Selection'!B160 -> 38.1 dB(A)
A19: Sound Pressure Level | B19: ='BMW-Be-Selection'!B161 -> 23.1 NC (based on 10 dB room absorption)
A21: Comfort Performance | B21: (for selected distances see Figure 1)
A22: Selected ADPI | B22: ='BMW-Be-Selection'!B164 -> 0.9
A23: Mean Room Air Velocity | B23: ='BMW-Be-Selection'!B165 -> 0.15 m/s
A24: Draught Rating (DR) | B24: ='BMW-Be-Selection'!B166 -> 14.1% @ room temperature of 23°C
A25: Mean PPD | B25: ='BMW-Be-Selection'!B167 -> 0.075
A26: Satisfies PPD (ISO7730) | B26: ='BMW-Be-Selection'!B168 -> Category B
A27: Satisfies PMV * | B27: ='BMW-Be-Selection'!B169 -> -0.4 ≤ PMV ≤ +0.4 | D27: * ISO7730; ASHRAE Std 55
A29: Recommended Layout
A30: ='BMW-Be-Selection'!B174 -> Medium throw selected
A31: ='BMW-Be-Selection'!B175 -> 2.5 m selected install height (2.3 m min recommended)
A40: Description | B40: ='BMW-Be-Selection'!A94 -> Bespoke BMW-AD: Neck 608 mm × 148 mm (with OBD)
B41: ='BMW-Be-Selection'!A95 -> Face 652 mm × 173 mm; With side flanges
B42: ='BMW-Be-Selection'!A96 -> Throw distance set to medium
B43: ='BMW-Be-Selection'!A97 -> Centre discharge in direction of airstream
B44: ='BMW-Be-Selection'!A98 -> Face painted to Signal White (RAL9003)
B45: ='BMW-Be-Selection'!A99 -> Diffuser only (no accessories) with integrated OBD
A47: Order Code | B47: ='BMW-Be-Selection'!B103 -> SMARTEMP BMW-AD-BESPOKE-FN600-2-TM-C-SF-RAL9003-0-D1

Sheet Tables Old
G1: K= | H1: 0.015
B2: Flange Dimensions | E2: Face | G2: K1= | H2: 2 | AT2: Input Airflow Rate
B3: Width | C3: =E3+40 -> 613 | D3: [mm] | E3: 573 | G3: 30 | H3: 40 | I3: 50 | J3: 60 | K3: 70 | L3: 80 | M3: 90 | N3: 100 | O3: 110 | P3: 120 | Q3: 130 | R3: 140 | S3: 150 | T3: 160 | U3: 170 | V3: 180 | W3: 190 | X3: 200 | Y3: 210 | Z3: 220 | AA3: 230 | AB3: 240 | AC3: 250 | AD3: 260 | AE3: 270 | AF3: 280 | AG3: 290 | AH3: 300 | AI3: 310 | AJ3: 320 | AK3: 330 | AL3: 340 | AM3: 350 | AN3: 360 | AO3: 370 | AP3: 380 | AQ3: 390 | AR3: [L/s] | AT3: 70 | AU3: L/s
E4: Min Discharge Height | G4: 2.1 | N4: 2.1 | S4: 2.1 | AC4: 2.5
C5: =E5+40 -> 134 | D5: 1-row | E5: 94 | F5: Pt | G5: =1.359*10^-3*(G$3/($E$3*10^-3*$E5*10^-3)*(0.507*0.171))^2.0302 -> 3.5625192 | H5: =1.359*10^-3*(H$3/($E$3*10^-3*$E5*10^-3)*(0.507*0.171))^2.0302 -> 6.3886314 | I5: =1.359*10^-3*(I$3/($E$3*10^-3*$E5*10^-3)*(0.507*0.171))^2.0302 -> 10.049733 | J5: =1.359*10^-3*(J$3/($E$3*10^-3*$E5*10^-3)*(0.507*0.171))^2.0302 -> 14.551518 | K5: =1.359*10^-3*(K$3/($E$3*10^-3*$E5*10^-3)*(0.507*0.171))^2.0302 -> 19.898653 | L5: =1.359*10^-3*(L$3/($E$3*10^-3*$E5*10^-3)*(0.507*0.171))^2.0302 -> 26.095098 | M5: =1.359*10^-3*(M$3/($E$3*10^-3*$E5*10^-3)*(0.507*0.171))^2.0302 -> 33.144295 | N5: =1.359*10^-3*(N$3/($E$3*10^-3*$E5*10^-3)*(0.507*0.171))^2.0302 -> 41.049289 | O5: =1.359*10^-3*(O$3/($E$3*10^-3*$E5*10^-3)*(0.507*0.171))^2.0302 -> 49.812813 | AR5: [Pa] | AT5: =1.359*10^-3*(AT$3/($E$3*10^-3*$E5*10^-3)*(0.507*0.171))^2.0302 -> 19.898653 | AU5: Pa
D6: 0.054 | F6: Lp* | G6: < 5 | H6: < 5 | I6: =-15-114.08+32.01*LN(I$3/($E$3*$E5)*(507*171))+10*LOG($E$3*$E5/(507*171)) -> 9.3132104 | J6: =-15-114.08+32.01*LN(J$3/($E$3*$E5)*(507*171))+10*LOG($E$3*$E5/(507*171)) -> 15.149323 | K6: =-15-114.08+32.01*LN(K$3/($E$3*$E5)*(507*171))+10*LOG($E$3*$E5/(507*171)) -> 20.083687 | L6: =-15-114.08+32.01*LN(L$3/($E$3*$E5)*(507*171))+10*LOG($E$3*$E5/(507*171)) -> 24.358027 | M6: =-15-114.08+32.01*LN(M$3/($E$3*$E5)*(507*171))+10*LOG($E$3*$E5/(507*171)) -> 28.128262 | N6: =-15-114.08+32.01*LN(N$3/($E$3*$E5)*(507*171))+10*LOG($E$3*$E5/(507*171)) -> 31.500852 | O6: =-15-114.08+32.01*LN(O$3/($E$3*$E5)*(507*171))+10*LOG($E$3*$E5/(507*171)) -> 34.55173 | AG6: Key | AR6: [NC] | AT6: =-15-114.08+32.01*LN(AT$3/($E$3*$E5)*(507*171))+10*LOG($E$3*$E5/(507*171)) -> 20.083687 | AU6: NC
G7: =(1.033-29.43*10^-3*($E3/$E5))*$H$1*G$3/SQRT($D6) -> 1.6529936 | H7: =(1.033-29.43*10^-3*($E3/$E5))*$H$1*H$3/SQRT($D6) -> 2.2039915 | I7: =(1.033-29.43*10^-3*($E3/$E5))*$H$1*I$3/SQRT($D6) -> 2.7549894 | J7: =(1.033-29.43*10^-3*($E3/$E5))*$H$1*J$3/SQRT($D6) -> 3.3059872 | K7: =(1.033-29.43*10^-3*($E3/$E5))*$H$1*K$3/SQRT($D6) -> 3.8569851 | L7: =(1.033-29.43*10^-3*($E3/$E5))*$H$1*L$3/SQRT($D6) -> 4.407983 | M7: =(1.033-29.43*10^-3*($E3/$E5))*$H$1*M$3/SQRT($D6) -> 4.9589809 | N7: =(1.033-29.43*10^-3*($E3/$E5))*$H$1*N$3/SQRT($D6) -> 5.5099787 | O7: =(1.033-29.43*10^-3*($E3/$E5))*$H$1*O$3/SQRT($D6) -> 6.0609766
G8: =$H$2*G7 -> 3.3059872 | H8: =$H$2*H7 -> 4.407983 | I8: =$H$2*I7 -> 5.5099787 | J8: =$H$2*J7 -> 6.6119745 | K8: =$H$2*K7 -> 7.7139702 | L8: =$H$2*L7 -> 8.815966 | M8: =$H$2*M7 -> 9.9179617 | N8: =$H$2*N7 -> 11.019957 | O8: =$H$2*O7 -> 12.121953
C9: =E9+40 -> 173 | D9: 2-row | E9: 133 | F9: Pt | I9: =1.359*10^-3*(I$3/($E$3*10^-3*$E9*10^-3)*(0.507*0.171))^2.0302 -> 4.9676971 | J9: =1.359*10^-3*(J$3/($E$3*10^-3*$E9*10^-3)*(0.507*0.171))^2.0302 -> 7.1929803 | K9: =1.359*10^-3*(K$3/($E$3*10^-3*$E9*10^-3)*(0.507*0.171))^2.0302 -> 9.8361297 | L9: =1.359*10^-3*(L$3/($E$3*10^-3*$E9*10^-3)*(0.507*0.171))^2.0302 -> 12.899103 | M9: =1.359*10^-3*(M$3/($E$3*10^-3*$E9*10^-3)*(0.507*0.171))^2.0302 -> 16.3836 | N9: =1.359*10^-3*(N$3/($E$3*10^-3*$E9*10^-3)*(0.507*0.171))^2.0302 -> 20.291129 | O9: =1.359*10^-3*(O$3/($E$3*10^-3*$E9*10^-3)*(0.507*0.171))^2.0302 -> 24.623038 | P9: =1.359*10^-3*(P$3/($E$3*10^-3*$E9*10^-3)*(0.507*0.171))^2.0302 -> 29.380553 | ... S9: =1.359*10^-3*(S$3/($E$3*10^-3*$E9*10^-3)*(0.507*0.171))^2.0302 -> 46.217524 | AG9: ≤ 20 | AH9: ≤ 30 | AI9: ≤ 40 | AJ9: ≤ 50 | AK9: Pa | AR9: [Pa] | AT9: =1.359*10^-3*(AT$3/($E$3*10^-3*$E9*10^-3)*(0.507*0.171))^2.0302 -> 9.8361297 | AU9: Pa
B10: Height | D10: 0.076 | F10: Lp* | I10: < 5 | J10: =-15-114.08+32.01*LN(J$3/($E$3*$E9)*(507*171))+10*LOG($E$3*$E9/(507*171)) -> 5.5473517 | K10: =-15-114.08+32.01*LN(K$3/($E$3*$E9)*(507*171))+10*LOG($E$3*$E9/(507*171)) -> 10.481715 | L10: =-15-114.08+32.01*LN(L$3/($E$3*$E9)*(507*171))+10*LOG($E$3*$E9/(507*171)) -> 14.756055 | M10: =-15-114.08+32.01*LN(M$3/($E$3*$E9)*(507*171))+10*LOG($E$3*$E9/(507*171)) -> 18.52629 | N10: =-15-114.08+32.01*LN(N$3/($E$3*$E9)*(507*171))+10*LOG($E$3*$E9/(507*171)) -> 21.89888 | O10: =-15-114.08+32.01*LN(O$3/($E$3*$E9)*(507*171))+10*LOG($E$3*$E9/(507*171)) -> 24.949759 | P10: =-15-114.08+32.01*LN(P$3/($E$3*$E9)*(507*171))+10*LOG($E$3*$E9/(507*171)) -> 27.734993 | Q10: =-15-114.08+32.01*LN(Q$3/($E$3*$E9)*(507*171))+10*LOG($E$3*$E9/(507*171)) -> 30.29716 | ... S10: =-15-114.08+32.01*LN(S$3/($E$3*$E9)*(507*171))+10*LOG($E$3*$E9/(507*171)) -> 34.877818 | AG10: ≤ 25 | AH10: ≤ 30 | AI10: ≤ 35 | AJ10: ≤ 40 | AK10: NC | AR10: [NC] | AT10: =-15-114.08+32.01*LN(AT$3/($E$3*$E9)*(507*171))+10*LOG($E$3*$E9/(507*171)) -> 10.481715 | AU10: NC
I11: =(1.033-29.43*10^-3*($E3/$E5))*$H$1*I$3/SQRT($D10) -> 2.3222556 | J11: =(1.033-29.43*10^-3*($E3/$E5))*$H$1*J$3/SQRT($D10) -> 2.7867067 | K11: =(1.033-29.43*10^-3*($E3/$E5))*$H$1*K$3/SQRT($D10) -> 3.2511578 | L11: =(1.033-29.43*10^-3*($E3/$E5))*$H$1*L$3/SQRT($D10) -> 3.7156089 | M11: =(1.033-29.43*10^-3*($E3/$E5))*$H$1*M$3/SQRT($D10) -> 4.18006 | N11: =(1.033-29.43*10^-3*($E3/$E5))*$H$1*N$3/SQRT($D10) -> 4.6445111 | O11: =(1.033-29.43*10^-3*($E3/$E5))*$H$1*O$3/SQRT($D10) -> 5.1089622 | P11: =(1.033-29.43*10^-3*($E3/$E5))*$H$1*P$3/SQRT($D10) -> 5.5734133 | ... S11: =(1.033-29.43*10^-3*($E3/$E5))*$H$1*S$3/SQRT($D10) -> 6.9667667 | AG11: 3 | AH11: 3.5 | AI11: 4 | AJ11: 4.5 | AK11: m
I12: =$H$2*I11 -> 4.6445111 | J12: =$H$2*J11 -> 5.5734133 | K12: =$H$2*K11 -> 6.5023156 | L12: =$H$2*L11 -> 7.4312178 | M12: =$H$2*M11 -> 8.36012 | N12: =$H$2*N11 -> 9.2890222 | O12: =$H$2*O11 -> 10.217924 | P12: =$H$2*P11 -> 11.146827 | ... S12: =$H$2*S11 -> 13.933533 | AG12: 6 | AH12: 7 | AI12: 8 | AJ12: 9 | AK12: m
B13: [mm] | C13: =E13+40 -> 212 | D13: 3-row | E13: 172 | F13: Pt | J13: =1.359*10^-3*(J$3/($E$3*10^-3*$E13*10^-3)*(0.507*0.171))^2.0302 -> 4.2675893 | K13: =1.359*10^-3*(K$3/($E$3*10^-3*$E13*10^-3)*(0.507*0.171))^2.0302 -> 5.8357677 | L13: =1.359*10^-3*(L$3/($E$3*10^-3*$E13*10^-3)*(0.507*0.171))^2.0302 -> 7.653027 | M13: =1.359*10^-3*(M$3/($E$3*10^-3*$E13*10^-3)*(0.507*0.171))^2.0302 -> 9.7203767 | N13: =1.359*10^-3*(N$3/($E$3*10^-3*$E13*10^-3)*(0.507*0.171))^2.0302 -> 12.03871 | O13: =1.359*10^-3*(O$3/($E$3*10^-3*$E13*10^-3)*(0.507*0.171))^2.0302 -> 14.608828 | P13: =1.359*10^-3*(P$3/($E$3*10^-3*$E13*10^-3)*(0.507*0.171))^2.0302 -> 17.431458 | Q13: =1.359*10^-3*(Q$3/($E$3*10^-3*$E13*10^-3)*(0.507*0.171))^2.0302 -> 20.507265 | ... X13: =1.359*10^-3*(X$3/($E$3*10^-3*$E13*10^-3)*(0.507*0.171))^2.0302 -> 49.173492 | AG13: * Based on 10 dB room absorption | AR13: [Pa] | AT13: =1.359*10^-3*(AT$3/($E$3*10^-3*$E13*10^-3)*(0.507*0.171))^2.0302 -> 5.8357677 | AU13: Pa
D14: 0.098 | F14: Lp* | J14: < 5 | K14: =-15-114.08+32.01*LN(K$3/($E$3*$E13)*(507*171))+10*LOG($E$3*$E13/(507*171)) -> 3.3672604 | L14: =-15-114.08+32.01*LN(L$3/($E$3*$E13)*(507*171))+10*LOG($E$3*$E13/(507*171)) -> 7.6416002 | M14: =-15-114.08+32.01*LN(M$3/($E$3*$E13)*(507*171))+10*LOG($E$3*$E13/(507*171)) -> 11.411835 | N14: =-15-114.08+32.01*LN(N$3/($E$3*$E13)*(507*171))+10*LOG($E$3*$E13/(507*171)) -> 14.784425 | O14: =-15-114.08+32.01*LN(O$3/($E$3*$E13)*(507*171))+10*LOG($E$3*$E13/(507*171)) -> 17.835304 | P14: =-15-114.08+32.01*LN(P$3/($E$3*$E13)*(507*171))+10*LOG($E$3*$E13/(507*171)) -> 20.620538 | Q14: =-15-114.08+32.01*LN(Q$3/($E$3*$E13)*(507*171))+10*LOG($E$3*$E13/(507*171)) -> 23.182705 | R14: =-15-114.08+32.01*LN(R$3/($E$3*$E13)*(507*171))+10*LOG($E$3*$E13/(507*171)) -> 25.554902 | ... X14: =-15-114.08+32.01*LN(X$3/($E$3*$E13)*(507*171))+10*LOG($E$3*$E13/(507*171)) -> 36.972067 | AR14: [NC] | AT14: =-15-114.08+32.01*LN(AT$3/($E$3*$E13)*(507*171))+10*LOG($E$3*$E13/(507*171)) -> 3.3672604 | AU14: NC
J15: =(1.033-29.43*10^-3*($E3/$E5))*$H$1*J$3/SQRT($D14) -> 2.4540591 | K15: =(1.033-29.43*10^-3*($E3/$E5))*$H$1*K$3/SQRT($D14) -> 2.8630689 | L15: =(1.033-29.43*10^-3*($E3/$E5))*$H$1*L$3/SQRT($D14) -> 3.2720788 | M15: =(1.033-29.43*10^-3*($E3/$E5))*$H$1*M$3/SQRT($D14) -> 3.6810886 | N15: =(1.033-29.43*10^-3*($E3/$E5))*$H$1*N$3/SQRT($D14) -> 4.0900985 | O15: =(1.033-29.43*10^-3*($E3/$E5))*$H$1*O$3/SQRT($D14) -> 4.4991083 | P15: =(1.033-29.43*10^-3*($E3/$E5))*$H$1*P$3/SQRT($D14) -> 4.9081182 | Q15: =(1.033-29.43*10^-3*($E3/$E5))*$H$1*Q$3/SQRT($D14) -> 5.317128 | ... X15: =(1.033-29.43*10^-3*($E3/$E5))*$H$1*X$3/SQRT($D14) -> 8.1801969
J16: =$H$2*J15 -> 4.9081182 | K16: =$H$2*K15 -> 5.7261379 | L16: =$H$2*L15 -> 6.5441576 | M16: =$H$2*M15 -> 7.3621773 | N16: =$H$2*N15 -> 8.1801969 | O16: =$H$2*O15 -> 8.9982166 | P16: =$H$2*P15 -> 9.8162363 | Q16: =$H$2*Q15 -> 10.634256 | ... X16: =$H$2*X15 -> 16.360394
C17: =E17+40 -> 251 | D17: 4-row | E17: 211 | F17: Pt | K17: =1.359*10^-3*(K$3/($E$3*10^-3*$E17*10^-3)*(0.507*0.171))^2.0302 -> 3.8539813 | L17: =1.359*10^-3*(L$3/($E$3*10^-3*$E17*10^-3)*(0.507*0.171))^2.0302 -> 5.0541119 | M17: =1.359*10^-3*(M$3/($E$3*10^-3*$E17*10^-3)*(0.507*0.171))^2.0302 -> 6.419404 | N17: =1.359*10^-3*(N$3/($E$3*10^-3*$E17*10^-3)*(0.507*0.171))^2.0302 -> 7.9504473 | O17: =1.359*10^-3*(O$3/($E$3*10^-3*$E17*10^-3)*(0.507*0.171))^2.0302 -> 9.6477712 | P17: =1.359*10^-3*(P$3/($E$3*10^-3*$E17*10^-3)*(0.507*0.171))^2.0302 -> 11.511856 | Q17: =1.359*10^-3*(Q$3/($E$3*10^-3*$E17*10^-3)*(0.507*0.171))^2.0302 -> 13.54314 | R17: =1.359*10^-3*(R$3/($E$3*10^-3*$E17*10^-3)*(0.507*0.171))^2.0302 -> 15.742029 | ... AB17: =1.359*10^-3*(AB$3/($E$3*10^-3*$E17*10^-3)*(0.507*0.171))^2.0302 -> 47.021494 | AR17: [Pa] | AT17: =1.359*10^-3*(AT$3/($E$3*10^-3*$E17*10^-3)*(0.507*0.171))^2.0302 -> 3.8539813 | AU17: Pa
D18: 0.121 | F18: Lp* | K18: < 5 | L18: =-15-114.08+32.01*LN(L$3/($E$3*$E17)*(507*171))+10*LOG($E$3*$E17/(507*171)) -> 1.9874597 | M18: =-15-114.08+32.01*LN(M$3/($E$3*$E17)*(507*171))+10*LOG($E$3*$E17/(507*171)) -> 5.7576946 | N18: =-15-114.08+32.01*LN(N$3/($E$3*$E17)*(507*171))+10*LOG($E$3*$E17/(507*171)) -> 9.1302848 | O18: =-15-114.08+32.01*LN(O$3/($E$3*$E17)*(507*171))+10*LOG($E$3*$E17/(507*171)) -> 12.181164 | P18: =-15-114.08+32.01*LN(P$3/($E$3*$E17)*(507*171))+10*LOG($E$3*$E17/(507*171)) -> 14.966398 | Q18: =-15-114.08+32.01*LN(Q$3/($E$3*$E17)*(507*171))+10*LOG($E$3*$E17/(507*171)) -> 17.528565 | R18: =-15-114.08+32.01*LN(R$3/($E$3*$E17)*(507*171))+10*LOG($E$3*$E17/(507*171)) -> 19.900761 | S18: =-15-114.08+32.01*LN(S$3/($E$3*$E17)*(507*171))+10*LOG($E$3*$E17/(507*171)) -> 22.109223 | ... AB18: =-15-114.08+32.01*LN(AB$3/($E$3*$E17)*(507*171))+10*LOG($E$3*$E17/(507*171)) -> 37.154039 | AR18: [NC] | AT18: =-15-114.08+32.01*LN(AT$3/($E$3*$E17)*(507*171))+10*LOG($E$3*$E17/(507*171)) -> -2.2868802 | AU18: NC
K19: =(1.033-29.43*10^-3*($E3/$E5))*$H$1*K$3/SQRT($D18) -> 2.5766306 | L19: =(1.033-29.43*10^-3*($E3/$E5))*$H$1*L$3/SQRT($D18) -> 2.9447207 | M19: =(1.033-29.43*10^-3*($E3/$E5))*$H$1*M$3/SQRT($D18) -> 3.3128107 | N19: =(1.033-29.43*10^-3*($E3/$E5))*$H$1*N$3/SQRT($D18) -> 3.6809008 | O19: =(1.033-29.43*10^-3*($E3/$E5))*$H$1*O$3/SQRT($D18) -> 4.0489909 | P19: =(1.033-29.43*10^-3*($E3/$E5))*$H$1*P$3/SQRT($D18) -> 4.417081 | Q19: =(1.033-29.43*10^-3*($E3/$E5))*$H$1*Q$3/SQRT($D18) -> 4.7851711 | R19: =(1.033-29.43*10^-3*($E3/$E5))*$H$1*R$3/SQRT($D18) -> 5.1532612 | ... AB19: =(1.033-29.43*10^-3*($E3/$E5))*$H$1*AB$3/SQRT($D18) -> 8.834162
K20: =$H$2*K19 -> 5.1532612 | L20: =$H$2*L19 -> 5.8894413 | M20: =$H$2*M19 -> 6.6256215 | N20: =$H$2*N19 -> 7.3618017 | O20: =$H$2*O19 -> 8.0979818 | P20: =$H$2*P19 -> 8.834162 | Q20: =$H$2*Q19 -> 9.5703422 | R20: =$H$2*R19 -> 10.306522 | ... AB20: =$H$2*AB19 -> 17.668324
E21: FACE (active size mm)
B22: Width | C22: =E22+40 -> 747.5 | D22: [mm] | E22: 707.5 | H22: 40 | I22: 50 | J22: 60 | K22: 70 | L22: 80 | M22: 90 | N22: 100 | O22: 110 | P22: 120 | Q22: 130 | R22: 140 | S22: 150 | T22: 160 | U22: 170 | V22: 180 | W22: 190 | X22: 200 | Y22: 210 | Z22: 220 | AA22: 230 | AB22: 240 | AC22: 250 | AD22: 260 | AE22: 270 | AF22: 280 | AG22: 290 | AH22: 300 | AR22: [L/s]
C23: =E23+40 -> 134 | D23: 1-row | E23: 94 | F23: Pt | H23: =1.359*10^-3*(H$22/($E$22*10^-3*$E23*10^-3)*(0.507*0.171))^2.0302 -> 4.1638849 | I23: =1.359*10^-3*(I$22/($E$22*10^-3*$E23*10^-3)*(0.507*0.171))^2.0302 -> 6.5500622 | J23: =1.359*10^-3*(J$22/($E$22*10^-3*$E23*10^-3)*(0.507*0.171))^2.0302 -> 9.484167 | K23: =1.359*10^-3*(K$22/($E$22*10^-3*$E23*10^-3)*(0.507*0.171))^2.0302 -> 12.969241 | L23: =1.359*10^-3*(L$22/($E$22*10^-3*$E23*10^-3)*(0.507*0.171))^2.0302 -> 17.007866 | M23: =1.359*10^-3*(M$22/($E$22*10^-3*$E23*10^-3)*(0.507*0.171))^2.0302 -> 21.602284 | N23: =1.359*10^-3*(N$22/($E$22*10^-3*$E23*10^-3)*(0.507*0.171))^2.0302 -> 26.754481 | O23: =1.359*10^-3*(O$22/($E$22*10^-3*$E23*10^-3)*(0.507*0.171))^2.0302 -> 32.466237 | ... Q23: =1.359*10^-3*(Q$22/($E$22*10^-3*$E23*10^-3)*(0.507*0.171))^2.0302 -> 45.574752 | AR23: [Pa] | AT23: =1.359*10^-3*(AT$3/($E$22*10^-3*$E23*10^-3)*(0.507*0.171))^2.0302 -> 12.969241 | AU23: Pa
D24: =E$22*E23*10^-6 -> 0.066505 | F24: Lp* | H24: < 5 | I24: =-15-114.08+32.01*LN(I$22/($E$22*$E23)*(507*171))+10*LOG($E$40*$E23/(507*171)) -> 4.5727083 | J24: =-15-114.08+32.01*LN(J$22/($E$22*$E23)*(507*171))+10*LOG($E$40*$E23/(507*171)) -> 10.408821 | K24: =-15-114.08+32.01*LN(K$22/($E$22*$E23)*(507*171))+10*LOG($E$40*$E23/(507*171)) -> 15.343185 | L24: =-15-114.08+32.01*LN(L$22/($E$22*$E23)*(507*171))+10*LOG($E$40*$E23/(507*171)) -> 19.617525 | M24: =-15-114.08+32.01*LN(M$22/($E$22*$E23)*(507*171))+10*LOG($E$40*$E23/(507*171)) -> 23.387759 | N24: =-15-114.08+32.01*LN(N$22/($E$22*$E23)*(507*171))+10*LOG($E$40*$E23/(507*171)) -> 26.76035 | O24: =-15-114.08+32.01*LN(O$22/($E$22*$E23)*(507*171))+10*LOG($E$40*$E23/(507*171)) -> 29.811228 | P24: =-15-114.08+32.01*LN(P$22/($E$22*$E23)*(507*171))+10*LOG($E$40*$E23/(507*171)) -> 32.596463 | Q24: =-15-114.08+32.01*LN(Q$22/($E$22*$E23)*(507*171))+10*LOG($E$40*$E23/(507*171)) -> 35.15863 | AR24: [NC] | AT24: =-15-114.08+32.01*LN(AT$3/($E$22*$E23)*(507*171))+10*LOG($E$40*$E23/(507*171)) -> 15.343185 | AU24: NC
H25: =(1.033-29.43*10^-3*($E22/$E23))*$H$1*H$3/SQRT($D24) -> 1.8880283 | I25: =(1.033-29.43*10^-3*($E22/$E23))*$H$1*I$3/SQRT($D24) -> 2.3600354 | J25: =(1.033-29.43*10^-3*($E22/$E23))*$H$1*J$3/SQRT($D24) -> 2.8320424 | K25: =(1.033-29.43*10^-3*($E22/$E23))*$H$1*K$3/SQRT($D24) -> 3.3040495 | L25: =(1.033-29.43*10^-3*($E22/$E23))*$H$1*L$3/SQRT($D24) -> 3.7760566 | M25: =(1.033-29.43*10^-3*($E22/$E23))*$H$1*M$3/SQRT($D24) -> 4.2480637 | N25: =(1.033-29.43*10^-3*($E22/$E23))*$H$1*N$3/SQRT($D24) -> 4.7200707 | O25: =(1.033-29.43*10^-3*($E22/$E23))*$H$1*O$3/SQRT($D24) -> 5.1920778 | ... Q25: =(1.033-29.43*10^-3*($E22/$E23))*$H$1*Q$3/SQRT($D24) -> 6.1360919
H26: =$H$2*H25 -> 3.7760566 | I26: =$H$2*I25 -> 4.7200707 | J26: =$H$2*J25 -> 5.6640849 | K26: =$H$2*K25 -> 6.608099 | L26: =$H$2*L25 -> 7.5521132 | M26: =$H$2*M25 -> 8.4961273 | N26: =$H$2*N25 -> 9.4401415 | O26: =$H$2*O25 -> 10.384156 | ... Q26: =$H$2*Q25 -> 12.272184
C27: =E27+40 -> 173 | D27: 2-row | E27: 133 | F27: Pt | I27: =1.359*10^-3*(I$22/($E$22*10^-3*$E27*10^-3)*(0.507*0.171))^2.0302 -> 3.23777 | J27: =1.359*10^-3*(J$22/($E$22*10^-3*$E27*10^-3)*(0.507*0.171))^2.0302 -> 4.6881312 | K27: =1.359*10^-3*(K$22/($E$22*10^-3*$E27*10^-3)*(0.507*0.171))^2.0302 -> 6.4108429 | L27: =1.359*10^-3*(L$22/($E$22*10^-3*$E27*10^-3)*(0.507*0.171))^2.0302 -> 8.4071807 | M27: =1.359*10^-3*(M$22/($E$22*10^-3*$E27*10^-3)*(0.507*0.171))^2.0302 -> 10.678254 | N27: =1.359*10^-3*(N$22/($E$22*10^-3*$E27*10^-3)*(0.507*0.171))^2.0302 -> 13.225043 | O27: =1.359*10^-3*(O$22/($E$22*10^-3*$E27*10^-3)*(0.507*0.171))^2.0302 -> 16.048429 | P27: =1.359*10^-3*(P$22/($E$22*10^-3*$E27*10^-3)*(0.507*0.171))^2.0302 -> 19.14921 | ... W27: =1.359*10^-3*(W$22/($E$22*10^-3*$E27*10^-3)*(0.507*0.171))^2.0302 -> 48.676871 | AR27: [Pa] | AT27: =1.359*10^-3*(AT$3/($E$22*10^-3*$E27*10^-3)*(0.507*0.171))^2.0302 -> 6.4108429 | AU27: Pa
B28: Height | D28: =E$22*E27*10^-6 -> 0.0940975 | F28: Lp* | I28: < 5 | J28: < 5 | K28: =-15-114.08+32.01*LN(K$22/($E$22*$E27)*(507*171))+10*LOG($E$40*$E27/(507*171)) -> 5.7412129 | L28: =-15-114.08+32.01*LN(L$22/($E$22*$E27)*(507*171))+10*LOG($E$40*$E27/(507*171)) -> 10.015553 | M28: =-15-114.08+32.01*LN(M$22/($E$22*$E27)*(507*171))+10*LOG($E$40*$E27/(507*171)) -> 13.785788 | N28: =-15-114.08+32.01*LN(N$22/($E$22*$E27)*(507*171))+10*LOG($E$40*$E27/(507*171)) -> 17.158378 | O28: =-15-114.08+32.01*LN(O$22/($E$22*$E27)*(507*171))+10*LOG($E$40*$E27/(507*171)) -> 20.209257 | P28: =-15-114.08+32.01*LN(P$22/($E$22*$E27)*(507*171))+10*LOG($E$40*$E27/(507*171)) -> 22.994491 | Q28: =-15-114.08+32.01*LN(Q$22/($E$22*$E27)*(507*171))+10*LOG($E$40*$E27/(507*171)) -> 25.556658 | R28: =-15-114.08+32.01*LN(R$22/($E$22*$E27)*(507*171))+10*LOG($E$40*$E27/(507*171)) -> 27.928854 | ... W28: =-15-114.08+32.01*LN(W$22/($E$22*$E27)*(507*171))+10*LOG($E$40*$E27/(507*171)) -> 37.704121 | AR28: [NC] | AT28: =-15-114.08+32.01*LN(AT$3/($E$22*$E27)*(507*171))+10*LOG($E$40*$E27/(507*171)) -> 5.7412129 | AU28: NC
I29: =(1.033-29.43*10^-3*($E22/$E23))*$H$1*I$3/SQRT($D28) -> 1.9840683 | J29: =(1.033-29.43*10^-3*($E22/$E23))*$H$1*J$3/SQRT($D28) -> 2.380882 | K29: =(1.033-29.43*10^-3*($E22/$E23))*$H$1*K$3/SQRT($D28) -> 2.7776956 | L29: =(1.033-29.43*10^-3*($E22/$E23))*$H$1*L$3/SQRT($D28) -> 3.1745093 | M29: =(1.033-29.43*10^-3*($E22/$E23))*$H$1*M$3/SQRT($D28) -> 3.5713229 | N29: =(1.033-29.43*10^-3*($E22/$E23))*$H$1*N$3/SQRT($D28) -> 3.9681366 | O29: =(1.033-29.43*10^-3*($E22/$E23))*$H$1*O$3/SQRT($D28) -> 4.3649502 | P29: =(1.033-29.43*10^-3*($E22/$E23))*$H$1*P$3/SQRT($D28) -> 4.7617639 | ... W29: =(1.033-29.43*10^-3*($E22/$E23))*$H$1*W$3/SQRT($D28) -> 7.5394595
I30: =$H$2*I29 -> 3.9681366 | J30: =$H$2*J29 -> 4.7617639 | K30: =$H$2*K29 -> 5.5553912 | L30: =$H$2*L29 -> 6.3490185 | M30: =$H$2*M29 -> 7.1426459 | N30: =$H$2*N29 -> 7.9362732 | O30: =$H$2*O29 -> 8.7299005 | P30: =$H$2*P29 -> 9.5235278 | ... W30: =$H$2*W29 -> 15.078919
B31: [mm] | C31: =E31+40 -> 212 | D31: 3-row | E31: 172 | F31: Pt | J31: =1.359*10^-3*(J$22/($E$22*10^-3*$E31*10^-3)*(0.507*0.171))^2.0302 -> 2.7814644 | K31: =1.359*10^-3*(K$22/($E$22*10^-3*$E31*10^-3)*(0.507*0.171))^2.0302 -> 3.8035478 | L31: =1.359*10^-3*(L$22/($E$22*10^-3*$E31*10^-3)*(0.507*0.171))^2.0302 -> 4.9879734 | M31: =1.359*10^-3*(M$22/($E$22*10^-3*$E31*10^-3)*(0.507*0.171))^2.0302 -> 6.3353991 | N31: =1.359*10^-3*(N$22/($E$22*10^-3*$E31*10^-3)*(0.507*0.171))^2.0302 -> 7.8464071 | O31: =1.359*10^-3*(O$22/($E$22*10^-3*$E31*10^-3)*(0.507*0.171))^2.0302 -> 9.5215197 | P31: =1.359*10^-3*(P$22/($E$22*10^-3*$E31*10^-3)*(0.507*0.171))^2.0302 -> 11.36121 | Q31: =1.359*10^-3*(Q$22/($E$22*10^-3*$E31*10^-3)*(0.507*0.171))^2.0302 -> 13.365913 | ... AC31: =1.359*10^-3*(AC$22/($E$22*10^-3*$E31*10^-3)*(0.507*0.171))^2.0302 -> 50.41603 | AR31: [Pa] | AT31: =1.359*10^-3*(AT$3/($E$22*10^-3*$E31*10^-3)*(0.507*0.171))^2.0302 -> 3.8035478 | AU31: Pa
D32: =E$22*E31*10^-6 -> 0.12169 | F32: Lp* | J32: < 5 | K32: < 5 | L32: < 5 | M32: =-15-114.08+32.01*LN(M$22/($E$22*$E31)*(507*171))+10*LOG($E$40*$E31/(507*171)) -> 6.6713332 | N32: =-15-114.08+32.01*LN(N$22/($E$22*$E31)*(507*171))+10*LOG($E$40*$E31/(507*171)) -> 10.043923 | O32: =-15-114.08+32.01*LN(O$22/($E$22*$E31)*(507*171))+10*LOG($E$40*$E31/(507*171)) -> 13.094802 | P32: =-15-114.08+32.01*LN(P$22/($E$22*$E31)*(507*171))+10*LOG($E$40*$E31/(507*171)) -> 15.880036 | Q32: =-15-114.08+32.01*LN(Q$22/($E$22*$E31)*(507*171))+10*LOG($E$40*$E31/(507*171)) -> 18.442203 | R32: =-15-114.08+32.01*LN(R$22/($E$22*$E31)*(507*171))+10*LOG($E$40*$E31/(507*171)) -> 20.8144 | S32: =-15-114.08+32.01*LN(S$22/($E$22*$E31)*(507*171))+10*LOG($E$40*$E31/(507*171)) -> 23.022861 | T32: =-15-114.08+32.01*LN(T$22/($E$22*$E31)*(507*171))+10*LOG($E$40*$E31/(507*171)) -> 25.088739 | ... AC32: =-15-114.08+32.01*LN(AC$22/($E$22*$E31)*(507*171))+10*LOG($E$40*$E31/(507*171)) -> 39.37439 | AR32: [NC] | AT32: =-15-114.08+32.01*LN(AT$3/($E$22*$E31)*(507*171))+10*LOG($E$40*$E31/(507*171)) -> -1.3732417 | AU32: NC
J33: =(1.033-29.43*10^-3*($E22/$E23))*$H$1*J$3/SQRT($D32) -> 2.0936277 | K33: =(1.033-29.43*10^-3*($E22/$E23))*$H$1*K$3/SQRT($D32) -> 2.4425657 | L33: =(1.033-29.43*10^-3*($E22/$E23))*$H$1*L$3/SQRT($D32) -> 2.7915036 | M33: =(1.033-29.43*10^-3*($E22/$E23))*$H$1*M$3/SQRT($D32) -> 3.1404416 | N33: =(1.033-29.43*10^-3*($E22/$E23))*$H$1*N$3/SQRT($D32) -> 3.4893795 | O33: =(1.033-29.43*10^-3*($E22/$E23))*$H$1*O$3/SQRT($D32) -> 3.8383175 | P33: =(1.033-29.43*10^-3*($E22/$E23))*$H$1*P$3/SQRT($D32) -> 4.1872554 | Q33: =(1.033-29.43*10^-3*($E22/$E23))*$H$1*Q$3/SQRT($D32) -> 4.5361934 | ... AC33: =(1.033-29.43*10^-3*($E22/$E23))*$H$1*AC$3/SQRT($D32) -> 8.7234488
J34: =$H$2*J33 -> 4.1872554 | K34: =$H$2*K33 -> 4.8851314 | L34: =$H$2*L33 -> 5.5830073 | M34: =$H$2*M33 -> 6.2808832 | N34: =$H$2*N33 -> 6.9787591 | O34: =$H$2*O33 -> 7.676635 | P34: =$H$2*P33 -> 8.3745109 | Q34: =$H$2*Q33 -> 9.0723868 | ... AC34: =$H$2*AC33 -> 17.446898
C35: =E35+40 -> 251 | D35: 4-row | E35: 211 | F35: Pt | K35: =1.359*10^-3*(K$22/($E$22*10^-3*$E35*10^-3)*(0.507*0.171))^2.0302 -> 2.5118893 | L35: =1.359*10^-3*(L$22/($E$22*10^-3*$E35*10^-3)*(0.507*0.171))^2.0302 -> 3.2940921 | M35: =1.359*10^-3*(M$22/($E$22*10^-3*$E35*10^-3)*(0.507*0.171))^2.0302 -> 4.1839414 | N35: =1.359*10^-3*(N$22/($E$22*10^-3*$E35*10^-3)*(0.507*0.171))^2.0302 -> 5.1818215 | O35: =1.359*10^-3*(O$22/($E$22*10^-3*$E35*10^-3)*(0.507*0.171))^2.0302 -> 6.2880774 | P35: =1.359*10^-3*(P$22/($E$22*10^-3*$E35*10^-3)*(0.507*0.171))^2.0302 -> 7.503022 | Q35: =1.359*10^-3*(Q$22/($E$22*10^-3*$E35*10^-3)*(0.507*0.171))^2.0302 -> 8.8269414 | R35: =1.359*10^-3*(R$22/($E$22*10^-3*$E35*10^-3)*(0.507*0.171))^2.0302 -> 10.2601 | ... AH35: =1.359*10^-3*(AH$22/($E$22*10^-3*$E35*10^-3)*(0.507*0.171))^2.0302 -> 48.209655 | AR35: [Pa] | AT35: =1.359*10^-3*(AT$3/($E$22*10^-3*$E35*10^-3)*(0.507*0.171))^2.0302 -> 2.5118893 | AU35: Pa
D36: =E$22*E35*10^-6 -> 0.1492825 | F36: Lp* | K36: < 5 | L36: < 5 | M36: < 5 | N36: < 5 | O36: =-15-114.08+32.01*LN(O$22/($E$22*$E35)*(507*171))+10*LOG($E$40*$E35/(507*171)) -> 7.4406616 | P36: =-15-114.08+32.01*LN(P$22/($E$22*$E35)*(507*171))+10*LOG($E$40*$E35/(507*171)) -> 10.225896 | Q36: =-15-114.08+32.01*LN(Q$22/($E$22*$E35)*(507*171))+10*LOG($E$40*$E35/(507*171)) -> 12.788063 | R36: =-15-114.08+32.01*LN(R$22/($E$22*$E35)*(507*171))+10*LOG($E$40*$E35/(507*171)) -> 15.160259 | S36: =-15-114.08+32.01*LN(S$22/($E$22*$E35)*(507*171))+10*LOG($E$40*$E35/(507*171)) -> 17.368721 | T36: =-15-114.08+32.01*LN(T$22/($E$22*$E35)*(507*171))+10*LOG($E$40*$E35/(507*171)) -> 19.434599 | U36: =-15-114.08+32.01*LN(U$22/($E$22*$E35)*(507*171))+10*LOG($E$40*$E35/(507*171)) -> 21.375193 | V36: =-15-114.08+32.01*LN(V$22/($E$22*$E35)*(507*171))+10*LOG($E$40*$E35/(507*171)) -> 23.204834 | ... AH36: =-15-114.08+32.01*LN(AH$22/($E$22*$E35)*(507*171))+10*LOG($E$40*$E35/(507*171)) -> 39.556362 | AR36: [NC] | AT36: =-15-114.08+32.01*LN(AT$3/($E$22*$E35)*(507*171))+10*LOG($E$40*$E35/(507*171)) -> -7.0273822 | AU36: NC
K37: =(1.033-29.43*10^-3*($E22/$E23))*$H$1*K$3/SQRT($D36) -> 2.205308 | L37: =(1.033-29.43*10^-3*($E22/$E23))*$H$1*L$3/SQRT($D36) -> 2.520352 | M37: =(1.033-29.43*10^-3*($E22/$E23))*$H$1*M$3/SQRT($D36) -> 2.835396 | N37: =(1.033-29.43*10^-3*($E22/$E23))*$H$1*N$3/SQRT($D36) -> 3.1504399 | O37: =(1.033-29.43*10^-3*($E22/$E23))*$H$1*O$3/SQRT($D36) -> 3.4654839 | P37: =(1.033-29.43*10^-3*($E22/$E23))*$H$1*P$3/SQRT($D36) -> 3.7805279 | Q37: =(1.033-29.43*10^-3*($E22/$E23))*$H$1*Q$3/SQRT($D36) -> 4.0955719 | R37: =(1.033-29.43*10^-3*($E22/$E23))*$H$1*R$3/SQRT($D36) -> 4.4106159 | ... AH37: =(1.033-29.43*10^-3*($E22/$E23))*$H$1*AH$3/SQRT($D36) -> 9.4513198
K38: =$H$2*K37 -> 4.4106159 | L38: =$H$2*L37 -> 5.0407039 | M38: =$H$2*M37 -> 5.6707919 | N38: =$H$2*N37 -> 6.3008799 | O38: =$H$2*O37 -> 6.9309679 | P38: =$H$2*P37 -> 7.5610559 | Q38: =$H$2*Q37 -> 8.1911439 | R38: =$H$2*R37 -> 8.8212319 | ... AH38: =$H$2*AH37 -> 18.90264
E39: FACE (active size mm)
B40: Width | C40: =E40+40 -> 950 | D40: [mm] | E40: 910 | I40: 50 | J40: 60 | K40: 70 | L40: 80 | M40: 90 | N40: 100 | O40: 110 | P40: 120 | Q40: 130 | R40: 140 | S40: 150 | T40: 160 | U40: 170 | V40: 180 | W40: 190 | X40: 200 | Y40: 210 | Z40: 220 | AA40: 230 | AB40: 240 | AC40: 250 | AD40: 260 | AE40: 270 | AF40: 280 | AG40: 290 | AH40: 300 | AI40: 310 | AJ40: 320 | AK40: 330 | AL40: 340 | AM40: 350 | AN40: 360 | AO40: 370 | AP40: 380 | AQ40: 390 | AR40: [L/s]
...

Sheet DN600, DN950, DN1500 Calculator
A1: Units
A2: Type | B2: 2 | D2: FACTORS: | E2: K.l.min | F2: 7 | X2: FACTORS: | Y2: K.l.min | Z2: =$F2 -> 7 | AR2: FACTORS: | AS2: K.l.min | AT2: =$F2 -> 7
A3: Multiplier | B3: =IF(B2=1,1,3.6) -> 3.6 | E3: K.l.max | F3: 21 | Y3: K.l.max | Z3: =$F3 -> 21 | AS3: K.l.max | AT3: =$F3 -> 21
A4: Type | B4: =IF(B2=1,"L/s","m³/h") -> m³/h | E4: K.dT | F4: =SQRT(ABS(12/F19)) -> 1 | G4: -12 K / dT | Y4: K.dT | Z4: =$F4 -> 1 | AA4: -12 K / dT | AS4: K.dT | AT4: =$F4 -> 1 | AU4: -12 K / dT
A5: Type2 | B5: =IF(B2=1,"L/s/m²","m³/h/m²") -> m³/h/m² | E5: K.H.min(sp) | F5: =SQRT(1.209*F18^-0.199) -> 1.0037328 | G5: Increased draught risk as height increases, Fig 8, Krantz Layout Criteria TB 69 E | Y5: K.H.min(sp) | Z5: =$F5 -> 1.0037328 | AA5: Increased draught risk as height increases, Fig 8, Krantz Layout Criteria TB 69 E | AS5: K.H.min(sp) | AT5: =$F5 -> 1.0037328 | AU5: Increased draught risk as height increases, Fig 8, Krantz Layout Criteria TB 69 E
E6: K.H.max(vol) | F6: =SQRT(2.5/F18) -> 1 | G6: Reduce max throw with height to maintain constant volume to prevent stagnation | Y6: K.H.max(vol) | Z6: =$F6 -> 1 | AA6: Reduce max throw with height to maintain constant volume to prevent stagnation | AS6: K.H.max(vol) | AT6: =$F6 -> 1 | AU6: Reduce max throw with height to maintain constant volume to prevent stagnation
E7: K.2D/3D | F7: =SQRT(195/145) -> 1.159667 | G7: Fig 8 / Fig 7 @ 0.25, Krantz Layout Criteria TB 69 E | Y7: K.2D/3D | Z7: =$F7 -> 1.159667 | AA7: Fig 8 / Fig 7 @ 0.25, Krantz Layout Criteria TB 69 E | AS7: K.2D/3D | AT7: =$F7 -> 1.159667 | AU7: Fig 8 / Fig 7 @ 0.25, Krantz Layout Criteria TB 69 E
E8: K.adpi | F8: =SQRT(19.92*F9^2.153) -> 0.94595467 | G8: Adjustment factor for ADPI | Y8: K.adpi | Z8: =$F8 -> 0.94595467 | AA8: Adjustment factor for ADPI | AS8: K.adpi | AT8: =$F8 -> 0.94595467 | AU8: Adjustment factor for ADPI
E9: v.room ≤ | F9: =0.679-4.915*10^-3*F20 -> 0.23665 | G9: m/s, Krantz Layout Criteria TB 69 E | Y9: v.room ≤ | Z9: =$F9 -> 0.23665 | AA9: m/s, Krantz Layout Criteria TB 69 E | AS9: v.room ≤ | AT9: =$F9 -> 0.23665 | AU9: m/s, Krantz Layout Criteria TB 69 E
E10: K.h.min | F10: 1.9 | Y10: K.h.min | Z10: =$F10 -> 1.9 | AS10: K.h.min | AT10: =$F10 -> 1.9
Z11: INPUT | AT11: INPUT
Y12: H.diffuser = | Z12: =$F18 -> 2.5 | AA12: m | AS12: H.diffuser = | AT12: =$F18 -> 2.5 | AU12: m
C13: PMW- | D13: W.neck | W13: PMW- | X13: W.neck | Y13: dT(cooling) = | Z13: =$F19 -> -12 | AA13: K | AQ13: PMW- | AR13: W.neck | AS13: dT(cooling) = | AT13: =$F19 -> -12 | AU13: K
C14: AD- | D14: mm | W14: AD- | X14: mm | Y14: ADPI ³ | Z14: =$F20 -> 90 | AA14: % | AQ14: AD- | AR14: mm | AS14: ADPI ³ | AT14: =$F20 -> 90 | AU14: %
C15: DN 600 | D15: 577 | W15: DN 950 | X15: 915 | Y15: = | Z15: =$F21 -> 27.777778 | AA15: L/s | AQ15: DN 1500 | AR15: 1455 | AS15: = | AT15: =$F21 -> 27.777778 | AU15: L/s
F17: INPUT
E18: H.diffuser = | F18: ='BMW-AD-Std Size Calculator'!E14 -> 2.5 | G18: m | K18: m | P18: Height to Diffuser Centre-Line = 2.0 to 4.5 m
E19: dT(cooling) = | F19: =IF('BMW-AD-Std Size Calculator'!E16>-8,-8,'BMW-AD-Std Size Calculator'!E16) -> -12 | G19: K | K19: K | P19: dT = -8 K to -12 K
E20: ADPI ³ | F20: ='BMW-AD-Std Size Calculator'!N10*100 -> 90 | G20: % | K20: % | P20: 70%, 80%, 90% or 95%
E21: = | F21: ='BMW-AD-Std Size Calculator'!E8/B3 -> 27.777778 | G21: L/s | K21: L/s
E22: BMW-AD- | F22: DN600 | Y22: BMW-AD- | Z22: DN950 | AS22: BMW-AD- | AT22: DN1500
E23: W.n | F23: =D15 -> 577 | G23: mm | Y23: W.n | Z23: =X15 -> 915 | AA23: mm | AS23: W.n | AT23: =AR15 -> 1455 | AU23: mm | BJ23: mm
E24: W.f | F24: =F23+35 -> 612 | G24: mm | Z24: =Z23+35 -> 950 | AT24: =AT23+35 -> 1490 | BJ24: mm
E25: Rows | F25: 1 | K25: 2 | P25: 3 | U25: 4 | Z25: 1 | AE25: 2 | AJ25: 3 | AO25: 4 | AT25: 1 | AY25: 2 | BD25: 3 | BI25: 4
E26: H.c | F26: 99 | K26: 138 | P26: 177 | U26: 216 | Z26: 99 | AE26: 138 | AJ26: 177 | AO26: 216 | AT26: 99 | AY26: 138 | BD26: 177 | BI26: 216 | BJ26: mm
E27: H.f | F27: =F26+35 -> 134 | G27: =G26+35 -> 35 | H27: =H26+35 -> 35 | I27: =I26+35 -> 35 | J27: =J26+35 -> 35 | K27: =K26+35 -> 173 | L27: =L26+35 -> 35 | M27: =M26+35 -> 35 | ... BI27: =BI26+35 -> 251 | BJ27: mm
E28: Pt | F28: =1.359*10^-3*(F$21/($D$15*10^-3*$C46*10^-3)*(0.507*0.171))^2.0302 -> 2.7044084 | G28: Pa | J28: Pt | K28: =1.359*10^-3*(F$21/($D$15*10^-3*$H46*10^-3)*(0.507*0.171))^2.0302 -> 1.3779337 | L28: Pa | O28: Pt | P28: =1.359*10^-3*(F$21/($D$15*10^-3*$M46*10^-3)*(0.507*0.171))^2.0302 -> 0.83133396 | Q28: Pa | T28: Pt | U28: =1.359*10^-3*(F$21/($D$15*10^-3*$R46*10^-3)*(0.507*0.171))^2.0302 -> 0.55488482 | V28: Pa | Y28: Pt | Z28: =1.359*10^-3*(Z$15/($X$15*10^-3*$Z26*10^-3)*(0.507*0.171))^2.0302 -> 1.0605577 | AA28: Pa | AD28: Pt | AE28: =1.359*10^-3*(Z$15/($X$15*10^-3*$AE26*10^-3)*(0.507*0.171))^2.0302 -> 0.54036891 | AF28: Pa | AI28: Pt | AJ28: =1.359*10^-3*(Z$15/($X$15*10^-3*$AJ26*10^-3)*(0.507*0.171))^2.0302 -> 0.32601498 | AK28: Pa | AN28: Pt | AO28: =1.359*10^-3*(Z$15/($X$15*10^-3*$AO26*10^-3)*(0.507*0.171))^2.0302 -> 0.217603 | AP28: Pa | AS28: Pt | AT28: =1.359*10^-3*(AT$15/($AR$15*10^-3*$AT26*10^-3)*(0.507*0.171))^2.0302 -> 0.41358708 | AU28: Pa | AX28: Pt | AY28: =1.359*10^-3*(AT$15/($AR$15*10^-3*$AY26*10^-3)*(0.507*0.171))^2.0302 -> 0.21072837 | AZ28: Pa | BC28: Pt | BD28: =1.359*10^-3*(AT$15/($AR$15*10^-3*$BD26*10^-3)*(0.507*0.171))^2.0302 -> 0.12713649 | BE28: Pa | BH28: Pt | BI28: =1.359*10^-3*(AT$15/($AR$15*10^-3*$BI26*10^-3)*(0.507*0.171))^2.0302 -> 0.084858925 | BJ28: Pa
C29: H.neck | D29: Throw | E29: Lw | F29: =IF(-114.08+32.01*LN(F$21/($D$15*$C46)*(507*171))+10*LOG($D$15*$C46/(507*171))<15,"<15",-114.08+32.01*LN(F$21/($D$15*$C46)*(507*171))+10*LOG($D$15*$C46/(507*171))) -> <15 | G29: dB(A) | H29: H.neck | I29: Discharge | J29: Lw | K29: =IF(-114.08+32.01*LN(F$21/($D$15*$H46)*(507*171))+10*LOG($D$15*$H46/(507*171))<15,"<15",-114.08+32.01*LN(F$21/($D$15*$H46)*(507*171))+10*LOG($D$15*$H46/(507*171))) -> <15 | L29: dB(A) | M29: H.neck | N29: Discharge | O29: Lw | P29: =IF(-114.08+32.01*LN(F$21/($D$15*$M46)*(507*171))+10*LOG($D$15*$M46/(507*171))<15,"<15",-114.08+32.01*LN(F$21/($D$15*$M46)*(507*171))+10*LOG($D$15*$M46/(507*171))) -> <15 | Q29: dB(A) | R29: H.neck | S29: Discharge | T29: Lw | U29: =IF(-114.08+32.01*LN(F$21/($D$15*$R46)*(507*171))+10*LOG($D$15*$R46/(507*171))<15,"<15",-114.08+32.01*LN(F$21/($D$15*$R46)*(507*171))+10*LOG($D$15*$R46/(507*171))) -> <15 | V29: dB(A) | W29: H.neck | X29: Discharge | Y29: Lw | Z29: =IF(-114.08+32.01*LN(Z$15/($X$15*$Z26)*(507*171))+10*LOG($X$15*$Z26/(507*171))<15,"<15",-114.08+32.01*LN(Z$15/($X$15*$Z26)*(507*171))+10*LOG($X$15*$Z26/(507*171))) -> <15 | AA29: dB(A) | AB29: H.neck | AC29: Discharge | AD29: Lw | AE29: =IF(-114.08+32.01*LN(Z$15/($X$15*$AE26)*(507*171))+10*LOG($X$15*$AE26/(507*171))<15,"<15",-114.08+32.01*LN(Z$15/($X$15*$AE26)*(507*171))+10*LOG($X$15*$AE26/(507*171))) -> <15 | AF29: dB(A) | AG29: H.neck | AH29: Discharge | AI29: Lw | AJ29: =IF(-114.08+32.01*LN(Z$15/($X$15*$AJ26)*(507*171))+10*LOG($X$15*$AJ26/(507*171))<15,"<15",-114.08+32.01*LN(Z$15/($X$15*$AJ26)*(507*171))+10*LOG($X$15*$AJ26/(507*171))) -> <15 | AK29: dB(A) | AL29: H.neck | AM29: Discharge | AN29: Lw | AO29: =IF(-114.08+32.01*LN(Z$15/($X$15*$AO26)*(507*171))+10*LOG($X$15*$AO26/(507*171))<15,"<15",-114.08+32.01*LN(Z$15/($X$15*$AO26)*(507*171))+10*LOG($X$15*$AO26/(507*171))) -> <15 | AP29: dB(A) | AQ29: H.neck | AR29: Discharge | AS29: Lw | AT29: =IF(-114.08+32.01*LN(AT$15/($AR$15*$AT26)*(507*171))+10*LOG($AR$15*$AT26/(507*171))<15,"<15",-114.08+32.01*LN(AT$15/($AR$15*$AT26)*(507*171))+10*LOG($AR$15*$AT26/(507*171))) -> <15 | AU29: dB(A) | AV29: H.neck | AW29: Discharge | AX29: Lw | AY29: =IF(-114.08+32.01*LN(AT$15/($AR$15*$AY26)*(507*171))+10*LOG($AR$15*$AY26/(507*171))<15,"<15",-114.08+32.01*LN(AT$15/($AR$15*$AY26)*(507*171))+10*LOG($AR$15*$AY26/(507*171))) -> <15 | AZ29: dB(A) | BA29: H.neck | BB29: Discharge | BC29: Lw | BD29: =IF(-114.08+32.01*LN(AT$15/($AR$15*$BD26)*(507*171))+10*LOG($AR$15*$BD26/(507*171))<15,"<15",-114.08+32.01*LN(AT$15/($AR$15*$BD26)*(507*171))+10*LOG($AR$15*$BD26/(507*171))) -> <15 | BE29: dB(A) | BF29: H.neck | BG29: Discharge | BH29: Lw | BI29: =IF(-114.08+32.01*LN(AT$15/($AR$15*$BI26)*(507*171))+10*LOG($AR$15*$BI26/(507*171))<15,"<15",-114.08+32.01*LN(AT$15/($AR$15*$BI26)*(507*171))+10*LOG($AR$15*$BI26/(507*171))) -> <15 | BJ29: dB(A)
