Workbook
Name adpi.: 'BMW-Std-selection'!$A$2:$A$5

Sheet BMW-AD-Std Size Calculator
C2: SMARTEMP PRODUCT SELECTION CALCULATOR
C3: Bar Multi-stream Diffuser [BMW-AD]
B5: Project: | D5: <Project Name>
C6: Inputs | K6: Detailed Selection | AB6: v 2.0 [01/2026]
D8: Maximum Airflow Rate | E8: 100 | F8: L/s | G8: m3/h | K8: Draught Rating & Comfort
D10: VAV: Turndown to | E10: 100 | F10: % | G10: use 100% for CAV | M10: ADPI ≥ | N10: 0.9 | Q10: default ≥ 90% | T10: Thermal Comfort Guide
T11: ADPI ≥ 95%; ṽ ≤ 0.20 m/s: Premium comfort, sedentary activity, such as in auditoria.
D12: Maximum Total Pressure | E12: 30 | F12: Pa | G12: default 30 Pa | L12: ='BMW-Std-selection'!B147 -> Nominal Selection: Throw Length/Breadth = 4.3 m/4.3 m (5.3 L/s/m²) | T12: ADPI ≥ 90%; ṽ ≤ 0.25 m/s: High comfort near-sedentary activity, such as in board rooms, high end offices and libraries.
T13: ADPI ≥ 80%; ṽ ≤ 0.29 m/s: Good comfort near sedentary activity, such as open-plan offices and meeting rooms.
D14: Diffuser Height | E14: 2.5 | F14: m | G14: 2.0 m to 5.5 m (recommended) | M14: Manual Throw: Length | N14: 5 | P14: m | T14: ADPI ≥ 70%; ṽ ≤ 0.33 m/s: Standard comfort medium activity, such as in transient spaces, retail and lobbies.
M15: Manual Throw: Breadth | N15: 4 | P15: m | Q15: ="= specific airflow: "& BMW_Std_Eqn!D28 & " " &BMW_Std_Eqn!C5 -> = specific airflow: 5 L/s/m²
D16: ΔT (cooling) | E16: -12 | F16: K | G16: 0 K to -15 K
M17: Specific Airflow Rate | N17: 9.8 | P17: =BMW_Std_Eqn!C5 -> L/s/m² | Q17: ="= floor area: "& BMW_Std_Eqn!D30 & " m²" -> = floor area: 10.2 m²
C18: Related Products
C19: Smartemp PMW-AD: for a perforated face aesthetic | M19: Room Temperature | N19: 23 | P19: °C | Q19: 20 °C to 26 °C (default 23 °C)
C20: Smartemp BAW-FD: budget-friendly option with similar look
K21: Face Selection
C22: Related Projects
C23: Fabrica 1921, Lisbon, PT | K23: With side flanges (default) | N23: Flangeless
C28: BMW-AD- | G28: DN1000 | K28: DN1200 | O28: DN1500 | S28: Key: | T28: Suitable | U28: Not Suitable | V28: Warning
C29: Rows (High) | E29: Hr | G29: 1 | H29: 2 | I29: 3 | J29: 4 | K29: 1 | L29: 2 | M29: 3 | N29: 4 | O29: 1 | P29: 2 | Q29: 3 | R29: 4
C30: Neck | D30: Width (1) | E30: Wn | F30: [mm] | G30: =BMW_Std_Eqn!E269 -> 1000 | K30: =BMW_Std_Eqn!I269 -> 1200 | O30: =BMW_Std_Eqn!M269 -> 1500 | S30: Note (1): | T30: ='BMW-Std-selection'!$B$150 -> + 8 mm to neck dimensions with optional opposed blade damper (OBD)
C31: ='BMW-Std-selection'!E106 -> (no OBD) | D31: Height (1) | E31: Hn | F31: [mm] | G31: =BMW_Std_Eqn!E332 -> 101 | H31: =BMW_Std_Eqn!F332 -> 140 | I31: =BMW_Std_Eqn!G332 -> 179 | J31: =BMW_Std_Eqn!H332 -> 218 | K31: =BMW_Std_Eqn!I332 -> 101 | L31: =BMW_Std_Eqn!J332 -> 140 | M31: =BMW_Std_Eqn!K332 -> 179 | N31: =BMW_Std_Eqn!L332 -> 218 | ... R31: =BMW_Std_Eqn!P332 -> 218 | S31: Note (2): Based on 10dB room absorption
C32: Face | D32: Width | E32: Wf | F32: [mm] | G32: =BMW_Std_Eqn!E333 -> 1052 | K32: =BMW_Std_Eqn!I333 -> 1252 | O32: =BMW_Std_Eqn!M333 -> 1552 | S32: Flangeless face available; see Product Selection (Row 64)
D33: Height | E33: Hf | F33: [mm] | G33: =BMW_Std_Eqn!E334 -> 134 | H33: =BMW_Std_Eqn!F334 -> 173 | I33: =BMW_Std_Eqn!G334 -> 212 | J33: =BMW_Std_Eqn!H334 -> 251 | K33: =BMW_Std_Eqn!I334 -> 134 | L33: =BMW_Std_Eqn!J334 -> 173 | M33: =BMW_Std_Eqn!K334 -> 212 | N33: =BMW_Std_Eqn!L334 -> 251 | ... R33: =BMW_Std_Eqn!P334 -> 251
C34: Total Pressure | E34: Pt | F34: [Pa] | G34: =BMW_Std_Eqn!E335 -> 13.3 | H34: =BMW_Std_Eqn!F335 -> 6.9 | I34: =BMW_Std_Eqn!G335 -> 4.2 | J34: =BMW_Std_Eqn!H335 -> < 3 | K34: =BMW_Std_Eqn!I335 -> 9.1 | L34: =BMW_Std_Eqn!J335 -> 4.7 | M34: =BMW_Std_Eqn!K335 -> < 3 | N34: =BMW_Std_Eqn!L335 -> < 3 | ... R34: =BMW_Std_Eqn!P335 -> < 3
C35: Min Recommended Flow Rate | E35: Vmin | F35: =BMW_Std_Eqn!D4 -> [L/s] | G35: =BMW_Std_Eqn!E336 -> 49.6 | H35: =BMW_Std_Eqn!F336 -> 68.8 | I35: =BMW_Std_Eqn!G336 -> 88 | J35: =BMW_Std_Eqn!H336 -> 107.1 | K35: =BMW_Std_Eqn!I336 -> 60 | L35: =BMW_Std_Eqn!J336 -> 83.1 | M35: =BMW_Std_Eqn!K336 -> 106.3 | N35: =BMW_Std_Eqn!L336 -> 129.5 | ... R35: =BMW_Std_Eqn!P336 -> 162.9
C36: Sound Power Level | E36: Lw | F36: [dB(A)] | G36: =BMW_Std_Eqn!E337 -> 32.2 | H36: =BMW_Std_Eqn!F337 -> 23.2 | I36: =BMW_Std_Eqn!G337 -> 16.4 | J36: =BMW_Std_Eqn!H337 -> < 15 | K36: =BMW_Std_Eqn!I337 -> 27 | L36: =BMW_Std_Eqn!J337 -> 18 | M36: =BMW_Std_Eqn!K337 -> < 15 | N36: =BMW_Std_Eqn!L337 -> < 15 | ... R36: =BMW_Std_Eqn!P337 -> < 15
C37: Sound Pressure Level (2) | E37: Lp | F37: [NC] | G37: =BMW_Std_Eqn!E338 -> 17.2 | H37: =BMW_Std_Eqn!F338 -> 8.2 | I37: =BMW_Std_Eqn!G338 -> < 5 | J37: =BMW_Std_Eqn!H338 -> < 5 | K37: =BMW_Std_Eqn!I338 -> 12 | L37: =BMW_Std_Eqn!J338 -> < 5 | M37: =BMW_Std_Eqn!K338 -> < 5 | N37: =BMW_Std_Eqn!L338 -> < 5 | ... R37: =BMW_Std_Eqn!P338 -> < 5
C38: Min Recommended Diffuser Height | E38: Hmin | F38: [m] | G38: =BMW_Std_Eqn!E339 -> 2.2 | H38: =BMW_Std_Eqn!F339 -> 2.2 | I38: =BMW_Std_Eqn!G339 -> 2.2 | J38: =BMW_Std_Eqn!H339 -> 2.2 | K38: =BMW_Std_Eqn!I339 -> 2.2 | L38: =BMW_Std_Eqn!J339 -> 2.2 | M38: =BMW_Std_Eqn!K339 -> 2.2 | N38: =BMW_Std_Eqn!L339 -> 2.2 | ... R38: =BMW_Std_Eqn!P339 -> 2.1
C39: Throw Setting | D39: Short (S) | E39: Lmin | F39: [m] | G39: =BMW_Std_Eqn!E340 -> 2.3 | H39: =BMW_Std_Eqn!F340 -> 2.2 | I39: =BMW_Std_Eqn!G340 -> 2.2 | J39: =BMW_Std_Eqn!H340 -> 2.2 | K39: =BMW_Std_Eqn!I340 -> 2.2 | L39: =BMW_Std_Eqn!J340 -> 2.2 | M39: =BMW_Std_Eqn!K340 -> 2.2 | N39: =BMW_Std_Eqn!L340 -> 2.2 | ... R39: =BMW_Std_Eqn!P340 -> 2.2
E40: Lmax | F40: [m] | G40: =BMW_Std_Eqn!E341 -> 5.1 | H40: =BMW_Std_Eqn!F341 -> 4.4 | I40: =BMW_Std_Eqn!G341 -> 3.9 | J40: =BMW_Std_Eqn!H341 -> 3.5 | K40: =BMW_Std_Eqn!I341 -> 4.7 | L40: =BMW_Std_Eqn!J341 -> 4 | M40: =BMW_Std_Eqn!K341 -> 3.5 | N40: =BMW_Std_Eqn!L341 -> 3.2 | ... R40: =BMW_Std_Eqn!P341 -> 2.8
E41: Bmin | F41: [m] | G41: =BMW_Std_Eqn!E342 -> 3.9 | H41: =BMW_Std_Eqn!F342 -> 3.9 | I41: =BMW_Std_Eqn!G342 -> 3.9 | J41: =BMW_Std_Eqn!H342 -> 3.9 | K41: =BMW_Std_Eqn!I342 -> 3.9 | L41: =BMW_Std_Eqn!J342 -> 3.9 | M41: =BMW_Std_Eqn!K342 -> 3.9 | N41: =BMW_Std_Eqn!L342 -> 3.9 | ... R41: =BMW_Std_Eqn!P342 -> 3.9
E42: Bmax | F42: [m] | G42: =BMW_Std_Eqn!E343 -> 8.9 | H42: =BMW_Std_Eqn!F343 -> 7.6 | I42: =BMW_Std_Eqn!G343 -> 6.7 | J42: =BMW_Std_Eqn!H343 -> 6.1 | K42: =BMW_Std_Eqn!I343 -> 8.1 | L42: =BMW_Std_Eqn!J343 -> 6.9 | M42: =BMW_Std_Eqn!K343 -> 6.1 | N42: =BMW_Std_Eqn!L343 -> 5.5 | ... R42: =BMW_Std_Eqn!P343 -> 4.9
D43: Medium (M) (default) | E43: Lmin | F43: [m] | G43: =BMW_Std_Eqn!E344 -> 3 | H43: =BMW_Std_Eqn!F344 -> 2.9 | I43: =BMW_Std_Eqn!G344 -> 2.9 | J43: =BMW_Std_Eqn!H344 -> 2.9 | K43: =BMW_Std_Eqn!I344 -> 2.9 | L43: =BMW_Std_Eqn!J344 -> 2.9 | M43: =BMW_Std_Eqn!K344 -> 2.9 | N43: =BMW_Std_Eqn!L344 -> 2.9 | ... R43: =BMW_Std_Eqn!P344 -> 2.9
E44: Lmax | F44: [m] | G44: =BMW_Std_Eqn!E345 -> 6.8 | H44: =BMW_Std_Eqn!F345 -> 5.7 | I44: =BMW_Std_Eqn!G345 -> 5.1 | J44: =BMW_Std_Eqn!H345 -> 4.6 | K44: =BMW_Std_Eqn!I345 -> 6.2 | L44: =BMW_Std_Eqn!J345 -> 5.2 | M44: =BMW_Std_Eqn!K345 -> 4.6 | N44: =BMW_Std_Eqn!L345 -> 4.2 | ... R44: =BMW_Std_Eqn!P345 -> 3.7
E45: Bmin | F45: [m] | G45: =BMW_Std_Eqn!E346 -> 3 | H45: =BMW_Std_Eqn!F346 -> 2.9 | I45: =BMW_Std_Eqn!G346 -> 2.9 | J45: =BMW_Std_Eqn!H346 -> 2.9 | K45: =BMW_Std_Eqn!I346 -> 2.9 | L45: =BMW_Std_Eqn!J346 -> 2.9 | M45: =BMW_Std_Eqn!K346 -> 2.9 | N45: =BMW_Std_Eqn!L346 -> 2.9 | ... R45: =BMW_Std_Eqn!P346 -> 2.9
E46: Bmax | F46: [m] | G46: =BMW_Std_Eqn!E347 -> 6.8 | H46: =BMW_Std_Eqn!F347 -> 5.7 | I46: =BMW_Std_Eqn!G347 -> 5.1 | J46: =BMW_Std_Eqn!H347 -> 4.6 | K46: =BMW_Std_Eqn!I347 -> 6.2 | L46: =BMW_Std_Eqn!J347 -> 5.2 | M46: =BMW_Std_Eqn!K347 -> 4.6 | N46: =BMW_Std_Eqn!L347 -> 4.2 | ... R46: =BMW_Std_Eqn!P347 -> 3.7
D47: Long (L) | E47: Lmin | F47: [m] | G47: =BMW_Std_Eqn!E348 -> 3.9 | H47: =BMW_Std_Eqn!F348 -> 3.8 | I47: =BMW_Std_Eqn!G348 -> 3.8 | J47: =BMW_Std_Eqn!H348 -> 3.8 | K47: =BMW_Std_Eqn!I348 -> 3.9 | L47: =BMW_Std_Eqn!J348 -> 3.8 | M47: =BMW_Std_Eqn!K348 -> 3.8 | N47: =BMW_Std_Eqn!L348 -> 3.8 | ... R47: =BMW_Std_Eqn!P348 -> 3.8
E48: Lmax | F48: [m] | G48: =BMW_Std_Eqn!E349 -> 8.8 | H48: =BMW_Std_Eqn!F349 -> 7.5 | I48: =BMW_Std_Eqn!G349 -> 6.6 | J48: =BMW_Std_Eqn!H349 -> 6 | K48: =BMW_Std_Eqn!I349 -> 8 | L48: =BMW_Std_Eqn!J349 -> 6.8 | M48: =BMW_Std_Eqn!K349 -> 6 | N48: =BMW_Std_Eqn!L349 -> 5.5 | ... R48: =BMW_Std_Eqn!P349 -> 4.9
E49: Bmin | F49: [m] | G49: =BMW_Std_Eqn!E350 -> 2.2 | H49: =BMW_Std_Eqn!F350 -> 2.2 | I49: =BMW_Std_Eqn!G350 -> 2.2 | J49: =BMW_Std_Eqn!H350 -> 2.2 | K49: =BMW_Std_Eqn!I350 -> 2.2 | L49: =BMW_Std_Eqn!J350 -> 2.2 | M49: =BMW_Std_Eqn!K350 -> 2.2 | N49: =BMW_Std_Eqn!L350 -> 2.2 | ... R49: =BMW_Std_Eqn!P350 -> 2.2
E50: Bmax | F50: [m] | G50: =BMW_Std_Eqn!E351 -> 5.1 | H50: =BMW_Std_Eqn!F351 -> 4.3 | I50: =BMW_Std_Eqn!G351 -> 3.8 | J50: =BMW_Std_Eqn!H351 -> 3.5 | K50: =BMW_Std_Eqn!I351 -> 4.7 | L50: =BMW_Std_Eqn!J351 -> 4 | M50: =BMW_Std_Eqn!K351 -> 3.5 | N50: =BMW_Std_Eqn!L351 -> 3.2 | ... R50: =BMW_Std_Eqn!P351 -> 2.8
C51: Mean Room Air Velocity | E51: v | F51: [m/s] | G51: =BMW_Std_Eqn!E352 -> 0.18 | H51: =BMW_Std_Eqn!F352 -> 0.18 | I51: =BMW_Std_Eqn!G352 -> 0.17 | J51: =BMW_Std_Eqn!H352 -> 0.17 | K51: =BMW_Std_Eqn!I352 -> 0.18 | L51: =BMW_Std_Eqn!J352 -> 0.17 | M51: =BMW_Std_Eqn!K352 -> 0.17 | N51: =BMW_Std_Eqn!L352 -> 0.17 | ... R51: =BMW_Std_Eqn!P352 -> 0.17
C52: Mean Draught Rating | E52: DR | F52: [%] | G52: =BMW_Std_Eqn!E353 -> 0.175 | H52: =BMW_Std_Eqn!F353 -> 0.174 | I52: =BMW_Std_Eqn!G353 -> 0.173 | J52: =BMW_Std_Eqn!H353 -> 0.173 | K52: =BMW_Std_Eqn!I353 -> 0.174 | L52: =BMW_Std_Eqn!J353 -> 0.173 | M52: =BMW_Std_Eqn!K353 -> 0.173 | N52: =BMW_Std_Eqn!L353 -> 0.173 | ... R52: =BMW_Std_Eqn!P353 -> 0.173
C53: Mean PPD | E53: PPD | F53: [%] | G53: =BMW_Std_Eqn!E354 -> 0.089 | H53: =BMW_Std_Eqn!F354 -> 0.089 | I53: =BMW_Std_Eqn!G354 -> 0.088 | J53: =BMW_Std_Eqn!H354 -> 0.088 | K53: =BMW_Std_Eqn!I354 -> 0.089 | L53: =BMW_Std_Eqn!J354 -> 0.088 | M53: =BMW_Std_Eqn!K354 -> 0.088 | N53: =BMW_Std_Eqn!L354 -> 0.088 | ... R53: =BMW_Std_Eqn!P354 -> 0.088
C54: Satisfies PPD Category (ISO7730) | G54: =BMW_Std_Eqn!E355 -> B | H54: =BMW_Std_Eqn!F355 -> B | I54: =BMW_Std_Eqn!G355 -> B | J54: =BMW_Std_Eqn!H355 -> B | K54: =BMW_Std_Eqn!I355 -> B | L54: =BMW_Std_Eqn!J355 -> B | M54: =BMW_Std_Eqn!K355 -> B | N54: =BMW_Std_Eqn!L355 -> B | ... R54: =BMW_Std_Eqn!P355 -> B
C55: |PMV| (ISO7730 & Ashrae Std 55) | G55: =BMW_Std_Eqn!E356 -> ≤ 0.5 | H55: =BMW_Std_Eqn!F356 -> ≤ 0.4 | I55: =BMW_Std_Eqn!G356 -> ≤ 0.4 | J55: =BMW_Std_Eqn!H356 -> ≤ 0.4 | K55: =BMW_Std_Eqn!I356 -> ≤ 0.4 | L55: =BMW_Std_Eqn!J356 -> ≤ 0.4 | M55: =BMW_Std_Eqn!K356 -> ≤ 0.4 | N55: =BMW_Std_Eqn!L356 -> ≤ 0.4 | ... R55: =BMW_Std_Eqn!P356 -> ≤ 0.4
C57: Product Selection & Code Generator
G58: DN1000 | K58: DN1200 | O58: DN1500
C59: Select a model to create product code | S59: for custom sizes refer to 'Bespoke' Sheet
G60: 1 | H60: 2 | I60: 3 | J60: 4 | K60: 1 | L60: 2 | M60: 3 | N60: 4 | O60: 1 | P60: 2 | Q60: 3 | R60: 4
C61: Supply/Return | H61: supply: adjustable direction * | L61: return air | S61: for return air grille please contact Smartair Diffusion
C62: Throw Setting | H62: short | J62: medium * | L62: long | S62: * indicates standard/default option
C63: Discharge Direction (in direction of airflow) | H63: left | J63: centre * | L63: right
C64: Face Options | H64: ='BMW-Std-selection'!B143 -> With side flanges (selected in cell K23)
C65: Colour | H65: RAL9003 (signal white) * | L65: RAL9005 (jet black) | O65: other | S65: contact Smartair Diffusion for custom colours
C66: Accessories | H66: Diffuser Only * | J66: with uninsulated connection box (not available in AU)
H67: with integrated OBD | S67: OBD: opposed blade damper
C68: Product Code | F68: ='BMW-Std-selection'!B99 -> Please select a valid size (Row 59)
L70: click here to see product on smartair.asia | AB70: Copyright © 2026 SMARTAIR DIFFUSION

Sheet BMW_Std_Eqn
A1: Inputs
D2: L/s | E2: m³/h
D3: L/s/m² | E3: m³/h/m² | F3: ²
A4: Airflow Rate Input | B4: ='BMW-AD-Std Size Calculator'!E8 -> 100 | C4: =IF($B$5=1,D2,E2) -> L/s | D4: ="["&C4&"]" -> [L/s]
A5: Selection | B5: 1 | C5: =IF($B$5=1,D3,E3) -> L/s/m² | D5: ="["&C5&"]" -> [L/s/m²]
A6: Mutiplier | B6: =IF(B5=1,1,3.6) -> 1
A7: Selected Spec Flow | B7: ='BMW-AD-Std Size Calculator'!N17 -> 9.8
A9: Inputs
A10: Airflow Rate Converted | B10: =B4/B6 -> 100
A11: Turndown % | B11: ='BMW-AD-Std Size Calculator'!E10/100 -> 1
A12: Turndown Flow rate | B12: =B10*B11 -> 100
A13: Max Total Pressure | B13: ='BMW-AD-Std Size Calculator'!E12 -> 30
A14: Height | B14: ='BMW-AD-Std Size Calculator'!E14 -> 2.5
A15: dT (cooling) | B15: =MAX(ABS('BMW-AD-Std Size Calculator'!E16),8) -> 12 | C15: uses 8K for values between 0 to 8
A16: ADPI | B16: ='BMW-AD-Std Size Calculator'!N10 -> 0.9
A18: ADPI-Velocity Chart
A19: 0.95 | B19: 0.2
A20: 0.9 | B20: 0.25
A21: 0.8 | B21: 0.29
A22: 0.7 | B22: 0.33
A23: Target Velocity | B23: =OFFSET(B19,MATCH(B16,A19:A22,0)-1,0) -> 0.25 | C23: m/s
A25: Area Type | B25: 1
A26: Selected L | B26: ='BMW-AD-Std Size Calculator'!N14 -> 5
A27: Selected B | B27: ='BMW-AD-Std Size Calculator'!N15 -> 4
A28: Type 2 Selected Area | B28: =B26*B27 -> 20 | C28: Type 2 Spec Flow | D28: =ROUND(B10/B28*B6,1) -> 5 | E28: =C5 -> L/s/m²
A29: Converted Spec Flow | B29: ='BMW-AD-Std Size Calculator'!$N$17/B6 -> 9.8
A30: Area from spec flow | B30: =B10/B29 -> 10.204082 | C30: m2 | D30: =ROUND(B30,1) -> 10.2
A32: Room Temp | B32: ='BMW-AD-Std Size Calculator'!N19 -> 23
A34: Factors
A35: K.l.min | B35: 7
A36: K.l.max | B36: 21
A37: K.dT | B37: =SQRT(12/B15) -> 1 | C37: -12 K / dT
A38: K.H.min(sp) | B38: =SQRT(1.2065*B14^-0.205) -> 0.999942 | C38: Increased draught risk as height increases, Fig 8, Krantz Layout Criteria TB 69 E | J38: =SQRT(1.209*B14^-0.199) -> 1.0037328 | K38: <old K.H.min
A39: K.H.max(vol) | B39: =SQRT(2.5/B14) -> 1 | C39: Reduce max throw with height to maintain constant volume to prevent stagnation
A40: K.2D/3D | B40: =SQRT(195/145) -> 1.159667 | C40: Fig 8 / Fig 7 @ 0.25, Krantz Layout Criteria TB 69 E
A41: v.room ≤ | B41: =B23 -> 0.25 | C41: m/s, Krantz Layout Criteria TB 69 E | G41: 0.23665 | H41: < old velocity at 90%adpi
A42: K.adpi | B42: =SQRT(19.92*B41^2.153) -> 1.0035224 | C42: Adjustment factor for ADPI
A43: K.h.min | B43: 1.9
A44: K.Pt | B44: 1.07
A46: Target Q'' from ADPI
A47: H | B47: Ax | C47: ^B | D47: Q"
A48: 2.7 | B48: 2876.0549 | C48: 2.151926 | D48: =B48*$B$23^C48 -> 145.61585
A49: 4 | B49: 2647.6465 | C49: 2.1753317 | D49: =B49*$B$23^C49 -> 129.77164
A50: 10 | B50: 2313.9065 | C50: 2.1944262 | D50: =B50*$B$23^C50 -> 110.45099
A51: =B14 -> 2.5 | B51: =EXP(INDEX(LINEST(LN(D48:D50),LN(A48:A50),,),1,2)) -> 175.94819 | C51: =INDEX(LINEST(LN(D48:D50),LN(A48:A50),,),1) -> -0.20487434 | D51: =B51*B14^C51 -> 145.83343
A53: Q to v conversion
A54: H | B54: Aq | C54: q^b
A55: 2.7 | B55: 0.0247 | C55: 0.4647 | G55: =N70 -> 1.1141708 | H55: =B10 -> 100
A56: 4 | B56: 0.0267 | C56: 0.4597 | G56: 3 | H56: =H55*SQRT(G56/G55) -> 164.09099
A57: 10 | B57: 0.0293 | C57: 0.4557
C61: 1 | D61: 2 | E61: 3 | F61: 4 | G61: 5 | H61: 6 | I61: 7 | J61: 8 | K61: 9 | L61: 10 | M61: 11 | N61: 12
A62: Rows (Height) | B62: Hr | C62: 1 | D62: 2 | E62: 3 | F62: 4 | G62: 1 | H62: 2 | I62: 3 | J62: 4 | K62: 1 | L62: 2 | M62: 3 | N62: 4
A63: Neck Width (BMW) | B63: Wn | C63: 1000 | D63: 1000 | E63: 1000 | F63: 1000 | G63: 1200 | H63: 1200 | I63: 1200 | J63: 1200 | K63: 1500 | L63: 1500 | M63: 1500 | N63: 1500
A64: Neck Width (PMW) | C64: =C63-40 -> 960 | D64: =D63-40 -> 960 | E64: =E63-40 -> 960 | F64: =F63-40 -> 960 | G64: =G63-40 -> 1160 | H64: =H63-40 -> 1160 | I64: =I63-40 -> 1160 | J64: =J63-40 -> 1160 | ... N64: =N63-40 -> 1460
A65: Neck Height | B65: Hn | C65: 101 | D65: 140 | E65: 179 | F65: 218 | G65: 101 | H65: 140 | I65: 179 | J65: 218 | K65: 101 | L65: 140 | M65: 179 | N65: 218
A66: Face Width flanged | C66: =C63+52 -> 1052 | D66: =D63+52 -> 1052 | E66: =E63+52 -> 1052 | F66: =F63+52 -> 1052 | G66: =G63+52 -> 1252 | H66: =H63+52 -> 1252 | I66: =I63+52 -> 1252 | J66: =J63+52 -> 1252 | ... N66: =N63+52 -> 1552
A67: Face Width flange/flangeless | C67: =IF('BMW-Std-selection'!$B$58=1,C66,C63) -> 1052 | D67: =IF('BMW-Std-selection'!$B$58=1,D66,D63) -> 1052 | E67: =IF('BMW-Std-selection'!$B$58=1,E66,E63) -> 1052 | F67: =IF('BMW-Std-selection'!$B$58=1,F66,F63) -> 1052 | G67: =IF('BMW-Std-selection'!$B$58=1,G66,G63) -> 1252 | H67: =IF('BMW-Std-selection'!$B$58=1,H66,H63) -> 1252 | I67: =IF('BMW-Std-selection'!$B$58=1,I66,I63) -> 1252 | J67: =IF('BMW-Std-selection'!$B$58=1,J66,J63) -> 1252 | ... N67: =IF('BMW-Std-selection'!$B$58=1,N66,N63) -> 1552
A68: Face Height | B68: Hf | C68: 134 | D68: 173 | E68: 212 | F68: 251 | G68: 134 | H68: 173 | I68: 212 | J68: 251 | K68: 134 | L68: 173 | M68: 212 | N68: 251
A69: Total Pressure @ | B69: (Pt)(t) | C69: =(1.359*10^-3*($B$10/(C$64*10^-3*C$65*10^-3)*(0.507*0.171))^2.0302)*$B$44 -> 13.31554 | D69: =(1.359*10^-3*($B$10/(D$64*10^-3*D$65*10^-3)*(0.507*0.171))^2.0302)*$B$44 -> 6.8621926 | E69: =(1.359*10^-3*($B$10/(E$64*10^-3*E$65*10^-3)*(0.507*0.171))^2.0302)*$B$44 -> 4.1666768 | F69: =(1.359*10^-3*($B$10/(F$64*10^-3*F$65*10^-3)*(0.507*0.171))^2.0302)*$B$44 -> 2.7925288 | G69: =(1.359*10^-3*($B$10/(G$64*10^-3*G$65*10^-3)*(0.507*0.171))^2.0302)*$B$44 -> 9.0678272 | H69: =(1.359*10^-3*($B$10/(H$64*10^-3*H$65*10^-3)*(0.507*0.171))^2.0302)*$B$44 -> 4.6731245 | I69: =(1.359*10^-3*($B$10/(I$64*10^-3*I$65*10^-3)*(0.507*0.171))^2.0302)*$B$44 -> 2.8374895 | J69: =(1.359*10^-3*($B$10/(J$64*10^-3*J$65*10^-3)*(0.507*0.171))^2.0302)*$B$44 -> 1.9017005 | ... N69: =(1.359*10^-3*($B$10/(N$64*10^-3*N$65*10^-3)*(0.507*0.171))^2.0302)*$B$44 -> 1.1921628
A70: Pressure for throw calc | B70: Pt | C70: =1.359*10^-3*($B$10/(C$64*10^-3*C$65*10^-3)*(0.507*0.171))^2.0302 -> 12.44443 | D70: =1.359*10^-3*($B$10/(D$64*10^-3*D$65*10^-3)*(0.507*0.171))^2.0302 -> 6.4132641 | E70: =1.359*10^-3*($B$10/(E$64*10^-3*E$65*10^-3)*(0.507*0.171))^2.0302 -> 3.8940905 | F70: =1.359*10^-3*($B$10/(F$64*10^-3*F$65*10^-3)*(0.507*0.171))^2.0302 -> 2.60984 | G70: =1.359*10^-3*($B$10/(G$64*10^-3*G$65*10^-3)*(0.507*0.171))^2.0302 -> 8.4746048 | H70: =1.359*10^-3*($B$10/(H$64*10^-3*H$65*10^-3)*(0.507*0.171))^2.0302 -> 4.367406 | I70: =1.359*10^-3*($B$10/(I$64*10^-3*I$65*10^-3)*(0.507*0.171))^2.0302 -> 2.6518593 | J70: =1.359*10^-3*($B$10/(J$64*10^-3*J$65*10^-3)*(0.507*0.171))^2.0302 -> 1.7772902 | ... N70: =1.359*10^-3*($B$10/(N$64*10^-3*N$65*10^-3)*(0.507*0.171))^2.0302 -> 1.1141708
A71: Min Flow Rate @ -12 | B71: V min | C71: =C64*10^-3*C65*10^-3/(0.507*0.171)*(3/(1.359*10^-3))^0.4926 -> 49.635747 | D71: =D64*10^-3*D65*10^-3/(0.507*0.171)*(3/(1.359*10^-3))^0.4926 -> 68.802026 | E71: =E64*10^-3*E65*10^-3/(0.507*0.171)*(3/(1.359*10^-3))^0.4926 -> 87.968304 | F71: =F64*10^-3*F65*10^-3/(0.507*0.171)*(3/(1.359*10^-3))^0.4926 -> 107.13458 | G71: =G64*10^-3*G65*10^-3/(0.507*0.171)*(3/(1.359*10^-3))^0.4926 -> 59.976528 | H71: =H64*10^-3*H65*10^-3/(0.507*0.171)*(3/(1.359*10^-3))^0.4926 -> 83.135781 | I71: =I64*10^-3*I65*10^-3/(0.507*0.171)*(3/(1.359*10^-3))^0.4926 -> 106.29503 | J71: =J64*10^-3*J65*10^-3/(0.507*0.171)*(3/(1.359*10^-3))^0.4926 -> 129.45429 | ... N71: =N64*10^-3*N65*10^-3/(0.507*0.171)*(3/(1.359*10^-3))^0.4926 -> 162.93384
A72: Min Flow Rate @ dT | C72: =C71/$B$37 -> 49.635747 | D72: =D71/$B$37 -> 68.802026 | E72: =E71/$B$37 -> 87.968304 | F72: =F71/$B$37 -> 107.13458 | G72: =G71/$B$37 -> 59.976528 | H72: =H71/$B$37 -> 83.135781 | I72: =I71/$B$37 -> 106.29503 | J72: =J71/$B$37 -> 129.45429 | ... N72: =N71/$B$37 -> 162.93384
A73: Sound Power Level | B73: Lw | C73: =-114.08+32.01*LN($B$10/(C64*C65)*(507*171))+10*LOG(C64*C65/(507*171))+2 -> 32.236129 | D73: =-114.08+32.01*LN($B$10/(D64*D65)*(507*171))+10*LOG(D64*D65/(507*171))+2 -> 23.202229 | E73: =-114.08+32.01*LN($B$10/(E64*E65)*(507*171))+10*LOG(E64*E65/(507*171))+2 -> 16.403233 | F73: =-114.08+32.01*LN($B$10/(F64*F65)*(507*171))+10*LOG(F64*F65/(507*171))+2 -> 10.9498 | G73: =-114.08+32.01*LN($B$10/(G64*G65)*(507*171))+10*LOG(G64*G65/(507*171))+2 -> 27.00036 | H73: =-114.08+32.01*LN($B$10/(H64*H65)*(507*171))+10*LOG(H64*H65/(507*171))+2 -> 17.96646 | I73: =-114.08+32.01*LN($B$10/(I64*I65)*(507*171))+10*LOG(I64*I65/(507*171))+2 -> 11.167464 | J73: =-114.08+32.01*LN($B$10/(J64*J65)*(507*171))+10*LOG(J64*J65/(507*171))+2 -> 5.7140316 | ... N73: =-114.08+32.01*LN($B$10/(N64*N65)*(507*171))+10*LOG(N64*N65/(507*171))+2 -> -0.64984563
A74: Sound Pressure Level | B74: Lp* | C74: =C73-15 -> 17.236129 | D74: =D73-15 -> 8.2022289 | E74: =E73-15 -> 1.4032332 | F74: =F73-15 -> -4.0501995 | G74: =G73-15 -> 12.00036 | H74: =H73-15 -> 2.9664601 | I74: =I73-15 -> -3.8325357 | J74: =J73-15 -> -9.2859684 | ... N74: =N73-15 -> -15.649846
A75: Min Recommended Height | B75: Hmin | C75: =2+($B$10/C64*$B$43/$B$42^3) -> 2.1958399 | D75: =2+($B$10/D64*$B$43/$B$42^3) -> 2.1958399 | E75: =2+($B$10/E64*$B$43/$B$42^3) -> 2.1958399 | F75: =2+($B$10/F64*$B$43/$B$42^3) -> 2.1958399 | G75: =2+($B$10/G64*$B$43/$B$42^3) -> 2.1620744 | H75: =2+($B$10/H64*$B$43/$B$42^3) -> 2.1620744 | I75: =2+($B$10/I64*$B$43/$B$42^3) -> 2.1620744 | J75: =2+($B$10/J64*$B$43/$B$42^3) -> 2.1620744 | ... N75: =2+($B$10/N64*$B$43/$B$42^3) -> 2.1287714
A77: 100% Airflow
A78: L,W Vsp.min | C78: =(0.2529+2.7683*10^-4*C$70)*SQRT($B$10)/$B$37*$B$38*$B$40/$B$42 -> 2.962142 | D78: =(0.2529+2.7683*10^-4*D$70)*SQRT($B$10)/$B$37*$B$38*$B$40/$B$42 -> 2.9428491 | E78: =(0.2529+2.7683*10^-4*E$70)*SQRT($B$10)/$B$37*$B$38*$B$40/$B$42 -> 2.9347907 | F78: =(0.2529+2.7683*10^-4*F$70)*SQRT($B$10)/$B$37*$B$38*$B$40/$B$42 -> 2.9306826 | G78: =(0.2529+2.7683*10^-4*G$70)*SQRT($B$10)/$B$37*$B$38*$B$40/$B$42 -> 2.9494431 | H78: =(0.2529+2.7683*10^-4*H$70)*SQRT($B$10)/$B$37*$B$38*$B$40/$B$42 -> 2.9363047 | I78: =(0.2529+2.7683*10^-4*I$70)*SQRT($B$10)/$B$37*$B$38*$B$40/$B$42 -> 2.930817 | J78: =(0.2529+2.7683*10^-4*J$70)*SQRT($B$10)/$B$37*$B$38*$B$40/$B$42 -> 2.9280193 | ... N78: =(0.2529+2.7683*10^-4*N$70)*SQRT($B$10)/$B$37*$B$38*$B$40/$B$42 -> 2.9258981
A79: L,W Vsp.max | C79: =(0.675+9.273*10^-3*C$70)*SQRT($B$10)*$B$37*$B$39/$B$40*$B$42 -> 6.8397334 | D79: =(0.675+9.273*10^-3*D$70)*SQRT($B$10)*$B$37*$B$39/$B$40*$B$42 -> 6.3557669 | E79: =(0.675+9.273*10^-3*E$70)*SQRT($B$10)*$B$37*$B$39/$B$40*$B$42 -> 6.1536176 | F79: =(0.675+9.273*10^-3*F$70)*SQRT($B$10)*$B$37*$B$39/$B$40*$B$42 -> 6.0505639 | G79: =(0.675+9.273*10^-3*G$70)*SQRT($B$10)*$B$37*$B$39/$B$40*$B$42 -> 6.5211777 | H79: =(0.675+9.273*10^-3*H$70)*SQRT($B$10)*$B$37*$B$39/$B$40*$B$42 -> 6.1915985 | I79: =(0.675+9.273*10^-3*I$70)*SQRT($B$10)*$B$37*$B$39/$B$40*$B$42 -> 6.0539357 | J79: =(0.675+9.273*10^-3*J$70)*SQRT($B$10)*$B$37*$B$39/$B$40*$B$42 -> 5.9837565 | ... N79: =(0.675+9.273*10^-3*N$70)*SQRT($B$10)*$B$37*$B$39/$B$40*$B$42 -> 5.930545
A80: L,W throw max | C80: =MIN(($B$36*($B$10*10^-3)/SQRT(C$64*10^-3*C$65*10^-3)*$B$37/$B$39^2*$B$42),(4*$B$14*$B$42)) -> 6.7678399 | D80: =MIN(($B$36*($B$10*10^-3)/SQRT(D$64*10^-3*D$65*10^-3)*$B$37/$B$39^2*$B$42),(4*$B$14*$B$42)) -> 5.7483969 | E80: =MIN(($B$36*($B$10*10^-3)/SQRT(E$64*10^-3*E$65*10^-3)*$B$37/$B$39^2*$B$42),(4*$B$14*$B$42)) -> 5.0837507 | F80: =MIN(($B$36*($B$10*10^-3)/SQRT(F$64*10^-3*F$65*10^-3)*$B$37/$B$39^2*$B$42),(4*$B$14*$B$42)) -> 4.6066214 | G80: =MIN(($B$36*($B$10*10^-3)/SQRT(G$64*10^-3*G$65*10^-3)*$B$37/$B$39^2*$B$42),(4*$B$14*$B$42)) -> 6.1568234 | H80: =MIN(($B$36*($B$10*10^-3)/SQRT(H$64*10^-3*H$65*10^-3)*$B$37/$B$39^2*$B$42),(4*$B$14*$B$42)) -> 5.2294181 | I80: =MIN(($B$36*($B$10*10^-3)/SQRT(I$64*10^-3*I$65*10^-3)*$B$37/$B$39^2*$B$42),(4*$B$14*$B$42)) -> 4.6247778 | J80: =MIN(($B$36*($B$10*10^-3)/SQRT(J$64*10^-3*J$65*10^-3)*$B$37/$B$39^2*$B$42),(4*$B$14*$B$42)) -> 4.1907248 | ... N80: =MIN(($B$36*($B$10*10^-3)/SQRT(N$64*10^-3*N$65*10^-3)*$B$37/$B$39^2*$B$42),(4*$B$14*$B$42)) -> 3.7354395
A81: Medium (M) | B81: Lmin | C81: =C78 -> 2.962142 | D81: =D78 -> 2.9428491 | E81: =E78 -> 2.9347907 | F81: =F78 -> 2.9306826 | G81: =G78 -> 2.9494431 | H81: =H78 -> 2.9363047 | I81: =I78 -> 2.930817 | J81: =J78 -> 2.9280193 | ... N81: =N78 -> 2.9258981
B82: Lmax | C82: =MIN(C79,C80) -> 6.7678399 | D82: =MIN(D79,D80) -> 5.7483969 | E82: =MIN(E79,E80) -> 5.0837507 | F82: =MIN(F79,F80) -> 4.6066214 | G82: =MIN(G79,G80) -> 6.1568234 | H82: =MIN(H79,H80) -> 5.2294181 | I82: =MIN(I79,I80) -> 4.6247778 | J82: =MIN(J79,J80) -> 4.1907248 | ... N82: =MIN(N79,N80) -> 3.7354395
B83: Bmin | C83: =C78 -> 2.962142 | D83: =D78 -> 2.9428491 | E83: =E78 -> 2.9347907 | F83: =F78 -> 2.9306826 | G83: =G78 -> 2.9494431 | H83: =H78 -> 2.9363047 | I83: =I78 -> 2.930817 | J83: =J78 -> 2.9280193 | ... N83: =N78 -> 2.9258981
B84: Bmax | C84: =MIN(C79,C80) -> 6.7678399 | D84: =MIN(D79,D80) -> 5.7483969 | E84: =MIN(E79,E80) -> 5.0837507 | F84: =MIN(F79,F80) -> 4.6066214 | G84: =MIN(G79,G80) -> 6.1568234 | H84: =MIN(H79,H80) -> 5.2294181 | I84: =MIN(I79,I80) -> 4.6247778 | J84: =MIN(J79,J80) -> 4.1907248 | ... N84: =MIN(N79,N80) -> 3.7354395
A85: L Vsp.min | C85: =1.075*0.707*C78 -> 2.2513019 | D85: =1.075*0.707*D78 -> 2.2366389 | E85: =1.075*0.707*E78 -> 2.2305143 | F85: =1.075*0.707*F78 -> 2.227392 | G85: =1.075*0.707*G78 -> 2.2416505 | H85: =1.075*0.707*H78 -> 2.231665 | I85: =1.075*0.707*I78 -> 2.2274942 | J85: =1.075*0.707*J78 -> 2.2253679 | ... N85: =1.075*0.707*N78 -> 2.2237557
A86: L Vsp.max | C86: =1.075*0.707*C79 -> 5.1983684 | D86: =1.075*0.707*D79 -> 4.8305417 | E86: =1.075*0.707*E79 -> 4.6769032 | F86: =1.075*0.707*F79 -> 4.5985798 | G86: =1.075*0.707*G79 -> 4.9562581 | H86: =1.075*0.707*H79 -> 4.7057697 | I86: =1.075*0.707*I79 -> 4.6011425 | J86: =1.075*0.707*J79 -> 4.5478046 | ... N86: =1.075*0.707*N79 -> 4.5073625
A87: L throw max | C87: =1.075*0.707*C80 -> 5.1437275 | D87: =1.075*0.707*D80 -> 4.3689254 | E87: =1.075*0.707*E80 -> 3.8637777 | F87: =1.075*0.707*F80 -> 3.5011474 | G87: =1.075*0.707*G80 -> 4.6793397 | H87: =1.075*0.707*H80 -> 3.9744885 | I87: =1.075*0.707*I80 -> 3.5149467 | J87: =1.075*0.707*J80 -> 3.1850556 | ... N87: =1.075*0.707*N80 -> 2.8390274
A88: W Vsp.min | C88: =1.075*1.225*C78 -> 3.9007707 | D88: =1.075*1.225*D78 -> 3.8753645 | E88: =1.075*1.225*E78 -> 3.8647525 | F88: =1.075*1.225*F78 -> 3.8593426 | G88: =1.075*1.225*G78 -> 3.8840478 | H88: =1.075*1.225*H78 -> 3.8667463 | I88: =1.075*1.225*I78 -> 3.8595196 | J88: =1.075*1.225*J78 -> 3.8558355 | ... N88: =1.075*1.225*N78 -> 3.8530421
A89: W Vsp.max | C89: =1.075*1.225*C79 -> 9.0070739 | D89: =1.075*1.225*D79 -> 8.3697505 | E89: =1.075*1.225*E79 -> 8.1035452 | F89: =1.075*1.225*F79 -> 7.9678363 | G89: =1.075*1.225*G79 -> 8.5875759 | H89: =1.075*1.225*H79 -> 8.1535613 | I89: =1.075*1.225*I79 -> 7.9722766 | J89: =1.075*1.225*J79 -> 7.8798594 | ... N89: =1.075*1.225*N79 -> 7.8097865
A90: W throw max | C90: =1.075*1.225*C80 -> 8.9123992 | D90: =1.075*1.225*D80 -> 7.5699202 | E90: =1.075*1.225*E80 -> 6.6946643 | F90: =1.075*1.225*F80 -> 6.0663445 | G90: =1.075*1.225*G80 -> 8.1077669 | H90: =1.075*1.225*H80 -> 6.88649 | I90: =1.075*1.225*I80 -> 6.0902543 | J90: =1.075*1.225*J80 -> 5.5186607 | ... N90: =1.075*1.225*N80 -> 4.9191069
A91: Short (S) | B91: Lmin | C91: =C85 -> 2.2513019 | D91: =D85 -> 2.2366389 | E91: =E85 -> 2.2305143 | F91: =F85 -> 2.227392 | G91: =G85 -> 2.2416505 | H91: =H85 -> 2.231665 | I91: =I85 -> 2.2274942 | J91: =J85 -> 2.2253679 | ... N91: =N85 -> 2.2237557
B92: Lmax | C92: =MIN(C86,C87) -> 5.1437275 | D92: =MIN(D86,D87) -> 4.3689254 | E92: =MIN(E86,E87) -> 3.8637777 | F92: =MIN(F86,F87) -> 3.5011474 | G92: =MIN(G86,G87) -> 4.6793397 | H92: =MIN(H86,H87) -> 3.9744885 | I92: =MIN(I86,I87) -> 3.5149467 | J92: =MIN(J86,J87) -> 3.1850556 | ... N92: =MIN(N86,N87) -> 2.8390274
B93: Bmin | C93: =C88 -> 3.9007707 | D93: =D88 -> 3.8753645 | E93: =E88 -> 3.8647525 | F93: =F88 -> 3.8593426 | G93: =G88 -> 3.8840478 | H93: =H88 -> 3.8667463 | I93: =I88 -> 3.8595196 | J93: =J88 -> 3.8558355 | ... N93: =N88 -> 3.8530421
B94: Bmax | C94: =MIN(C89,C90) -> 8.9123992 | D94: =MIN(D89,D90) -> 7.5699202 | E94: =MIN(E89,E90) -> 6.6946643 | F94: =MIN(F89,F90) -> 6.0663445 | G94: =MIN(G89,G90) -> 8.1077669 | H94: =MIN(H89,H90) -> 6.88649 | I94: =MIN(I89,I90) -> 6.0902543 | J94: =MIN(J89,J90) -> 5.5186607 | ... N94: =MIN(N89,N90) -> 4.9191069
A95: L Vsp.min | C95: =1.07*1.22*C78 -> 3.8667801 | D95: =1.07*1.22*D78 -> 3.8415953 | E95: =1.07*1.22*E78 -> 3.8310758 | F95: =1.07*1.22*F78 -> 3.825713 | G95: =1.07*1.22*G78 -> 3.850203 | H95: =1.07*1.22*H78 -> 3.8330522 | I95: =1.07*1.22*I78 -> 3.8258885 | J95: =1.07*1.22*J78 -> 3.8222365 | ... N95: =1.07*1.22*N78 -> 3.8194674
A96: L Vsp.max | C96: =1.07*1.22*C79 -> 8.928588 | D96: =1.07*1.22*D79 -> 8.2968181 | E96: =1.07*1.22*E79 -> 8.0329325 | F96: =1.07*1.22*F79 -> 7.8984061 | G96: =1.07*1.22*G79 -> 8.5127453 | H96: =1.07*1.22*H79 -> 8.0825127 | I96: =1.07*1.22*I79 -> 7.9028077 | J96: =1.07*1.22*J79 -> 7.8111958 | ... N96: =1.07*1.22*N79 -> 7.7417335
A97: L throw max | C97: =1.07*1.22*C80 -> 8.8347382 | D97: =1.07*1.22*D80 -> 7.5039573 | E97: =1.07*1.22*E80 -> 6.6363282 | F97: =1.07*1.22*F80 -> 6.0134835 | G97: =1.07*1.22*G80 -> 8.0371173 | H97: =1.07*1.22*H80 -> 6.8264824 | I97: =1.07*1.22*I80 -> 6.0371849 | J97: =1.07*1.22*J80 -> 5.4705721 | ... N97: =1.07*1.22*N80 -> 4.8762427
A98: W Vsp.min | C98: =1.07*0.707*C78 -> 2.2408308 | D98: =1.07*0.707*D78 -> 2.2262359 | E98: =1.07*0.707*E78 -> 2.2201398 | F98: =1.07*0.707*F78 -> 2.217032 | G98: =1.07*0.707*G78 -> 2.2312242 | H98: =1.07*0.707*H78 -> 2.2212852 | I98: =1.07*0.707*I78 -> 2.2171337 | J98: =1.07*0.707*J78 -> 2.2150174 | ... N98: =1.07*0.707*N78 -> 2.2134127
A99: W Vsp.max | C99: =1.07*0.707*C79 -> 5.1741899 | D99: =1.07*0.707*D79 -> 4.8080741 | E99: =1.07*0.707*E79 -> 4.6551502 | F99: =1.07*0.707*F79 -> 4.5771911 | G99: =1.07*0.707*G79 -> 4.9332057 | H99: =1.07*0.707*H79 -> 4.6838823 | I99: =1.07*0.707*I79 -> 4.5797418 | J99: =1.07*0.707*J79 -> 4.526652 | ... N99: =1.07*0.707*N79 -> 4.486398
A100: W throw max | C100: =1.07*0.707*C80 -> 5.1198032 | D100: =1.07*0.707*D80 -> 4.3486048 | E100: =1.07*0.707*E80 -> 3.8458066 | F100: =1.07*0.707*F80 -> 3.484863 | G100: =1.07*0.707*G80 -> 4.6575754 | H100: =1.07*0.707*H80 -> 3.9560025 | I100: =1.07*0.707*I80 -> 3.4985982 | J100: =1.07*0.707*J80 -> 3.1702414 | ... N100: =1.07*0.707*N80 -> 2.8258226
A101: Long (L) | B101: Lmin | C101: =C95 -> 3.8667801 | D101: =D95 -> 3.8415953 | E101: =E95 -> 3.8310758 | F101: =F95 -> 3.825713 | G101: =G95 -> 3.850203 | H101: =H95 -> 3.8330522 | I101: =I95 -> 3.8258885 | J101: =J95 -> 3.8222365 | ... N101: =N95 -> 3.8194674
B102: Lmax | C102: =MIN(C96,C97) -> 8.8347382 | D102: =MIN(D96,D97) -> 7.5039573 | E102: =MIN(E96,E97) -> 6.6363282 | F102: =MIN(F96,F97) -> 6.0134835 | G102: =MIN(G96,G97) -> 8.0371173 | H102: =MIN(H96,H97) -> 6.8264824 | I102: =MIN(I96,I97) -> 6.0371849 | J102: =MIN(J96,J97) -> 5.4705721 | ... N102: =MIN(N96,N97) -> 4.8762427
B103: Bmin | C103: =C98 -> 2.2408308 | D103: =D98 -> 2.2262359 | E103: =E98 -> 2.2201398 | F103: =F98 -> 2.217032 | G103: =G98 -> 2.2312242 | H103: =H98 -> 2.2212852 | I103: =I98 -> 2.2171337 | J103: =J98 -> 2.2150174 | ... N103: =N98 -> 2.2134127
B104: Bmax | C104: =MIN(C99,C100) -> 5.1198032 | D104: =MIN(D99,D100) -> 4.3486048 | E104: =MIN(E99,E100) -> 3.8458066 | F104: =MIN(F99,F100) -> 3.484863 | G104: =MIN(G99,G100) -> 4.6575754 | H104: =MIN(H99,H100) -> 3.9560025 | I104: =MIN(I99,I100) -> 3.4985982 | J104: =MIN(J99,J100) -> 3.1702414 | ... N104: =MIN(N99,N100) -> 2.8258226
A106: VAV Turndown
A107: Pressure (throw) | C107: =C70*($B$12/$B$10)^2 -> 12.44443 | D107: =D70*($B$12/$B$10)^2 -> 6.4132641 | E107: =E70*($B$12/$B$10)^2 -> 3.8940905 | F107: =F70*($B$12/$B$10)^2 -> 2.60984 | G107: =G70*($B$12/$B$10)^2 -> 8.4746048 | H107: =H70*($B$12/$B$10)^2 -> 4.367406 | I107: =I70*($B$12/$B$10)^2 -> 2.6518593 | J107: =J70*($B$12/$B$10)^2 -> 1.7772902 | ... N107: =N70*($B$12/$B$10)^2 -> 1.1141708
A108: L,W Vsp.min | C108: =(0.2529+2.7683*10^-4*C$107)*SQRT($B$12)/$B$37*$B$38*$B$40/$B$42 -> 2.962142 | D108: =(0.2529+2.7683*10^-4*D$107)*SQRT($B$12)/$B$37*$B$38*$B$40/$B$42 -> 2.9428491 | E108: =(0.2529+2.7683*10^-4*E$107)*SQRT($B$12)/$B$37*$B$38*$B$40/$B$42 -> 2.9347907 | F108: =(0.2529+2.7683*10^-4*F$107)*SQRT($B$12)/$B$37*$B$38*$B$40/$B$42 -> 2.9306826 | G108: =(0.2529+2.7683*10^-4*G$107)*SQRT($B$12)/$B$37*$B$38*$B$40/$B$42 -> 2.9494431 | H108: =(0.2529+2.7683*10^-4*H$107)*SQRT($B$12)/$B$37*$B$38*$B$40/$B$42 -> 2.9363047 | I108: =(0.2529+2.7683*10^-4*I$107)*SQRT($B$12)/$B$37*$B$38*$B$40/$B$42 -> 2.930817 | J108: =(0.2529+2.7683*10^-4*J$107)*SQRT($B$12)/$B$37*$B$38*$B$40/$B$42 -> 2.9280193 | ... N108: =(0.2529+2.7683*10^-4*N$107)*SQRT($B$12)/$B$37*$B$38*$B$40/$B$42 -> 2.9258981
A109: L,W Vsp.max | C109: =(0.675+9.273*10^-3*C$107)*SQRT($B$12)*$B$37*$B$39/$B$40*$B$42 -> 6.8397334 | D109: =(0.675+9.273*10^-3*D$107)*SQRT($B$12)*$B$37*$B$39/$B$40*$B$42 -> 6.3557669 | E109: =(0.675+9.273*10^-3*E$107)*SQRT($B$12)*$B$37*$B$39/$B$40*$B$42 -> 6.1536176 | F109: =(0.675+9.273*10^-3*F$107)*SQRT($B$12)*$B$37*$B$39/$B$40*$B$42 -> 6.0505639 | G109: =(0.675+9.273*10^-3*G$107)*SQRT($B$12)*$B$37*$B$39/$B$40*$B$42 -> 6.5211777 | H109: =(0.675+9.273*10^-3*H$107)*SQRT($B$12)*$B$37*$B$39/$B$40*$B$42 -> 6.1915985 | I109: =(0.675+9.273*10^-3*I$107)*SQRT($B$12)*$B$37*$B$39/$B$40*$B$42 -> 6.0539357 | J109: =(0.675+9.273*10^-3*J$107)*SQRT($B$12)*$B$37*$B$39/$B$40*$B$42 -> 5.9837565 | ... N109: =(0.675+9.273*10^-3*N$107)*SQRT($B$12)*$B$37*$B$39/$B$40*$B$42 -> 5.930545
A110: L,W throw max | C110: =MIN(($B$36*($B$12*10^-3)/SQRT(C$64*10^-3*C$65*10^-3)*$B$37/$B$39^2*$B$42),(4*$B$14*$B$42)) -> 6.7678399 | D110: =MIN(($B$36*($B$12*10^-3)/SQRT(D$64*10^-3*D$65*10^-3)*$B$37/$B$39^2*$B$42),(4*$B$14*$B$42)) -> 5.7483969 | E110: =MIN(($B$36*($B$12*10^-3)/SQRT(E$64*10^-3*E$65*10^-3)*$B$37/$B$39^2*$B$42),(4*$B$14*$B$42)) -> 5.0837507 | F110: =MIN(($B$36*($B$12*10^-3)/SQRT(F$64*10^-3*F$65*10^-3)*$B$37/$B$39^2*$B$42),(4*$B$14*$B$42)) -> 4.6066214 | G110: =MIN(($B$36*($B$12*10^-3)/SQRT(G$64*10^-3*G$65*10^-3)*$B$37/$B$39^2*$B$42),(4*$B$14*$B$42)) -> 6.1568234 | H110: =MIN(($B$36*($B$12*10^-3)/SQRT(H$64*10^-3*H$65*10^-3)*$B$37/$B$39^2*$B$42),(4*$B$14*$B$42)) -> 5.2294181 | I110: =MIN(($B$36*($B$12*10^-3)/SQRT(I$64*10^-3*I$65*10^-3)*$B$37/$B$39^2*$B$42),(4*$B$14*$B$42)) -> 4.6247778 | J110: =MIN(($B$36*($B$12*10^-3)/SQRT(J$64*10^-3*J$65*10^-3)*$B$37/$B$39^2*$B$42),(4*$B$14*$B$42)) -> 4.1907248 | ... N110: =MIN(($B$36*($B$12*10^-3)/SQRT(N$64*10^-3*N$65*10^-3)*$B$37/$B$39^2*$B$42),(4*$B$14*$B$42)) -> 3.7354395
A111: Medium (M) | B111: Lmin | C111: =C108 -> 2.962142 | D111: =D108 -> 2.9428491 | E111: =E108 -> 2.9347907 | F111: =F108 -> 2.9306826 | G111: =G108 -> 2.9494431 | H111: =H108 -> 2.9363047 | I111: =I108 -> 2.930817 | J111: =J108 -> 2.9280193 | ... N111: =N108 -> 2.9258981
B112: Lmax | C112: =MIN(C109,C110) -> 6.7678399 | D112: =MIN(D109,D110) -> 5.7483969 | E112: =MIN(E109,E110) -> 5.0837507 | F112: =MIN(F109,F110) -> 4.6066214 | G112: =MIN(G109,G110) -> 6.1568234 | H112: =MIN(H109,H110) -> 5.2294181 | I112: =MIN(I109,I110) -> 4.6247778 | J112: =MIN(J109,J110) -> 4.1907248 | ... N112: =MIN(N109,N110) -> 3.7354395
...

Sheet BMW-Std-selection
A1: ADPI
A2: 0.95
A3: 0.9
A4: 0.8
A5: 0.7
A7: Order Code for DN Sizes
A9: Supply/Return
A10: supp/rtn radio | B10: 1
B11: code | C11: description
A12: 1 | B12: AD | C12: supply: adjustable direction
A13: 2 | B13: RA | C13: return air
A14: Selecte | B14: =VLOOKUP($B$10,A12:C13,2,0) -> AD | C14: =VLOOKUP($B$10,A12:C13,3,0) -> supply: adjustable direction
A16: Size Radio | B16: 0
A17: Radio | B17: Model | C17: Rows
A18: 0 | B18: 0 | C18: 0
A19: 1 | B19: 800 | C19: 1
A20: 2 | B20: 800 | C20: 2
A21: 3 | B21: 800 | C21: 3
A22: 4 | B22: 800 | C22: 4
A23: 5 | B23: 1200 | C23: 1
A24: 6 | B24: 1200 | C24: 2
A25: 7 | B25: 1200 | C25: 3
A26: 8 | B26: 1200 | C26: 4
A27: 9 | B27: 1500 | C27: 1
A28: 10 | B28: 1500 | C28: 2
A29: 11 | B29: 1500 | C29: 3
A30: 12 | B30: 1500 | C30: 4
A31: Selection | B31: =OFFSET(B18,B16,0) -> 0 | C31: =OFFSET(C18,B16,0) -> 0
A32: Text | B32: ="DN" & B31 & "-" &C31 -> DN0-0
A33: Text | B33: ="DN"&B31& " with " &C31 & " rows" -> DN0 with 0 rows
A34: Neck Dimensions | B34: ="Neck W" &D106&" mm × H" &D107&" mm" &" "&E106 -> Neck W[mm] mm × H[mm] mm (no OBD)
A35: Face Dimensions | B35: ="Face W"&D108&" mm × H" &D109&" mm" -> Face W[mm] mm × H[mm] mm
A39: Throw Setting
A40: Throw setting radio | B40: 2
B42: Code | C42: Description
A43: 1 | B43: TS | C43: Short
A44: 2 | B44: TM | C44: Medium
A45: 3 | B45: TL | C45: Long
A46: Select | B46: =OFFSET(B42,B40,0) -> TM | C46: =OFFSET(C42,B40,0) -> Medium
A48: Discharge direction
A49: Discharge select | B49: 2
B51: Code | C51: Description
A52: 1 | B52: L | C52: Left
A53: 2 | B53: C | C53: Centre
A54: 3 | B54: R | C54: Right
A55: Select | B55: =OFFSET(B51,B49,0) -> C | C55: =OFFSET(C51,B49,0) -> Centre
A57: Face/Flange
A58: face selection | B58: 1
B60: Code | C60: Description | D60: Cell Ref
A61: 1 | B61: SF | C61: With side flanges | D61: K23
A62: 2 | B62: SN | C62: Flangeless | D62: N23
A63: Select | B63: =OFFSET(B60,B58,0) -> SF | C63: =OFFSET(C60,B58,0) -> With side flanges | D63: =OFFSET(D60,B58,0) -> K23
A65: Colour
A66: Colour selection | B66: 1
B68: Code | C68: Description
A69: 1 | B69: RAL9003 | C69: Signal White
A70: 2 | B70: RAL9005 | C70: Jet Black
A71: 3 | B71: <colour> | C71: custom colour
A72: Select | B72: =OFFSET(B68,B66,0) -> RAL9003 | C72: =OFFSET(C68,B66,0) -> Signal White | D72: =IF(B66=3,C71,C72 & " (" & B72 &")") -> Signal White (RAL9003)
A74: Accessories
A75: Accessory select | B75: 1
B77: Code | C77: Description
A78: 1 | B78: 0 | C78: Diffuser only (no conection box)
A79: 2 | B79: K | C79: With insulated connection box
A80: Select | B80: =OFFSET(B77,B75,0) -> 0 | C80: =OFFSET(C77,B75,0) -> Diffuser only (no conection box)
A82: OBD
B83: D1 | C83: with integrated OBD
A84: FALSE | B84: =IF(A84,B83,"D0") -> D0 | C84: =IF(A84,C83,"")
A86: Description
A87: ="Diffuser size DN" & B31 & " with " &C31& " row(s)" -> Diffuser size DN0 with 0 row(s)
A88: ="Throw distance set to " & LOWER(C46) -> Throw distance set to medium
A89: =C55 & " discharge in direction of airstream" -> Centre discharge in direction of airstream
A90: =C63 -> With side flanges
A91: ="Face painted to " &D72 -> Face painted to Signal White (RAL9003)
A92: =C80&" "&C84 -> Diffuser only (no conection box)
A97: Rtn/Supply | D97: =$B$14="AD" -> TRUE | E97: =$B$14="AD" -> TRUE
B98: =B14&"-" -> AD- | C98: =B32&"-" -> DN0-0- | D98: =IF(D97,B46&"-","") -> TM- | E98: =IF(E97,B55&"-","") -> C- | F98: =B63&"-" -> SF- | G98: =B72&"-" -> RAL9003- | H98: =B80&"-" -> 0- | I98: =B84 -> D0
A99: Order Code: | B99: =IF(B16=0,"Please select a valid size (Row 59)","SMARTEMP BMW-"&B98&C98&D98&E98&F98&G98&H98&I98) -> Please select a valid size (Row 59)
A102: Results
B104: BMW-AD-
A105: 1 | B105: Rows (Height) | D105: =OFFSET(BMW_Std_Eqn!$D$329,'BMW-Std-selection'!A105,'BMW-Std-selection'!$B$16) -> 0
A106: 2 | B106: Wn | D106: =OFFSET(BMW_Std_Eqn!$D$329,'BMW-Std-selection'!A106,'BMW-Std-selection'!$B$16) -> [mm] | E106: =IF(A84,F106,G106) -> (no OBD) | F106: (with OBD) | G106: (no OBD)
A107: 3 | B107: Hn | D107: =OFFSET(BMW_Std_Eqn!$D$329,'BMW-Std-selection'!A107,'BMW-Std-selection'!$B$16) -> [mm]
A108: 4 | B108: Wf | D108: =OFFSET(BMW_Std_Eqn!$D$329,'BMW-Std-selection'!A108,'BMW-Std-selection'!$B$16) -> [mm]
A109: 5 | B109: Hf | D109: =OFFSET(BMW_Std_Eqn!$D$329,'BMW-Std-selection'!A109,'BMW-Std-selection'!$B$16) -> [mm]
A110: 6 | B110: Total Pressure | D110: =OFFSET(BMW_Std_Eqn!$D$329,'BMW-Std-selection'!A110,'BMW-Std-selection'!$B$16) -> [Pa]
A111: 7 | B111: Min Recommended Flow Rate | D111: =OFFSET(BMW_Std_Eqn!$D$329,'BMW-Std-selection'!A111,'BMW-Std-selection'!$B$16) -> 0
A112: 8 | B112: Sound Power Level | D112: =OFFSET(BMW_Std_Eqn!$D$329,'BMW-Std-selection'!A112,'BMW-Std-selection'!$B$16) -> [dB(A)]
A113: 9 | B113: Sound Pressure Level * | D113: =OFFSET(BMW_Std_Eqn!$D$329,'BMW-Std-selection'!A113,'BMW-Std-selection'!$B$16) -> [NC]
A114: 10 | B114: Min Recommended Diffuser Height | D114: =OFFSET(BMW_Std_Eqn!$D$329,'BMW-Std-selection'!A114,'BMW-Std-selection'!$B$16) -> [m]
A115: 11 | B115: S | C115: Lmin | D115: =OFFSET(BMW_Std_Eqn!$D$329,'BMW-Std-selection'!A115,'BMW-Std-selection'!$B$16) -> [m]
A116: 12 | B116: S | C116: Lmax | D116: =OFFSET(BMW_Std_Eqn!$D$329,'BMW-Std-selection'!A116,'BMW-Std-selection'!$B$16) -> [m]
A117: 13 | B117: S | C117: Bmin | D117: =OFFSET(BMW_Std_Eqn!$D$329,'BMW-Std-selection'!A117,'BMW-Std-selection'!$B$16) -> [m]
A118: 14 | B118: S | C118: Bmax | D118: =OFFSET(BMW_Std_Eqn!$D$329,'BMW-Std-selection'!A118,'BMW-Std-selection'!$B$16) -> [m]
A119: 15 | B119: M | C119: Lmin | D119: =OFFSET(BMW_Std_Eqn!$D$329,'BMW-Std-selection'!A119,'BMW-Std-selection'!$B$16) -> [m]
A120: 16 | B120: M | C120: Lmax | D120: =OFFSET(BMW_Std_Eqn!$D$329,'BMW-Std-selection'!A120,'BMW-Std-selection'!$B$16) -> [m]
A121: 17 | B121: M | C121: Bmin | D121: =OFFSET(BMW_Std_Eqn!$D$329,'BMW-Std-selection'!A121,'BMW-Std-selection'!$B$16) -> [m]
A122: 18 | B122: M | C122: Bmax | D122: =OFFSET(BMW_Std_Eqn!$D$329,'BMW-Std-selection'!A122,'BMW-Std-selection'!$B$16) -> [m]
A123: 19 | B123: L | C123: Lmin | D123: =OFFSET(BMW_Std_Eqn!$D$329,'BMW-Std-selection'!A123,'BMW-Std-selection'!$B$16) -> [m]
A124: 20 | B124: L | C124: Lmax | D124: =OFFSET(BMW_Std_Eqn!$D$329,'BMW-Std-selection'!A124,'BMW-Std-selection'!$B$16) -> [m]
...

Sheet BMW-AD Std Summary
B1: BMW-AD Performance Calculator Summary
A3: Project | B3: ='BMW-AD-Std Size Calculator'!D5 -> <Project Name>
A4: Company | B4: <Name>
A5: Contact | B5: <Name>
A7: Product | B7: SMARTEMP BMW-AD
B8: Bar Multi-stream Adjustable Wall Diffuser
A9: Size | B9: ='BMW-Std-selection'!B33 -> DN0 with 0 rows
A11: Project Summary
A12: Selected Airflow | B12: ='BMW-Std-selection'!B158 -> 100 L/s @ [Pa] Pa total
A13: Min Selected Airflow | B13: ='BMW-Std-selection'!B159 -> 100 L/s (VAV turndown to 100% )
A14: Min Recommended Airflow | B14: ='BMW-Std-selection'!B160 -> 0 L/s @ ΔT = -12 K
A16: Acoustic Performance
A17: Sound Power Level | B17: ='BMW-Std-selection'!B166 -> [dB(A)] dB(A)
A18: Sound Pressure Level | B18: ='BMW-Std-selection'!B167 -> [NC] NC (based on 10 dB room absorption)
A20: Comfort Performance | B20: (for selected distances see Figure 1)
A21: Selected ADPI | B21: ='BMW-Std-selection'!B170 -> 0.9
A22: Mean Room Air Velocity | B22: ='BMW-Std-selection'!B171 -> [m/s] m/s
A23: Draught Rating (DR) | B23: ='BMW-Std-selection'!B172 -> #VALUE!
A24: Mean PPD | B24: ='BMW-Std-selection'!B173 -> [%]
A25: Satisfies PPD (ISO7730) | B25: ='BMW-Std-selection'!B174 -> Category 0
A26: Satisfies PMV * | B26: ='BMW-Std-selection'!B175 -> -0 ≤ PMV ≤ +0
A27: * ISO7730; ASHRAE Std 55
A29: ='BMW-Std-selection'!A191 -> Recommended distances for ≥ 90% ADPI
A30: ='BMW-Std-selection'!B179 -> Medium throw selected
A31: ='BMW-Std-selection'!B180 -> 2.5 m selected install height ([m] m min recommended)
A36: Description | B36: ='BMW-Std-selection'!A87 -> Diffuser size DN0 with 0 row(s)
B37: ='BMW-Std-selection'!B34 -> Neck W[mm] mm × H[mm] mm (no OBD)
B38: ='BMW-Std-selection'!B35 -> Face W[mm] mm × H[mm] mm
B39: ='BMW-Std-selection'!A88 -> Throw distance set to medium
B40: ='BMW-Std-selection'!A89 -> Centre discharge in direction of airstream
B41: ='BMW-Std-selection'!A90 -> With side flanges
B42: ='BMW-Std-selection'!A91 -> Face painted to Signal White (RAL9003)
B43: ='BMW-Std-selection'!A92 -> Diffuser only (no conection box)
A45: Order Code | B45: ='BMW-Std-selection'!B99 -> Please select a valid size (Row 59)

Sheet BMW-AD Bespoke Calculator
D2: SMARTEMP PRODUCT SELECTION BESPOKE CALCULATOR
D3: Bespoke Bar Multi-stream Diffuser [BMW-AD]
C5: Project: | D5: <Project Name>
D7: Inputs | K7: Bespoke Unit Size | V7: ='BMW-AD-Std Size Calculator'!AB6 -> v 2.0 [01/2026]
D9: Maximum Airflow Rate | E9: 100 | F9: L/s | G9: m3/h | H9: =BMW_Be_Eqn!B11 -> 9 - 600 L/s | M9: Neck Width (Wn) [mm] | N9: 600 | O9: (select from dropdown) | R9: Height Size Guide:
R10: Rh | S10: Hf | T10: Hn
D11: VAV Turndown to | E11: 100 | F11: % | G11: use 100% for CAV | M11: Number of Rows High (Rh) | N11: 2 | O11: 1 ≤ Rh ≤ 4 | S11: (Face) | T11: (Neck)
R12: 1 | S12: 134 | T12: 101
D13: Maximum Total Pressure | E13: 30 | F13: Pa | G13: default 30 Pa | L13: With Side Flanges (default) | O13: Flangless | R13: 2 | S13: 173 | T13: 140
R14: 3 | S14: 212 | T14: 179
D15: Diffuser Height | E15: 2.5 | F15: m | G15: 2.0 m to 5.5 m (recommended) | R15: 4 | S15: 251 | T15: 218
R16: example (below): | T16: Rh = 2 elements high
D17: ΔT (cooling) | E17: -12 | F17: K | G17: 0 K to -15 K
D19: Detailed Selection
D20: Draught Rating & Comfort
D22: ADPI ≥ | E22: 0.9 | G22: default ≥ 90%
D24: ='BMW-Be-Selection'!B152 -> Nominal Selection: Throw Length/Breadth = 5.2 m/5.2 m (3.7 L/s/m²)
U25: Cw : number of element columns wide
D26: Manual Throw Length | E26: 5 | F26: m | U26: Rh : number of element rows high
D27: Manual Throw Breadth | E27: 4 | F27: m | G27: ="= specific airflow rate: "&BMW_Be_Eqn!D38&" " &BMW_Be_Eqn!E38 -> = specific airflow rate: 5 L/s/m² | U27: Wn/Hn : Neck width/height
U28: Wf/Hf : Face width/height
D29: Specific Airflow Rate | E29: 5 | F29: =BMW_Be_Eqn!C5 -> L/s/m² | G29: ="= floor area: "&BMW_Be_Eqn!D40&" m²" -> = floor area: 20 m²
K30: Thermal Comfort Guide
D31: Room Temperature | E31: 23 | F31: °C | K31: ADPI ≥ 95%; ṽ ≤ 0.20 m/s: Premium comfort, sedentary activity, such as in auditoria.
K32: ADPI ≥ 90%; ṽ ≤ 0.25 m/s: High comfort near-sedentary activity, such as in board rooms, high end offices and libraries.
K33: ADPI ≥ 80%; ṽ ≤ 0.29 m/s: Good comfort near sedentary activity, such as open-plan offices and meeting rooms.
K34: ADPI ≥ 70%; ṽ ≤ 0.33 m/s: Standard comfort medium activity, such as in transient spaces, retail and lobbies.
D36: BMW-AD-Bespoke
D37: Size | F37: Wf × Hr | H37: =BMW_Be_Eqn!E329 -> 600 × 2
D38: Neck | E38: Width (1) | F38: Wn | G38: [mm] | H38: =BMW_Be_Eqn!E330 -> 608 | I38: Note (1): | J38: ='BMW-Be-Selection'!B155 -> OBD selected in Cell G66, neck dimensions include additional 8 mm | Q38: Key: | R38: Suitable | S38: Not Suitable | T38: Warning
D39: ='BMW-Be-Selection'!C108 -> (with OBD) | E39: Height (1) | F39: Hn | G39: [mm] | H39: =BMW_Be_Eqn!E331 -> 148 | I39: Flangeless face available; see Product Selection (Row 64)
D40: Face | E40: Width | F40: Wf | G40: [mm] | H40: =BMW_Be_Eqn!E332 -> 652 | I40: Note (2): Based on 10dB room absorption
E41: Height | F41: Hf | G41: [mm] | H41: =BMW_Be_Eqn!E333 -> 173
D42: Total Pressure | F42: Pt | G42: [Pa] | H42: =BMW_Be_Eqn!E334 -> 20.5
D43: Min Recommended Flow Rate | F43: Vmin | G43: =BMW_Be_Eqn!D4 -> [L/s] | H43: =BMW_Be_Eqn!E335 -> 40.1 | N43: Throw Setting Guide
D44: Sound Power Level | F44: Lw | G44: [dB(A)] | H44: =BMW_Be_Eqn!E336 -> 38.1
D45: Sound Pressure Level (2) | F45: Lp | G45: [NC] | H45: =BMW_Be_Eqn!E337 -> 23.1
D46: Min Recommended Diffuser Height | F46: Hmin | G46: [m] | H46: =BMW_Be_Eqn!E338 -> 2.3
D47: Throw Setting | E47: Short (S) | F47: Lmin | G47: [m] | H47: =BMW_Be_Eqn!E339 -> 2.3
F48: Lmax | G48: [m] | H48: =BMW_Be_Eqn!E340 -> 5.6
F49: Bmin | G49: [m] | H49: =BMW_Be_Eqn!E341 -> 3.9
F50: Bmax | G50: [m] | H50: =BMW_Be_Eqn!E342 -> 9.7
E51: Medium (M) (default) | F51: Lmin | G51: [m] | H51: =BMW_Be_Eqn!E343 -> 3
F52: Lmax | G52: [m] | H52: =BMW_Be_Eqn!E344 -> 7.4
F53: Bmin | G53: [m] | H53: =BMW_Be_Eqn!E345 -> 3
F54: Bmax | G54: [m] | H54: =BMW_Be_Eqn!E346 -> 7.4
E55: Long (L) | F55: Lmin | G55: [m] | H55: =BMW_Be_Eqn!E347 -> 3.9
F56: Lmax | G56: [m] | H56: =BMW_Be_Eqn!E348 -> 9.6
F57: Bmin | G57: [m] | H57: =BMW_Be_Eqn!E349 -> 2.3
F58: Bmax | G58: [m] | H58: =BMW_Be_Eqn!E350 -> 5.6
D59: Mean Room Air Velocity | F59: v | G59: [m/s] | H59: =BMW_Be_Eqn!E351 -> 0.15
D60: Mean Draught Rating | F60: DR | G60: [%] | H60: =BMW_Be_Eqn!E352 -> 0.141
D61: Mean PPD | F61: PPD | G61: [%] | H61: =BMW_Be_Eqn!E353 -> 0.075
D62: Satisfies PPD Category (ISO7730) | H62: =BMW_Be_Eqn!E354 -> B
D63: |PMV| (ISO7730 & Ashrae Std 55) | H63: =BMW_Be_Eqn!E355 -> ≤ 0.4
D67: Supply/Return | H67: supply: adjustable direction * | L67: return air | O67: for return air grille please contact Smartair Diffusion
D68: Throw Setting | H68: short | J68: medium * | L68: long | O68: * indicates standard/default option
D69: Discharge Direction (in direction of airflow) | H69: left | J69: centre * | L69: right
D70: Face Options
D71: Colour | H71: RAL9003 (signal white) * | K71: RAL9005 (jet black) | N71: other | O71: contact Smartair Diffusion for custom colours
D72: Accessories | H72: Diffuser Only * | J72: with uninsultated connection box (not available in AU)
H73: with integrated OBD | O73: OBD: opposed blade damper
D74: Order Code | G74: ='BMW-Be-Selection'!B103 -> SMARTEMP BMW-AD-BESPOKE-FN600-2-TM-C-SF-RAL9003-0-D1
H75: click here to see product on smartair.asia | P75: Copyright © 2026 SMARTAIR DIFFUSION

Sheet BMW_Be_Eqn
A1: Inputs
D2: L/s | E2: m³/h
D3: L/s/m² | E3: m³/h/m² | F3: ²
A4: Airflow Rate Input | B4: ='BMW-AD Bespoke Calculator'!E9 -> 100 | C4: =IF($B$5=1,D2,E2) -> L/s | D4: ="["&C4&"]" -> [L/s]
A5: Selection | B5: 1 | C5: =IF($B$5=1,D3,E3) -> L/s/m² | D5: ="["&C5&"]" -> [L/s/m²]
A6: Mutiplier | B6: =IF(B5=1,1,3.6) -> 1
A7: Selected Spec Flow | B7: ='BMW-AD Bespoke Calculator'!E29 -> 5
A9: Min Flow | B9: =9*B6 -> 9
A10: Max Flow | B10: =600*B6 -> 600
A11: Text | B11: =B9&" - "&B10&" "&C4 -> 9 - 600 L/s
A13: Inputs
A14: Airflow Rate Converted | B14: =B4/B6 -> 100
A15: Turndown % | B15: ='BMW-AD Bespoke Calculator'!E11/100 -> 1
A16: Max Total Pressure | B16: ='BMW-AD Bespoke Calculator'!E13 -> 30
A17: Height | B17: ='BMW-AD Bespoke Calculator'!E15 -> 2.5
A18: dT (cooling) | B18: =ABS('BMW-AD Bespoke Calculator'!E17) -> 12
A19: ADPI | B19: ='BMW-AD Bespoke Calculator'!E22 -> 0.9
A21: Input Validation
A22: Turndown Flow rate | B22: =B14*B15 -> 100
A23: dT (cooling) | B23: =MAX(B18,8) -> 12 | C23: uses 8K for values between 0 to 8
A28: ADPI-Velocity Chart
A29: 0.95 | B29: 0.2
A30: 0.9 | B30: 0.25
A31: 0.8 | B31: 0.29
A32: 0.7 | B32: 0.33
A33: Target Velocity | B33: =OFFSET(B29,MATCH(B19,A29:A32,0)-1,0) -> 0.25 | C33: m/s
A35: Area Type | B35: 1
A36: Selected L | B36: ='BMW-AD Bespoke Calculator'!E26 -> 5
A37: Selected B | B37: ='BMW-AD Bespoke Calculator'!E27 -> 4
A38: Type 2 Selected Area | B38: =B36*B37 -> 20 | C38: Type 2 Spec Flow | D38: =ROUND(B14/B38*B6,1) -> 5 | E38: =C5 -> L/s/m²
A39: Converted Spec Flow | B39: =B7/B6 -> 5
A40: Area from spec flow | B40: =B14/B39 -> 20 | C40: m2 | D40: =ROUND(B40,1) -> 20
A42: Room Temp | B42: ='BMW-AD Bespoke Calculator'!E31 -> 23
A44: Factors
A45: K.l.min | B45: 7
A46: K.l.max | B46: 21
A47: K.dT | B47: =SQRT(12/B23) -> 1 | C47: -12 K / dT
A48: K.H.min(sp) | B48: =SQRT(1.209*B17^-0.199) -> 1.0037328 | C48: Increased draught risk as height increases, Fig 8, Krantz Layout Criteria TB 69 E
A49: K.H.max(vol) | B49: =SQRT(2.5/B17) -> 1 | C49: Reduce max throw with height to maintain constant volume to prevent stagnation
A50: K.2D/3D | B50: =SQRT(195/145) -> 1.159667 | C50: Fig 8 / Fig 7 @ 0.25, Krantz Layout Criteria TB 69 E
A51: v.room ≤ | B51: =B33 -> 0.25 | C51: m/s, Krantz Layout Criteria TB 69 E
A52: K.adpi | B52: =SQRT(19.92*B51^2.153) -> 1.0035224 | C52: Adjustment factor for ADPI
A53: K.h.min | B53: 1.9
A54: K.Pt | B54: 1.07
A56: Target Q'' from ADPI
A57: H | B57: Ax | C57: ^B | D57: Q"
A58: 2.7 | B58: 2876.0549 | C58: 2.151926 | D58: =B58*$B$33^C58 -> 145.61585
A59: 4 | B59: 2647.6465 | C59: 2.1753317 | D59: =B59*$B$33^C59 -> 129.77164
A60: 10 | B60: 2313.9065 | C60: 2.1944262 | D60: =B60*$B$33^C60 -> 110.45099
A61: =B17 -> 2.5 | B61: =EXP(INDEX(LINEST(LN(D58:D60),LN(A58:A60),,),1,2)) -> 175.94819 | C61: =INDEX(LINEST(LN(D58:D60),LN(A58:A60),,),1) -> -0.20487434 | D61: =B61*B17^C61 -> 145.83343
A63: Q to v conversion
A64: H | B64: Aq | C64: q^b
A65: 2.7 | B65: 0.0247 | C65: 0.4647
A66: 4 | B66: 0.0267 | C66: 0.4597
A67: 10 | B67: 0.0293 | C67: 0.4557
A69: Dimensions
A70: rows high | B70: 1 | C70: 2 | D70: 3 | E70: 4
A71: neck height | B71: 101 | C71: 140 | D71: 179 | E71: 218
A72: face height | B72: 134 | C72: 173 | D72: 212 | E72: 251
C74: 1
A75: Neck Width (selection) | B75: Wf | C75: ='BMW-AD Bespoke Calculator'!N9 -> 600
A76: Rows (Height) | B76: Hr | C76: ='BMW-AD Bespoke Calculator'!N11 -> 2
A77: Neck Width | B77: Wn | C77: =C75 -> 600
A78: Neck Width (PMW (equi) | C78: =C75-40 -> 560
A79: Neck Height | B79: Hn | C79: =_xlfn.XLOOKUP($C$76,$B$70:$E$70,$B$71:$E$71) -> 140
A80: Face Width (flanged) | C80: =C75+52 -> 652
A81: Face Width (flangeless) | C81: =C75 -> 600
A82: Face Width | B82: Wf | C82: =IF('BMW-Be-Selection'!B64=1,BMW_Be_Eqn!C80,BMW_Be_Eqn!C81) -> 652
A83: Face Height | B83: Hf | C83: =_xlfn.XLOOKUP($C$76,$B$70:$E$70,$B$72:$E$72) -> 173
A84: Total Pressure @ | B84: Pt | C84: =(1.359*10^-3*($B$14/(C78*10^-3*C79*10^-3)*(0.507*0.171))^2.0302)*$B$54 -> 20.497393
A85: Pressure for throw calc | B85: Pt(t) | C85: =1.359*10^-3*($B$14/(C78*10^-3*C79*10^-3)*(0.507*0.171))^2.0302 -> 19.156442
A86: Min Flow Rate @ -12 | B86: V min | C86: =C78*10^-3*C79*10^-3/(0.507*0.171)*(3/(1.359*10^-3))^0.4926 -> 40.134515
A87: Min Flow Rate @ dT | C87: =C86/$B$47 -> 40.134515
A88: Sound Power Level | B88: Lw | C88: =-114.08+32.01*LN($B$14/(C78*C79)*(507*171))+10*LOG(C78*C79/(507*171))+2 -> 38.114675
A89: Sound Pressure Level | B89: Lp* | C89: =C88-15 -> 23.114675
A90: Min Recommended Height | B90: Hmin | C90: =2+($B$14/C78*$B$53/$B$52^3) -> 2.3357255
A92: 100% Airflow
A93: L,W Vsp.min | C93: =(0.2529+2.7683*10^-4*C85)*SQRT($B$14)/$B$47*$B$48*$B$50/$B$52 -> 2.9949236
A94: L,W Vsp.max | C94: =(0.675+9.273*10^-3*C85)*SQRT($B$14)*$B$47*$B$49/$B$50*$B$52 -> 7.3783339
A95: L,W throw max | C95: =MIN(($B$46*($B$14*10^-3)/SQRT(C$78*10^-3*C$79*10^-3)*$B$47/$B$49^2*$B$52),(4*$B$17*$B$52)) -> 7.5264183
A96: Medium (M) | B96: Lmin | C96: =C93 -> 2.9949236
B97: Lmax | C97: =MIN(C94,C95) -> 7.3783339
B98: Bmin | C98: =C93 -> 2.9949236
B99: Bmax | C99: =MIN(C94,C95) -> 7.3783339
A100: L Vsp.min | C100: =1.075*0.707*C93 -> 2.2762168
A101: L Vsp.max | C101: =1.075*0.707*C94 -> 5.6077182
A102: L throw max | C102: =1.075*0.707*C95 -> 5.720266
A103: W Vsp.min | C103: =1.075*1.225*C93 -> 3.9439401
A104: W Vsp.max | C104: =1.075*1.225*C94 -> 9.7163435
A105: W throw max | C105: =1.075*1.225*C95 -> 9.9113521
A106: Short (S) | B106: Lmin | C106: =C100 -> 2.2762168
B107: Lmax | C107: =MIN(C101,C102) -> 5.6077182
B108: Bmin | C108: =C103 -> 3.9439401
B109: Bmax | C109: =MIN(C104,C105) -> 9.7163435
A110: L Vsp.min | C110: =1.07*1.22*C93 -> 3.9095733
A111: L Vsp.max | C111: =1.07*1.22*C94 -> 9.6316771
A112: L throw max | C112: =1.07*1.22*C95 -> 9.8249864
A113: W Vsp.min | C113: =1.07*0.707*C93 -> 2.2656298
A114: W Vsp.max | C114: =1.07*0.707*C94 -> 5.5816358
A115: W throw max | C115: =1.07*0.707*C95 -> 5.6936602
...

Sheet BMW-Be-Selection
A2: SELECTION
A3: Cw | B3: ='BMW-AD Bespoke Calculator'!N9 -> 600
A4: Hr | B4: ='BMW-AD Bespoke Calculator'!N11 -> 2
A7: Face Dimensions | B7: Neck Options
A8: 200 | B8: =A8-25.6*2 -> 148.8
A9: 400 | B9: =A9-25.6*2 -> 348.8
A10: 600 | B10: =A10-25.6*2 -> 548.8
A11: 800 | B11: =A11-25.6*2 -> 748.8
A12: 1000 | B12: =A12-25.6*2 -> 948.8
A13: 1200 | B13: =A13-25.6*2 -> 1148.8
A14: 1400 | B14: =A14-25.6*2 -> 1348.8
A15: 1500 | B15: =A15-25.6*2 -> 1448.8
A16: 1600 | B16: =A16-25.6*2 -> 1548.8
A30: supply/rtn
A31: Selection | B31: 1
B32: code | C32: description
A33: 1 | B33: AD | C33: supply: adjustable direction
A34: 2 | B34: RA | C34: return air
A35: Selecte | B35: =VLOOKUP($B$31,A33:C34,2,0) -> AD | C35: =VLOOKUP($B$31,A33:C34,3,0) -> supply: adjustable direction
A38: Order Size | B38: Check if matches DN size
A39: Cw | B39: DN
A40: Text | B40: ="FN"&B3&"-"&B4 -> FN600-2 | C40: =IF(ISERROR(#REF!),"SMARTEMP BMW-"&B35&"-BESPOKE","SMARTEMP BMW-") -> SMARTEMP BMW-AD-BESPOKE
A41: Neck Dimensions | B41: ="Neck " &B108&" mm × " &B109&" mm "&C108 -> Neck 608 mm × 148 mm (with OBD)
A42: Face Dimensions | B42: ="Face "&B110&" mm × " &B111&" mm" -> Face 652 mm × 173 mm
A45: Throw Setting
A46: Selection | B46: 2
B48: Code | C48: Description
A49: 1 | B49: TS | C49: Short
A50: 2 | B50: TM | C50: Medium
A51: 3 | B51: TL | C51: Long
A52: Select | B52: =OFFSET(B48,B46,0) -> TM | C52: =OFFSET(C48,B46,0) -> Medium
A54: Discharge direction
A55: Discharge select | B55: 2
B57: Code | C57: Description
A58: 1 | B58: L | C58: Left
A59: 2 | B59: C | C59: Centre
A60: 3 | B60: R | C60: Right
A61: Select | B61: =OFFSET(B57,B55,0) -> C | C61: =OFFSET(C57,B55,0) -> Centre
A63: Face/Flange
A64: face selection | B64: 1
B66: Code | C66: Description | D66: Cell
A67: 1 | B67: SF | C67: With side flanges | D67: L13
A68: 2 | B68: SN | C68: Flangeless | D68: O13
A69: Select | B69: =OFFSET(B66,B64,0) -> SF | C69: =OFFSET(C66,B64,0) -> With side flanges | D69: =OFFSET(D66,B64,0) -> L13
A71: Colour
A72: Colour selection | B72: 1
B74: Code | C74: Description
A75: 1 | B75: RAL9003 | C75: Signal White
A76: 2 | B76: RAL9005 | C76: Jet Black
A77: 3 | B77: <colour> | C77: custom colour
A78: Select | B78: =OFFSET(B74,B72,0) -> RAL9003 | C78: =OFFSET(C74,B72,0) -> Signal White | D78: =IF(B72=3,C77,C78 & " (" & B78 &")") -> Signal White (RAL9003)
A80: Accessories
A81: Accessory select | B81: 1
B83: Code | C83: Description
A84: 1 | B84: 0 | C84: Diffuser only (no accessories)
A85: 2 | B85: K | C85: With insulated connection box and VCD
A86: Select | B86: =OFFSET(B83,B81,0) -> 0 | C86: =OFFSET(C83,B81,0) -> Diffuser only (no accessories)
A88: OBD
B89: D1 | C89: with integrated OBD
A90: TRUE | B90: =IF(A90,B89,"D0") -> D1 | C90: =IF(A90,C89,"") -> with integrated OBD
A91: note: | B91: =IF(A90,"","+ 8 mm to neck dimensions with optional OBD")
A93: Description
A94: ="Bespoke BMW-AD: "&B41 -> Bespoke BMW-AD: Neck 608 mm × 148 mm (with OBD)
A95: =B42&"; "&C69 -> Face 652 mm × 173 mm; With side flanges
A96: ="Throw distance set to " & LOWER(C52) -> Throw distance set to medium
A97: =C61 & " discharge in direction of airstream" -> Centre discharge in direction of airstream
A98: ="Face painted to " &D78 -> Face painted to Signal White (RAL9003)
A99: =C86&" "&C90 -> Diffuser only (no accessories) with integrated OBD
A101: Rtn/Supply | D101: =$B$35="AD" -> TRUE | E101: =$B$35 ="AD" -> TRUE
B102: =C40&"-" -> SMARTEMP BMW-AD-BESPOKE- | C102: =B40&"-" -> FN600-2- | D102: =IF(D101,B52&"-","") -> TM- | E102: =IF(E101,B61&"-","") -> C- | F102: =B69&"-" -> SF- | G102: =B78&"-" -> RAL9003- | H102: =B86&"-" -> 0- | I102: =B90 -> D1
A103: Order Code: | B103: =B102&C102&D102&E102&F102&G102&H102&I102 -> SMARTEMP BMW-AD-BESPOKE-FN600-2-TM-C-SF-RAL9003-0-D1
A106: Results
A107: Size | B107: =BMW_Be_Eqn!E329 -> 600 × 2
A108: Wn | B108: =BMW_Be_Eqn!E330 -> 608 | C108: =IF(A90,D108,E108) -> (with OBD) | D108: (with OBD) | E108: (no OBD)
A109: Hn | B109: =BMW_Be_Eqn!E331 -> 148
A110: Wf | B110: =BMW_Be_Eqn!E332 -> 652
A111: Hf | B111: =BMW_Be_Eqn!E333 -> 173
A112: Pt | B112: =BMW_Be_Eqn!E334 -> 20.5
A113: Vmin | B113: =BMW_Be_Eqn!E335 -> 40.1
A114: Lw | B114: =BMW_Be_Eqn!E336 -> 38.1
A115: Lp* | B115: =BMW_Be_Eqn!E337 -> 23.1
A116: Hmin | B116: =BMW_Be_Eqn!E338 -> 2.3
A117: Lmin | B117: =BMW_Be_Eqn!E339 -> 2.3
A118: Lmax | B118: =BMW_Be_Eqn!E340 -> 5.6
A119: Bmin | B119: =BMW_Be_Eqn!E341 -> 3.9
A120: Bmax | B120: =BMW_Be_Eqn!E342 -> 9.7
... A133: PMV | B133: =BMW_Be_Eqn!E355 -> ≤ 0.4
A135: Multiplier | B135: =BMW_Be_Eqn!B6 -> 1
A137: Main Page
A138: Airflow | B138: ='BMW-AD Bespoke Calculator'!$E$9 -> 100 | C138: =BMW_Be_Eqn!C4 -> L/s | D138: =BMW_Be_Eqn!C5 -> L/s/m²
A139: TD to | B139: ='BMW-AD Bespoke Calculator'!$E$11/100 -> 1
A140: min flow | B140: =B138*B139 -> 100
A141: dt | B141: ='BMW-AD Bespoke Calculator'!$E$17 -> -12
A142: height | B142: ='BMW-AD Bespoke Calculator'!E15 -> 2.5
A143: spec flow | B143: =BMW_Be_Eqn!B199 -> 3.7
A144: flange | B144: =C69& " (selected in cell " &D69&")" -> With side flanges (selected in cell L13)
A146: Airflow Pressure | B146: =B138 &" " &C138 & " @ " &B112& " Pa total" -> 100 L/s @ 20.5 Pa total
A147: Min airflow | B147: =B140& " " & C138 &" (VAV turndown to " &B139*100&"% )" -> 100 L/s (VAV turndown to 100% )
A148: Min Permissible Airflow | B148: =B113 &" " &C138 & " @ ΔT = "&B141 & " K" -> 40.1 L/s @ ΔT = -12 K
A150: Nominal Length | B150: =ROUND(BMW_Be_Eqn!B179,1) -> 5.2
...

Sheet BMW-AD Bespoke Summary
B1: BMW-AD Performance Calculator Summary
A3: Project | B3: ='BMW-AD Bespoke Calculator'!D5 -> <Project Name>
A4: Company | B4: <Name>
A5: Contact | B5: <Name>
A7: Product | B7: SMARTEMP BMW-AD Bespoke
B8: Bar Multi-stream Adjustable Wall Diffuser
A9: Size | B9: ='BMW-Be-Selection'!B41 -> Neck 608 mm × 148 mm (with OBD)
B10: ='BMW-Be-Selection'!B42 -> Face 652 mm × 173 mm
A12: Project Summary
A13: Selected Airflow | B13: ='BMW-Be-Selection'!B146 -> 100 L/s @ 20.5 Pa total
A14: Min Selected Airflow | B14: ='BMW-Be-Selection'!B147 -> 100 L/s (VAV turndown to 100% )
A15: Min Recommended Airflow | B15: ='BMW-Be-Selection'!B148 -> 40.1 L/s @ ΔT = -12 K
A17: Acoustic Performance
A18: Sound Power Level | B18: ='BMW-Be-Selection'!B160 -> 38.1 dB(A)
A19: Sound Pressure Level | B19: ='BMW-Be-Selection'!B161 -> 23.1 NC (based on 10 dB room absorption)
A21: Comfort Performance | B21: (for selected distances see Figure 1)
A22: Selected ADPI | B22: ='BMW-Be-Selection'!B164 -> 0.9
A23: Mean Room Air Velocity | B23: ='BMW-Be-Selection'!B165 -> 0.15 m/s
A24: Draught Rating (DR) | B24: ='BMW-Be-Selection'!B166 -> 14.1% @ room temperature of 23°C
A25: Mean PPD | B25: ='BMW-Be-Selection'!B167 -> 0.075
A26: Satisfies PPD (ISO7730) | B26: ='BMW-Be-Selection'!B168 -> Category B
A27: Satisfies PMV * | B27: ='BMW-Be-Selection'!B169 -> -0.4 ≤ PMV ≤ +0.4 | D27: * ISO7730; ASHRAE Std 55
A29: Recommended Layout
A30: ='BMW-Be-Selection'!B174 -> Medium throw selected
A31: ='BMW-Be-Selection'!B175 -> 2.5 m selected install height (2.3 m min recommended)
A40: Description | B40: ='BMW-Be-Selection'!A94 -> Bespoke BMW-AD: Neck 608 mm × 148 mm (with OBD)
B41: ='BMW-Be-Selection'!A95 -> Face 652 mm × 173 mm; With side flanges
B42: ='BMW-Be-Selection'!A96 -> Throw distance set to medium
B43: ='BMW-Be-Selection'!A97 -> Centre discharge in direction of airstream
B44: ='BMW-Be-Selection'!A98 -> Face painted to Signal White (RAL9003)
B45: ='BMW-Be-Selection'!A99 -> Diffuser only (no accessories) with integrated OBD
A47: Order Code | B47: ='BMW-Be-Selection'!B103 -> SMARTEMP BMW-AD-BESPOKE-FN600-2-TM-C-SF-RAL9003-0-D1

Sheet Tables Old
G1: K= | H1: 0.015
B2: Flange Dimensions | E2: Face | G2: K1= | H2: 2 | AT2: Input Airflow Rate
B3: Width | C3: =E3+40 -> 613 | D3: [mm] | E3: 573 | G3: 30 | H3: 40 | I3: 50 | J3: 60 | K3: 70 | L3: 80 | M3: 90 | N3: 100 | O3: 110 | P3: 120 | Q3: 130 | R3: 140 | S3: 150 | T3: 160 | U3: 170 | V3: 180 | W3: 190 | X3: 200 | Y3: 210 | Z3: 220 | AA3: 230 | AB3: 240 | AC3: 250 | AD3: 260 | AE3: 270 | AF3: 280 | AG3: 290 | AH3: 300 | AI3: 310 | AJ3: 320 | AK3: 330 | AL3: 340 | AM3: 350 | AN3: 360 | AO3: 370 | AP3: 380 | AQ3: 390 | AR3: [L/s] | AT3: 70 | AU3: L/s
E4: Min Discharge Height | G4: 2.1 | N4: 2.1 | S4: 2.1 | AC4: 2.5
C5: =E5+40 -> 134 | D5: 1-row | E5: 94 | F5: Pt | G5: =1.359*10^-3*(G$3/($E$3*10^-3*$E5*10^-3)*(0.507*0.171))^2.0302 -> 3.5625192 | H5: =1.359*10^-3*(H$3/($E$3*10^-3*$E5*10^-3)*(0.507*0.171))^2.0302 -> 6.3886314 | I5: =1.359*10^-3*(I$3/($E$3*10^-3*$E5*10^-3)*(0.507*0.171))^2.0302 -> 10.049733 | J5: =1.359*10^-3*(J$3/($E$3*10^-3*$E5*10^-3)*(0.507*0.171))^2.0302 -> 14.551518 | K5: =1.359*10^-3*(K$3/($E$3*10^-3*$E5*10^-3)*(0.507*0.171))^2.0302 -> 19.898653 | L5: =1.359*10^-3*(L$3/($E$3*10^-3*$E5*10^-3)*(0.507*0.171))^2.0302 -> 26.095098 | M5: =1.359*10^-3*(M$3/($E$3*10^-3*$E5*10^-3)*(0.507*0.171))^2.0302 -> 33.144295 | N5: =1.359*10^-3*(N$3/($E$3*10^-3*$E5*10^-3)*(0.507*0.171))^2.0302 -> 41.049289 | O5: =1.359*10^-3*(O$3/($E$3*10^-3*$E5*10^-3)*(0.507*0.171))^2.0302 -> 49.812813 | AR5: [Pa] | AT5: =1.359*10^-3*(AT$3/($E$3*10^-3*$E5*10^-3)*(0.507*0.171))^2.0302 -> 19.898653 | AU5: Pa
D6: 0.054 | F6: Lp* | G6: < 5 | H6: < 5 | I6: =-15-114.08+32.01*LN(I$3/($E$3*$E5)*(507*171))+10*LOG($E$3*$E5/(507*171)) -> 9.3132104 | J6: =-15-114.08+32.01*LN(J$3/($E$3*$E5)*(507*171))+10*LOG($E$3*$E5/(507*171)) -> 15.149323 | K6: =-15-114.08+32.01*LN(K$3/($E$3*$E5)*(507*171))+10*LOG($E$3*$E5/(507*171)) -> 20.083687 | L6: =-15-114.08+32.01*LN(L$3/($E$3*$E5)*(507*171))+10*LOG($E$3*$E5/(507*171)) -> 24.358027 | M6: =-15-114.08+32.01*LN(M$3/($E$3*$E5)*(507*171))+10*LOG($E$3*$E5/(507*171)) -> 28.128262 | N6: =-15-114.08+32.01*LN(N$3/($E$3*$E5)*(507*171))+10*LOG($E$3*$E5/(507*171)) -> 31.500852 | O6: =-15-114.08+32.01*LN(O$3/($E$3*$E5)*(507*171))+10*LOG($E$3*$E5/(507*171)) -> 34.55173 | AG6: Key | AR6: [NC] | AT6: =-15-114.08+32.01*LN(AT$3/($E$3*$E5)*(507*171))+10*LOG($E$3*$E5/(507*171)) -> 20.083687 | AU6: NC
G7: =(1.033-29.43*10^-3*($E3/$E5))*$H$1*G$3/SQRT($D6) -> 1.6529936 | H7: =(1.033-29.43*10^-3*($E3/$E5))*$H$1*H$3/SQRT($D6) -> 2.2039915 | I7: =(1.033-29.43*10^-3*($E3/$E5))*$H$1*I$3/SQRT($D6) -> 2.7549894 | J7: =(1.033-29.43*10^-3*($E3/$E5))*$H$1*J$3/SQRT($D6) -> 3.3059872 | K7: =(1.033-29.43*10^-3*($E3/$E5))*$H$1*K$3/SQRT($D6) -> 3.8569851 | L7: =(1.033-29.43*10^-3*($E3/$E5))*$H$1*L$3/SQRT($D6) -> 4.407983 | M7: =(1.033-29.43*10^-3*($E3/$E5))*$H$1*M$3/SQRT($D6) -> 4.9589809 | N7: =(1.033-29.43*10^-3*($E3/$E5))*$H$1*N$3/SQRT($D6) -> 5.5099787 | O7: =(1.033-29.43*10^-3*($E3/$E5))*$H$1*O$3/SQRT($D6) -> 6.0609766
G8: =$H$2*G7 -> 3.3059872 | H8: =$H$2*H7 -> 4.407983 | I8: =$H$2*I7 -> 5.5099787 | J8: =$H$2*J7 -> 6.6119745 | K8: =$H$2*K7 -> 7.7139702 | L8: =$H$2*L7 -> 8.815966 | M8: =$H$2*M7 -> 9.9179617 | N8: =$H$2*N7 -> 11.019957 | O8: =$H$2*O7 -> 12.121953
C9: =E9+40 -> 173 | D9: 2-row | E9: 133 | F9: Pt | I9: =1.359*10^-3*(I$3/($E$3*10^-3*$E9*10^-3)*(0.507*0.171))^2.0302 -> 4.9676971 | J9: =1.359*10^-3*(J$3/($E$3*10^-3*$E9*10^-3)*(0.507*0.171))^2.0302 -> 7.1929803 | K9: =1.359*10^-3*(K$3/($E$3*10^-3*$E9*10^-3)*(0.507*0.171))^2.0302 -> 9.8361297 | L9: =1.359*10^-3*(L$3/($E$3*10^-3*$E9*10^-3)*(0.507*0.171))^2.0302 -> 12.899103 | M9: =1.359*10^-3*(M$3/($E$3*10^-3*$E9*10^-3)*(0.507*0.171))^2.0302 -> 16.3836 | N9: =1.359*10^-3*(N$3/($E$3*10^-3*$E9*10^-3)*(0.507*0.171))^2.0302 -> 20.291129 | O9: =1.359*10^-3*(O$3/($E$3*10^-3*$E9*10^-3)*(0.507*0.171))^2.0302 -> 24.623038 | P9: =1.359*10^-3*(P$3/($E$3*10^-3*$E9*10^-3)*(0.507*0.171))^2.0302 -> 29.380553 | ... S9: =1.359*10^-3*(S$3/($E$3*10^-3*$E9*10^-3)*(0.507*0.171))^2.0302 -> 46.217524 | AG9: ≤ 20 | AH9: ≤ 30 | AI9: ≤ 40 | AJ9: ≤ 50 | AK9: Pa | AR9: [Pa] | AT9: =1.359*10^-3*(AT$3/($E$3*10^-3*$E9*10^-3)*(0.507*0.171))^2.0302 -> 9.8361297 | AU9: Pa
B10: Height | D10: 0.076 | F10: Lp* | I10: < 5 | J10: =-15-114.08+32.01*LN(J$3/($E$3*$E9)*(507*171))+10*LOG($E$3*$E9/(507*171)) -> 5.5473517 | K10: =-15-114.08+32.01*LN(K$3/($E$3*$E9)*(507*171))+10*LOG($E$3*$E9/(507*171)) -> 10.481715 | L10: =-15-114.08+32.01*LN(L$3/($E$3*$E9)*(507*171))+10*LOG($E$3*$E9/(507*171)) -> 14.756055 | M10: =-15-114.08+32.01*LN(M$3/($E$3*$E9)*(507*171))+10*LOG($E$3*$E9/(507*171)) -> 18.52629 | N10: =-15-114.08+32.01*LN(N$3/($E$3*$E9)*(507*171))+10*LOG($E$3*$E9/(507*171)) -> 21.89888 | O10: =-15-114.08+32.01*LN(O$3/($E$3*$E9)*(507*171))+10*LOG($E$3*$E9/(507*171)) -> 24.949759 | P10: =-15-114.08+32.01*LN(P$3/($E$3*$E9)*(507*171))+10*LOG($E$3*$E9/(507*171)) -> 27.734993 | Q10: =-15-114.08+32.01*LN(Q$3/($E$3*$E9)*(507*171))+10*LOG($E$3*$E9/(507*171)) -> 30.29716 | ... S10: =-15-114.08+32.01*LN(S$3/($E$3*$E9)*(507*171))+10*LOG($E$3*$E9/(507*171)) -> 34.877818 | AG10: ≤ 25 | AH10: ≤ 30 | AI10: ≤ 35 | AJ10: ≤ 40 | AK10: NC | AR10: [NC] | AT10: =-15-114.08+32.01*LN(AT$3/($E$3*$E9)*(507*171))+10*LOG($E$3*$E9/(507*171)) -> 10.481715 | AU10: NC
I11: =(1.033-29.43*10^-3*($E3/$E5))*$H$1*I$3/SQRT($D10) -> 2.3222556 | J11: =(1.033-29.43*10^-3*($E3/$E5))*$H$1*J$3/SQRT($D10) -> 2.7867067 | K11: =(1.033-29.43*10^-3*($E3/$E5))*$H$1*K$3/SQRT($D10) -> 3.2511578 | L11: =(1.033-29.43*10^-3*($E3/$E5))*$H$1*L$3/SQRT($D10) -> 3.7156089 | M11: =(1.033-29.43*10^-3*($E3/$E5))*$H$1*M$3/SQRT($D10) -> 4.18006 | N11: =(1.033-29.43*10^-3*($E3/$E5))*$H$1*N$3/SQRT($D10) -> 4.6445111 | O11: =(1.033-29.43*10^-3*($E3/$E5))*$H$1*O$3/SQRT($D10) -> 5.1089622 | P11: =(1.033-29.43*10^-3*($E3/$E5))*$H$1*P$3/SQRT($D10) -> 5.5734133 | ... S11: =(1.033-29.43*10^-3*($E3/$E5))*$H$1*S$3/SQRT($D10) -> 6.9667667 | AG11: 3 | AH11: 3.5 | AI11: 4 | AJ11: 4.5 | AK11: m
I12: =$H$2*I11 -> 4.6445111 | J12: =$H$2*J11 -> 5.5734133 | K12: =$H$2*K11 -> 6.5023156 | L12: =$H$2*L11 -> 7.4312178 | M12: =$H$2*M11 -> 8.36012 | N12: =$H$2*N11 -> 9.2890222 | O12: =$H$2*O11 -> 10.217924 | P12: =$H$2*P11 -> 11.146827 | ... S12: =$H$2*S11 -> 13.933533 | AG12: 6 | AH12: 7 | AI12: 8 | AJ12: 9 | AK12: m
B13: [mm] | C13: =E13+40 -> 212 | D13: 3-row | E13: 172 | F13: Pt | J13: =1.359*10^-3*(J$3/($E$3*10^-3*$E13*10^-3)*(0.507*0.171))^2.0302 -> 4.2675893 | K13: =1.359*10^-3*(K$3/($E$3*10^-3*$E13*10^-3)*(0.507*0.171))^2.0302 -> 5.8357677 | L13: =1.359*10^-3*(L$3/($E$3*10^-3*$E13*10^-3)*(0.507*0.171))^2.0302 -> 7.653027 | M13: =1.359*10^-3*(M$3/($E$3*10^-3*$E13*10^-3)*(0.507*0.171))^2.0302 -> 9.7203767 | N13: =1.359*10^-3*(N$3/($E$3*10^-3*$E13*10^-3)*(0.507*0.171))^2.0302 -> 12.03871 | O13: =1.359*10^-3*(O$3/($E$3*10^-3*$E13*10^-3)*(0.507*0.171))^2.0302 -> 14.608828 | P13: =1.359*10^-3*(P$3/($E$3*10^-3*$E13*10^-3)*(0.507*0.171))^2.0302 -> 17.431458 | Q13: =1.359*10^-3*(Q$3/($E$3*10^-3*$E13*10^-3)*(0.507*0.171))^2.0302 -> 20.507265 | ... X13: =1.359*10^-3*(X$3/($E$3*10^-3*$E13*10^-3)*(0.507*0.171))^2.0302 -> 49.173492 | AG13: * Based on 10 dB room absorption | AR13: [Pa] | AT13: =1.359*10^-3*(AT$3/($E$3*10^-3*$E13*10^-3)*(0.507*0.171))^2.0302 -> 5.8357677 | AU13: Pa
D14: 0.098 | F14: Lp* | J14: < 5 | K14: =-15-114.08+32.01*LN(K$3/($E$3*$E13)*(507*171))+10*LOG($E$3*$E13/(507*171)) -> 3.3672604 | L14: =-15-114.08+32.01*LN(L$3/($E$3*$E13)*(507*171))+10*LOG($E$3*$E13/(507*171)) -> 7.6416002 | M14: =-15-114.08+32.01*LN(M$3/($E$3*$E13)*(507*171))+10*LOG($E$3*$E13/(507*171)) -> 11.411835 | N14: =-15-114.08+32.01*LN(N$3/($E$3*$E13)*(507*171))+10*LOG($E$3*$E13/(507*171)) -> 14.784425 | O14: =-15-114.08+32.01*LN(O$3/($E$3*$E13)*(507*171))+10*LOG($E$3*$E13/(507*171)) -> 17.835304 | P14: =-15-114.08+32.01*LN(P$3/($E$3*$E13)*(507*171))+10*LOG($E$3*$E13/(507*171)) -> 20.620538 | Q14: =-15-114.08+32.01*LN(Q$3/($E$3*$E13)*(507*171))+10*LOG($E$3*$E13/(507*171)) -> 23.182705 | R14: =-15-114.08+32.01*LN(R$3/($E$3*$E13)*(507*171))+10*LOG($E$3*$E13/(507*171)) -> 25.554902 | ... X14: =-15-114.08+32.01*LN(X$3/($E$3*$E13)*(507*171))+10*LOG($E$3*$E13/(507*171)) -> 36.972067 | AR14: [NC] | AT14: =-15-114.08+32.01*LN(AT$3/($E$3*$E13)*(507*171))+10*LOG($E$3*$E13/(507*171)) -> 3.3672604 | AU14: NC
J15: =(1.033-29.43*10^-3*($E3/$E5))*$H$1*J$3/SQRT($D14) -> 2.4540591 | K15: =(1.033-29.43*10^-3*($E3/$E5))*$H$1*K$3/SQRT($D14) -> 2.8630689 | L15: =(1.033-29.43*10^-3*($E3/$E5))*$H$1*L$3/SQRT($D14) -> 3.2720788 | M15: =(1.033-29.43*10^-3*($E3/$E5))*$H$1*M$3/SQRT($D14) -> 3.6810886 | N15: =(1.033-29.43*10^-3*($E3/$E5))*$H$1*N$3/SQRT($D14) -> 4.0900985 | O15: =(1.033-29.43*10^-3*($E3/$E5))*$H$1*O$3/SQRT($D14) -> 4.4991083 | P15: =(1.033-29.43*10^-3*($E3/$E5))*$H$1*P$3/SQRT($D14) -> 4.9081182 | Q15: =(1.033-29.43*10^-3*($E3/$E5))*$H$1*Q$3/SQRT($D14) -> 5.317128 | ... X15: =(1.033-29.43*10^-3*($E3/$E5))*$H$1*X$3/SQRT($D14) -> 8.1801969
J16: =$H$2*J15 -> 4.9081182 | K16: =$H$2*K15 -> 5.7261379 | L16: =$H$2*L15 -> 6.5441576 | M16: =$H$2*M15 -> 7.3621773 | N16: =$H$2*N15 -> 8.1801969 | O16: =$H$2*O15 -> 8.9982166 | P16: =$H$2*P15 -> 9.8162363 | Q16: =$H$2*Q15 -> 10.634256 | ... X16: =$H$2*X15 -> 16.360394
C17: =E17+40 -> 251 | D17: 4-row | E17: 211 | F17: Pt | K17: =1.359*10^-3*(K$3/($E$3*10^-3*$E17*10^-3)*(0.507*0.171))^2.0302 -> 3.8539813 | L17: =1.359*10^-3*(L$3/($E$3*10^-3*$E17*10^-3)*(0.507*0.171))^2.0302 -> 5.0541119 | M17: =1.359*10^-3*(M$3/($E$3*10^-3*$E17*10^-3)*(0.507*0.171))^2.0302 -> 6.419404 | N17: =1.359*10^-3*(N$3/($E$3*10^-3*$E17*10^-3)*(0.507*0.171))^2.0302 -> 7.9504473 | O17: =1.359*10^-3*(O$3/($E$3*10^-3*$E17*10^-3)*(0.507*0.171))^2.0302 -> 9.6477712 | P17: =1.359*10^-3*(P$3/($E$3*10^-3*$E17*10^-3)*(0.507*0.171))^2.0302 -> 11.511856 | Q17: =1.359*10^-3*(Q$3/($E$3*10^-3*$E17*10^-3)*(0.507*0.171))^2.0302 -> 13.54314 | R17: =1.359*10^-3*(R$3/($E$3*10^-3*$E17*10^-3)*(0.507*0.171))^2.0302 -> 15.742029 | ... AB17: =1.359*10^-3*(AB$3/($E$3*10^-3*$E17*10^-3)*(0.507*0.171))^2.0302 -> 47.021494 | AR17: [Pa] | AT17: =1.359*10^-3*(AT$3/($E$3*10^-3*$E17*10^-3)*(0.507*0.171))^2.0302 -> 3.8539813 | AU17: Pa
D18: 0.121 | F18: Lp* | K18: < 5 | L18: =-15-114.08+32.01*LN(L$3/($E$3*$E17)*(507*171))+10*LOG($E$3*$E17/(507*171)) -> 1.9874597 | M18: =-15-114.08+32.01*LN(M$3/($E$3*$E17)*(507*171))+10*LOG($E$3*$E17/(507*171)) -> 5.7576946 | N18: =-15-114.08+32.01*LN(N$3/($E$3*$E17)*(507*171))+10*LOG($E$3*$E17/(507*171)) -> 9.1302848 | O18: =-15-114.08+32.01*LN(O$3/($E$3*$E17)*(507*171))+10*LOG($E$3*$E17/(507*171)) -> 12.181164 | P18: =-15-114.08+32.01*LN(P$3/($E$3*$E17)*(507*171))+10*LOG($E$3*$E17/(507*171)) -> 14.966398 | Q18: =-15-114.08+32.01*LN(Q$3/($E$3*$E17)*(507*171))+10*LOG($E$3*$E17/(507*171)) -> 17.528565 | R18: =-15-114.08+32.01*LN(R$3/($E$3*$E17)*(507*171))+10*LOG($E$3*$E17/(507*171)) -> 19.900761 | S18: =-15-114.08+32.01*LN(S$3/($E$3*$E17)*(507*171))+10*LOG($E$3*$E17/(507*171)) -> 22.109223 | ... AB18: =-15-114.08+32.01*LN(AB$3/($E$3*$E17)*(507*171))+10*LOG($E$3*$E17/(507*171)) -> 37.154039 | AR18: [NC] | AT18: =-15-114.08+32.01*LN(AT$3/($E$3*$E17)*(507*171))+10*LOG($E$3*$E17/(507*171)) -> -2.2868802 | AU18: NC
K19: =(1.033-29.43*10^-3*($E3/$E5))*$H$1*K$3/SQRT($D18) -> 2.5766306 | L19: =(1.033-29.43*10^-3*($E3/$E5))*$H$1*L$3/SQRT($D18) -> 2.9447207 | M19: =(1.033-29.43*10^-3*($E3/$E5))*$H$1*M$3/SQRT($D18) -> 3.3128107 | N19: =(1.033-29.43*10^-3*($E3/$E5))*$H$1*N$3/SQRT($D18) -> 3.6809008 | O19: =(1.033-29.43*10^-3*($E3/$E5))*$H$1*O$3/SQRT($D18) -> 4.0489909 | P19: =(1.033-29.43*10^-3*($E3/$E5))*$H$1*P$3/SQRT($D18) -> 4.417081 | Q19: =(1.033-29.43*10^-3*($E3/$E5))*$H$1*Q$3/SQRT($D18) -> 4.7851711 | R19: =(1.033-29.43*10^-3*($E3/$E5))*$H$1*R$3/SQRT($D18) -> 5.1532612 | ... AB19: =(1.033-29.43*10^-3*($E3/$E5))*$H$1*AB$3/SQRT($D18) -> 8.834162
K20: =$H$2*K19 -> 5.1532612 | L20: =$H$2*L19 -> 5.8894413 | M20: =$H$2*M19 -> 6.6256215 | N20: =$H$2*N19 -> 7.3618017 | O20: =$H$2*O19 -> 8.0979818 | P20: =$H$2*P19 -> 8.834162 | Q20: =$H$2*Q19 -> 9.5703422 | R20: =$H$2*R19 -> 10.306522 | ... AB20: =$H$2*AB19 -> 17.668324
E21: FACE (active size mm)
B22: Width | C22: =E22+40 -> 747.5 | D22: [mm] | E22: 707.5 | H22: 40 | I22: 50 | J22: 60 | K22: 70 | L22: 80 | M22: 90 | N22: 100 | O22: 110 | P22: 120 | Q22: 130 | R22: 140 | S22: 150 | T22: 160 | U22: 170 | V22: 180 | W22: 190 | X22: 200 | Y22: 210 | Z22: 220 | AA22: 230 | AB22: 240 | AC22: 250 | AD22: 260 | AE22: 270 | AF22: 280 | AG22: 290 | AH22: 300 | AR22: [L/s]
C23: =E23+40 -> 134 | D23: 1-row | E23: 94 | F23: Pt | H23: =1.359*10^-3*(H$22/($E$22*10^-3*$E23*10^-3)*(0.507*0.171))^2.0302 -> 4.1638849 | I23: =1.359*10^-3*(I$22/($E$22*10^-3*$E23*10^-3)*(0.507*0.171))^2.0302 -> 6.5500622 | J23: =1.359*10^-3*(J$22/($E$22*10^-3*$E23*10^-3)*(0.507*0.171))^2.0302 -> 9.484167 | K23: =1.359*10^-3*(K$22/($E$22*10^-3*$E23*10^-3)*(0.507*0.171))^2.0302 -> 12.969241 | L23: =1.359*10^-3*(L$22/($E$22*10^-3*$E23*10^-3)*(0.507*0.171))^2.0302 -> 17.007866 | M23: =1.359*10^-3*(M$22/($E$22*10^-3*$E23*10^-3)*(0.507*0.171))^2.0302 -> 21.602284 | N23: =1.359*10^-3*(N$22/($E$22*10^-3*$E23*10^-3)*(0.507*0.171))^2.0302 -> 26.754481 | O23: =1.359*10^-3*(O$22/($E$22*10^-3*$E23*10^-3)*(0.507*0.171))^2.0302 -> 32.466237 | ... Q23: =1.359*10^-3*(Q$22/($E$22*10^-3*$E23*10^-3)*(0.507*0.171))^2.0302 -> 45.574752 | AR23: [Pa] | AT23: =1.359*10^-3*(AT$3/($E$22*10^-3*$E23*10^-3)*(0.507*0.171))^2.0302 -> 12.969241 | AU23: Pa
D24: =E$22*E23*10^-6 -> 0.066505 | F24: Lp* | H24: < 5 | I24: =-15-114.08+32.01*LN(I$22/($E$22*$E23)*(507*171))+10*LOG($E$40*$E23/(507*171)) -> 4.5727083 | J24: =-15-114.08+32.01*LN(J$22/($E$22*$E23)*(507*171))+10*LOG($E$40*$E23/(507*171)) -> 10.408821 | K24: =-15-114.08+32.01*LN(K$22/($E$22*$E23)*(507*171))+10*LOG($E$40*$E23/(507*171)) -> 15.343185 | L24: =-15-114.08+32.01*LN(L$22/($E$22*$E23)*(507*171))+10*LOG($E$40*$E23/(507*171)) -> 19.617525 | M24: =-15-114.08+32.01*LN(M$22/($E$22*$E23)*(507*171))+10*LOG($E$40*$E23/(507*171)) -> 23.387759 | N24: =-15-114.08+32.01*LN(N$22/($E$22*$E23)*(507*171))+10*LOG($E$40*$E23/(507*171)) -> 26.76035 | O24: =-15-114.08+32.01*LN(O$22/($E$22*$E23)*(507*171))+10*LOG($E$40*$E23/(507*171)) -> 29.811228 | P24: =-15-114.08+32.01*LN(P$22/($E$22*$E23)*(507*171))+10*LOG($E$40*$E23/(507*171)) -> 32.596463 | Q24: =-15-114.08+32.01*LN(Q$22/($E$22*$E23)*(507*171))+10*LOG($E$40*$E23/(507*171)) -> 35.15863 | AR24: [NC] | AT24: =-15-114.08+32.01*LN(AT$3/($E$22*$E23)*(507*171))+10*LOG($E$40*$E23/(507*171)) -> 15.343185 | AU24: NC
H25: =(1.033-29.43*10^-3*($E22/$E23))*$H$1*H$3/SQRT($D24) -> 1.8880283 | I25: =(1.033-29.43*10^-3*($E22/$E23))*$H$1*I$3/SQRT($D24) -> 2.3600354 | J25: =(1.033-29.43*10^-3*($E22/$E23))*$H$1*J$3/SQRT($D24) -> 2.8320424 | K25: =(1.033-29.43*10^-3*($E22/$E23))*$H$1*K$3/SQRT($D24) -> 3.3040495 | L25: =(1.033-29.43*10^-3*($E22/$E23))*$H$1*L$3/SQRT($D24) -> 3.7760566 | M25: =(1.033-29.43*10^-3*($E22/$E23))*$H$1*M$3/SQRT($D24) -> 4.2480637 | N25: =(1.033-29.43*10^-3*($E22/$E23))*$H$1*N$3/SQRT($D24) -> 4.7200707 | O25: =(1.033-29.43*10^-3*($E22/$E23))*$H$1*O$3/SQRT($D24) -> 5.1920778 | ... Q25: =(1.033-29.43*10^-3*($E22/$E23))*$H$1*Q$3/SQRT($D24) -> 6.1360919
H26: =$H$2*H25 -> 3.7760566 | I26: =$H$2*I25 -> 4.7200707 | J26: =$H$2*J25 -> 5.6640849 | K26: =$H$2*K25 -> 6.608099 | L26: =$H$2*L25 -> 7.5521132 | M26: =$H$2*M25 -> 8.4961273 | N26: =$H$2*N25 -> 9.4401415 | O26: =$H$2*O25 -> 10.384156 | ... Q26: =$H$2*Q25 -> 12.272184
C27: =E27+40 -> 173 | D27: 2-row | E27: 133 | F27: Pt | I27: =1.359*10^-3*(I$22/($E$22*10^-3*$E27*10^-3)*(0.507*0.171))^2.0302 -> 3.23777 | J27: =1.359*10^-3*(J$22/($E$22*10^-3*$E27*10^-3)*(0.507*0.171))^2.0302 -> 4.6881312 | K27: =1.359*10^-3*(K$22/($E$22*10^-3*$E27*10^-3)*(0.507*0.171))^2.0302 -> 6.4108429 | L27: =1.359*10^-3*(L$22/($E$22*10^-3*$E27*10^-3)*(0.507*0.171))^2.0302 -> 8.4071807 | M27: =1.359*10^-3*(M$22/($E$22*10^-3*$E27*10^-3)*(0.507*0.171))^2.0302 -> 10.678254 | N27: =1.359*10^-3*(N$22/($E$22*10^-3*$E27*10^-3)*(0.507*0.171))^2.0302 -> 13.225043 | O27: =1.359*10^-3*(O$22/($E$22*10^-3*$E27*10^-3)*(0.507*0.171))^2.0302 -> 16.048429 | P27: =1.359*10^-3*(P$22/($E$22*10^-3*$E27*10^-3)*(0.507*0.171))^2.0302 -> 19.14921 | ... W27: =1.359*10^-3*(W$22/($E$22*10^-3*$E27*10^-3)*(0.507*0.171))^2.0302 -> 48.676871 | AR27: [Pa] | AT27: =1.359*10^-3*(AT$3/($E$22*10^-3*$E27*10^-3)*(0.507*0.171))^2.0302 -> 6.4108429 | AU27: Pa
B28: Height | D28: =E$22*E27*10^-6 -> 0.0940975 | F28: Lp* | I28: < 5 | J28: < 5 | K28: =-15-114.08+32.01*LN(K$22/($E$22*$E27)*(507*171))+10*LOG($E$40*$E27/(507*171)) -> 5.7412129 | L28: =-15-114.08+32.01*LN(L$22/($E$22*$E27)*(507*171))+10*LOG($E$40*$E27/(507*171)) -> 10.015553 | M28: =-15-114.08+32.01*LN(M$22/($E$22*$E27)*(507*171))+10*LOG($E$40*$E27/(507*171)) -> 13.785788 | N28: =-15-114.08+32.01*LN(N$22/($E$22*$E27)*(507*171))+10*LOG($E$40*$E27/(507*171)) -> 17.158378 | O28: =-15-114.08+32.01*LN(O$22/($E$22*$E27)*(507*171))+10*LOG($E$40*$E27/(507*171)) -> 20.209257 | P28: =-15-114.08+32.01*LN(P$22/($E$22*$E27)*(507*171))+10*LOG($E$40*$E27/(507*171)) -> 22.994491 | Q28: =-15-114.08+32.01*LN(Q$22/($E$22*$E27)*(507*171))+10*LOG($E$40*$E27/(507*171)) -> 25.556658 | R28: =-15-114.08+32.01*LN(R$22/($E$22*$E27)*(507*171))+10*LOG($E$40*$E27/(507*171)) -> 27.928854 | ... W28: =-15-114.08+32.01*LN(W$22/($E$22*$E27)*(507*171))+10*LOG($E$40*$E27/(507*171)) -> 37.704121 | AR28: [NC] | AT28: =-15-114.08+32.01*LN(AT$3/($E$22*$E27)*(507*171))+10*LOG($E$40*$E27/(507*171)) -> 5.7412129 | AU28: NC
I29: =(1.033-29.43*10^-3*($E22/$E23))*$H$1*I$3/SQRT($D28) -> 1.9840683 | J29: =(1.033-29.43*10^-3*($E22/$E23))*$H$1*J$3/SQRT($D28) -> 2.380882 | K29: =(1.033-29.43*10^-3*($E22/$E23))*$H$1*K$3/SQRT($D28) -> 2.7776956 | L29: =(1.033-29.43*10^-3*($E22/$E23))*$H$1*L$3/SQRT($D28) -> 3.1745093 | M29: =(1.033-29.43*10^-3*($E22/$E23))*$H$1*M$3/SQRT($D28) -> 3.5713229 | N29: =(1.033-29.43*10^-3*($E22/$E23))*$H$1*N$3/SQRT($D28) -> 3.9681366 | O29: =(1.033-29.43*10^-3*($E22/$E23))*$H$1*O$3/SQRT($D28) -> 4.3649502 | P29: =(1.033-29.43*10^-3*($E22/$E23))*$H$1*P$3/SQRT($D28) -> 4.7617639 | ... W29: =(1.033-29.43*10^-3*($E22/$E23))*$H$1*W$3/SQRT($D28) -> 7.5394595
I30: =$H$2*I29 -> 3.9681366 | J30: =$H$2*J29 -> 4.7617639 | K30: =$H$2*K29 -> 5.5553912 | L30: =$H$2*L29 -> 6.3490185 | M30: =$H$2*M29 -> 7.1426459 | N30: =$H$2*N29 -> 7.9362732 | O30: =$H$2*O29 -> 8.7299005 | P30: =$H$2*P29 -> 9.5235278 | ... W30: =$H$2*W29 -> 15.078919
B31: [mm] | C31: =E31+40 -> 212 | D31: 3-row | E31: 172 | F31: Pt | J31: =1.359*10^-3*(J$22/($E$22*10^-3*$E31*10^-3)*(0.507*0.171))^2.0302 -> 2.7814644 | K31: =1.359*10^-3*(K$22/($E$22*10^-3*$E31*10^-3)*(0.507*0.171))^2.0302 -> 3.8035478 | L31: =1.359*10^-3*(L$22/($E$22*10^-3*$E31*10^-3)*(0.507*0.171))^2.0302 -> 4.9879734 | M31: =1.359*10^-3*(M$22/($E$22*10^-3*$E31*10^-3)*(0.507*0.171))^2.0302 -> 6.3353991 | N31: =1.359*10^-3*(N$22/($E$22*10^-3*$E31*10^-3)*(0.507*0.171))^2.0302 -> 7.8464071 | O31: =1.359*10^-3*(O$22/($E$22*10^-3*$E31*10^-3)*(0.507*0.171))^2.0302 -> 9.5215197 | P31: =1.359*10^-3*(P$22/($E$22*10^-3*$E31*10^-3)*(0.507*0.171))^2.0302 -> 11.36121 | Q31: =1.359*10^-3*(Q$22/($E$22*10^-3*$E31*10^-3)*(0.507*0.171))^2.0302 -> 13.365913 | ... AC31: =1.359*10^-3*(AC$22/($E$22*10^-3*$E31*10^-3)*(0.507*0.171))^2.0302 -> 50.41603 | AR31: [Pa] | AT31: =1.359*10^-3*(AT$3/($E$22*10^-3*$E31*10^-3)*(0.507*0.171))^2.0302 -> 3.8035478 | AU31: Pa
D32: =E$22*E31*10^-6 -> 0.12169 | F32: Lp* | J32: < 5 | K32: < 5 | L32: < 5 | M32: =-15-114.08+32.01*LN(M$22/($E$22*$E31)*(507*171))+10*LOG($E$40*$E31/(507*171)) -> 6.6713332 | N32: =-15-114.08+32.01*LN(N$22/($E$22*$E31)*(507*171))+10*LOG($E$40*$E31/(507*171)) -> 10.043923 | O32: =-15-114.08+32.01*LN(O$22/($E$22*$E31)*(507*171))+10*LOG($E$40*$E31/(507*171)) -> 13.094802 | P32: =-15-114.08+32.01*LN(P$22/($E$22*$E31)*(507*171))+10*LOG($E$40*$E31/(507*171)) -> 15.880036 | Q32: =-15-114.08+32.01*LN(Q$22/($E$22*$E31)*(507*171))+10*LOG($E$40*$E31/(507*171)) -> 18.442203 | R32: =-15-114.08+32.01*LN(R$22/($E$22*$E31)*(507*171))+10*LOG($E$40*$E31/(507*171)) -> 20.8144 | S32: =-15-114.08+32.01*LN(S$22/($E$22*$E31)*(507*171))+10*LOG($E$40*$E31/(507*171)) -> 23.022861 | T32: =-15-114.08+32.01*LN(T$22/($E$22*$E31)*(507*171))+10*LOG($E$40*$E31/(507*171)) -> 25.088739 | ... AC32: =-15-114.08+32.01*LN(AC$22/($E$22*$E31)*(507*171))+10*LOG($E$40*$E31/(507*171)) -> 39.37439 | AR32: [NC] | AT32: =-15-114.08+32.01*LN(AT$3/($E$22*$E31)*(507*171))+10*LOG($E$40*$E31/(507*171)) -> -1.3732417 | AU32: NC
J33: =(1.033-29.43*10^-3*($E22/$E23))*$H$1*J$3/SQRT($D32) -> 2.0936277 | K33: =(1.033-29.43*10^-3*($E22/$E23))*$H$1*K$3/SQRT($D32) -> 2.4425657 | L33: =(1.033-29.43*10^-3*($E22/$E23))*$H$1*L$3/SQRT($D32) -> 2.7915036 | M33: =(1.033-29.43*10^-3*($E22/$E23))*$H$1*M$3/SQRT($D32) -> 3.1404416 | N33: =(1.033-29.43*10^-3*($E22/$E23))*$H$1*N$3/SQRT($D32) -> 3.4893795 | O33: =(1.033-29.43*10^-3*($E22/$E23))*$H$1*O$3/SQRT($D32) -> 3.8383175 | P33: =(1.033-29.43*10^-3*($E22/$E23))*$H$1*P$3/SQRT($D32) -> 4.1872554 | Q33: =(1.033-29.43*10^-3*($E22/$E23))*$H$1*Q$3/SQRT($D32) -> 4.5361934 | ... AC33: =(1.033-29.43*10^-3*($E22/$E23))*$H$1*AC$3/SQRT($D32) -> 8.7234488
J34: =$H$2*J33 -> 4.1872554 | K34: =$H$2*K33 -> 4.8851314 | L34: =$H$2*L33 -> 5.5830073 | M34: =$H$2*M33 -> 6.2808832 | N34: =$H$2*N33 -> 6.9787591 | O34: =$H$2*O33 -> 7.676635 | P34: =$H$2*P33 -> 8.3745109 | Q34: =$H$2*Q33 -> 9.0723868 | ... AC34: =$H$2*AC33 -> 17.446898
C35: =E35+40 -> 251 | D35: 4-row | E35: 211 | F35: Pt | K35: =1.359*10^-3*(K$22/($E$22*10^-3*$E35*10^-3)*(0.507*0.171))^2.0302 -> 2.5118893 | L35: =1.359*10^-3*(L$22/($E$22*10^-3*$E35*10^-3)*(0.507*0.171))^2.0302 -> 3.2940921 | M35: =1.359*10^-3*(M$22/($E$22*10^-3*$E35*10^-3)*(0.507*0.171))^2.0302 -> 4.1839414 | N35: =1.359*10^-3*(N$22/($E$22*10^-3*$E35*10^-3)*(0.507*0.171))^2.0302 -> 5.1818215 | O35: =1.359*10^-3*(O$22/($E$22*10^-3*$E35*10^-3)*(0.507*0.171))^2.0302 -> 6.2880774 | P35: =1.359*10^-3*(P$22/($E$22*10^-3*$E35*10^-3)*(0.507*0.171))^2.0302 -> 7.503022 | Q35: =1.359*10^-3*(Q$22/($E$22*10^-3*$E35*10^-3)*(0.507*0.171))^2.0302 -> 8.8269414 | R35: =1.359*10^-3*(R$22/($E$22*10^-3*$E35*10^-3)*(0.507*0.171))^2.0302 -> 10.2601 | ... AH35: =1.359*10^-3*(AH$22/($E$22*10^-3*$E35*10^-3)*(0.507*0.171))^2.0302 -> 48.209655 | AR35: [Pa] | AT35: =1.359*10^-3*(AT$3/($E$22*10^-3*$E35*10^-3)*(0.507*0.171))^2.0302 -> 2.5118893 | AU35: Pa
D36: =E$22*E35*10^-6 -> 0.1492825 | F36: Lp* | K36: < 5 | L36: < 5 | M36: < 5 | N36: < 5 | O36: =-15-114.08+32.01*LN(O$22/($E$22*$E35)*(507*171))+10*LOG($E$40*$E35/(507*171)) -> 7.4406616 | P36: =-15-114.08+32.01*LN(P$22/($E$22*$E35)*(507*171))+10*LOG($E$40*$E35/(507*171)) -> 10.225896 | Q36: =-15-114.08+32.01*LN(Q$22/($E$22*$E35)*(507*171))+10*LOG($E$40*$E35/(507*171)) -> 12.788063 | R36: =-15-114.08+32.01*LN(R$22/($E$22*$E35)*(507*171))+10*LOG($E$40*$E35/(507*171)) -> 15.160259 | S36: =-15-114.08+32.01*LN(S$22/($E$22*$E35)*(507*171))+10*LOG($E$40*$E35/(507*171)) -> 17.368721 | T36: =-15-114.08+32.01*LN(T$22/($E$22*$E35)*(507*171))+10*LOG($E$40*$E35/(507*171)) -> 19.434599 | U36: =-15-114.08+32.01*LN(U$22/($E$22*$E35)*(507*171))+10*LOG($E$40*$E35/(507*171)) -> 21.375193 | V36: =-15-114.08+32.01*LN(V$22/($E$22*$E35)*(507*171))+10*LOG($E$40*$E35/(507*171)) -> 23.204834 | ... AH36: =-15-114.08+32.01*LN(AH$22/($E$22*$E35)*(507*171))+10*LOG($E$40*$E35/(507*171)) -> 39.556362 | AR36: [NC] | AT36: =-15-114.08+32.01*LN(AT$3/($E$22*$E35)*(507*171))+10*LOG($E$40*$E35/(507*171)) -> -7.0273822 | AU36: NC
K37: =(1.033-29.43*10^-3*($E22/$E23))*$H$1*K$3/SQRT($D36) -> 2.205308 | L37: =(1.033-29.43*10^-3*($E22/$E23))*$H$1*L$3/SQRT($D36) -> 2.520352 | M37: =(1.033-29.43*10^-3*($E22/$E23))*$H$1*M$3/SQRT($D36) -> 2.835396 | N37: =(1.033-29.43*10^-3*($E22/$E23))*$H$1*N$3/SQRT($D36) -> 3.1504399 | O37: =(1.033-29.43*10^-3*($E22/$E23))*$H$1*O$3/SQRT($D36) -> 3.4654839 | P37: =(1.033-29.43*10^-3*($E22/$E23))*$H$1*P$3/SQRT($D36) -> 3.7805279 | Q37: =(1.033-29.43*10^-3*($E22/$E23))*$H$1*Q$3/SQRT($D36) -> 4.0955719 | R37: =(1.033-29.43*10^-3*($E22/$E23))*$H$1*R$3/SQRT($D36) -> 4.4106159 | ... AH37: =(1.033-29.43*10^-3*($E22/$E23))*$H$1*AH$3/SQRT($D36) -> 9.4513198
K38: =$H$2*K37 -> 4.4106159 | L38: =$H$2*L37 -> 5.0407039 | M38: =$H$2*M37 -> 5.6707919 | N38: =$H$2*N37 -> 6.3008799 | O38: =$H$2*O37 -> 6.9309679 | P38: =$H$2*P37 -> 7.5610559 | Q38: =$H$2*Q37 -> 8.1911439 | R38: =$H$2*R37 -> 8.8212319 | ... AH38: =$H$2*AH37 -> 18.90264
E39: FACE (active size mm)
B40: Width | C40: =E40+40 -> 950 | D40: [mm] | E40: 910 | I40: 50 | J40: 60 | K40: 70 | L40: 80 | M40: 90 | N40: 100 | O40: 110 | P40: 120 | Q40: 130 | R40: 140 | S40: 150 | T40: 160 | U40: 170 | V40: 180 | W40: 190 | X40: 200 | Y40: 210 | Z40: 220 | AA40: 230 | AB40: 240 | AC40: 250 | AD40: 260 | AE40: 270 | AF40: 280 | AG40: 290 | AH40: 300 | AI40: 310 | AJ40: 320 | AK40: 330 | AL40: 340 | AM40: 350 | AN40: 360 | AO40: 370 | AP40: 380 | AQ40: 390 | AR40: [L/s]
C41: =E41+40 -> 134 | D41: 1-row | E41: 94 | F41: Pt | I41: =1.359*10^-3*(I$40/($E$40*10^-3*$E41*10^-3)*(0.507*0.171))^2.0302 -> 3.9292912 | J41: =1.359*10^-3*(J$40/($E$40*10^-3*$E41*10^-3)*(0.507*0.171))^2.0302 -> 5.6894199 | K41: =1.359*10^-3*(K$40/($E$40*10^-3*$E41*10^-3)*(0.507*0.171))^2.0302 -> 7.7800674 | L41: =1.359*10^-3*(L$40/($E$40*10^-3*$E41*10^-3)*(0.507*0.171))^2.0302 -> 10.202782 | M41: =1.359*10^-3*(M$40/($E$40*10^-3*$E41*10^-3)*(0.507*0.171))^2.0302 -> 12.95891 | N41: =1.359*10^-3*(N$40/($E$40*10^-3*$E41*10^-3)*(0.507*0.171))^2.0302 -> 16.049641 | O41: =1.359*10^-3*(O$40/($E$40*10^-3*$E41*10^-3)*(0.507*0.171))^2.0302 -> 19.476044 | P41: =1.359*10^-3*(P$40/($E$40*10^-3*$E41*10^-3)*(0.507*0.171))^2.0302 -> 23.239088 | ... U41: =1.359*10^-3*(U$40/($E$40*10^-3*$E41*10^-3)*(0.507*0.171))^2.0302 -> 47.132743 | AR41: [Pa] | AT41: =1.359*10^-3*(AT$3/($E$40*10^-3*$E41*10^-3)*(0.507*0.171))^2.0302 -> 7.7800674 | AU41: Pa
D42: =E$40*E41*10^-6 -> 0.08554 | F42: Lp* | I42: < 5 | J42: < 5 | K42: =-15-114.08+32.01*LN(K$40/($E$40*$E41)*(507*171))+10*LOG($E$40*$E41/(507*171)) -> 7.2860445 | L42: =-15-114.08+32.01*LN(L$40/($E$40*$E41)*(507*171))+10*LOG($E$40*$E41/(507*171)) -> 11.560384 | M42: =-15-114.08+32.01*LN(M$40/($E$40*$E41)*(507*171))+10*LOG($E$40*$E41/(507*171)) -> 15.330619 | N42: =-15-114.08+32.01*LN(N$40/($E$40*$E41)*(507*171))+10*LOG($E$40*$E41/(507*171)) -> 18.703209 | O42: =-15-114.08+32.01*LN(O$40/($E$40*$E41)*(507*171))+10*LOG($E$40*$E41/(507*171)) -> 21.754088 | P42: =-15-114.08+32.01*LN(P$40/($E$40*$E41)*(507*171))+10*LOG($E$40*$E41/(507*171)) -> 24.539323 | Q42: =-15-114.08+32.01*LN(Q$40/($E$40*$E41)*(507*171))+10*LOG($E$40*$E41/(507*171)) -> 27.10149 | R42: =-15-114.08+32.01*LN(R$40/($E$40*$E41)*(507*171))+10*LOG($E$40*$E41/(507*171)) -> 29.473686 | ... U42: =-15-114.08+32.01*LN(U$40/($E$40*$E41)*(507*171))+10*LOG($E$40*$E41/(507*171)) -> 35.68862 | AR42: [NC] | AT42: =-15-114.08+32.01*LN(AT$3/($E$40*$E41)*(507*171))+10*LOG($E$40*$E41/(507*171)) -> 7.2860445 | AU42: NC
I43: =(1.033-29.43*10^-3*($E40/$E41))*$H$1*I$3/SQRT($D42) -> 1.9183682 | J43: =(1.033-29.43*10^-3*($E40/$E41))*$H$1*J$3/SQRT($D42) -> 2.3020419 | K43: =(1.033-29.43*10^-3*($E40/$E41))*$H$1*K$3/SQRT($D42) -> 2.6857155 | L43: =(1.033-29.43*10^-3*($E40/$E41))*$H$1*L$3/SQRT($D42) -> 3.0693892 | M43: =(1.033-29.43*10^-3*($E40/$E41))*$H$1*M$3/SQRT($D42) -> 3.4530628 | N43: =(1.033-29.43*10^-3*($E40/$E41))*$H$1*N$3/SQRT($D42) -> 3.8367364 | O43: =(1.033-29.43*10^-3*($E40/$E41))*$H$1*O$3/SQRT($D42) -> 4.2204101 | P43: =(1.033-29.43*10^-3*($E40/$E41))*$H$1*P$3/SQRT($D42) -> 4.6040837 | ... U43: =(1.033-29.43*10^-3*($E40/$E41))*$H$1*U$3/SQRT($D42) -> 6.522452
I44: =$H$2*I43 -> 3.8367364 | J44: =$H$2*J43 -> 4.6040837 | K44: =$H$2*K43 -> 5.371431 | L44: =$H$2*L43 -> 6.1387783 | M44: =$H$2*M43 -> 6.9061256 | N44: =$H$2*N43 -> 7.6734729 | O44: =$H$2*O43 -> 8.4408202 | P44: =$H$2*P43 -> 9.2081675 | ... U44: =$H$2*U43 -> 13.044904
C45: =E45+40 -> 173 | D45: 2-row | E45: 133 | F45: Pt | K45: =1.359*10^-3*(K$40/($E$40*10^-3*$E45*10^-3)*(0.507*0.171))^2.0302 -> 3.8457755 | L45: =1.359*10^-3*(L$40/($E$40*10^-3*$E45*10^-3)*(0.507*0.171))^2.0302 -> 5.0433508 | M45: =1.359*10^-3*(M$40/($E$40*10^-3*$E45*10^-3)*(0.507*0.171))^2.0302 -> 6.4057358 | N45: =1.359*10^-3*(N$40/($E$40*10^-3*$E45*10^-3)*(0.507*0.171))^2.0302 -> 7.9335193 | O45: =1.359*10^-3*(O$40/($E$40*10^-3*$E45*10^-3)*(0.507*0.171))^2.0302 -> 9.6272292 | P45: =1.359*10^-3*(P$40/($E$40*10^-3*$E45*10^-3)*(0.507*0.171))^2.0302 -> 11.487345 | Q45: =1.359*10^-3*(Q$40/($E$40*10^-3*$E45*10^-3)*(0.507*0.171))^2.0302 -> 13.514304 | R45: =1.359*10^-3*(R$40/($E$40*10^-3*$E45*10^-3)*(0.507*0.171))^2.0302 -> 15.708511 | ... AB45: =1.359*10^-3*(AB$40/($E$40*10^-3*$E45*10^-3)*(0.507*0.171))^2.0302 -> 46.921377 | AR45: [Pa] | AT45: =1.359*10^-3*(AT$3/($E$40*10^-3*$E45*10^-3)*(0.507*0.171))^2.0302 -> 3.8457755 | AU45: Pa
B46: Height | D46: =E$40*E45*10^-6 -> 0.12103 | F46: Lp* | K46: < 5 | L46: < 5 | M46: =-15-114.08+32.01*LN(M$40/($E$40*$E45)*(507*171))+10*LOG($E$40*$E45/(507*171)) -> 5.7286476 | N46: =-15-114.08+32.01*LN(N$40/($E$40*$E45)*(507*171))+10*LOG($E$40*$E45/(507*171)) -> 9.1012377 | O46: =-15-114.08+32.01*LN(O$40/($E$40*$E45)*(507*171))+10*LOG($E$40*$E45/(507*171)) -> 12.152117 | P46: =-15-114.08+32.01*LN(P$40/($E$40*$E45)*(507*171))+10*LOG($E$40*$E45/(507*171)) -> 14.937351 | Q46: =-15-114.08+32.01*LN(Q$40/($E$40*$E45)*(507*171))+10*LOG($E$40*$E45/(507*171)) -> 17.499518 | R46: =-15-114.08+32.01*LN(R$40/($E$40*$E45)*(507*171))+10*LOG($E$40*$E45/(507*171)) -> 19.871714 | S46: =-15-114.08+32.01*LN(S$40/($E$40*$E45)*(507*171))+10*LOG($E$40*$E45/(507*171)) -> 22.080176 | T46: =-15-114.08+32.01*LN(T$40/($E$40*$E45)*(507*171))+10*LOG($E$40*$E45/(507*171)) -> 24.146054 | ... AB46: =-15-114.08+32.01*LN(AB$40/($E$40*$E45)*(507*171))+10*LOG($E$40*$E45/(507*171)) -> 37.124992 | AR46: [NC] | AT46: =-15-114.08+32.01*LN(AT$3/($E$40*$E45)*(507*171))+10*LOG($E$40*$E45/(507*171)) -> -2.3159272 | AU46: NC
K47: =(1.033-29.43*10^-3*($E40/$E41))*$H$1*K$3/SQRT($D46) -> 2.2578657 | L47: =(1.033-29.43*10^-3*($E40/$E41))*$H$1*L$3/SQRT($D46) -> 2.580418 | M47: =(1.033-29.43*10^-3*($E40/$E41))*$H$1*M$3/SQRT($D46) -> 2.9029702 | N47: =(1.033-29.43*10^-3*($E40/$E41))*$H$1*N$3/SQRT($D46) -> 3.2255225 | O47: =(1.033-29.43*10^-3*($E40/$E41))*$H$1*O$3/SQRT($D46) -> 3.5480747 | P47: =(1.033-29.43*10^-3*($E40/$E41))*$H$1*P$3/SQRT($D46) -> 3.870627 | Q47: =(1.033-29.43*10^-3*($E40/$E41))*$H$1*Q$3/SQRT($D46) -> 4.1931792 | R47: =(1.033-29.43*10^-3*($E40/$E41))*$H$1*R$3/SQRT($D46) -> 4.5157315 | ... AB47: =(1.033-29.43*10^-3*($E40/$E41))*$H$1*AB$3/SQRT($D46) -> 7.741254
K48: =$H$2*K47 -> 4.5157315 | L48: =$H$2*L47 -> 5.160836 | M48: =$H$2*M47 -> 5.8059405 | N48: =$H$2*N47 -> 6.451045 | O48: =$H$2*O47 -> 7.0961495 | P48: =$H$2*P47 -> 7.741254 | Q48: =$H$2*Q47 -> 8.3863585 | R48: =$H$2*R47 -> 9.031463 | ... AB48: =$H$2*AB47 -> 15.482508
B49: [mm] | C49: =E49+40 -> 212 | D49: 3-row | E49: 172 | F49: Pt | M49: =1.359*10^-3*(M$40/($E$40*10^-3*$E49*10^-3)*(0.507*0.171))^2.0302 -> 3.8005178 | N49: =1.359*10^-3*(N$40/($E$40*10^-3*$E49*10^-3)*(0.507*0.171))^2.0302 -> 4.7069505 | O49: =1.359*10^-3*(O$40/($E$40*10^-3*$E49*10^-3)*(0.507*0.171))^2.0302 -> 5.7118272 | P49: =1.359*10^-3*(P$40/($E$40*10^-3*$E49*10^-3)*(0.507*0.171))^2.0302 -> 6.8154321 | Q49: =1.359*10^-3*(Q$40/($E$40*10^-3*$E49*10^-3)*(0.507*0.171))^2.0302 -> 8.0180254 | R49: =1.359*10^-3*(R$40/($E$40*10^-3*$E49*10^-3)*(0.507*0.171))^2.0302 -> 9.3198467 | S49: =1.359*10^-3*(S$40/($E$40*10^-3*$E49*10^-3)*(0.507*0.171))^2.0302 -> 10.721119 | T49: =1.359*10^-3*(T$40/($E$40*10^-3*$E49*10^-3)*(0.507*0.171))^2.0302 -> 12.222049 | ... AJ49: =1.359*10^-3*(AJ$40/($E$40*10^-3*$E49*10^-3)*(0.507*0.171))^2.0302 -> 49.922361 | AR49: [Pa] | AT49: =1.359*10^-3*(AT$3/($E$40*10^-3*$E49*10^-3)*(0.507*0.171))^2.0302 -> 2.2816954 | AU49: Pa
D50: =E$40*E49*10^-6 -> 0.15652 | F50: Lp* | M50: < 5 | N50: < 5 | O50: =-15-114.08+32.01*LN(O$40/($E$40*$E49)*(507*171))+10*LOG($E$40*$E49/(507*171)) -> 5.037662 | P50: =-15-114.08+32.01*LN(P$40/($E$40*$E49)*(507*171))+10*LOG($E$40*$E49/(507*171)) -> 7.8228962 | Q50: =-15-114.08+32.01*LN(Q$40/($E$40*$E49)*(507*171))+10*LOG($E$40*$E49/(507*171)) -> 10.385063 | R50: =-15-114.08+32.01*LN(R$40/($E$40*$E49)*(507*171))+10*LOG($E$40*$E49/(507*171)) -> 12.757259 | S50: =-15-114.08+32.01*LN(S$40/($E$40*$E49)*(507*171))+10*LOG($E$40*$E49/(507*171)) -> 14.965721 | T50: =-15-114.08+32.01*LN(T$40/($E$40*$E49)*(507*171))+10*LOG($E$40*$E49/(507*171)) -> 17.031599 | U50: =-15-114.08+32.01*LN(U$40/($E$40*$E49)*(507*171))+10*LOG($E$40*$E49/(507*171)) -> 18.972194 | V50: =-15-114.08+32.01*LN(V$40/($E$40*$E49)*(507*171))+10*LOG($E$40*$E49/(507*171)) -> 20.801834 | ... AJ50: =-15-114.08+32.01*LN(AJ$40/($E$40*$E49)*(507*171))+10*LOG($E$40*$E49/(507*171)) -> 39.219241 | AR50: [NC] | AT50: =-15-114.08+32.01*LN(AT$3/($E$40*$E49)*(507*171))+10*LOG($E$40*$E49/(507*171)) -> -9.4303818 | AU50: NC
M51: =(1.033-29.43*10^-3*($E40/$E41))*$H$1*M$3/SQRT($D50) -> 2.5527259 | N51: =(1.033-29.43*10^-3*($E40/$E41))*$H$1*N$3/SQRT($D50) -> 2.8363621 | O51: =(1.033-29.43*10^-3*($E40/$E41))*$H$1*O$3/SQRT($D50) -> 3.1199983 | P51: =(1.033-29.43*10^-3*($E40/$E41))*$H$1*P$3/SQRT($D50) -> 3.4036345 | Q51: =(1.033-29.43*10^-3*($E40/$E41))*$H$1*Q$3/SQRT($D50) -> 3.6872707 | R51: =(1.033-29.43*10^-3*($E40/$E41))*$H$1*R$3/SQRT($D50) -> 3.9709069 | S51: =(1.033-29.43*10^-3*($E40/$E41))*$H$1*S$3/SQRT($D50) -> 4.2545431 | T51: =(1.033-29.43*10^-3*($E40/$E41))*$H$1*T$3/SQRT($D50) -> 4.5381793 | ... AJ51: =(1.033-29.43*10^-3*($E40/$E41))*$H$1*AJ$3/SQRT($D50) -> 9.0763587
M52: =$H$2*M51 -> 5.1054518 | N52: =$H$2*N51 -> 5.6727242 | O52: =$H$2*O51 -> 6.2399966 | P52: =$H$2*P51 -> 6.807269 | Q52: =$H$2*Q51 -> 7.3745414 | R52: =$H$2*R51 -> 7.9418138 | S52: =$H$2*S51 -> 8.5090863 | T52: =$H$2*T51 -> 9.0763587 | ... AJ52: =$H$2*AJ51 -> 18.152717
C53: =E53+40 -> 251 | D53: 4-row | E53: 211 | F53: Pt | O53: =1.359*10^-3*(O$40/($E$40*10^-3*$E53*10^-3)*(0.507*0.171))^2.0302 -> 3.7721302 | P53: =1.359*10^-3*(P$40/($E$40*10^-3*$E53*10^-3)*(0.507*0.171))^2.0302 -> 4.5009585 | Q53: =1.359*10^-3*(Q$40/($E$40*10^-3*$E53*10^-3)*(0.507*0.171))^2.0302 -> 5.2951594 | R53: =1.359*10^-3*(R$40/($E$40*10^-3*$E53*10^-3)*(0.507*0.171))^2.0302 -> 6.1548912 | S53: =1.359*10^-3*(S$40/($E$40*10^-3*$E53*10^-3)*(0.507*0.171))^2.0302 -> 7.0803009 | T53: =1.359*10^-3*(T$40/($E$40*10^-3*$E53*10^-3)*(0.507*0.171))^2.0302 -> 8.0715257 | U53: =1.359*10^-3*(U$40/($E$40*10^-3*$E53*10^-3)*(0.507*0.171))^2.0302 -> 9.1286939 | V53: =1.359*10^-3*(V$40/($E$40*10^-3*$E53*10^-3)*(0.507*0.171))^2.0302 -> 10.251926 | ... AQ53: =1.359*10^-3*(AQ$40/($E$40*10^-3*$E53*10^-3)*(0.507*0.171))^2.0302 -> 49.264106 | AR53: [Pa] | AT53: =1.359*10^-3*(AT$3/($E$40*10^-3*$E53*10^-3)*(0.507*0.171))^2.0302 -> 1.5068474 | AU53: Pa
D54: =E$40*E53*10^-6 -> 0.19201 | F54: Lp* | O54: < 5 | P54: < 5 | Q54: =-15-114.08+32.01*LN(Q$40/($E$40*$E53)*(507*171))+10*LOG($E$40*$E53/(507*171)) -> 4.7309227 | R54: =-15-114.08+32.01*LN(R$40/($E$40*$E53)*(507*171))+10*LOG($E$40*$E53/(507*171)) -> 7.1031189 | S54: =-15-114.08+32.01*LN(S$40/($E$40*$E53)*(507*171))+10*LOG($E$40*$E53/(507*171)) -> 9.3115807 | T54: =-15-114.08+32.01*LN(T$40/($E$40*$E53)*(507*171))+10*LOG($E$40*$E53/(507*171)) -> 11.377459 | U54: =-15-114.08+32.01*LN(U$40/($E$40*$E53)*(507*171))+10*LOG($E$40*$E53/(507*171)) -> 13.318053 | V54: =-15-114.08+32.01*LN(V$40/($E$40*$E53)*(507*171))+10*LOG($E$40*$E53/(507*171)) -> 15.147694 | W54: =-15-114.08+32.01*LN(W$40/($E$40*$E53)*(507*171))+10*LOG($E$40*$E53/(507*171)) -> 16.878386 | X54: =-15-114.08+32.01*LN(X$40/($E$40*$E53)*(507*171))+10*LOG($E$40*$E53/(507*171)) -> 18.520284 | ... AQ54: =-15-114.08+32.01*LN(AQ$40/($E$40*$E53)*(507*171))+10*LOG($E$40*$E53/(507*171)) -> 39.897502 | AR54: [NC] | AT54: =-15-114.08+32.01*LN(AT$3/($E$40*$E53)*(507*171))+10*LOG($E$40*$E53/(507*171)) -> -15.084522 | AU54: NC
O55: =(1.033-29.43*10^-3*($E40/$E41))*$H$1*O$3/SQRT($D54) -> 2.8169384 | P55: =(1.033-29.43*10^-3*($E40/$E41))*$H$1*P$3/SQRT($D54) -> 3.0730237 | Q55: =(1.033-29.43*10^-3*($E40/$E41))*$H$1*Q$3/SQRT($D54) -> 3.329109 | R55: =(1.033-29.43*10^-3*($E40/$E41))*$H$1*R$3/SQRT($D54) -> 3.5851943 | S55: =(1.033-29.43*10^-3*($E40/$E41))*$H$1*S$3/SQRT($D54) -> 3.8412797 | T55: =(1.033-29.43*10^-3*($E40/$E41))*$H$1*T$3/SQRT($D54) -> 4.097365 | U55: =(1.033-29.43*10^-3*($E40/$E41))*$H$1*U$3/SQRT($D54) -> 4.3534503 | V55: =(1.033-29.43*10^-3*($E40/$E41))*$H$1*V$3/SQRT($D54) -> 4.6095356 | ... AQ55: =(1.033-29.43*10^-3*($E40/$E41))*$H$1*AQ$3/SQRT($D54) -> 9.9873271
O56: =$H$2*O55 -> 5.6338768 | P56: =$H$2*P55 -> 6.1460474 | Q56: =$H$2*Q55 -> 6.6582181 | R56: =$H$2*R55 -> 7.1703887 | S56: =$H$2*S55 -> 7.6825593 | T56: =$H$2*T55 -> 8.1947299 | U56: =$H$2*U55 -> 8.7069005 | V56: =$H$2*V55 -> 9.2190712 | ... AQ56: =$H$2*AQ55 -> 19.974654

Sheet DN600, DN950, DN1500 Calculator
A1: Units
A2: Type | B2: 2 | D2: FACTORS: | E2: K.l.min | F2: 7 | X2: FACTORS: | Y2: K.l.min | Z2: =$F2 -> 7 | AR2: FACTORS: | AS2: K.l.min | AT2: =$F2 -> 7
A3: Multiplier | B3: =IF(B2=1,1,3.6) -> 3.6 | E3: K.l.max | F3: 21 | Y3: K.l.max | Z3: =$F3 -> 21 | AS3: K.l.max | AT3: =$F3 -> 21
A4: Type | B4: =IF(B2=1,"L/s","m³/h") -> m³/h | E4: K.dT | F4: =SQRT(ABS(12/F19)) -> 1 | G4: -12 K / dT | Y4: K.dT | Z4: =$F4 -> 1 | AA4: -12 K / dT | AS4: K.dT | AT4: =$F4 -> 1 | AU4: -12 K / dT
A5: Type2 | B5: =IF(B2=1,"L/s/m²","m³/h/m²") -> m³/h/m² | E5: K.H.min(sp) | F5: =SQRT(1.209*F18^-0.199) -> 1.0037328 | G5: Increased draught risk as height increases, Fig 8, Krantz Layout Criteria TB 69 E | Y5: K.H.min(sp) | Z5: =$F5 -> 1.0037328 | AA5: Increased draught risk as height increases, Fig 8, Krantz Layout Criteria TB 69 E | AS5: K.H.min(sp) | AT5: =$F5 -> 1.0037328 | AU5: Increased draught risk as height increases, Fig 8, Krantz Layout Criteria TB 69 E
E6: K.H.max(vol) | F6: =SQRT(2.5/F18) -> 1 | G6: Reduce max throw with height to maintain constant volume to prevent stagnation | Y6: K.H.max(vol) | Z6: =$F6 -> 1 | AA6: Reduce max throw with height to maintain constant volume to prevent stagnation | AS6: K.H.max(vol) | AT6: =$F6 -> 1 | AU6: Reduce max throw with height to maintain constant volume to prevent stagnation
E7: K.2D/3D | F7: =SQRT(195/145) -> 1.159667 | G7: Fig 8 / Fig 7 @ 0.25, Krantz Layout Criteria TB 69 E | Y7: K.2D/3D | Z7: =$F7 -> 1.159667 | AA7: Fig 8 / Fig 7 @ 0.25, Krantz Layout Criteria TB 69 E | AS7: K.2D/3D | AT7: =$F7 -> 1.159667 | AU7: Fig 8 / Fig 7 @ 0.25, Krantz Layout Criteria TB 69 E
E8: K.adpi | F8: =SQRT(19.92*F9^2.153) -> 0.94595467 | G8: Adjustment factor for ADPI | Y8: K.adpi | Z8: =$F8 -> 0.94595467 | AA8: Adjustment factor for ADPI | AS8: K.adpi | AT8: =$F8 -> 0.94595467 | AU8: Adjustment factor for ADPI
E9: v.room ≤ | F9: =0.679-4.915*10^-3*F20 -> 0.23665 | G9: m/s, Krantz Layout Criteria TB 69 E | Y9: v.room ≤ | Z9: =$F9 -> 0.23665 | AA9: m/s, Krantz Layout Criteria TB 69 E | AS9: v.room ≤ | AT9: =$F9 -> 0.23665 | AU9: m/s, Krantz Layout Criteria TB 69 E
E10: K.h.min | F10: 1.9 | Y10: K.h.min | Z10: =$F10 -> 1.9 | AS10: K.h.min | AT10: =$F10 -> 1.9
Z11: INPUT | AT11: INPUT
Y12: H.diffuser = | Z12: =$F18 -> 2.5 | AA12: m | AS12: H.diffuser = | AT12: =$F18 -> 2.5 | AU12: m
C13: PMW- | D13: W.neck | W13: PMW- | X13: W.neck | Y13: dT(cooling) = | Z13: =$F19 -> -12 | AA13: K | AQ13: PMW- | AR13: W.neck | AS13: dT(cooling) = | AT13: =$F19 -> -12 | AU13: K
C14: AD- | D14: mm | W14: AD- | X14: mm | Y14: ADPI ³ | Z14: =$F20 -> 90 | AA14: % | AQ14: AD- | AR14: mm | AS14: ADPI ³ | AT14: =$F20 -> 90 | AU14: %
C15: DN 600 | D15: 577 | W15: DN 950 | X15: 915 | Y15: = | Z15: =$F21 -> 27.777778 | AA15: L/s | AQ15: DN 1500 | AR15: 1455 | AS15: = | AT15: =$F21 -> 27.777778 | AU15: L/s
F17: INPUT
E18: H.diffuser = | F18: ='BMW-AD-Std Size Calculator'!E14 -> 2.5 | G18: m | K18: m | P18: Height to Diffuser Centre-Line = 2.0 to 4.5 m
E19: dT(cooling) = | F19: =IF('BMW-AD-Std Size Calculator'!E16>-8,-8,'BMW-AD-Std Size Calculator'!E16) -> -12 | G19: K | K19: K | P19: dT = -8 K to -12 K
E20: ADPI ³ | F20: ='BMW-AD-Std Size Calculator'!N10*100 -> 90 | G20: % | K20: % | P20: 70%, 80%, 90% or 95%
E21: = | F21: ='BMW-AD-Std Size Calculator'!E8/B3 -> 27.777778 | G21: L/s | K21: L/s
E22: BMW-AD- | F22: DN600 | Y22: BMW-AD- | Z22: DN950 | AS22: BMW-AD- | AT22: DN1500
E23: W.n | F23: =D15 -> 577 | G23: mm | Y23: W.n | Z23: =X15 -> 915 | AA23: mm | AS23: W.n | AT23: =AR15 -> 1455 | AU23: mm | BJ23: mm
E24: W.f | F24: =F23+35 -> 612 | G24: mm | Z24: =Z23+35 -> 950 | AT24: =AT23+35 -> 1490 | BJ24: mm
E25: Rows | F25: 1 | K25: 2 | P25: 3 | U25: 4 | Z25: 1 | AE25: 2 | AJ25: 3 | AO25: 4 | AT25: 1 | AY25: 2 | BD25: 3 | BI25: 4
E26: H.c | F26: 99 | K26: 138 | P26: 177 | U26: 216 | Z26: 99 | AE26: 138 | AJ26: 177 | AO26: 216 | AT26: 99 | AY26: 138 | BD26: 177 | BI26: 216 | BJ26: mm
E27: H.f | F27: =F26+35 -> 134 | G27: =G26+35 -> 35 | H27: =H26+35 -> 35 | I27: =I26+35 -> 35 | J27: =J26+35 -> 35 | K27: =K26+35 -> 173 | L27: =L26+35 -> 35 | M27: =M26+35 -> 35 | ... BI27: =BI26+35 -> 251 | BJ27: mm
E28: Pt | F28: =1.359*10^-3*(F$21/($D$15*10^-3*$C46*10^-3)*(0.507*0.171))^2.0302 -> 2.7044084 | G28: Pa | J28: Pt | K28: =1.359*10^-3*(F$21/($D$15*10^-3*$H46*10^-3)*(0.507*0.171))^2.0302 -> 1.3779337 | L28: Pa | O28: Pt | P28: =1.359*10^-3*(F$21/($D$15*10^-3*$M46*10^-3)*(0.507*0.171))^2.0302 -> 0.83133396 | Q28: Pa | T28: Pt | U28: =1.359*10^-3*(F$21/($D$15*10^-3*$R46*10^-3)*(0.507*0.171))^2.0302 -> 0.55488482 | V28: Pa | Y28: Pt | Z28: =1.359*10^-3*(Z$15/($X$15*10^-3*$Z26*10^-3)*(0.507*0.171))^2.0302 -> 1.0605577 | AA28: Pa | AD28: Pt | AE28: =1.359*10^-3*(Z$15/($X$15*10^-3*$AE26*10^-3)*(0.507*0.171))^2.0302 -> 0.54036891 | AF28: Pa | AI28: Pt | AJ28: =1.359*10^-3*(Z$15/($X$15*10^-3*$AJ26*10^-3)*(0.507*0.171))^2.0302 -> 0.32601498 | AK28: Pa | AN28: Pt | AO28: =1.359*10^-3*(Z$15/($X$15*10^-3*$AO26*10^-3)*(0.507*0.171))^2.0302 -> 0.217603 | AP28: Pa | AS28: Pt | AT28: =1.359*10^-3*(AT$15/($AR$15*10^-3*$AT26*10^-3)*(0.507*0.171))^2.0302 -> 0.41358708 | AU28: Pa | AX28: Pt | AY28: =1.359*10^-3*(AT$15/($AR$15*10^-3*$AY26*10^-3)*(0.507*0.171))^2.0302 -> 0.21072837 | AZ28: Pa | BC28: Pt | BD28: =1.359*10^-3*(AT$15/($AR$15*10^-3*$BD26*10^-3)*(0.507*0.171))^2.0302 -> 0.12713649 | BE28: Pa | BH28: Pt | BI28: =1.359*10^-3*(AT$15/($AR$15*10^-3*$BI26*10^-3)*(0.507*0.171))^2.0302 -> 0.084858925 | BJ28: Pa
C29: H.neck | D29: Throw | E29: Lw | F29: =IF(-114.08+32.01*LN(F$21/($D$15*$C46)*(507*171))+10*LOG($D$15*$C46/(507*171))<15,"<15",-114.08+32.01*LN(F$21/($D$15*$C46)*(507*171))+10*LOG($D$15*$C46/(507*171))) -> <15 | G29: dB(A) | H29: H.neck | I29: Discharge | J29: Lw | K29: =IF(-114.08+32.01*LN(F$21/($D$15*$H46)*(507*171))+10*LOG($D$15*$H46/(507*171))<15,"<15",-114.08+32.01*LN(F$21/($D$15*$H46)*(507*171))+10*LOG($D$15*$H46/(507*171))) -> <15 | L29: dB(A) | M29: H.neck | N29: Discharge | O29: Lw | P29: =IF(-114.08+32.01*LN(F$21/($D$15*$M46)*(507*171))+10*LOG($D$15*$M46/(507*171))<15,"<15",-114.08+32.01*LN(F$21/($D$15*$M46)*(507*171))+10*LOG($D$15*$M46/(507*171))) -> <15 | Q29: dB(A) | R29: H.neck | S29: Discharge | T29: Lw | U29: =IF(-114.08+32.01*LN(F$21/($D$15*$R46)*(507*171))+10*LOG($D$15*$R46/(507*171))<15,"<15",-114.08+32.01*LN(F$21/($D$15*$R46)*(507*171))+10*LOG($D$15*$R46/(507*171))) -> <15 | V29: dB(A) | W29: H.neck | X29: Discharge | Y29: Lw | Z29: =IF(-114.08+32.01*LN(Z$15/($X$15*$Z26)*(507*171))+10*LOG($X$15*$Z26/(507*171))<15,"<15",-114.08+32.01*LN(Z$15/($X$15*$Z26)*(507*171))+10*LOG($X$15*$Z26/(507*171))) -> <15 | AA29: dB(A) | AB29: H.neck | AC29: Discharge | AD29: Lw | AE29: =IF(-114.08+32.01*LN(Z$15/($X$15*$AE26)*(507*171))+10*LOG($X$15*$AE26/(507*171))<15,"<15",-114.08+32.01*LN(Z$15/($X$15*$AE26)*(507*171))+10*LOG($X$15*$AE26/(507*171))) -> <15 | AF29: dB(A) | AG29: H.neck | AH29: Discharge | AI29: Lw | AJ29: =IF(-114.08+32.01*LN(Z$15/($X$15*$AJ26)*(507*171))+10*LOG($X$15*$AJ26/(507*171))<15,"<15",-114.08+32.01*LN(Z$15/($X$15*$AJ26)*(507*171))+10*LOG($X$15*$AJ26/(507*171))) -> <15 | AK29: dB(A) | AL29: H.neck | AM29: Discharge | AN29: Lw | AO29: =IF(-114.08+32.01*LN(Z$15/($X$15*$AO26)*(507*171))+10*LOG($X$15*$AO26/(507*171))<15,"<15",-114.08+32.01*LN(Z$15/($X$15*$AO26)*(507*171))+10*LOG($X$15*$AO26/(507*171))) -> <15 | AP29: dB(A) | AQ29: H.neck | AR29: Discharge | AS29: Lw | AT29: =IF(-114.08+32.01*LN(AT$15/($AR$15*$AT26)*(507*171))+10*LOG($AR$15*$AT26/(507*171))<15,"<15",-114.08+32.01*LN(AT$15/($AR$15*$AT26)*(507*171))+10*LOG($AR$15*$AT26/(507*171))) -> <15 | AU29: dB(A) | AV29: H.neck | AW29: Discharge | AX29: Lw | AY29: =IF(-114.08+32.01*LN(AT$15/($AR$15*$AY26)*(507*171))+10*LOG($AR$15*$AY26/(507*171))<15,"<15",-114.08+32.01*LN(AT$15/($AR$15*$AY26)*(507*171))+10*LOG($AR$15*$AY26/(507*171))) -> <15 | AZ29: dB(A) | BA29: H.neck | BB29: Discharge | BC29: Lw | BD29: =IF(-114.08+32.01*LN(AT$15/($AR$15*$BD26)*(507*171))+10*LOG($AR$15*$BD26/(507*171))<15,"<15",-114.08+32.01*LN(AT$15/($AR$15*$BD26)*(507*171))+10*LOG($AR$15*$BD26/(507*171))) -> <15 | BE29: dB(A) | BF29: H.neck | BG29: Discharge | BH29: Lw | BI29: =IF(-114.08+32.01*LN(AT$15/($AR$15*$BI26)*(507*171))+10*LOG($AR$15*$BI26/(507*171))<15,"<15",-114.08+32.01*LN(AT$15/($AR$15*$BI26)*(507*171))+10*LOG($AR$15*$BI26/(507*171))) -> <15 | BJ29: dB(A)
C30: mm | D30: Setting | E30: Lp* | F30: =IF(-15-114.08+32.01*LN(F$21/($D$15*$F26)*(507*171))+10*LOG($D$15*$F26/(507*171))<5,"<5",-15-114.08+32.01*LN(F$21/($D$15*$F26)*(507*171))+10*LOG($D$15*$F26/(507*171))) -> <5 | G30: NC* | H30: mm | I30: Setting | J30: Lp* | K30: =IF(-15-114.08+32.01*LN(F$21/($D$15*$K26)*(507*171))+10*LOG($D$15*$K26/(507*171))<5,"<5",-15-114.08+32.01*LN(F$21/($D$15*$K26)*(507*171))+10*LOG($D$15*$K26/(507*171))) -> <5 | L30: NC* | M30: mm | N30: Setting | O30: Lp* | P30: =IF(-15-114.08+32.01*LN(F$21/($D$15*$P26)*(507*171))+10*LOG($D$15*$P26/(507*171))<5,"<5",-15-114.08+32.01*LN(F$21/($D$15*$P26)*(507*171))+10*LOG($D$15*$P26/(507*171))) -> <5 | Q30: NC* | R30: mm | S30: Setting | T30: Lp* | U30: =IF(-15-114.08+32.01*LN(F$21/($D$15*$U26)*(507*171))+10*LOG($D$15*$U26/(507*171))<5,"<5",-15-114.08+32.01*LN(F$21/($D$15*$U26)*(507*171))+10*LOG($D$15*$U26/(507*171))) -> <5 | V30: NC* | W30: mm | X30: Setting | Y30: Lp* | Z30: =IF(-15-114.08+32.01*LN(Z$15/($X$15*$Z26)*(507*171))+10*LOG($X$15*$Z26/(507*171))<5,"<5",-15-114.08+32.01*LN(Z$15/($X$15*$Z26)*(507*171))+10*LOG($X$15*$Z26/(507*171))) -> <5 | AA30: NC* | AB30: mm | AC30: Setting | AD30: Lp* | AE30: =IF(-15-114.08+32.01*LN(Z$15/($X$15*$AE26)*(507*171))+10*LOG($X$15*$AE26/(507*171))<5,"<5",-15-114.08+32.01*LN(Z$15/($X$15*$AE26)*(507*171))+10*LOG($X$15*$AE26/(507*171))) -> <5 | AF30: NC* | AG30: mm | AH30: Setting | AI30: Lp* | AJ30: =IF(-15-114.08+32.01*LN(Z$15/($X$15*$AJ26)*(507*171))+10*LOG($X$15*$AJ26/(507*171))<5,"<5",-15-114.08+32.01*LN(Z$15/($X$15*$AJ26)*(507*171))+10*LOG($X$15*$AJ26/(507*171))) -> <5 | AK30: NC* | AL30: mm | AM30: Setting | AN30: Lp* | AO30: =IF(-15-114.08+32.01*LN(Z$15/($X$15*$AO26)*(507*171))+10*LOG($X$15*$AO26/(507*171))<5,"<5",-15-114.08+32.01*LN(Z$15/($X$15*$AO26)*(507*171))+10*LOG($X$15*$AO26/(507*171))) -> <5 | AP30: NC* | AQ30: mm | AR30: Setting | AS30: Lp* | AT30: =IF(-15-114.08+32.01*LN(AT$15/($AR$15*$AT26)*(507*171))+10*LOG($AR$15*$AT26/(507*171))<5,"<5",-15-114.08+32.01*LN(AT$15/($AR$15*$AT26)*(507*171))+10*LOG($AR$15*$AT26/(507*171))) -> <5 | AU30: NC* | AV30: mm | AW30: Setting | AX30: Lp* | AY30: =IF(-15-114.08+32.01*LN(AT$15/($AR$15*$AY26)*(507*171))+10*LOG($AR$15*$AY26/(507*171))<5,"<5",-15-114.08+32.01*LN(AT$15/($AR$15*$AY26)*(507*171))+10*LOG($AR$15*$AY26/(507*171))) -> <5 | AZ30: NC* | BA30: mm | BB30: Setting | BC30: Lp* | BD30: =IF(-15-114.08+32.01*LN(AT$15/($AR$15*$BD26)*(507*171))+10*LOG($AR$15*$BD26/(507*171))<5,"<5",-15-114.08+32.01*LN(AT$15/($AR$15*$BD26)*(507*171))+10*LOG($AR$15*$BD26/(507*171))) -> <5 | BE30: NC* | BF30: mm | BG30: Setting | BH30: Lp* | BI30: =IF(-15-114.08+32.01*LN(AT$15/($AR$15*$BI26)*(507*171))+10*LOG($AR$15*$BI26/(507*171))<5,"<5",-15-114.08+32.01*LN(AT$15/($AR$15*$BI26)*(507*171))+10*LOG($AR$15*$BI26/(507*171))) -> <5 | BJ30: NC*
E31: L Vsp.min | F31: =1.075*0.707*F42 -> 1.2502311 | J31: L Vsp.min | K31: =1.075*0.707*K42 -> 1.2484212 | O31: L Vsp.min | P31: =1.075*0.707*P42 -> 1.2476753 | T31: L Vsp.min | U31: =1.075*0.707*U42 -> 1.2472981 | Y31: L Vsp.min | Z31: =1.075*0.707*Z42 -> 1.2479881 | AD31: L Vsp.min | AE31: =1.075*0.707*AE42 -> 1.2472783 | AI31: L Vsp.min | AJ31: =1.075*0.707*AJ42 -> 1.2469858 | AN31: L Vsp.min | AO31: =1.075*0.707*AO42 -> 1.2468379 | AS31: L Vsp.min | AT31: =1.075*0.707*AT42 -> 1.2471053 | AX31: L Vsp.min | AY31: =1.075*0.707*AY42 -> 1.2468285 | BC31: L Vsp.min | BD31: =1.075*0.707*BD42 -> 1.2467144 | BH31: L Vsp.min | BI31: =1.075*0.707*BI42 -> 1.2466568
E32: L Vsp.max | F32: =1.075*0.707*F43 -> 2.2874945 | J32: L Vsp.max | K32: =1.075*0.707*K43 -> 2.2473032 | O32: L Vsp.max | P32: =1.075*0.707*P43 -> 2.2307415 | T32: L Vsp.max | U32: =1.075*0.707*U43 -> 2.2223653 | Y32: L Vsp.max | Z32: =1.075*0.707*Z43 -> 2.2376869 | AD32: L Vsp.max | AE32: =1.075*0.707*AE43 -> 2.2219254 | AI32: L Vsp.max | AJ32: =1.075*0.707*AJ43 -> 2.2154307 | AN32: L Vsp.max | AO32: =1.075*0.707*AO43 -> 2.2121458 | AS32: L Vsp.max | AT32: =1.075*0.707*AT43 -> 2.218084 | AX32: L Vsp.max | AY32: =1.075*0.707*AY43 -> 2.2119375 | BC32: L Vsp.max | BD32: =1.075*0.707*BD43 -> 2.2094048 | BH32: L Vsp.max | BI32: =1.075*0.707*BI43 -> 2.2081238
E33: L throw max | F33: =1.075*0.707*F44 -> 1.7547267 | J33: L throw max | K33: =1.075*0.707*K44 -> 1.4862352 | O33: L throw max | P33: =1.075*0.707*P44 -> 1.3123221 | T33: L throw max | U33: =1.075*0.707*U44 -> 1.1879556 | Y33: L throw max | Z33: =1.075*0.707*Z44 -> 1.3934354 | AD33: L throw max | AE33: =1.075*0.707*AE44 -> 1.1802253 | AI33: L throw max | AJ33: =1.075*0.707*AJ44 -> 1.0421202 | AN33: L throw max | AO33: =1.075*0.707*AO44 -> 0.94336025 | AS33: L throw max | AT33: =1.075*0.707*AT44 -> 1.1050092 | AX33: L throw max | AY33: =1.075*0.707*AY44 -> 0.93593127 | BC33: L throw max | BD33: =1.075*0.707*BD44 -> 0.82641248 | BH33: L throw max | BI33: =1.075*0.707*BI44 -> 0.74809478
E34: W Vsp.min | F34: =1.075*1.225*F42 -> 2.166242 | J34: W Vsp.min | K34: =1.075*1.225*K42 -> 2.163106 | O34: W Vsp.min | P34: =1.075*1.225*P42 -> 2.1618137 | T34: W Vsp.min | U34: =1.075*1.225*U42 -> 2.1611601 | Y34: W Vsp.min | Z34: =1.075*1.225*Z42 -> 2.1623556 | AD34: W Vsp.min | AE34: =1.075*1.225*AE42 -> 2.1611258 | AI34: W Vsp.min | AJ34: =1.075*1.225*AJ42 -> 2.160619 | AN34: W Vsp.min | AO34: =1.075*1.225*AO42 -> 2.1603627 | AS34: W Vsp.min | AT34: =1.075*1.225*AT42 -> 2.160826 | AX34: W Vsp.min | AY34: =1.075*1.225*AY42 -> 2.1603464 | BC34: W Vsp.min | BD34: =1.075*1.225*BD42 -> 2.1601488 | BH34: W Vsp.min | BI34: =1.075*1.225*BI42 -> 2.1600488
E35: W Vsp.max | F35: =1.075*1.225*F43 -> 3.9634806 | J35: W Vsp.max | K35: =1.075*1.225*K43 -> 3.8938421 | O35: W Vsp.max | P35: =1.075*1.225*P43 -> 3.8651462 | T35: W Vsp.max | U35: =1.075*1.225*U43 -> 3.8506329 | Y35: W Vsp.max | Z35: =1.075*1.225*Z43 -> 3.8771802 | AD35: W Vsp.max | AE35: =1.075*1.225*AE43 -> 3.8498708 | AI35: W Vsp.max | AJ35: =1.075*1.225*AJ43 -> 3.8386175 | AN35: W Vsp.max | AO35: =1.075*1.225*AO43 -> 3.832926 | AS35: W Vsp.max | AT35: =1.075*1.225*AT43 -> 3.8432149 | AX35: W Vsp.max | AY35: =1.075*1.225*AY43 -> 3.832565 | BC35: W Vsp.max | BD35: =1.075*1.225*BD43 -> 3.8281766 | BH35: W Vsp.max | BI35: =1.075*1.225*BI43 -> 3.825957
E36: W throw max | F36: =1.075*1.225*F44 -> 3.0403681 | J36: W throw max | K36: =1.075*1.225*K44 -> 2.57516 | O36: W throw max | P36: =1.075*1.225*P44 -> 2.2738255 | T36: W throw max | U36: =1.075*1.225*U44 -> 2.0583389 | Y36: W throw max | Z36: =1.075*1.225*Z44 -> 2.4143683 | AD36: W throw max | AE36: =1.075*1.225*AE44 -> 2.0449448 | AI36: W throw max | AJ36: =1.075*1.225*AJ44 -> 1.8056538 | AN36: W throw max | AO36: =1.075*1.225*AO44 -> 1.6345351 | AS36: W throw max | AT36: =1.075*1.225*AT44 -> 1.9146199 | AX36: W throw max | AY36: =1.075*1.225*AY44 -> 1.6216631 | BC36: W throw max | BD36: =1.075*1.225*BD44 -> 1.4319028 | BH36: W throw max | BI36: =1.075*1.225*BI44 -> 1.2962038
E37: Hmin | F37: =2+(F$21/$D$15*$F$10/$F$8^3) -> 2.1080598 | G37: m | J37: Hmin | K37: =2+(F$21/$D$15*$F$10/$F$8^3) -> 2.1080598 | L37: m | O37: Hmin | P37: =2+(F$21/$D$15*$F$10/$F$8^3) -> 2.1080598 | Q37: m | T37: Hmin | U37: =2+(F$21/$D$15*$F$10/$F$8^3) -> 2.1080598 | V37: m | Y37: Hmin | Z37: =2+(Z$15/$X$15*$F$10/$F$8^3) -> 2.0681427 | AA37: m | AD37: Hmin | AE37: =2+(Z$15/$X$15*$F$10/$F$8^3) -> 2.0681427 | AF37: m | AI37: Hmin | AJ37: =2+(Z$15/$X$15*$F$10/$F$8^3) -> 2.0681427 | AK37: m | AN37: Hmin | AO37: =2+(Z$15/$X$15*$F$10/$F$8^3) -> 2.0681427 | AP37: m | AS37: Hmin | AT37: =2+(AT$15/$AR$15*$F$10/$F$8^3) -> 2.0428526 | AU37: m | AX37: Hmin | AY37: =2+(AT$15/$AR$15*$F$10/$F$8^3) -> 2.0428526 | AZ37: m | BC37: Hmin | BD37: =2+(AT$15/$AR$15*$F$10/$F$8^3) -> 2.0428526 | BE37: m | BH37: Hmin | BI37: =2+(AT$15/$AR$15*$F$10/$F$8^3) -> 2.0428526 | BJ37: m
E38: Lmin | F38: =F31 -> 1.2502311 | G38: m | J38: Lmin | K38: =K31 -> 1.2484212 | L38: m | O38: Lmin | P38: =P31 -> 1.2476753 | Q38: m | T38: Lmin | U38: =U31 -> 1.2472981 | V38: m | Y38: Lmin | Z38: =Z31 -> 1.2479881 | AA38: m | AD38: Lmin | AE38: =AE31 -> 1.2472783 | AF38: m | AI38: Lmin | AJ38: =AJ31 -> 1.2469858 | AK38: m | AN38: Lmin | AO38: =AO31 -> 1.2468379 | AP38: m | AS38: Lmin | AT38: =AT31 -> 1.2471053 | AU38: m | AX38: Lmin | AY38: =AY31 -> 1.2468285 | AZ38: m | BC38: Lmin | BD38: =BD31 -> 1.2467144 | BE38: m | BH38: Lmin | BI38: =BI31 -> 1.2466568 | BJ38: m
D39: S | E39: Lmax | F39: =IF(F32<F33,F32,F33) -> 1.7547267 | G39: m | I39: S | J39: Lmax | K39: =IF(K32<K33,K32,K33) -> 1.4862352 | L39: m | N39: S | O39: Lmax | P39: =IF(P32<P33,P32,P33) -> 1.3123221 | Q39: m | S39: S | T39: Lmax | U39: =IF(U32<U33,U32,U33) -> 1.1879556 | V39: m | X39: S | Y39: Lmax | Z39: =IF(Z32<Z33,Z32,Z33) -> 1.3934354 | AA39: m | AC39: S | AD39: Lmax | AE39: =IF(AE32<AE33,AE32,AE33) -> 1.1802253 | AF39: m | AH39: S | AI39: Lmax | AJ39: =IF(AJ32<AJ33,AJ32,AJ33) -> 1.0421202 | AK39: m | AM39: S | AN39: Lmax | AO39: =IF(AO32<AO33,AO32,AO33) -> 0.94336025 | AP39: m | AR39: S | AS39: Lmax | AT39: =IF(AT32<AT33,AT32,AT33) -> 1.1050092 | AU39: m | AW39: S | AX39: Lmax | AY39: =IF(AY32<AY33,AY32,AY33) -> 0.93593127 | AZ39: m | BB39: S | BC39: Lmax | BD39: =IF(BD32<BD33,BD32,BD33) -> 0.82641248 | BE39: m | BG39: S | BH39: Lmax | BI39: =IF(BI32<BI33,BI32,BI33) -> 0.74809478 | BJ39: m
D40: Short | E40: Wmin | F40: =F34 -> 2.166242 | G40: m | I40: Short | J40: Wmin | K40: =K34 -> 2.163106 | L40: m | N40: Short | O40: Wmin | P40: =P34 -> 2.1618137 | Q40: m | S40: Short | T40: Wmin | U40: =U34 -> 2.1611601 | V40: m | X40: Short | Y40: Wmin | Z40: =Z34 -> 2.1623556 | AA40: m | AC40: Short | AD40: Wmin | AE40: =AE34 -> 2.1611258 | AF40: m | AH40: Short | AI40: Wmin | AJ40: =AJ34 -> 2.160619 | AK40: m | AM40: Short | AN40: Wmin | AO40: =AO34 -> 2.1603627 | AP40: m | AR40: Short | AS40: Wmin | AT40: =AT34 -> 2.160826 | AU40: m | AW40: Short | AX40: Wmin | AY40: =AY34 -> 2.1603464 | AZ40: m | BB40: Short | BC40: Wmin | BD40: =BD34 -> 2.1601488 | BE40: m | BG40: Short | BH40: Wmin | BI40: =BI34 -> 2.1600488 | BJ40: m
E41: Wmax | F41: =IF(F35<F36,F35,F36) -> 3.0403681 | G41: m | J41: Wmax | K41: =IF(K35<K36,K35,K36) -> 2.57516 | L41: m | O41: Wmax | P41: =IF(P35<P36,P35,P36) -> 2.2738255 | Q41: m | T41: Wmax | U41: =IF(U35<U36,U35,U36) -> 2.0583389 | V41: m | Y41: Wmax | Z41: =IF(Z35<Z36,Z35,Z36) -> 2.4143683 | AA41: m | AD41: Wmax | AE41: =IF(AE35<AE36,AE35,AE36) -> 2.0449448 | AF41: m | AI41: Wmax | AJ41: =IF(AJ35<AJ36,AJ35,AJ36) -> 1.8056538 | AK41: m | AN41: Wmax | AO41: =IF(AO35<AO36,AO35,AO36) -> 1.6345351 | AP41: m | AS41: Wmax | AT41: =IF(AT35<AT36,AT35,AT36) -> 1.9146199 | AU41: m | AX41: Wmax | AY41: =IF(AY35<AY36,AY35,AY36) -> 1.6216631 | AZ41: m | BC41: Wmax | BD41: =IF(BD35<BD36,BD35,BD36) -> 1.4319028 | BE41: m | BH41: Wmax | BI41: =IF(BI35<BI36,BI35,BI36) -> 1.2962038 | BJ41: m
E42: L,W Vsp.min | F42: =(0.2529+2.7683*10^-4*F28)*SQRT(F$21)/$F$4*$F$5*$F$7/$F$8 -> 1.6449868 | J42: L,W Vsp.min | K42: =(0.2529+2.7683*10^-4*K28)*SQRT(F$21)/$F$4*$F$5*$F$7/$F$8 -> 1.6426054 | O42: L,W Vsp.min | P42: =(0.2529+2.7683*10^-4*P28)*SQRT(F$21)/$F$4*$F$5*$F$7/$F$8 -> 1.6416241 | T42: L,W Vsp.min | U42: =(0.2529+2.7683*10^-4*U28)*SQRT(F$21)/$F$4*$F$5*$F$7/$F$8 -> 1.6411277 | Y42: L,W Vsp.min | Z42: =(0.2529+2.7683*10^-4*Z28)*SQRT(Z$15)/$F$4*$F$5*$F$7/$F$8 -> 1.6420356 | AD42: L,W Vsp.min | AE42: =(0.2529+2.7683*10^-4*AE28)*SQRT(Z$15)/$F$4*$F$5*$F$7/$F$8 -> 1.6411017 | AI42: L,W Vsp.min | AJ42: =(0.2529+2.7683*10^-4*AJ28)*SQRT(Z$15)/$F$4*$F$5*$F$7/$F$8 -> 1.6407168 | AN42: L,W Vsp.min | AO42: =(0.2529+2.7683*10^-4*AO28)*SQRT(Z$15)/$F$4*$F$5*$F$7/$F$8 -> 1.6405222 | AS42: L,W Vsp.min | AT42: =(0.2529+2.7683*10^-4*AT28)*SQRT(AT$15)/$F$4*$F$5*$F$7/$F$8 -> 1.6408741 | AX42: L,W Vsp.min | AY42: =(0.2529+2.7683*10^-4*AY28)*SQRT(AT$15)/$F$4*$F$5*$F$7/$F$8 -> 1.6405099 | BC42: L,W Vsp.min | BD42: =(0.2529+2.7683*10^-4*BD28)*SQRT(AT$15)/$F$4*$F$5*$F$7/$F$8 -> 1.6403598 | BH42: L,W Vsp.min | BI42: =(0.2529+2.7683*10^-4*BI28)*SQRT(AT$15)/$F$4*$F$5*$F$7/$F$8 -> 1.6402839
E43: L,W Vsp.max | F43: =(0.675+9.273*10^-3*F28)*SQRT(F$21)*$F$4*$F$6/$F$7*$F$8 -> 3.0097622 | J43: L,W Vsp.max | K43: =(0.675+9.273*10^-3*K28)*SQRT(F$21)*$F$4*$F$6/$F$7*$F$8 -> 2.9568806 | O43: L,W Vsp.max | P43: =(0.675+9.273*10^-3*P28)*SQRT(F$21)*$F$4*$F$6/$F$7*$F$8 -> 2.9350897 | T43: L,W Vsp.max | U43: =(0.675+9.273*10^-3*U28)*SQRT(F$21)*$F$4*$F$6/$F$7*$F$8 -> 2.9240686 | Y43: L,W Vsp.max | Z43: =(0.675+9.273*10^-3*Z28)*SQRT(Z$15)*$F$4*$F$6/$F$7*$F$8 -> 2.944228 | AD43: L,W Vsp.max | AE43: =(0.675+9.273*10^-3*AE28)*SQRT(Z$15)*$F$4*$F$6/$F$7*$F$8 -> 2.92349 | AI43: L,W Vsp.max | AJ43: =(0.675+9.273*10^-3*AJ28)*SQRT(Z$15)*$F$4*$F$6/$F$7*$F$8 -> 2.9149444 | AN43: L,W Vsp.max | AO43: =(0.675+9.273*10^-3*AO28)*SQRT(Z$15)*$F$4*$F$6/$F$7*$F$8 -> 2.9106225 | AS43: L,W Vsp.max | AT43: =(0.675+9.273*10^-3*AT28)*SQRT(AT$15)*$F$4*$F$6/$F$7*$F$8 -> 2.9184356 | AX43: L,W Vsp.max | AY43: =(0.675+9.273*10^-3*AY28)*SQRT(AT$15)*$F$4*$F$6/$F$7*$F$8 -> 2.9103484 | BC43: L,W Vsp.max | BD43: =(0.675+9.273*10^-3*BD28)*SQRT(AT$15)*$F$4*$F$6/$F$7*$F$8 -> 2.9070159 | BH43: L,W Vsp.max | BI43: =(0.675+9.273*10^-3*BI28)*SQRT(AT$15)*$F$4*$F$6/$F$7*$F$8 -> 2.9053304
E44: L,W throw max | F44: =IF(($F$3*(F$21*10^-3)/SQRT($D$15*10^-3*F$26*10^-3)*$F$4/$F$6^2*$F$8)<(4*$F$18*$F$8),($F$3*(F$21*10^-3)/SQRT($D$15*10^-3*F$26*10^-3)*$F$4/$F$6^2*$F$8),(4*$F$18*$F$8)) -> 2.308775 | J44: L,W throw max | K44: =IF(($F$3*(F$21*10^-3)/SQRT($D$15*10^-3*$K$26*10^-3)*$F$4/$F$6^2*$F$8)<(4*$F$18*$F$8),($F$3*(F$21*10^-3)/SQRT($D$15*10^-3*$K$26*10^-3)*$F$4/$F$6^2*$F$8),(4*$F$18*$F$8)) -> 1.9555083 | O44: L,W throw max | P44: =IF(($F$3*(F$21*10^-3)/SQRT($D$15*10^-3*$P$26*10^-3)*$F$4/$F$6^2*$F$8)<(4*$F$18*$F$8),($F$3*(F$21*10^-3)/SQRT($D$15*10^-3*$P$26*10^-3)*$F$4/$F$6^2*$F$8),(4*$F$18*$F$8)) -> 1.7266829 | T44: L,W throw max | U44: =IF(($F$3*(F$21*10^-3)/SQRT($D$15*10^-3*$U$26*10^-3)*$F$4/$F$6^2*$F$8)<(4*$F$18*$F$8),($F$3*(F$21*10^-3)/SQRT($D$15*10^-3*$U$26*10^-3)*$F$4/$F$6^2*$F$8),(4*$F$18*$F$8)) -> 1.5630481 | Y44: L,W throw max | Z44: =IF(($F$3*(Z$15*10^-3)/SQRT($X$15*10^-3*$Z$26*10^-3)*$F$4/$F$6^2*$F$8)<(4*$F$18*$F$8),($F$3*(Z$15*10^-3)/SQRT($X$15*10^-3*$Z$26*10^-3)*$F$4/$F$6^2*$F$8),(4*$F$18*$F$8)) -> 1.8334074 | AD44: L,W throw max | AE44: =IF(($F$3*(Z$15*10^-3)/SQRT($X$15*10^-3*$AE$26*10^-3)*$F$4/$F$6^2*$F$8)<(4*$F$18*$F$8),($F$3*(Z$15*10^-3)/SQRT($X$15*10^-3*$AE$26*10^-3)*$F$4/$F$6^2*$F$8),(4*$F$18*$F$8)) -> 1.5528769 | AI44: L,W throw max | AJ44: =IF(($F$3*(Z$15*10^-3)/SQRT($X$15*10^-3*$AJ$26*10^-3)*$F$4/$F$6^2*$F$8)<(4*$F$18*$F$8),($F$3*(Z$15*10^-3)/SQRT($X$15*10^-3*$AJ$26*10^-3)*$F$4/$F$6^2*$F$8),(4*$F$18*$F$8)) -> 1.3711657 | AN44: L,W throw max | AO44: =IF(($F$3*(Z$15*10^-3)/SQRT($X$15*10^-3*$AO$26*10^-3)*$F$4/$F$6^2*$F$8)<(4*$F$18*$F$8),($F$3*(Z$15*10^-3)/SQRT($X$15*10^-3*$AO$26*10^-3)*$F$4/$F$6^2*$F$8),(4*$F$18*$F$8)) -> 1.2412227 | AS44: L,W throw max | AT44: =IF(($F$3*(AT$15*10^-3)/SQRT($AR$15*10^-3*$AT$26*10^-3)*$F$4/$F$6^2*$F$8)<(4*$F$18*$F$8),($F$3*(AT$15*10^-3)/SQRT($AR$15*10^-3*$AT$26*10^-3)*$F$4/$F$6^2*$F$8),(4*$F$18*$F$8)) -> 1.4539117 | AX44: L,W throw max | AY44: =IF(($F$3*(AT$15*10^-3)/SQRT($AR$15*10^-3*$AY$26*10^-3)*$F$4/$F$6^2*$F$8)<(4*$F$18*$F$8),($F$3*(AT$15*10^-3)/SQRT($AR$15*10^-3*$AY$26*10^-3)*$F$4/$F$6^2*$F$8),(4*$F$18*$F$8)) -> 1.231448 | BC44: L,W throw max | BD44: =IF(($F$3*(AT$15*10^-3)/SQRT($AR$15*10^-3*$BD$26*10^-3)*$F$4/$F$6^2*$F$8)<(4*$F$18*$F$8),($F$3*(AT$15*10^-3)/SQRT($AR$15*10^-3*$BD$26*10^-3)*$F$4/$F$6^2*$F$8),(4*$F$18*$F$8)) -> 1.0873491 | BH44: L,W throw max | BI44: =IF(($F$3*(AT$15*10^-3)/SQRT($AR$15*10^-3*$BI$26*10^-3)*$F$4/$F$6^2*$F$8)<(4*$F$18*$F$8),($F$3*(AT$15*10^-3)/SQRT($AR$15*10^-3*$BI$26*10^-3)*$F$4/$F$6^2*$F$8),(4*$F$18*$F$8)) -> 0.98430286
E45: Lmin | F45: =F42 -> 1.6449868 | G45: m | J45: Lmin | K45: =K42 -> 1.6426054 | L45: m | O45: Lmin | P45: =P42 -> 1.6416241 | Q45: m | T45: Lmin | U45: =U42 -> 1.6411277 | V45: m | Y45: Lmin | Z45: =Z42 -> 1.6420356 | AA45: m | AD45: Lmin | AE45: =AE42 -> 1.6411017 | AF45: m | AI45: Lmin | AJ45: =AJ42 -> 1.6407168 | AK45: m | AN45: Lmin | AO45: =AO42 -> 1.6405222 | AP45: m | AS45: Lmin | AT45: =AT42 -> 1.6408741 | AU45: m | AX45: Lmin | AY45: =AY42 -> 1.6405099 | AZ45: m | BC45: Lmin | BD45: =BD42 -> 1.6403598 | BE45: m | BH45: Lmin | BI45: =BI42 -> 1.6402839 | BJ45: m
C46: 99 | D46: M | E46: Lmax | F46: =IF(F43<F44,F43,F44) -> 2.308775 | G46: m | H46: 138 | I46: M | J46: Lmax | K46: =IF(K43<K44,K43,K44) -> 1.9555083 | L46: m | M46: 177 | N46: M | O46: Lmax | P46: =IF(P43<P44,P43,P44) -> 1.7266829 | Q46: m | R46: 216 | S46: M | T46: Lmax | U46: =IF(U43<U44,U43,U44) -> 1.5630481 | V46: m | W46: 99 | X46: M | Y46: Lmax | Z46: =IF(Z43<Z44,Z43,Z44) -> 1.8334074 | AA46: m | AB46: 138 | AC46: M | AD46: Lmax | AE46: =IF(AE43<AE44,AE43,AE44) -> 1.5528769 | AF46: m | AG46: 177 | AH46: M | AI46: Lmax | AJ46: =IF(AJ43<AJ44,AJ43,AJ44) -> 1.3711657 | AK46: m | AL46: 216 | AM46: M | AN46: Lmax | AO46: =IF(AO43<AO44,AO43,AO44) -> 1.2412227 | AP46: m | AQ46: 99 | AR46: M | AS46: Lmax | AT46: =IF(AT43<AT44,AT43,AT44) -> 1.4539117 | AU46: m | AV46: 138 | AW46: M | AX46: Lmax | AY46: =IF(AY43<AY44,AY43,AY44) -> 1.231448 | AZ46: m | BA46: 177 | BB46: M | BC46: Lmax | BD46: =IF(BD43<BD44,BD43,BD44) -> 1.0873491 | BE46: m | BF46: 216 | BG46: M | BH46: Lmax | BI46: =IF(BI43<BI44,BI43,BI44) -> 0.98430286 | BJ46: m
C47: (1-row) | D47: Medium | E47: Wmin | F47: =F42 -> 1.6449868 | G47: m | H47: (2-row) | I47: Medium | J47: Wmin | K47: =K42 -> 1.6426054 | L47: m | M47: (3-row) | N47: Medium | O47: Wmin | P47: =P42 -> 1.6416241 | Q47: m | R47: (4-row) | S47: Medium | T47: Wmin | U47: =U42 -> 1.6411277 | V47: m | W47: (1-row) | X47: Medium | Y47: Wmin | Z47: =Z42 -> 1.6420356 | AA47: m | AB47: (2-row) | AC47: Medium | AD47: Wmin | AE47: =AE42 -> 1.6411017 | AF47: m | AG47: (3-row) | AH47: Medium | AI47: Wmin | AJ47: =AJ42 -> 1.6407168 | AK47: m | AL47: (4-row) | AM47: Medium | AN47: Wmin | AO47: =AO42 -> 1.6405222 | AP47: m | AQ47: (1-row) | AR47: Medium | AS47: Wmin | AT47: =AT42 -> 1.6408741 | AU47: m | AV47: (2-row) | AW47: Medium | AX47: Wmin | AY47: =AY42 -> 1.6405099 | AZ47: m | BA47: (3-row) | BB47: Medium | BC47: Wmin | BD47: =BD42 -> 1.6403598 | BE47: m | BF47: (4-row) | BG47: Medium | BH47: Wmin | BI47: =BI42 -> 1.6402839 | BJ47: m
E48: Wmax | F48: =IF(F43<F44,F43,F44) -> 2.308775 | G48: m | J48: Wmax | K48: =IF(K43<K44,K43,K44) -> 1.9555083 | L48: m | O48: Wmax | P48: =IF(P43<P44,P43,P44) -> 1.7266829 | Q48: m | T48: Wmax | U48: =IF(U43<U44,U43,U44) -> 1.5630481 | V48: m | Y48: Wmax | Z48: =IF(Z43<Z44,Z43,Z44) -> 1.8334074 | AA48: m | AD48: Wmax | AE48: =IF(AE43<AE44,AE43,AE44) -> 1.5528769 | AF48: m | AI48: Wmax | AJ48: =IF(AJ43<AJ44,AJ43,AJ44) -> 1.3711657 | AK48: m | AN48: Wmax | AO48: =IF(AO43<AO44,AO43,AO44) -> 1.2412227 | AP48: m | AS48: Wmax | AT48: =IF(AT43<AT44,AT43,AT44) -> 1.4539117 | AU48: m | AX48: Wmax | AY48: =IF(AY43<AY44,AY43,AY44) -> 1.231448 | AZ48: m | BC48: Wmax | BD48: =IF(BD43<BD44,BD43,BD44) -> 1.0873491 | BE48: m | BH48: Wmax | BI48: =IF(BI43<BI44,BI43,BI44) -> 0.98430286 | BJ48: m
E49: L Vsp.min | F49: =1.07*1.22*F42 -> 2.1473658 | J49: L Vsp.min | K49: =1.07*1.22*K42 -> 2.1442571 | O49: L Vsp.min | P49: =1.07*1.22*P42 -> 2.142976 | T49: L Vsp.min | U49: =1.07*1.22*U42 -> 2.1423281 | Y49: L Vsp.min | Z49: =1.07*1.22*Z42 -> 2.1435132 | AD49: L Vsp.min | AE49: =1.07*1.22*AE42 -> 2.1422941 | AI49: L Vsp.min | AJ49: =1.07*1.22*AJ42 -> 2.1417918 | AN49: L Vsp.min | AO49: =1.07*1.22*AO42 -> 2.1415377 | AS49: L Vsp.min | AT49: =1.07*1.22*AT42 -> 2.141997 | AX49: L Vsp.min | AY49: =1.07*1.22*AY42 -> 2.1415216 | BC49: L Vsp.min | BD49: =1.07*1.22*BD42 -> 2.1413257 | BH49: L Vsp.min | BI49: =1.07*1.22*BI42 -> 2.1412266
E50: L Vsp.max | F50: =1.07*1.22*F43 -> 3.9289436 | J50: L Vsp.max | K50: =1.07*1.22*K43 -> 3.8599119 | O50: L Vsp.max | P50: =1.07*1.22*P43 -> 3.831466 | T50: L Vsp.max | U50: =1.07*1.22*U43 -> 3.8170792 | Y50: L Vsp.max | Z50: =1.07*1.22*Z43 -> 3.8433952 | AD50: L Vsp.max | AE50: =1.07*1.22*AE43 -> 3.8163238 | AI50: L Vsp.max | AJ50: =1.07*1.22*AJ43 -> 3.8051685 | AN50: L Vsp.max | AO50: =1.07*1.22*AO43 -> 3.7995266 | AS50: L Vsp.max | AT50: =1.07*1.22*AT43 -> 3.8097259 | AX50: L Vsp.max | AY50: =1.07*1.22*AY43 -> 3.7991688 | BC50: L Vsp.max | BD50: =1.07*1.22*BD43 -> 3.7948186 | BH50: L Vsp.max | BI50: =1.07*1.22*BI43 -> 3.7926184
E51: L throw max | F51: =1.07*1.22*F44 -> 3.0138749 | J51: L throw max | K51: =1.07*1.22*K44 -> 2.5527206 | O51: L throw max | P51: =1.07*1.22*P44 -> 2.2540118 | T51: L throw max | U51: =1.07*1.22*U44 -> 2.040403 | Y51: L throw max | Z51: =1.07*1.22*Z44 -> 2.39333 | AD51: L throw max | AE51: =1.07*1.22*AE44 -> 2.0271255 | AI51: L throw max | AJ51: =1.07*1.22*AJ44 -> 1.7899197 | AN51: L throw max | AO51: =1.07*1.22*AO44 -> 1.6202921 | AS51: L throw max | AT51: =1.07*1.22*AT44 -> 1.8979363 | AX51: L throw max | AY51: =1.07*1.22*AY44 -> 1.6075322 | BC51: L throw max | BD51: =1.07*1.22*BD44 -> 1.4194255 | BH51: L throw max | BI51: =1.07*1.22*BI44 -> 1.2849089
E52: W Vsp.min | F52: =1.07*0.707*F42 -> 1.2444161 | J52: W Vsp.min | K52: =1.07*0.707*K42 -> 1.2426145 | O52: W Vsp.min | P52: =1.07*0.707*P42 -> 1.2418722 | T52: W Vsp.min | U52: =1.07*0.707*U42 -> 1.2414967 | Y52: W Vsp.min | Z52: =1.07*0.707*Z42 -> 1.2421835 | AD52: W Vsp.min | AE52: =1.07*0.707*AE42 -> 1.241477 | AI52: W Vsp.min | AJ52: =1.07*0.707*AJ42 -> 1.2411859 | AN52: W Vsp.min | AO52: =1.07*0.707*AO42 -> 1.2410386 | AS52: W Vsp.min | AT52: =1.07*0.707*AT42 -> 1.2413048 | AX52: W Vsp.min | AY52: =1.07*0.707*AY42 -> 1.2410293 | BC52: W Vsp.min | BD52: =1.07*0.707*BD42 -> 1.2409158 | BH52: W Vsp.min | BI52: =1.07*0.707*BI42 -> 1.2408584
E53: W Vsp.max | F53: =1.07*0.707*F43 -> 2.276855 | J53: W Vsp.max | K53: =1.07*0.707*K43 -> 2.2368506 | O53: W Vsp.max | P53: =1.07*0.707*P43 -> 2.220366 | T53: W Vsp.max | U53: =1.07*0.707*U43 -> 2.2120287 | Y53: W Vsp.max | Z53: =1.07*0.707*Z43 -> 2.227279 | AD53: W Vsp.max | AE53: =1.07*0.707*AE43 -> 2.2115909 | AI53: W Vsp.max | AJ53: =1.07*0.707*AJ43 -> 2.2051263 | AN53: W Vsp.max | AO53: =1.07*0.707*AO43 -> 2.2018568 | AS53: W Vsp.max | AT53: =1.07*0.707*AT43 -> 2.2077674 | AX53: W Vsp.max | AY53: =1.07*0.707*AY43 -> 2.2016495 | BC53: W Vsp.max | BD53: =1.07*0.707*BD43 -> 2.1991285 | BH53: W Vsp.max | BI53: =1.07*0.707*BI43 -> 2.1978534
E54: W throw max | F54: =1.07*0.707*F44 -> 1.7465652 | J54: W throw max | K54: =1.07*0.707*K44 -> 1.4793225 | O54: W throw max | P54: =1.07*0.707*P44 -> 1.3062183 | T54: W throw max | U54: =1.07*0.707*U44 -> 1.1824302 | Y54: W throw max | Z54: =1.07*0.707*Z44 -> 1.3869543 | AD54: W throw max | AE54: =1.07*0.707*AE44 -> 1.1747358 | AI54: W throw max | AJ54: =1.07*0.707*AJ44 -> 1.0372731 | AN54: W throw max | AO54: =1.07*0.707*AO44 -> 0.93897253 | AS54: W throw max | AT54: =1.07*0.707*AT44 -> 1.0998696 | AX54: W throw max | AY54: =1.07*0.707*AY44 -> 0.9315781 | BC54: W throw max | BD54: =1.07*0.707*BD44 -> 0.8225687 | BH54: W throw max | BI54: =1.07*0.707*BI44 -> 0.74461527
E55: Lmin | F55: =F49 -> 2.1473658 | G55: m | J55: Lmin | K55: =K49 -> 2.1442571 | L55: m | O55: Lmin | P55: =P49 -> 2.142976 | Q55: m | T55: Lmin | U55: =U49 -> 2.1423281 | V55: m | Y55: Lmin | Z55: =Z49 -> 2.1435132 | AA55: m | AD55: Lmin | AE55: =AE49 -> 2.1422941 | AF55: m | AI55: Lmin | AJ55: =AJ49 -> 2.1417918 | AK55: m | AN55: Lmin | AO55: =AO49 -> 2.1415377 | AP55: m | AS55: Lmin | AT55: =AT49 -> 2.141997 | AU55: m | AX55: Lmin | AY55: =AY49 -> 2.1415216 | AZ55: m | BC55: Lmin | BD55: =BD49 -> 2.1413257 | BE55: m | BH55: Lmin | BI55: =BI49 -> 2.1412266 | BJ55: m
D56: L | E56: Lmax | F56: =IF(F50<F51,F50,F51) -> 3.0138749 | G56: m | I56: L | J56: Lmax | K56: =IF(K50<K51,K50,K51) -> 2.5527206 | L56: m | N56: L | O56: Lmax | P56: =IF(P50<P51,P50,P51) -> 2.2540118 | Q56: m | S56: L | T56: Lmax | U56: =IF(U50<U51,U50,U51) -> 2.040403 | V56: m | X56: L | Y56: Lmax | Z56: =IF(Z50<Z51,Z50,Z51) -> 2.39333 | AA56: m | AC56: L | AD56: Lmax | AE56: =IF(AE50<AE51,AE50,AE51) -> 2.0271255 | AF56: m | AH56: L | AI56: Lmax | AJ56: =IF(AJ50<AJ51,AJ50,AJ51) -> 1.7899197 | AK56: m | AM56: L | AN56: Lmax | AO56: =IF(AO50<AO51,AO50,AO51) -> 1.6202921 | AP56: m | AR56: L | AS56: Lmax | AT56: =IF(AT50<AT51,AT50,AT51) -> 1.8979363 | AU56: m | AW56: L | AX56: Lmax | AY56: =IF(AY50<AY51,AY50,AY51) -> 1.6075322 | AZ56: m | BB56: L | BC56: Lmax | BD56: =IF(BD50<BD51,BD50,BD51) -> 1.4194255 | BE56: m | BG56: L | BH56: Lmax | BI56: =IF(BI50<BI51,BI50,BI51) -> 1.2849089 | BJ56: m
D57: Long | E57: Wmin | F57: =F52 -> 1.2444161 | G57: m | I57: Long | J57: Wmin | K57: =K52 -> 1.2426145 | L57: m | N57: Long | O57: Wmin | P57: =P52 -> 1.2418722 | Q57: m | S57: Long | T57: Wmin | U57: =U52 -> 1.2414967 | V57: m | X57: Long | Y57: Wmin | Z57: =Z52 -> 1.2421835 | AA57: m | AC57: Long | AD57: Wmin | AE57: =AE52 -> 1.241477 | AF57: m | AH57: Long | AI57: Wmin | AJ57: =AJ52 -> 1.2411859 | AK57: m | AM57: Long | AN57: Wmin | AO57: =AO52 -> 1.2410386 | AP57: m | AR57: Long | AS57: Wmin | AT57: =AT52 -> 1.2413048 | AU57: m | AW57: Long | AX57: Wmin | AY57: =AY52 -> 1.2410293 | AZ57: m | BB57: Long | BC57: Wmin | BD57: =BD52 -> 1.2409158 | BE57: m | BG57: Long | BH57: Wmin | BI57: =BI52 -> 1.2408584 | BJ57: m
E58: Wmax | F58: =IF(F53<F54,F53,F54) -> 1.7465652 | G58: m | J58: Wmax | K58: =IF(K53<K54,K53,K54) -> 1.4793225 | L58: m | O58: Wmax | P58: =IF(P53<P54,P53,P54) -> 1.3062183 | Q58: m | T58: Wmax | U58: =IF(U53<U54,U53,U54) -> 1.1824302 | V58: m | Y58: Wmax | Z58: =IF(Z53<Z54,Z53,Z54) -> 1.3869543 | AA58: m | AD58: Wmax | AE58: =IF(AE53<AE54,AE53,AE54) -> 1.1747358 | AF58: m | AI58: Wmax | AJ58: =IF(AJ53<AJ54,AJ53,AJ54) -> 1.0372731 | AK58: m | AN58: Wmax | AO58: =IF(AO53<AO54,AO53,AO54) -> 0.93897253 | AP58: m | AS58: Wmax | AT58: =IF(AT53<AT54,AT53,AT54) -> 1.0998696 | AU58: m | AX58: Wmax | AY58: =IF(AY53<AY54,AY53,AY54) -> 0.9315781 | AZ58: m | BC58: Wmax | BD58: =IF(BD53<BD54,BD53,BD54) -> 0.8225687 | BE58: m | BH58: Wmax | BI58: =IF(BI53<BI54,BI53,BI54) -> 0.74461527 | BJ58: m
F59: 1 | K59: 2 | P59: 3 | U59: 4 | Z59: 5 | AE59: 6 | AJ59: 7 | AO59: 8 | AT59: 9 | AY59: 10 | BD59: 11 | BI59: 12
F60: =F21*SQRT('BMW-AD-Std Size Calculator'!$E$12/'DN600, DN950, DN1500 Calculator'!F28) -> 92.517095 | K60: =$F$21*SQRT('BMW-AD-Std Size Calculator'!$E$12/'DN600, DN950, DN1500 Calculator'!K28) -> 129.61163 | P60: =$F$21*SQRT('BMW-AD-Std Size Calculator'!$E$12/'DN600, DN950, DN1500 Calculator'!P28) -> 166.86696 | U60: =$F$21*SQRT('BMW-AD-Std Size Calculator'!$E$12/'DN600, DN950, DN1500 Calculator'!U28) -> 204.24748 | Z60: =$F$21*SQRT('BMW-AD-Std Size Calculator'!$E$12/'DN600, DN950, DN1500 Calculator'!Z28) -> 147.73758 | AE60: =$F$21*SQRT('BMW-AD-Std Size Calculator'!$E$12/'DN600, DN950, DN1500 Calculator'!AE28) -> 206.97264 | AJ60: =$F$21*SQRT('BMW-AD-Std Size Calculator'!$E$12/'DN600, DN950, DN1500 Calculator'!AJ28) -> 266.4645 | AO60: =$F$21*SQRT('BMW-AD-Std Size Calculator'!$E$12/'DN600, DN950, DN1500 Calculator'!AO28) -> 326.15624 | AT60: =$F$21*SQRT('BMW-AD-Std Size Calculator'!$E$12/'DN600, DN950, DN1500 Calculator'!AT28) -> 236.57816 | AY60: =$F$21*SQRT('BMW-AD-Std Size Calculator'!$E$12/'DN600, DN950, DN1500 Calculator'!AY28) -> 331.43367 | BD60: =$F$21*SQRT('BMW-AD-Std Size Calculator'!$E$12/'DN600, DN950, DN1500 Calculator'!BD28) -> 426.70037 | BI60: =$F$21*SQRT('BMW-AD-Std Size Calculator'!$E$12/'DN600, DN950, DN1500 Calculator'!BI28) -> 522.28718
A64: VAV
D66: FACTORS: | E66: K.l.min | F66: 7 | X66: FACTORS: | Y66: K.l.min | Z66: =$F66 -> 7 | AR66: FACTORS: | AS66: K.l.min | AT66: =$F66 -> 7
E67: K.l.max | F67: 21 | Y67: K.l.max | Z67: =$F67 -> 21 | AS67: K.l.max | AT67: =$F67 -> 21
E68: K.dT | F68: =SQRT(ABS(12/F83)) -> 1 | G68: -12 K / dT | Y68: K.dT | Z68: =$F68 -> 1 | AA68: -12 K / dT | AS68: K.dT | AT68: =$F68 -> 1 | AU68: -12 K / dT
E69: K.H.min(sp) | F69: =SQRT(1.209*F82^-0.199) -> 1.0037328 | G69: Increased draught risk as height increases, Fig 8, Krantz Layout Criteria TB 69 E | Y69: K.H.min(sp) | Z69: =$F69 -> 1.0037328 | AA69: Increased draught risk as height increases, Fig 8, Krantz Layout Criteria TB 69 E | AS69: K.H.min(sp) | AT69: =$F69 -> 1.0037328 | AU69: Increased draught risk as height increases, Fig 8, Krantz Layout Criteria TB 69 E
E70: K.H.max(vol) | F70: =SQRT(2.5/F82) -> 1 | G70: Reduce max throw with height to maintain constant volume to prevent stagnation | Y70: K.H.max(vol) | Z70: =$F70 -> 1 | AA70: Reduce max throw with height to maintain constant volume to prevent stagnation | AS70: K.H.max(vol) | AT70: =$F70 -> 1 | AU70: Reduce max throw with height to maintain constant volume to prevent stagnation
E71: K.2D/3D | F71: =SQRT(195/145) -> 1.159667 | G71: Fig 8 / Fig 7 @ 0.25, Krantz Layout Criteria TB 69 E | Y71: K.2D/3D | Z71: =$F71 -> 1.159667 | AA71: Fig 8 / Fig 7 @ 0.25, Krantz Layout Criteria TB 69 E | AS71: K.2D/3D | AT71: =$F71 -> 1.159667 | AU71: Fig 8 / Fig 7 @ 0.25, Krantz Layout Criteria TB 69 E
E72: K.adpi | F72: =SQRT(19.92*F73^2.153) -> 0.94595467 | G72: Adjustment factor for ADPI | Y72: K.adpi | Z72: =$F72 -> 0.94595467 | AA72: Adjustment factor for ADPI | AS72: K.adpi | AT72: =$F72 -> 0.94595467 | AU72: Adjustment factor for ADPI
E73: v.room ≤ | F73: =0.679-4.915*10^-3*F84 -> 0.23665 | G73: m/s, Krantz Layout Criteria TB 69 E | Y73: v.room ≤ | Z73: =$F73 -> 0.23665 | AA73: m/s, Krantz Layout Criteria TB 69 E | AS73: v.room ≤ | AT73: =$F73 -> 0.23665 | AU73: m/s, Krantz Layout Criteria TB 69 E
E74: K.h.min | F74: 1.9 | Y74: K.h.min | Z74: =$F74 -> 1.9 | AS74: K.h.min | AT74: =$F74 -> 1.9
Z75: INPUT | AT75: INPUT
Y76: H.diffuser = | Z76: =$F82 -> 2.5 | AA76: m | AS76: H.diffuser = | AT76: =$F82 -> 2.5 | AU76: m
C77: PMW- | D77: W.neck | W77: PMW- | X77: W.neck | Y77: dT(cooling) = | Z77: =$F83 -> -12 | AA77: K | AQ77: PMW- | AR77: W.neck | AS77: dT(cooling) = | AT77: =$F83 -> -12 | AU77: K
C78: AD- | D78: mm | W78: AD- | X78: mm | Y78: ADPI ³ | Z78: =$F84 -> 90 | AA78: % | AQ78: AD- | AR78: mm | AS78: ADPI ³ | AT78: =$F84 -> 90 | AU78: %
C79: DN 600 | D79: 577 | W79: DN 950 | X79: 915 | Y79: = | Z79: =$F86 -> 27.777778 | AA79: L/s | AQ79: DN 1500 | AR79: 1455 | AS79: = | AT79: =$F86 -> 27.777778 | AU79: L/s
F81: INPUT
E82: H.diffuser = | F82: =F18 -> 2.5 | G82: m | K82: m | P82: Height to Diffuser Centre-Line = 2.0 to 4.5 m
E83: dT(cooling) = | F83: =F19 -> -12 | G83: K | K83: K | P83: dT = -8 K to -12 K
E84: ADPI ³ | F84: =F20 -> 90 | G84: % | K84: % | P84: 70%, 80%, 90% or 95%
E85: Turndown to | F85: ='BMW-AD-Std Size Calculator'!E10 -> 100 | K85: %
E86: = | F86: =F21*F85/100 -> 27.777778 | G86: L/s | K86: L/s
E87: BMW-AD- | F87: DN600 | Y87: BMW-AD- | Z87: DN950 | AS87: BMW-AD- | AT87: DN1500
E88: W.n | F88: =D79 -> 577 | G88: mm | Y88: W.n | Z88: =X79 -> 915 | AA88: mm | AS88: W.n | AT88: =AR79 -> 1455 | AU88: mm | BJ88: mm
E89: W.f | F89: =F88+35 -> 612 | G89: mm | Z89: =Z88+35 -> 950 | AT89: =AT88+35 -> 1490 | BJ89: mm
E90: Rows | F90: 1 | K90: 2 | P90: 3 | U90: 4 | Z90: 1 | AE90: 2 | AJ90: 3 | AO90: 4 | AT90: 1 | AY90: 2 | BD90: 3 | BI90: 4
E91: H.c | F91: 99 | K91: 138 | P91: 177 | U91: 216 | Z91: 99 | AE91: 138 | AJ91: 177 | AO91: 216 | AT91: 99 | AY91: 138 | BD91: 177 | BI91: 216 | BJ91: mm
E92: H.f | F92: =F91+35 -> 134 | G92: =G91+35 -> 35 | H92: =H91+35 -> 35 | I92: =I91+35 -> 35 | J92: =J91+35 -> 35 | K92: =K91+35 -> 173 | L92: =L91+35 -> 35 | M92: =M91+35 -> 35 | ... BI92: =BI91+35 -> 251 | BJ92: mm
E93: Pt | F93: =1.359*10^-3*(F$86/($D$79*10^-3*$C111*10^-3)*(0.507*0.171))^2.0302 -> 2.7044084 | G93: Pa | J93: Pt | K93: =1.359*10^-3*(F$86/($D$79*10^-3*$H111*10^-3)*(0.507*0.171))^2.0302 -> 1.3779337 | L93: Pa | O93: Pt | P93: =1.359*10^-3*(F$86/($D$79*10^-3*$M111*10^-3)*(0.507*0.171))^2.0302 -> 0.83133396 | Q93: Pa | T93: Pt | U93: =1.359*10^-3*(F$86/($D$79*10^-3*$R111*10^-3)*(0.507*0.171))^2.0302 -> 0.55488482 | V93: Pa | Y93: Pt | Z93: =1.359*10^-3*(Z$79/($X$79*10^-3*$Z91*10^-3)*(0.507*0.171))^2.0302 -> 1.0605577 | AA93: Pa | AD93: Pt | AE93: =1.359*10^-3*(Z$79/($X$79*10^-3*$AE91*10^-3)*(0.507*0.171))^2.0302 -> 0.54036891 | AF93: Pa | AI93: Pt | AJ93: =1.359*10^-3*(Z$79/($X$79*10^-3*$AJ91*10^-3)*(0.507*0.171))^2.0302 -> 0.32601498 | AK93: Pa | AN93: Pt | AO93: =1.359*10^-3*(Z$79/($X$79*10^-3*$AO91*10^-3)*(0.507*0.171))^2.0302 -> 0.217603 | AP93: Pa | AS93: Pt | AT93: =1.359*10^-3*(AT$79/($AR$79*10^-3*$AT91*10^-3)*(0.507*0.171))^2.0302 -> 0.41358708 | AU93: Pa | AX93: Pt | AY93: =1.359*10^-3*(AT$79/($AR$79*10^-3*$AY91*10^-3)*(0.507*0.171))^2.0302 -> 0.21072837 | AZ93: Pa | BC93: Pt | BD93: =1.359*10^-3*(AT$79/($AR$79*10^-3*$BD91*10^-3)*(0.507*0.171))^2.0302 -> 0.12713649 | BE93: Pa | BH93: Pt | BI93: =1.359*10^-3*(AT$79/($AR$79*10^-3*$BI91*10^-3)*(0.507*0.171))^2.0302 -> 0.084858925 | BJ93: Pa
C94: H.neck | D94: Throw | E94: Lw | F94: =-114.08+32.01*LN(F$86/($D$79*$C111)*(507*171))+10*LOG($D$79*$C111/(507*171)) -> 3.871845 | G94: dB(A) | H94: H.neck | I94: Discharge | J94: Lw | K94: =IF(-114.08+32.01*LN(F$86/($D$79*$H111)*(507*171))+10*LOG($D$79*$H111/(507*171))<15,"<15",-114.08+32.01*LN(F$86/($D$79*$H111)*(507*171))+10*LOG($D$79*$H111/(507*171))) -> <15 | L94: dB(A) | M94: H.neck | N94: Discharge | O94: Lw | P94: =IF(-114.08+32.01*LN(F$86/($D$79*$M111)*(507*171))+10*LOG($D$79*$M111/(507*171))<15,"<15",-114.08+32.01*LN(F$86/($D$79*$M111)*(507*171))+10*LOG($D$79*$M111/(507*171))) -> <15 | Q94: dB(A) | R94: H.neck | S94: Discharge | T94: Lw | U94: =IF(-114.08+32.01*LN(F$86/($D$79*$R111)*(507*171))+10*LOG($D$79*$R111/(507*171))<15,"<15",-114.08+32.01*LN(F$86/($D$79*$R111)*(507*171))+10*LOG($D$79*$R111/(507*171))) -> <15 | V94: dB(A) | W94: H.neck | X94: Discharge | Y94: Lw | Z94: =IF(-114.08+32.01*LN(Z$79/($X$79*$Z91)*(507*171))+10*LOG($X$79*$Z91/(507*171))<15,"<15",-114.08+32.01*LN(Z$79/($X$79*$Z91)*(507*171))+10*LOG($X$79*$Z91/(507*171))) -> <15 | AA94: dB(A) | AB94: H.neck | AC94: Discharge | AD94: Lw | AE94: =IF(-114.08+32.01*LN(Z$79/($X$79*$AE91)*(507*171))+10*LOG($X$79*$AE91/(507*171))<15,"<15",-114.08+32.01*LN(Z$79/($X$79*$AE91)*(507*171))+10*LOG($X$79*$AE91/(507*171))) -> <15 | AF94: dB(A) | AG94: H.neck | AH94: Discharge | AI94: Lw | AJ94: =IF(-114.08+32.01*LN(Z$79/($X$79*$AJ91)*(507*171))+10*LOG($X$79*$AJ91/(507*171))<15,"<15",-114.08+32.01*LN(Z$79/($X$79*$AJ91)*(507*171))+10*LOG($X$79*$AJ91/(507*171))) -> <15 | AK94: dB(A) | AL94: H.neck | AM94: Discharge | AN94: Lw | AO94: =IF(-114.08+32.01*LN(Z$79/($X$79*$AO91)*(507*171))+10*LOG($X$79*$AO91/(507*171))<15,"<15",-114.08+32.01*LN(Z$79/($X$79*$AO91)*(507*171))+10*LOG($X$79*$AO91/(507*171))) -> <15 | AP94: dB(A) | AQ94: H.neck | AR94: Discharge | AS94: Lw | AT94: =IF(-114.08+32.01*LN(AT$79/($AR$79*$AT91)*(507*171))+10*LOG($AR$79*$AT91/(507*171))<15,"<15",-114.08+32.01*LN(AT$79/($AR$79*$AT91)*(507*171))+10*LOG($AR$79*$AT91/(507*171))) -> <15 | AU94: dB(A) | AV94: H.neck | AW94: Discharge | AX94: Lw | AY94: =IF(-114.08+32.01*LN(AT$79/($AR$79*$AY91)*(507*171))+10*LOG($AR$79*$AY91/(507*171))<15,"<15",-114.08+32.01*LN(AT$79/($AR$79*$AY91)*(507*171))+10*LOG($AR$79*$AY91/(507*171))) -> <15 | AZ94: dB(A) | BA94: H.neck | BB94: Discharge | BC94: Lw | BD94: =IF(-114.08+32.01*LN(AT$79/($AR$79*$BD91)*(507*171))+10*LOG($AR$79*$BD91/(507*171))<15,"<15",-114.08+32.01*LN(AT$79/($AR$79*$BD91)*(507*171))+10*LOG($AR$79*$BD91/(507*171))) -> <15 | BE94: dB(A) | BF94: H.neck | BG94: Discharge | BH94: Lw | BI94: =IF(-114.08+32.01*LN(AT$79/($AR$79*$BI91)*(507*171))+10*LOG($AR$79*$BI91/(507*171))<15,"<15",-114.08+32.01*LN(AT$79/($AR$79*$BI91)*(507*171))+10*LOG($AR$79*$BI91/(507*171))) -> <15 | BJ94: dB(A)
C95: mm | D95: Setting | E95: Lp* | F95: =IF(-15-114.08+32.01*LN(F$86/($D$79*$F91)*(507*171))+10*LOG($D$79*$F91/(507*171))<5,"<5",-15-114.08+32.01*LN(F$86/($D$79*$F91)*(507*171))+10*LOG($D$79*$F91/(507*171))) -> <5 | G95: NC* | H95: mm | I95: Setting | J95: Lp* | K95: =IF(-15-114.08+32.01*LN(F$86/($D$79*$K91)*(507*171))+10*LOG($D$79*$K91/(507*171))<5,"<5",-15-114.08+32.01*LN(F$86/($D$79*$K91)*(507*171))+10*LOG($D$79*$K91/(507*171))) -> <5 | L95: NC* | M95: mm | N95: Setting | O95: Lp* | P95: =IF(-15-114.08+32.01*LN(F$86/($D$79*$P91)*(507*171))+10*LOG($D$79*$P91/(507*171))<5,"<5",-15-114.08+32.01*LN(F$86/($D$79*$P91)*(507*171))+10*LOG($D$79*$P91/(507*171))) -> <5 | Q95: NC* | R95: mm | S95: Setting | T95: Lp* | U95: =IF(-15-114.08+32.01*LN(F$86/($D$79*$U91)*(507*171))+10*LOG($D$79*$U91/(507*171))<5,"<5",-15-114.08+32.01*LN(F$86/($D$79*$U91)*(507*171))+10*LOG($D$79*$U91/(507*171))) -> <5 | V95: NC* | W95: mm | X95: Setting | Y95: Lp* | Z95: =IF(-15-114.08+32.01*LN(Z$79/($X$79*$Z91)*(507*171))+10*LOG($X$79*$Z91/(507*171))<5,"<5",-15-114.08+32.01*LN(Z$79/($X$79*$Z91)*(507*171))+10*LOG($X$79*$Z91/(507*171))) -> <5 | AA95: NC* | AB95: mm | AC95: Setting | AD95: Lp* | AE95: =IF(-15-114.08+32.01*LN(Z$79/($X$79*$AE91)*(507*171))+10*LOG($X$79*$AE91/(507*171))<5,"<5",-15-114.08+32.01*LN(Z$79/($X$79*$AE91)*(507*171))+10*LOG($X$79*$AE91/(507*171))) -> <5 | AF95: NC* | AG95: mm | AH95: Setting | AI95: Lp* | AJ95: =IF(-15-114.08+32.01*LN(Z$79/($X$79*$AJ91)*(507*171))+10*LOG($X$79*$AJ91/(507*171))<5,"<5",-15-114.08+32.01*LN(Z$79/($X$79*$AJ91)*(507*171))+10*LOG($X$79*$AJ91/(507*171))) -> <5 | AK95: NC* | AL95: mm | AM95: Setting | AN95: Lp* | AO95: =IF(-15-114.08+32.01*LN(Z$79/($X$79*$AO91)*(507*171))+10*LOG($X$79*$AO91/(507*171))<5,"<5",-15-114.08+32.01*LN(Z$79/($X$79*$AO91)*(507*171))+10*LOG($X$79*$AO91/(507*171))) -> <5 | AP95: NC* | AQ95: mm | AR95: Setting | AS95: Lp* | AT95: =IF(-15-114.08+32.01*LN(AT$79/($AR$79*$AT91)*(507*171))+10*LOG($AR$79*$AT91/(507*171))<5,"<5",-15-114.08+32.01*LN(AT$79/($AR$79*$AT91)*(507*171))+10*LOG($AR$79*$AT91/(507*171))) -> <5 | AU95: NC* | AV95: mm | AW95: Setting | AX95: Lp* | AY95: =IF(-15-114.08+32.01*LN(AT$79/($AR$79*$AY91)*(507*171))+10*LOG($AR$79*$AY91/(507*171))<5,"<5",-15-114.08+32.01*LN(AT$79/($AR$79*$AY91)*(507*171))+10*LOG($AR$79*$AY91/(507*171))) -> <5 | AZ95: NC* | BA95: mm | BB95: Setting | BC95: Lp* | BD95: =IF(-15-114.08+32.01*LN(AT$79/($AR$79*$BD91)*(507*171))+10*LOG($AR$79*$BD91/(507*171))<5,"<5",-15-114.08+32.01*LN(AT$79/($AR$79*$BD91)*(507*171))+10*LOG($AR$79*$BD91/(507*171))) -> <5 | BE95: NC* | BF95: mm | BG95: Setting | BH95: Lp* | BI95: =IF(-15-114.08+32.01*LN(AT$79/($AR$79*$BI91)*(507*171))+10*LOG($AR$79*$BI91/(507*171))<5,"<5",-15-114.08+32.01*LN(AT$79/($AR$79*$BI91)*(507*171))+10*LOG($AR$79*$BI91/(507*171))) -> <5 | BJ95: NC*
E96: L Vsp.min | F96: =1.075*0.707*F107 -> 1.2502311 | J96: L Vsp.min | K96: =1.075*0.707*K107 -> 1.2484212 | O96: L Vsp.min | P96: =1.075*0.707*P107 -> 1.2476753 | T96: L Vsp.min | U96: =1.075*0.707*U107 -> 1.2472981 | Y96: L Vsp.min | Z96: =1.075*0.707*Z107 -> 1.2479881 | AD96: L Vsp.min | AE96: =1.075*0.707*AE107 -> 1.2472783 | AI96: L Vsp.min | AJ96: =1.075*0.707*AJ107 -> 1.2469858 | AN96: L Vsp.min | AO96: =1.075*0.707*AO107 -> 1.2468379 | AS96: L Vsp.min | AT96: =1.075*0.707*AT107 -> 1.2471053 | AX96: L Vsp.min | AY96: =1.075*0.707*AY107 -> 1.2468285 | BC96: L Vsp.min | BD96: =1.075*0.707*BD107 -> 1.2467144 | BH96: L Vsp.min | BI96: =1.075*0.707*BI107 -> 1.2466568
E97: L Vsp.max | F97: =1.075*0.707*F108 -> 2.2874945 | J97: L Vsp.max | K97: =1.075*0.707*K108 -> 2.2473032 | O97: L Vsp.max | P97: =1.075*0.707*P108 -> 2.2307415 | T97: L Vsp.max | U97: =1.075*0.707*U108 -> 2.2223653 | Y97: L Vsp.max | Z97: =1.075*0.707*Z108 -> 2.2376869 | AD97: L Vsp.max | AE97: =1.075*0.707*AE108 -> 2.2219254 | AI97: L Vsp.max | AJ97: =1.075*0.707*AJ108 -> 2.2154307 | AN97: L Vsp.max | AO97: =1.075*0.707*AO108 -> 2.2121458 | AS97: L Vsp.max | AT97: =1.075*0.707*AT108 -> 2.218084 | AX97: L Vsp.max | AY97: =1.075*0.707*AY108 -> 2.2119375 | BC97: L Vsp.max | BD97: =1.075*0.707*BD108 -> 2.2094048 | BH97: L Vsp.max | BI97: =1.075*0.707*BI108 -> 2.2081238
E98: L throw max | F98: =1.075*0.707*F109 -> 1.7547267 | J98: L throw max | K98: =1.075*0.707*K109 -> 1.4862352 | O98: L throw max | P98: =1.075*0.707*P109 -> 1.3123221 | T98: L throw max | U98: =1.075*0.707*U109 -> 1.1879556 | Y98: L throw max | Z98: =1.075*0.707*Z109 -> 1.3934354 | AD98: L throw max | AE98: =1.075*0.707*AE109 -> 1.1802253 | AI98: L throw max | AJ98: =1.075*0.707*AJ109 -> 1.0421202 | AN98: L throw max | AO98: =1.075*0.707*AO109 -> 0.94336025 | AS98: L throw max | AT98: =1.075*0.707*AT109 -> 1.1050092 | AX98: L throw max | AY98: =1.075*0.707*AY109 -> 0.93593127 | BC98: L throw max | BD98: =1.075*0.707*BD109 -> 0.82641248 | BH98: L throw max | BI98: =1.075*0.707*BI109 -> 0.74809478
E99: W Vsp.min | F99: =1.075*1.225*F107 -> 2.166242 | J99: W Vsp.min | K99: =1.075*1.225*K107 -> 2.163106 | O99: W Vsp.min | P99: =1.075*1.225*P107 -> 2.1618137 | T99: W Vsp.min | U99: =1.075*1.225*U107 -> 2.1611601 | Y99: W Vsp.min | Z99: =1.075*1.225*Z107 -> 2.1623556 | AD99: W Vsp.min | AE99: =1.075*1.225*AE107 -> 2.1611258 | AI99: W Vsp.min | AJ99: =1.075*1.225*AJ107 -> 2.160619 | AN99: W Vsp.min | AO99: =1.075*1.225*AO107 -> 2.1603627 | AS99: W Vsp.min | AT99: =1.075*1.225*AT107 -> 2.160826 | AX99: W Vsp.min | AY99: =1.075*1.225*AY107 -> 2.1603464 | BC99: W Vsp.min | BD99: =1.075*1.225*BD107 -> 2.1601488 | BH99: W Vsp.min | BI99: =1.075*1.225*BI107 -> 2.1600488
E100: W Vsp.max | F100: =1.075*1.225*F108 -> 3.9634806 | J100: W Vsp.max | K100: =1.075*1.225*K108 -> 3.8938421 | O100: W Vsp.max | P100: =1.075*1.225*P108 -> 3.8651462 | T100: W Vsp.max | U100: =1.075*1.225*U108 -> 3.8506329 | Y100: W Vsp.max | Z100: =1.075*1.225*Z108 -> 3.8771802 | AD100: W Vsp.max | AE100: =1.075*1.225*AE108 -> 3.8498708 | AI100: W Vsp.max | AJ100: =1.075*1.225*AJ108 -> 3.8386175 | AN100: W Vsp.max | AO100: =1.075*1.225*AO108 -> 3.832926 | AS100: W Vsp.max | AT100: =1.075*1.225*AT108 -> 3.8432149 | AX100: W Vsp.max | AY100: =1.075*1.225*AY108 -> 3.832565 | BC100: W Vsp.max | BD100: =1.075*1.225*BD108 -> 3.8281766 | BH100: W Vsp.max | BI100: =1.075*1.225*BI108 -> 3.825957
E101: W throw max | F101: =1.075*1.225*F109 -> 3.0403681 | J101: W throw max | K101: =1.075*1.225*K109 -> 2.57516 | O101: W throw max | P101: =1.075*1.225*P109 -> 2.2738255 | T101: W throw max | U101: =1.075*1.225*U109 -> 2.0583389 | Y101: W throw max | Z101: =1.075*1.225*Z109 -> 2.4143683 | AD101: W throw max | AE101: =1.075*1.225*AE109 -> 2.0449448 | AI101: W throw max | AJ101: =1.075*1.225*AJ109 -> 1.8056538 | AN101: W throw max | AO101: =1.075*1.225*AO109 -> 1.6345351 | AS101: W throw max | AT101: =1.075*1.225*AT109 -> 1.9146199 | AX101: W throw max | AY101: =1.075*1.225*AY109 -> 1.6216631 | BC101: W throw max | BD101: =1.075*1.225*BD109 -> 1.4319028 | BH101: W throw max | BI101: =1.075*1.225*BI109 -> 1.2962038
E102: Hmin | F102: =2+(F$86/$D$79*$F$74/$F$72^3) -> 2.1080598 | G102: m | J102: Hmin | K102: =2+(F$86/$D$79*$F$74/$F$72^3) -> 2.1080598 | L102: m | O102: Hmin | P102: =2+(F$86/$D$79*$F$74/$F$72^3) -> 2.1080598 | Q102: m | T102: Hmin | U102: =2+(F$86/$D$79*$F$74/$F$72^3) -> 2.1080598 | V102: m | Y102: Hmin | Z102: =2+(Z$79/$X$79*$F$74/$F$72^3) -> 2.0681427 | AA102: m | AD102: Hmin | AE102: =2+(Z$79/$X$79*$F$74/$F$72^3) -> 2.0681427 | AF102: m | AI102: Hmin | AJ102: =2+(Z$79/$X$79*$F$74/$F$72^3) -> 2.0681427 | AK102: m | AN102: Hmin | AO102: =2+(Z$79/$X$79*$F$74/$F$72^3) -> 2.0681427 | AP102: m | AS102: Hmin | AT102: =2+(AT$79/$AR$79*$F$74/$F$72^3) -> 2.0428526 | AU102: m | AX102: Hmin | AY102: =2+(AT$79/$AR$79*$F$74/$F$72^3) -> 2.0428526 | AZ102: m | BC102: Hmin | BD102: =2+(AT$79/$AR$79*$F$74/$F$72^3) -> 2.0428526 | BE102: m | BH102: Hmin | BI102: =2+(AT$79/$AR$79*$F$74/$F$72^3) -> 2.0428526 | BJ102: m
E103: Lmin | F103: =F96 -> 1.2502311 | G103: m | J103: Lmin | K103: =K96 -> 1.2484212 | L103: m | O103: Lmin | P103: =P96 -> 1.2476753 | Q103: m | T103: Lmin | U103: =U96 -> 1.2472981 | V103: m | Y103: Lmin | Z103: =Z96 -> 1.2479881 | AA103: m | AD103: Lmin | AE103: =AE96 -> 1.2472783 | AF103: m | AI103: Lmin | AJ103: =AJ96 -> 1.2469858 | AK103: m | AN103: Lmin | AO103: =AO96 -> 1.2468379 | AP103: m | AS103: Lmin | AT103: =AT96 -> 1.2471053 | AU103: m | AX103: Lmin | AY103: =AY96 -> 1.2468285 | AZ103: m | BC103: Lmin | BD103: =BD96 -> 1.2467144 | BE103: m | BH103: Lmin | BI103: =BI96 -> 1.2466568 | BJ103: m
D104: S | E104: Lmax | F104: =IF(F97<F98,F97,F98) -> 1.7547267 | G104: m | I104: S | J104: Lmax | K104: =IF(K97<K98,K97,K98) -> 1.4862352 | L104: m | N104: S | O104: Lmax | P104: =IF(P97<P98,P97,P98) -> 1.3123221 | Q104: m | S104: S | T104: Lmax | U104: =IF(U97<U98,U97,U98) -> 1.1879556 | V104: m | X104: S | Y104: Lmax | Z104: =IF(Z97<Z98,Z97,Z98) -> 1.3934354 | AA104: m | AC104: S | AD104: Lmax | AE104: =IF(AE97<AE98,AE97,AE98) -> 1.1802253 | AF104: m | AH104: S | AI104: Lmax | AJ104: =IF(AJ97<AJ98,AJ97,AJ98) -> 1.0421202 | AK104: m | AM104: S | AN104: Lmax | AO104: =IF(AO97<AO98,AO97,AO98) -> 0.94336025 | AP104: m | AR104: S | AS104: Lmax | AT104: =IF(AT97<AT98,AT97,AT98) -> 1.1050092 | AU104: m | AW104: S | AX104: Lmax | AY104: =IF(AY97<AY98,AY97,AY98) -> 0.93593127 | AZ104: m | BB104: S | BC104: Lmax | BD104: =IF(BD97<BD98,BD97,BD98) -> 0.82641248 | BE104: m | BG104: S | BH104: Lmax | BI104: =IF(BI97<BI98,BI97,BI98) -> 0.74809478 | BJ104: m
D105: Short | E105: Wmin | F105: =F99 -> 2.166242 | G105: m | I105: Short | J105: Wmin | K105: =K99 -> 2.163106 | L105: m | N105: Short | O105: Wmin | P105: =P99 -> 2.1618137 | Q105: m | S105: Short | T105: Wmin | U105: =U99 -> 2.1611601 | V105: m | X105: Short | Y105: Wmin | Z105: =Z99 -> 2.1623556 | AA105: m | AC105: Short | AD105: Wmin | AE105: =AE99 -> 2.1611258 | AF105: m | AH105: Short | AI105: Wmin | AJ105: =AJ99 -> 2.160619 | AK105: m | AM105: Short | AN105: Wmin | AO105: =AO99 -> 2.1603627 | AP105: m | AR105: Short | AS105: Wmin | AT105: =AT99 -> 2.160826 | AU105: m | AW105: Short | AX105: Wmin | AY105: =AY99 -> 2.1603464 | AZ105: m | BB105: Short | BC105: Wmin | BD105: =BD99 -> 2.1601488 | BE105: m | BG105: Short | BH105: Wmin | BI105: =BI99 -> 2.1600488 | BJ105: m
E106: Wmax | F106: =IF(F100<F101,F100,F101) -> 3.0403681 | G106: m | J106: Wmax | K106: =IF(K100<K101,K100,K101) -> 2.57516 | L106: m | O106: Wmax | P106: =IF(P100<P101,P100,P101) -> 2.2738255 | Q106: m | T106: Wmax | U106: =IF(U100<U101,U100,U101) -> 2.0583389 | V106: m | Y106: Wmax | Z106: =IF(Z100<Z101,Z100,Z101) -> 2.4143683 | AA106: m | AD106: Wmax | AE106: =IF(AE100<AE101,AE100,AE101) -> 2.0449448 | AF106: m | AI106: Wmax | AJ106: =IF(AJ100<AJ101,AJ100,AJ101) -> 1.8056538 | AK106: m | AN106: Wmax | AO106: =IF(AO100<AO101,AO100,AO101) -> 1.6345351 | AP106: m | AS106: Wmax | AT106: =IF(AT100<AT101,AT100,AT101) -> 1.9146199 | AU106: m | AX106: Wmax | AY106: =IF(AY100<AY101,AY100,AY101) -> 1.6216631 | AZ106: m | BC106: Wmax | BD106: =IF(BD100<BD101,BD100,BD101) -> 1.4319028 | BE106: m | BH106: Wmax | BI106: =IF(BI100<BI101,BI100,BI101) -> 1.2962038 | BJ106: m
...

Sheet old Bespoke Calculator
A1: Units
A2: Type | B2: 1 | E2: min | F2: =ROUND(9*B3,1) -> 9 | H2: =F2 &" - " &F3&" "&B4 -> 9 - 600 L/s
A3: Multiplier | B3: =IF(B2=1,1,3.6) -> 1 | E3: max | F3: =ROUND(600*B3,1) -> 600
A4: Type | B4: =IF(B2=1,"L/s","m³/h") -> L/s
A5: Type2 | B5: =IF(B2=1,"L/s/m²","m³/h/m²") -> L/s/m²
F6: FACTORS: | H6: K.l.min | I6: 7
H7: K.l.max | I7: 21
H8: K.dT | I8: =SQRT(ABS(12/I20)) -> 1 | J8: -12 K / dT
H9: K.H.min(sp) | I9: =SQRT(1.209*I19^-0.199) -> 1.0037328 | J9: Increased draught risk as height increases, Fig 8, Krantz Layout Criteria TB 69 E
H10: K.H.max(vol) | I10: =SQRT(2.5/I19) -> 1 | J10: Reduce max throw with height to maintain constant volume to prevent stagnation
H11: K.2D/3D | I11: =SQRT(195/145) -> 1.159667 | J11: Fig 8 / Fig 7 @ 0.25, Krantz Layout Criteria TB 69 E
H12: K.adpi | I12: =SQRT(19.92*I13^2.153) -> 0.94595467 | J12: Adjustment factor for ADPI
H13: v.room ≤ | I13: =0.679-4.915*10^-3*I21 -> 0.23665 | J13: m/s, Krantz Layout Criteria TB 69 E
H14: K.h.min | I14: 1.9
I16: INPUT | O16: INPUT | U16: INPUT
H17: Elements Long (nL) | O17: ='BMW-AD Bespoke Calculator'!N9 -> 600 | X17: 2 <= nL <= 21
H18: Elements High (nH) | O18: ='BMW-AD Bespoke Calculator'!N11 -> 2 | X18: 1 <= nH <= 4
B19: H.diffuser = | C19: m | D19: =U19 -> 2.5 | H19: H.diffuser = | I19: =O19 -> 2.5 | J19: m | N19: H.diffuser = | O19: ='BMW-AD Bespoke Calculator'!E15 -> 2.5 | P19: m | T19: H.diffuser = | U19: =O19 -> 2.5 | V19: m | X19: Height to Diffuser Centre-Line = 2.0 to 4.5 m
B20: dT(cooling) = | C20: K | D20: =U20 -> -12 | H20: dT(cooling) = | I20: =O20 -> -12 | J20: K | L20: PMW- | M20: W.neck | N20: dT(cooling) = | O20: =IF('BMW-AD Bespoke Calculator'!E17>-8,-8,'BMW-AD Bespoke Calculator'!E17) -> -12 | P20: K | R20: PMW- | S20: W.neck | T20: dT(cooling) = | U20: =O20 -> -12 | V20: K | X20: dT = -8 K to -12 K
H21: ADPI ³ | I21: =O21 -> 90 | J21: % | L21: AD- | M21: mm | N21: ADPI ³ | O21: ='BMW-AD Bespoke Calculator'!E22*100 -> 90 | P21: % | R21: AD- | S21: mm | T21: ADPI ³ | U21: =O21 -> 90 | V21: % | X21: 70%, 80%, 90% or 95%
D22: =U22 -> 100 | H22: = | I22: =O22 -> 100 | J22: L/s | L22: DN 950 | M22: 915 | N22: = | O22: ='BMW-AD Bespoke Calculator'!E9/B3 -> 100 | P22: L/s | R22: DN 1500 | S22: 1455 | T22: = | U22: =O22 -> 100 | V22: L/s | X22: 9 L/s to 600 L/s
I23: BMW-AD- | O23: Bespoke
C24: Pt | D24: Pa | I24: Pt | O24: =1.359*10^-3*(D$22/($F$41*10^-3*$G41*10^-3)*(0.507*0.171))^2.0302 -> 0.003304176 | V24: Pa
B25: Discharge | C25: Lw | D25: dB(A) | F25: Length | G25: Height | H25: Throw | I25: Lw | O25: =IF(-114.08+32.01*LN(D$22/($F$41*$G41)*(507*171))+10*LOG($F$41*$G41/(507*171))<15,"<15",-114.08+32.01*LN(D$22/($F$41*$G41)*(507*171))+10*LOG($F$41*$G41/(507*171))) -> <15 | V25: dB(A)
B26: Setting | C26: Lp* | D26: NC* | F26: mm | G26: mm | H26: Setting | I26: Lp* | O26: =IF(-15-114.08+32.01*LN(D$22/($F$41*$G41)*(507*171))+10*LOG($F$41*$G41/(507*171))<5,"<5",-15-114.08+32.01*LN(D$22/($F$41*$G41)*(507*171))+10*LOG($F$41*$G41/(507*171))) -> <5 | V26: NC*
C27: L Vsp.min | I27: L Vsp.min | O27: =1.075*0.707*O38 -> 2.3651538
C28: L Vsp.max | I28: L Vsp.max | O28: =1.075*0.707*O39 -> 4.1849318
C29: L throw max | I29: L throw max | O29: =1.075*0.707*O40 -> 0.63817751
C30: W Vsp.min | I30: W Vsp.min | O30: =1.075*1.225*O38 -> 4.0980387
C31: W Vsp.max | I31: W Vsp.max | O31: =1.075*1.225*O39 -> 7.2511194
C32: W throw max | I32: W throw max | O32: =1.075*1.225*O40 -> 1.1057531
C33: Hmin | D33: m | I33: Hmin | O33: =2+(D$22/$F$41*$I$14/$I$12^3) -> 2.0055372 | V33: m
C34: Lmin | D34: m | I34: Lmin | O34: =O27 -> 2.3651538 | V34: m
B35: S | C35: Lmax | D35: m | H35: S | I35: Lmax | O35: =IF(O28<O29,O28,O29) -> 0.63817751 | V35: m
B36: Short | C36: Wmin | D36: m | H36: Short | I36: Wmin | O36: =O30 -> 4.0980387 | V36: m
C37: Wmax | D37: m | F37: L.c | G37: H.c | I37: Wmax | O37: =IF(O31<O32,O31,O32) -> 1.1057531 | V37: m
C38: L,W Vsp.min | I38: L,W Vsp.min | O38: =(0.2529+2.7683*10^-4*O24)*SQRT(D$22)/$I$8*$I$9*$I$11/$I$12 -> 3.111942
C39: L,W Vsp.max | I39: L,W Vsp.max | O39: =(0.675+9.273*10^-3*O24)*SQRT(D$22)*$I$8*$I$10/$I$11*$I$12 -> 5.5063081
C40: L,W throw max | I40: L,W throw max | O40: =IF(($I$7*(D$22*10^-3)/SQRT($F$41*10^-3*$G$41*10^-3)*$I$8/$I$10^2*$I$12)<(4*$I$19*$I$12),($I$7*(D$22*10^-3)/SQRT($F$41*10^-3*$G$41*10^-3)*$I$8/$I$10^2*$I$12),(4*$I$19*$I$12)) -> 0.83967963
C41: Lmin | D41: m | F41: =104.6+(O17-1)*67.5 -> 40537.1 | G41: =99.1+(O18-1)*38.97 -> 138.07 | I41: Lmin | O41: =O38 -> 3.111942 | V41: m
B42: M | C42: Lmax | D42: m | H42: M | I42: Lmax | O42: =IF(O39<O40,O39,O40) -> 0.83967963 | V42: m
B43: Medium | C43: Wmin | D43: m | H43: Medium | I43: Wmin | O43: =O38 -> 3.111942 | V43: m
C44: Wmax | D44: m | F44: L.f | G44: H.f | I44: Wmax | O44: =IF(O39<O40,O39,O40) -> 0.83967963 | V44: m
C45: L Vsp.min | I45: L Vsp.min | O45: =1.07*1.22*O38 -> 4.0623291
C46: L Vsp.max | I46: L Vsp.max | O46: =1.07*1.22*O39 -> 7.1879345
C47: L throw max | I47: L throw max | O47: =1.07*1.22*O40 -> 1.0961178
C48: W Vsp.min | I48: W Vsp.min | O48: =1.07*0.707*O38 -> 2.354153
C49: W Vsp.max | I49: W Vsp.max | O49: =1.07*0.707*O39 -> 4.165467
C50: W throw max | I50: W throw max | O50: =1.07*0.707*O40 -> 0.63520924
C51: Lmin | D51: m | F51: =F41+35 -> 40572.1 | G51: =G41+35 -> 173.07 | I51: Lmin | O51: =O45 -> 4.0623291 | V51: m
B52: L | C52: Lmax | D52: m | H52: L | I52: Lmax | O52: =IF(O46<O47,O46,O47) -> 1.0961178 | V52: m
B53: Long | C53: Wmin | D53: m | H53: Long | I53: Wmin | O53: =O48 -> 2.354153 | V53: m
C54: Wmax | D54: m | I54: Wmax | O54: =IF(O49<O50,O49,O50) -> 0.63520924 | V54: m
I55: V @Pmax | O55: =O22*SQRT('BMW-AD Bespoke Calculator'!E13/'old Bespoke Calculator'!O24) -> 9528.5989
A59: VAV
F60: FACTORS: | H60: K.l.min | I60: 7
H61: K.l.max | I61: 21
H62: K.dT | I62: =SQRT(ABS(12/I74)) -> 1 | J62: -12 K / dT
H63: K.H.min(sp) | I63: =SQRT(1.209*I73^-0.199) -> 1.0037328 | J63: Increased draught risk as height increases, Fig 8, Krantz Layout Criteria TB 69 E
H64: K.H.max(vol) | I64: =SQRT(2.5/I73) -> 1 | J64: Reduce max throw with height to maintain constant volume to prevent stagnation
H65: K.2D/3D | I65: =SQRT(195/145) -> 1.159667 | J65: Fig 8 / Fig 7 @ 0.25, Krantz Layout Criteria TB 69 E
H66: K.adpi | I66: =SQRT(19.92*I67^2.153) -> 0.94595467 | J66: Adjustment factor for ADPI
H67: v.room ≤ | I67: =0.679-4.915*10^-3*I75 -> 0.23665 | J67: m/s, Krantz Layout Criteria TB 69 E
H68: K.h.min | I68: 1.9
I70: INPUT | O70: INPUT | U70: INPUT
H71: Elements Long (nL) | O71: =O17 -> 600 | X71: 2 <= nL <= 21
H72: Elements High (nH) | O72: =O18 -> 2 | X72: 1 <= nH <= 4
B73: H.diffuser = | C73: m | D73: =U73 -> 2.5 | H73: H.diffuser = | I73: =O73 -> 2.5 | J73: m | N73: H.diffuser = | O73: =O19 -> 2.5 | P73: m | T73: H.diffuser = | U73: =O73 -> 2.5 | V73: m | X73: Height to Diffuser Centre-Line = 2.0 to 4.5 m
B74: dT(cooling) = | C74: K | D74: =U74 -> -12 | H74: dT(cooling) = | I74: =O74 -> -12 | J74: K | L74: PMW- | M74: W.neck | N74: dT(cooling) = | O74: =O20 -> -12 | P74: K | R74: PMW- | S74: W.neck | T74: dT(cooling) = | U74: =O74 -> -12 | V74: K | X74: dT = -8 K to -12 K
H75: ADPI ³ | I75: =O75 -> 90 | J75: % | L75: AD- | M75: mm | N75: ADPI ³ | O75: =O21 -> 90 | P75: % | R75: AD- | S75: mm | T75: ADPI ³ | U75: =O75 -> 90 | V75: % | X75: 70%, 80%, 90% or 95%
H76: Turndown to | O76: ='BMW-AD Bespoke Calculator'!E11/100 -> 1
D77: =U77 -> 100 | H77: = | I77: =O77 -> 100 | J77: L/s | L77: DN 950 | M77: 915 | N77: = | O77: =O22*O76 -> 100 | P77: L/s | R77: DN 1500 | S77: 1455 | T77: = | U77: =O77 -> 100 | V77: L/s | X77: 9 L/s to 600 L/s
I78: BMW-AD- | O78: Bespoke
C79: Pt | D79: Pa | I79: Pt | O79: =1.359*10^-3*(D$77/($F$96*10^-3*$G96*10^-3)*(0.507*0.171))^2.0302 -> 0.003304176 | V79: Pa
B80: Discharge | C80: Lw | D80: dB(A) | F80: Length | G80: Height | H80: Throw | I80: Lw | O80: =IF(-114.08+32.01*LN(D$77/($F$96*$G96)*(507*171))+10*LOG($F$96*$G96/(507*171))<15,"<15",-114.08+32.01*LN(D$77/($F$96*$G96)*(507*171))+10*LOG($F$96*$G96/(507*171))) -> <15 | V80: dB(A)
B81: Setting | C81: Lp* | D81: NC* | F81: mm | G81: mm | H81: Setting | I81: Lp* | O81: =IF(-15-114.08+32.01*LN(D$77/($F$96*$G96)*(507*171))+10*LOG($F$96*$G96/(507*171))<5,"<5",-15-114.08+32.01*LN(D$77/($F$96*$G96)*(507*171))+10*LOG($F$96*$G96/(507*171))) -> <5 | V81: NC*
C82: L Vsp.min | I82: L Vsp.min | O82: =1.075*0.707*O93 -> 2.3651538
C83: L Vsp.max | I83: L Vsp.max | O83: =1.075*0.707*O94 -> 4.1849318
C84: L throw max | I84: L throw max | O84: =1.075*0.707*O95 -> 0.63817751
C85: W Vsp.min | I85: W Vsp.min | O85: =1.075*1.225*O93 -> 4.0980387
C86: W Vsp.max | I86: W Vsp.max | O86: =1.075*1.225*O94 -> 7.2511194
C87: W throw max | I87: W throw max | O87: =1.075*1.225*O95 -> 1.1057531
C88: Hmin | D88: m | I88: Hmin | O88: =2+(D$77/$F$96*$I$68/$I$66^3) -> 2.0055372 | V88: m
C89: Lmin | D89: m | I89: Lmin | O89: =O82 -> 2.3651538 | V89: m
B90: S | C90: Lmax | D90: m | H90: S | I90: Lmax | O90: =IF(O83<O84,O83,O84) -> 0.63817751 | V90: m
B91: Short | C91: Wmin | D91: m | H91: Short | I91: Wmin | O91: =O85 -> 4.0980387 | V91: m
C92: Wmax | D92: m | F92: L.c | G92: H.c | I92: Wmax | O92: =IF(O86<O87,O86,O87) -> 1.1057531 | V92: m
C93: L,W Vsp.min | I93: L,W Vsp.min | O93: =(0.2529+2.7683*10^-4*O79)*SQRT(D$77)/$I$62*$I$63*$I$65/$I$66 -> 3.111942
C94: L,W Vsp.max | I94: L,W Vsp.max | O94: =(0.675+9.273*10^-3*O79)*SQRT(D$77)*$I$62*$I$64/$I$65*$I$66 -> 5.5063081
C95: L,W throw max | I95: L,W throw max | O95: =IF(($I$61*(D$77*10^-3)/SQRT($F$96*10^-3*$G$96*10^-3)*$I$62/$I$64^2*$I$66)<(4*$I$73*$I$66),($I$61*(D$77*10^-3)/SQRT($F$96*10^-3*$G$96*10^-3)*$I$62/$I$64^2*$I$66),(4*$I$73*$I$66)) -> 0.83967963
C96: Lmin | D96: m | F96: =104.6+(O71-1)*67.5 -> 40537.1 | G96: =99.1+(O72-1)*38.97 -> 138.07 | I96: Lmin | O96: =O93 -> 3.111942 | V96: m
B97: M | C97: Lmax | D97: m | H97: M | I97: Lmax | O97: =IF(O94<O95,O94,O95) -> 0.83967963 | V97: m
B98: Medium | C98: Wmin | D98: m | H98: Medium | I98: Wmin | O98: =O93 -> 3.111942 | V98: m
C99: Wmax | D99: m | F99: L.f | G99: H.f | I99: Wmax | O99: =IF(O94<O95,O94,O95) -> 0.83967963 | V99: m
C100: L Vsp.min | I100: L Vsp.min | O100: =1.07*1.22*O93 -> 4.0623291
C101: L Vsp.max | I101: L Vsp.max | O101: =1.07*1.22*O94 -> 7.1879345
C102: L throw max | I102: L throw max | O102: =1.07*1.22*O95 -> 1.0961178
C103: W Vsp.min | I103: W Vsp.min | O103: =1.07*0.707*O93 -> 2.354153
C104: W Vsp.max | I104: W Vsp.max | O104: =1.07*0.707*O94 -> 4.165467
C105: W throw max | I105: W throw max | O105: =1.07*0.707*O95 -> 0.63520924
...

Sheet DN 600
C2: FACTORS: | D2: K.l.min | F2: 7
D3: K.l.max | F3: 21
D4: K.dT | F4: =SQRT(ABS(12/F14)) -> 1 | G4: -12 K / dT
D5: K.H.min(sp) | F5: =SQRT(1.209*F13^-0.199) -> 1.0037328 | G5: Increased draught risk as height increases, Fig 8, Krantz Layout Criteria TB 69 E
D6: K.H.max(vol) | F6: =SQRT(2.5/F13) -> 1 | G6: Reduce max throw with height to maintain constant volume to prevent stagnation
D7: K.2D/3D | F7: =SQRT(195/145) -> 1.159667 | G7: Fig 8 / Fig 7 @ 0.25, Krantz Layout Criteria TB 69 E
D8: K.adpi | F8: =SQRT(19.92*F9^2.153) -> 0.94595467 | G8: Adjustment factor for ADPI
D9: v.room ≤ | F9: =0.679-4.915*10^-3*F15 -> 0.23665 | G9: m/s, Krantz Layout Criteria TB 69 E
D10: K.h.min | F10: 1.9
F12: INPUT
E13: H.diffuser = | F13: 2.5 | G13: m | H13: Height to Diffuser Centre-Line = 2.0 to 4.5 m
B14: PMW- | C14: L.neck | E14: dT(cooling) = | F14: -12 | G14: K | H14: dT = -8 K to -12 K
B15: AD- | C15: mm | D15: ADPI ≥ 90% | E15: ADPI ³ | F15: 90 | G15: % | H15: 70%, 80%, 90% or 95%
B16: DN 600 | C16: 577 | D16: = | F16: 100 | G16: L/s | I16: 30 | J16: 40 | K16: 50 | L16: 60 | M16: 70 | N16: 80 | O16: 90 | P16: 100 | Q16: 110 | R16: 120 | S16: 130 | T16: 140 | U16: 150 | V16: 160 | W16: 170 | X16: 180 | Y16: 190 | Z16: 200 | AA16: 210 | AB16: 220 | AC16: 230 | AD16: 240 | AE16: 250 | AF16: 260 | AG16: 270
D17: Pt | F17: =1.359*10^-3*(F$16/($C$16*10^-3*$B35*10^-3)*(0.507*0.171))^2.0302 -> 36.431547 | G17: Pa | I17: =1.359*10^-3*(I$16/($C$16*10^-3*$B35*10^-3)*(0.507*0.171))^2.0302 -> 3.1617621 | J17: =1.359*10^-3*(J$16/($C$16*10^-3*$B35*10^-3)*(0.507*0.171))^2.0302 -> 5.6699575 | K17: =1.359*10^-3*(K$16/($C$16*10^-3*$B35*10^-3)*(0.507*0.171))^2.0302 -> 8.9192126 | L17: =1.359*10^-3*(L$16/($C$16*10^-3*$B35*10^-3)*(0.507*0.171))^2.0302 -> 12.91458 | M17: =1.359*10^-3*(M$16/($C$16*10^-3*$B35*10^-3)*(0.507*0.171))^2.0302 -> 17.660201 | N17: =1.359*10^-3*(N$16/($C$16*10^-3*$B35*10^-3)*(0.507*0.171))^2.0302 -> 23.159592 | O17: =1.359*10^-3*(O$16/($C$16*10^-3*$B35*10^-3)*(0.507*0.171))^2.0302 -> 29.415806 | P17: =1.359*10^-3*(P$16/($C$16*10^-3*$B35*10^-3)*(0.507*0.171))^2.0302 -> 36.431547 | Q17: =1.359*10^-3*(Q$16/($C$16*10^-3*$B35*10^-3)*(0.507*0.171))^2.0302 -> 44.209239 | AC17: ≤ 20 | AD17: ≤ 30 | AE17: ≤ 40 | AF17: ≤ 50 | AG17: Pa
B18: H.neck | C18: Throw | D18: Lw | F18: =IF(-114.08+32.01*LN(F$16/($C$16*$B35)*(507*171))+10*LOG($C$16*$B35/(507*171))<15,"<15",-114.08+32.01*LN(F$16/($C$16*$B35)*(507*171))+10*LOG($C$16*$B35/(507*171))) -> 44.874537 | G18: dB(A) | I18: =IF(-114.08+32.01*LN(I$16/($C$16*$B35)*(507*171))+10*LOG($C$16*$B35/(507*171))<15,"<15",-114.08+32.01*LN(I$16/($C$16*$B35)*(507*171))+10*LOG($C$16*$B35/(507*171))) -> <15 | J18: =IF(-114.08+32.01*LN(J$16/($C$16*$B35)*(507*171))+10*LOG($C$16*$B35/(507*171))<15,"<15",-114.08+32.01*LN(J$16/($C$16*$B35)*(507*171))+10*LOG($C$16*$B35/(507*171))) -> 15.544071 | K18: =IF(-114.08+32.01*LN(K$16/($C$16*$B35)*(507*171))+10*LOG($C$16*$B35/(507*171))<15,"<15",-114.08+32.01*LN(K$16/($C$16*$B35)*(507*171))+10*LOG($C$16*$B35/(507*171))) -> 22.686896 | L18: =IF(-114.08+32.01*LN(L$16/($C$16*$B35)*(507*171))+10*LOG($C$16*$B35/(507*171))<15,"<15",-114.08+32.01*LN(L$16/($C$16*$B35)*(507*171))+10*LOG($C$16*$B35/(507*171))) -> 28.523009 | M18: =IF(-114.08+32.01*LN(M$16/($C$16*$B35)*(507*171))+10*LOG($C$16*$B35/(507*171))<15,"<15",-114.08+32.01*LN(M$16/($C$16*$B35)*(507*171))+10*LOG($C$16*$B35/(507*171))) -> 33.457372 | N18: =IF(-114.08+32.01*LN(N$16/($C$16*$B35)*(507*171))+10*LOG($C$16*$B35/(507*171))<15,"<15",-114.08+32.01*LN(N$16/($C$16*$B35)*(507*171))+10*LOG($C$16*$B35/(507*171))) -> 37.731712 | O18: =IF(-114.08+32.01*LN(O$16/($C$16*$B35)*(507*171))+10*LOG($C$16*$B35/(507*171))<15,"<15",-114.08+32.01*LN(O$16/($C$16*$B35)*(507*171))+10*LOG($C$16*$B35/(507*171))) -> 41.501947 | P18: =IF(-114.08+32.01*LN(P$16/($C$16*$B35)*(507*171))+10*LOG($C$16*$B35/(507*171))<15,"<15",-114.08+32.01*LN(P$16/($C$16*$B35)*(507*171))+10*LOG($C$16*$B35/(507*171))) -> 44.874537 | Q18: =IF(-114.08+32.01*LN(Q$16/($C$16*$B35)*(507*171))+10*LOG($C$16*$B35/(507*171))<15,"<15",-114.08+32.01*LN(Q$16/($C$16*$B35)*(507*171))+10*LOG($C$16*$B35/(507*171))) -> 47.925416 | AC18: ≤ 40 | AD18: ≤ 45 | AE18: ≤ 50 | AF18: ≤ 55 | AG18: dB(A)
B19: mm | C19: Setting | D19: Lp* | F19: =IF(-15-114.08+32.01*LN(F$16/($C$16*$B35)*(507*171))+10*LOG($C$16*$B35/(507*171))<5,"<5",-15-114.08+32.01*LN(F$16/($C$16*$B35)*(507*171))+10*LOG($C$16*$B35/(507*171))) -> 29.874537 | G19: NC* | I19: =IF(-15-114.08+32.01*LN(I$16/($C$16*$B35)*(507*171))+10*LOG($C$16*$B35/(507*171))<5,"<5",-15-114.08+32.01*LN(I$16/($C$16*$B35)*(507*171))+10*LOG($C$16*$B35/(507*171))) -> <5 | J19: =IF(-15-114.08+32.01*LN(J$16/($C$16*$B35)*(507*171))+10*LOG($C$16*$B35/(507*171))<5,"<5",-15-114.08+32.01*LN(J$16/($C$16*$B35)*(507*171))+10*LOG($C$16*$B35/(507*171))) -> <5 | K19: =IF(-15-114.08+32.01*LN(K$16/($C$16*$B35)*(507*171))+10*LOG($C$16*$B35/(507*171))<5,"<5",-15-114.08+32.01*LN(K$16/($C$16*$B35)*(507*171))+10*LOG($C$16*$B35/(507*171))) -> 7.6868961 | L19: =IF(-15-114.08+32.01*LN(L$16/($C$16*$B35)*(507*171))+10*LOG($C$16*$B35/(507*171))<5,"<5",-15-114.08+32.01*LN(L$16/($C$16*$B35)*(507*171))+10*LOG($C$16*$B35/(507*171))) -> 13.523009 | M19: =IF(-15-114.08+32.01*LN(M$16/($C$16*$B35)*(507*171))+10*LOG($C$16*$B35/(507*171))<5,"<5",-15-114.08+32.01*LN(M$16/($C$16*$B35)*(507*171))+10*LOG($C$16*$B35/(507*171))) -> 18.457372 | N19: =IF(-15-114.08+32.01*LN(N$16/($C$16*$B35)*(507*171))+10*LOG($C$16*$B35/(507*171))<5,"<5",-15-114.08+32.01*LN(N$16/($C$16*$B35)*(507*171))+10*LOG($C$16*$B35/(507*171))) -> 22.731712 | O19: =IF(-15-114.08+32.01*LN(O$16/($C$16*$B35)*(507*171))+10*LOG($C$16*$B35/(507*171))<5,"<5",-15-114.08+32.01*LN(O$16/($C$16*$B35)*(507*171))+10*LOG($C$16*$B35/(507*171))) -> 26.501947 | P19: =IF(-15-114.08+32.01*LN(P$16/($C$16*$B35)*(507*171))+10*LOG($C$16*$B35/(507*171))<5,"<5",-15-114.08+32.01*LN(P$16/($C$16*$B35)*(507*171))+10*LOG($C$16*$B35/(507*171))) -> 29.874537 | Q19: =IF(-15-114.08+32.01*LN(Q$16/($C$16*$B35)*(507*171))+10*LOG($C$16*$B35/(507*171))<5,"<5",-15-114.08+32.01*LN(Q$16/($C$16*$B35)*(507*171))+10*LOG($C$16*$B35/(507*171))) -> 32.925416 | AC19: ≤ 25 | AD19: ≤ 30 | AE19: ≤ 35 | AF19: ≤ 40 | AG19: NC*
D20: L Vsp.min | F20: =1.075*0.707*F31 -> 2.4594643 | I20: =1.075*0.707*I31 -> 1.2950925 | J20: =1.075*0.707*J31 -> 1.4995356 | K20: =1.075*0.707*K31 -> 1.6824579 | L20: =1.075*0.707*L31 -> 1.8510228 | M20: =1.075*0.707*M31 -> 2.0095742 | N20: =1.075*0.707*N31 -> 2.1610123 | O20: =1.075*0.707*O31 -> 2.3074084 | P20: =1.075*0.707*P31 -> 2.4503178 | Q20: =1.075*0.707*Q31 -> 2.5909552
D21: L Vsp.max | F21: =1.075*0.707*F32 -> 6.279157 | I21: =1.075*0.707*I32 -> 2.3916352 | J21: =1.075*0.707*J32 -> 2.8528186 | K21: =1.075*0.707*K32 -> 3.3216333 | L21: =1.075*0.707*L32 -> 3.816584 | M21: =1.075*0.707*M32 -> 4.3506406 | N21: =1.075*0.707*N32 -> 4.9338078 | O21: =1.075*0.707*O32 -> 5.5743005 | P21: =1.075*0.707*P32 -> 6.279157 | Q21: =1.075*0.707*Q32 -> 7.0545916
D22: L throw max | F22: =1.075*0.707*F33 -> 6.3170162 | I22: =1.075*0.707*I33 -> 1.8951049 | J22: =1.075*0.707*J33 -> 2.5268065 | K22: =1.075*0.707*K33 -> 3.1585081 | L22: =1.075*0.707*L33 -> 3.7902097 | M22: =1.075*0.707*M33 -> 4.4219114 | N22: =1.075*0.707*N33 -> 5.053613 | O22: =1.075*0.707*O33 -> 5.6853146 | P22: =1.075*0.707*P33 -> 6.3170162 | Q22: =1.075*0.707*Q33 -> 6.9487179
D23: W Vsp.min | F23: =1.075*1.225*F31 -> 4.2614481 | I23: =1.075*1.225*I31 -> 2.2439721 | J23: =1.075*1.225*J31 -> 2.5982053 | K23: =1.075*1.225*K31 -> 2.9151499 | L23: =1.075*1.225*L31 -> 3.2072177 | M23: =1.075*1.225*M31 -> 3.4819355 | N23: =1.075*1.225*N31 -> 3.7443283 | O23: =1.075*1.225*O31 -> 3.9979848 | P23: =1.075*1.225*P31 -> 4.2456001 | Q23: =1.075*1.225*Q31 -> 4.4892788
D24: W Vsp.max | F24: =1.075*1.225*F32 -> 10.879727 | I24: =1.075*1.225*I32 -> 4.1439224 | J24: =1.075*1.225*J32 -> 4.9430026 | K24: =1.075*1.225*K32 -> 5.7553053 | L24: =1.075*1.225*L32 -> 6.6128931 | M24: =1.075*1.225*M32 -> 7.5382386 | N24: =1.075*1.225*N32 -> 8.5486769 | O24: =1.075*1.225*O32 -> 9.6584415 | P24: =1.075*1.225*P32 -> 10.879727 | Q24: =1.075*1.225*Q32 -> 12.223302
D25: W throw max | F25: =1.075*1.225*F33 -> 10.945325 | I25: =1.075*1.225*I33 -> 3.2835975 | J25: =1.075*1.225*J33 -> 4.3781301 | K25: =1.075*1.225*K33 -> 5.4726626 | L25: =1.075*1.225*L33 -> 6.5671951 | M25: =1.075*1.225*M33 -> 7.6617276 | N25: =1.075*1.225*N33 -> 8.7562601 | O25: =1.075*1.225*O33 -> 9.8507926 | P25: =1.075*1.225*P33 -> 10.945325 | Q25: =1.075*1.225*Q33 -> 12.039858
D26: Hmin | F26: =2+(F$16/$C$16*$F$10/$F$8^3) -> 2.3890154 | G26: m | I26: =2+(I$16/$C$16*$F$10/$F$8^3) -> 2.1167046 | J26: =2+(J$16/$C$16*$F$10/$F$8^3) -> 2.1556062 | K26: =2+(K$16/$C$16*$F$10/$F$8^3) -> 2.1945077 | L26: =2+(L$16/$C$16*$F$10/$F$8^3) -> 2.2334093 | M26: =2+(M$16/$C$16*$F$10/$F$8^3) -> 2.2723108 | N26: =2+(N$16/$C$16*$F$10/$F$8^3) -> 2.3112123 | O26: =2+(O$16/$C$16*$F$10/$F$8^3) -> 2.3501139 | P26: =2+(P$16/$C$16*$F$10/$F$8^3) -> 2.3890154 | Q26: =2+(Q$16/$C$16*$F$10/$F$8^3) -> 2.427917 | AC26: * for 10 dB room absorption
D27: Lmin | F27: =F20 -> 2.4594643 | G27: m | I27: =I20 -> 1.2950925 | J27: =J20 -> 1.4995356 | K27: =K20 -> 1.6824579 | L27: =L20 -> 1.8510228 | M27: =M20 -> 2.0095742 | N27: =N20 -> 2.1610123 | O27: =O20 -> 2.3074084 | P27: =P20 -> 2.4503178 | Q27: =Q20 -> 2.5909552
C28: S | D28: Lmax | F28: =IF(F21<F22,F21,F22) -> 6.279157 | G28: m | I28: =IF(I21<I22,I21,I22) -> 1.8951049 | J28: =IF(J21<J22,J21,J22) -> 2.5268065 | K28: =IF(K21<K22,K21,K22) -> 3.1585081 | L28: =IF(L21<L22,L21,L22) -> 3.7902097 | M28: =IF(M21<M22,M21,M22) -> 4.3506406 | N28: =IF(N21<N22,N21,N22) -> 4.9338078 | O28: =IF(O21<O22,O21,O22) -> 5.5743005 | P28: =IF(P21<P22,P21,P22) -> 6.279157 | Q28: =IF(Q21<Q22,Q21,Q22) -> 6.9487179
C29: Short | D29: Wmin | F29: =F23 -> 4.2614481 | G29: m | I29: =I23 -> 2.2439721 | J29: =J23 -> 2.5982053 | K29: =K23 -> 2.9151499 | L29: =L23 -> 3.2072177 | M29: =M23 -> 3.4819355 | N29: =N23 -> 3.7443283 | O29: =O23 -> 3.9979848 | P29: =P23 -> 4.2456001 | Q29: =Q23 -> 4.4892788
D30: Wmax | F30: =IF(F24<F25,F24,F25) -> 10.879727 | G30: m | I30: =IF(I24<I25,I24,I25) -> 3.2835975 | J30: =IF(J24<J25,J24,J25) -> 4.3781301 | K30: =IF(K24<K25,K24,K25) -> 5.4726626 | L30: =IF(L24<L25,L24,L25) -> 6.5671951 | M30: =IF(M24<M25,M24,M25) -> 7.5382386 | N30: =IF(N24<N25,N24,N25) -> 8.5486769 | O30: =IF(O24<O25,O24,O25) -> 9.6584415 | P30: =IF(P24<P25,P24,P25) -> 10.879727 | Q30: =IF(Q24<Q25,Q24,Q25) -> 12.039858
D31: L,W Vsp.min | F31: =(0.2529+2.7683*10^-4*F17)*SQRT(F$16)/$F$4*$F$5*$F$7/$F$8 -> 3.2360308 | I31: =(0.2529+2.7683*10^-4*I17)*SQRT(I$16)*$F$7/$F$8 -> 1.704013 | J31: =(0.2529+2.7683*10^-4*J17)*SQRT(J$16)*$F$7/$F$8 -> 1.9730083 | K31: =(0.2529+2.7683*10^-4*K17)*SQRT(K$16)*$F$7/$F$8 -> 2.2136876 | L31: =(0.2529+2.7683*10^-4*L17)*SQRT(L$16)*$F$7/$F$8 -> 2.4354762 | M31: =(0.2529+2.7683*10^-4*M17)*SQRT(M$16)*$F$7/$F$8 -> 2.6440896 | N31: =(0.2529+2.7683*10^-4*N17)*SQRT(N$16)*$F$7/$F$8 -> 2.8433437 | O31: =(0.2529+2.7683*10^-4*O17)*SQRT(O$16)*$F$7/$F$8 -> 3.0359638 | P31: =(0.2529+2.7683*10^-4*P17)*SQRT(P$16)*$F$7/$F$8 -> 3.2239963 | Q31: =(0.2529+2.7683*10^-4*Q17)*SQRT(Q$16)*$F$7/$F$8 -> 3.4090394
D32: L,W Vsp.max | F32: =(0.675+9.273*10^-3*F17)*SQRT(F$16)*$F$4*$F$6/$F$7*$F$8 -> 8.2617769 | I32: =(0.675+9.273*10^-3*I17)*SQRT(I$16)*$F$4/$F$7*$F$8 -> 3.1467849 | J32: =(0.675+9.273*10^-3*J17)*SQRT(J$16)*$F$4/$F$7*$F$8 -> 3.7535853 | K32: =(0.675+9.273*10^-3*K17)*SQRT(K$16)*$F$4/$F$7*$F$8 -> 4.3704264 | L32: =(0.675+9.273*10^-3*L17)*SQRT(L$16)*$F$4/$F$7*$F$8 -> 5.0216559 | M32: =(0.675+9.273*10^-3*M17)*SQRT(M$16)*$F$4/$F$7*$F$8 -> 5.7243388 | N32: =(0.675+9.273*10^-3*N17)*SQRT(N$16)*$F$4/$F$7*$F$8 -> 6.4916389 | O32: =(0.675+9.273*10^-3*O17)*SQRT(O$16)*$F$4/$F$7*$F$8 -> 7.3343647 | P32: =(0.675+9.273*10^-3*P17)*SQRT(P$16)*$F$4/$F$7*$F$8 -> 8.2617769 | Q32: =(0.675+9.273*10^-3*Q17)*SQRT(Q$16)*$F$4/$F$7*$F$8 -> 9.282052
D33: L,W throw max | F33: =IF(($F$3*(F$16*10^-3)/SQRT($C$16*10^-3*$B$35*10^-3)*$F$4/$F$6^2*$F$8)<(4*$F$13*$F$8),($F$3*(F$16*10^-3)/SQRT($C$16*10^-3*$B$35*10^-3)*$F$4/$F$6^2*$F$8),(4*$F$13*$F$8)) -> 8.3115901 | I33: =IF(($F$3*(I$16*10^-3)/SQRT($C$16*10^-3*$B$35*10^-3)*$F$4*$F$8)<(4*I$26*$F$8),($F$3*(I$16*10^-3)/SQRT($C$16*10^-3*$B$35*10^-3)*$F$4*$F$8),(4*I$26*$F$8)) -> 2.493477 | J33: =IF(($F$3*(J$16*10^-3)/SQRT($C$16*10^-3*$B$35*10^-3)*$F$4*$F$8)<(4*J$26*$F$8),($F$3*(J$16*10^-3)/SQRT($C$16*10^-3*$B$35*10^-3)*$F$4*$F$8),(4*J$26*$F$8)) -> 3.324636 | K33: =IF(($F$3*(K$16*10^-3)/SQRT($C$16*10^-3*$B$35*10^-3)*$F$4*$F$8)<(4*K$26*$F$8),($F$3*(K$16*10^-3)/SQRT($C$16*10^-3*$B$35*10^-3)*$F$4*$F$8),(4*K$26*$F$8)) -> 4.155795 | L33: =IF(($F$3*(L$16*10^-3)/SQRT($C$16*10^-3*$B$35*10^-3)*$F$4*$F$8)<(4*L$26*$F$8),($F$3*(L$16*10^-3)/SQRT($C$16*10^-3*$B$35*10^-3)*$F$4*$F$8),(4*L$26*$F$8)) -> 4.986954 | M33: =IF(($F$3*(M$16*10^-3)/SQRT($C$16*10^-3*$B$35*10^-3)*$F$4*$F$8)<(4*M$26*$F$8),($F$3*(M$16*10^-3)/SQRT($C$16*10^-3*$B$35*10^-3)*$F$4*$F$8),(4*M$26*$F$8)) -> 5.818113 | N33: =IF(($F$3*(N$16*10^-3)/SQRT($C$16*10^-3*$B$35*10^-3)*$F$4*$F$8)<(4*N$26*$F$8),($F$3*(N$16*10^-3)/SQRT($C$16*10^-3*$B$35*10^-3)*$F$4*$F$8),(4*N$26*$F$8)) -> 6.649272 | O33: =IF(($F$3*(O$16*10^-3)/SQRT($C$16*10^-3*$B$35*10^-3)*$F$4*$F$8)<(4*O$26*$F$8),($F$3*(O$16*10^-3)/SQRT($C$16*10^-3*$B$35*10^-3)*$F$4*$F$8),(4*O$26*$F$8)) -> 7.480431 | P33: =IF(($F$3*(P$16*10^-3)/SQRT($C$16*10^-3*$B$35*10^-3)*$F$4*$F$8)<(4*P$26*$F$8),($F$3*(P$16*10^-3)/SQRT($C$16*10^-3*$B$35*10^-3)*$F$4*$F$8),(4*P$26*$F$8)) -> 8.3115901 | Q33: =IF(($F$3*(Q$16*10^-3)/SQRT($C$16*10^-3*$B$35*10^-3)*$F$4*$F$8)<(4*Q$26*$F$8),($F$3*(Q$16*10^-3)/SQRT($C$16*10^-3*$B$35*10^-3)*$F$4*$F$8),(4*Q$26*$F$8)) -> 9.1427491
D34: Lmin | F34: =F31 -> 3.2360308 | G34: m | I34: =I31 -> 1.704013 | J34: =J31 -> 1.9730083 | K34: =K31 -> 2.2136876 | L34: =L31 -> 2.4354762 | M34: =M31 -> 2.6440896 | N34: =N31 -> 2.8433437 | O34: =O31 -> 3.0359638 | P34: =P31 -> 3.2239963 | Q34: =Q31 -> 3.4090394 | Y34: `
B35: 99 | C35: M | D35: Lmax | F35: =IF(F32<F33,F32,F33) -> 8.2617769 | G35: m | I35: =IF(I32<I33,I32,I33) -> 2.493477 | J35: =IF(J32<J33,J32,J33) -> 3.324636 | K35: =IF(K32<K33,K32,K33) -> 4.155795 | L35: =IF(L32<L33,L32,L33) -> 4.986954 | M35: =IF(M32<M33,M32,M33) -> 5.7243388 | N35: =IF(N32<N33,N32,N33) -> 6.4916389 | O35: =IF(O32<O33,O32,O33) -> 7.3343647 | P35: =IF(P32<P33,P32,P33) -> 8.2617769 | Q35: =IF(Q32<Q33,Q32,Q33) -> 9.1427491
B36: (1-row) | C36: Medium | D36: Wmin | F36: =F31 -> 3.2360308 | G36: m | I36: =I31 -> 1.704013 | J36: =J31 -> 1.9730083 | K36: =K31 -> 2.2136876 | L36: =L31 -> 2.4354762 | M36: =M31 -> 2.6440896 | N36: =N31 -> 2.8433437 | O36: =O31 -> 3.0359638 | P36: =P31 -> 3.2239963 | Q36: =Q31 -> 3.4090394
D37: Wmax | F37: =IF(F32<F33,F32,F33) -> 8.2617769 | G37: m | I37: =IF(I32<I33,I32,I33) -> 2.493477 | J37: =IF(J32<J33,J32,J33) -> 3.324636 | K37: =IF(K32<K33,K32,K33) -> 4.155795 | L37: =IF(L32<L33,L32,L33) -> 4.986954 | M37: =IF(M32<M33,M32,M33) -> 5.7243388 | N37: =IF(N32<N33,N32,N33) -> 6.4916389 | O37: =IF(O32<O33,O32,O33) -> 7.3343647 | P37: =IF(P32<P33,P32,P33) -> 8.2617769 | Q37: =IF(Q32<Q33,Q32,Q33) -> 9.1427491
D38: L Vsp.min | F38: =1.07*1.22*F31 -> 4.2243146 | I38: =1.07*1.22*I31 -> 2.2244186 | J38: =1.07*1.22*J31 -> 2.575565 | K38: =1.07*1.22*K31 -> 2.8897478 | L38: =1.07*1.22*L31 -> 3.1792706 | M38: =1.07*1.22*M31 -> 3.4515946 | N38: =1.07*1.22*N31 -> 3.7117009 | O38: =1.07*1.22*O31 -> 3.9631471 | P38: =1.07*1.22*P31 -> 4.2086047 | Q38: =1.07*1.22*Q31 -> 4.4501601
D39: L Vsp.max | F39: =1.07*1.22*F32 -> 10.784924 | I39: =1.07*1.22*I32 -> 4.1078131 | J39: =1.07*1.22*J32 -> 4.8999302 | K39: =1.07*1.22*K32 -> 5.7051546 | L39: =1.07*1.22*L32 -> 6.5552696 | M39: =1.07*1.22*M32 -> 7.4725518 | N39: =1.07*1.22*N32 -> 8.4741854 | O39: =1.07*1.22*O32 -> 9.5742797 | P39: =1.07*1.22*P32 -> 10.784924 | Q39: =1.07*1.22*Q32 -> 12.116791
D40: L throw max | F40: =1.07*1.22*F33 -> 10.84995 | I40: =1.07*1.22*I33 -> 3.2549849 | J40: =1.07*1.22*J33 -> 4.3399799 | K40: =1.07*1.22*K33 -> 5.4249748 | L40: =1.07*1.22*L33 -> 6.5099698 | M40: =1.07*1.22*M33 -> 7.5949648 | N40: =1.07*1.22*N33 -> 8.6799597 | O40: =1.07*1.22*O33 -> 9.7649547 | P40: =1.07*1.22*P33 -> 10.84995 | Q40: =1.07*1.22*Q33 -> 11.934945
D41: W Vsp.min | F41: =1.07*0.707*F31 -> 2.448025 | I41: =1.07*0.707*I31 -> 1.2890688 | J41: =1.07*0.707*J31 -> 1.492561 | K41: =1.07*0.707*K31 -> 1.6746326 | L41: =1.07*0.707*L31 -> 1.8424134 | M41: =1.07*0.707*M31 -> 2.0002273 | N41: =1.07*0.707*N31 -> 2.1509611 | O41: =1.07*0.707*O31 -> 2.2966762 | P41: =1.07*0.707*P31 -> 2.4389209 | Q41: =1.07*0.707*Q31 -> 2.5789042
D42: W Vsp.max | F42: =1.07*0.707*F32 -> 6.2499516 | I42: =1.07*0.707*I32 -> 2.3805113 | J42: =1.07*0.707*J32 -> 2.8395497 | K42: =1.07*0.707*K32 -> 3.3061839 | L42: =1.07*0.707*L32 -> 3.7988325 | M42: =1.07*0.707*M32 -> 4.330405 | N42: =1.07*0.707*N32 -> 4.9108599 | O42: =1.07*0.707*O32 -> 5.5483735 | P42: =1.07*0.707*P32 -> 6.2499516 | Q42: =1.07*0.707*Q32 -> 7.0217795
D43: W throw max | F43: =1.07*0.707*F33 -> 6.2876348 | I43: =1.07*0.707*I33 -> 1.8862904 | J43: =1.07*0.707*J33 -> 2.5150539 | K43: =1.07*0.707*K33 -> 3.1438174 | L43: =1.07*0.707*L33 -> 3.7725809 | M43: =1.07*0.707*M33 -> 4.4013443 | N43: =1.07*0.707*N33 -> 5.0301078 | O43: =1.07*0.707*O33 -> 5.6588713 | P43: =1.07*0.707*P33 -> 6.2876348 | Q43: =1.07*0.707*Q33 -> 6.9163982
D44: Lmin | F44: =F38 -> 4.2243146 | G44: m | I44: =I38 -> 2.2244186 | J44: =J38 -> 2.575565 | K44: =K38 -> 2.8897478 | L44: =L38 -> 3.1792706 | M44: =M38 -> 3.4515946 | N44: =N38 -> 3.7117009 | O44: =O38 -> 3.9631471 | P44: =P38 -> 4.2086047 | Q44: =Q38 -> 4.4501601
C45: L | D45: Lmax | F45: =IF(F39<F40,F39,F40) -> 10.784924 | G45: m | I45: =IF(I39<I40,I39,I40) -> 3.2549849 | J45: =IF(J39<J40,J39,J40) -> 4.3399799 | K45: =IF(K39<K40,K39,K40) -> 5.4249748 | L45: =IF(L39<L40,L39,L40) -> 6.5099698 | M45: =IF(M39<M40,M39,M40) -> 7.4725518 | N45: =IF(N39<N40,N39,N40) -> 8.4741854 | O45: =IF(O39<O40,O39,O40) -> 9.5742797 | P45: =IF(P39<P40,P39,P40) -> 10.784924 | Q45: =IF(Q39<Q40,Q39,Q40) -> 11.934945
C46: Long | D46: Wmin | F46: =F41 -> 2.448025 | G46: m | I46: =I41 -> 1.2890688 | J46: =J41 -> 1.492561 | K46: =K41 -> 1.6746326 | L46: =L41 -> 1.8424134 | M46: =M41 -> 2.0002273 | N46: =N41 -> 2.1509611 | O46: =O41 -> 2.2966762 | P46: =P41 -> 2.4389209 | Q46: =Q41 -> 2.5789042
D47: Wmax | F47: =IF(F42<F43,F42,F43) -> 6.2499516 | G47: m | I47: =IF(I42<I43,I42,I43) -> 1.8862904 | J47: =IF(J42<J43,J42,J43) -> 2.5150539 | K47: =IF(K42<K43,K42,K43) -> 3.1438174 | L47: =IF(L42<L43,L42,L43) -> 3.7725809 | M47: =IF(M42<M43,M42,M43) -> 4.330405 | N47: =IF(N42<N43,N42,N43) -> 4.9108599 | O47: =IF(O42<O43,O42,O43) -> 5.5483735 | P47: =IF(P42<P43,P42,P43) -> 6.2499516 | Q47: =IF(Q42<Q43,Q42,Q43) -> 6.9163982
D48: Pt | F48: =1.359*10^-3*(F$16/($C$16*10^-3*$B66*10^-3)*(0.507*0.171))^2.0302 -> 18.56238 | G48: Pa | K48: =1.359*10^-3*(K$16/($C$16*10^-3*$B66*10^-3)*(0.507*0.171))^2.0302 -> 4.5444629 | L48: =1.359*10^-3*(L$16/($C$16*10^-3*$B66*10^-3)*(0.507*0.171))^2.0302 -> 6.5801581 | M48: =1.359*10^-3*(M$16/($C$16*10^-3*$B66*10^-3)*(0.507*0.171))^2.0302 -> 8.9981184 | N48: =1.359*10^-3*(N$16/($C$16*10^-3*$B66*10^-3)*(0.507*0.171))^2.0302 -> 11.800134 | O48: =1.359*10^-3*(O$16/($C$16*10^-3*$B66*10^-3)*(0.507*0.171))^2.0302 -> 14.987763 | P48: =1.359*10^-3*(P$16/($C$16*10^-3*$B66*10^-3)*(0.507*0.171))^2.0302 -> 18.56238 | Q48: =1.359*10^-3*(Q$16/($C$16*10^-3*$B66*10^-3)*(0.507*0.171))^2.0302 -> 22.525223 | R48: =1.359*10^-3*(R$16/($C$16*10^-3*$B66*10^-3)*(0.507*0.171))^2.0302 -> 26.877411 | ... W48: =1.359*10^-3*(W$16/($C$16*10^-3*$B66*10^-3)*(0.507*0.171))^2.0302 -> 54.511868
B49: H.neck | C49: Throw | D49: Lw | F49: =IF(-114.08+32.01*LN(F$16/($C$16*$B66)*(507*171))+10*LOG($C$16*$B66/(507*171))<15,"<15",-114.08+32.01*LN(F$16/($C$16*$B66)*(507*171))+10*LOG($C$16*$B66/(507*171))) -> 35.685372 | G49: dB(A) | K49: =IF(-114.08+32.01*LN(K$16/($C$16*$B66)*(507*171))+10*LOG($C$16*$B66/(507*171))<15,"<15",-114.08+32.01*LN(K$16/($C$16*$B66)*(507*171))+10*LOG($C$16*$B66/(507*171))) -> <15 | L49: =IF(-114.08+32.01*LN(L$16/($C$16*$B66)*(507*171))+10*LOG($C$16*$B66/(507*171))<15,"<15",-114.08+32.01*LN(L$16/($C$16*$B66)*(507*171))+10*LOG($C$16*$B66/(507*171))) -> 19.333844 | M49: =IF(-114.08+32.01*LN(M$16/($C$16*$B66)*(507*171))+10*LOG($C$16*$B66/(507*171))<15,"<15",-114.08+32.01*LN(M$16/($C$16*$B66)*(507*171))+10*LOG($C$16*$B66/(507*171))) -> 24.268207 | N49: =IF(-114.08+32.01*LN(N$16/($C$16*$B66)*(507*171))+10*LOG($C$16*$B66/(507*171))<15,"<15",-114.08+32.01*LN(N$16/($C$16*$B66)*(507*171))+10*LOG($C$16*$B66/(507*171))) -> 28.542547 | O49: =IF(-114.08+32.01*LN(O$16/($C$16*$B66)*(507*171))+10*LOG($C$16*$B66/(507*171))<15,"<15",-114.08+32.01*LN(O$16/($C$16*$B66)*(507*171))+10*LOG($C$16*$B66/(507*171))) -> 32.312782 | P49: =IF(-114.08+32.01*LN(P$16/($C$16*$B66)*(507*171))+10*LOG($C$16*$B66/(507*171))<15,"<15",-114.08+32.01*LN(P$16/($C$16*$B66)*(507*171))+10*LOG($C$16*$B66/(507*171))) -> 35.685372 | Q49: =IF(-114.08+32.01*LN(Q$16/($C$16*$B66)*(507*171))+10*LOG($C$16*$B66/(507*171))<15,"<15",-114.08+32.01*LN(Q$16/($C$16*$B66)*(507*171))+10*LOG($C$16*$B66/(507*171))) -> 38.736251 | R49: =IF(-114.08+32.01*LN(R$16/($C$16*$B66)*(507*171))+10*LOG($C$16*$B66/(507*171))<15,"<15",-114.08+32.01*LN(R$16/($C$16*$B66)*(507*171))+10*LOG($C$16*$B66/(507*171))) -> 41.521485 | ... W49: =IF(-114.08+32.01*LN(W$16/($C$16*$B66)*(507*171))+10*LOG($C$16*$B66/(507*171))<15,"<15",-114.08+32.01*LN(W$16/($C$16*$B66)*(507*171))+10*LOG($C$16*$B66/(507*171))) -> 52.670783
B50: mm | C50: Setting | D50: Lp* | F50: =IF(-15-114.08+32.01*LN(F$16/($C$16*$B66)*(507*171))+10*LOG($C$16*$B66/(507*171))<5,"<5",-15-114.08+32.01*LN(F$16/($C$16*$B66)*(507*171))+10*LOG($C$16*$B66/(507*171))) -> 20.685372 | G50: NC* | K50: =IF(-15-114.08+32.01*LN(K$16/($C$16*$B66)*(507*171))+10*LOG($C$16*$B66/(507*171))<5,"<5",-15-114.08+32.01*LN(K$16/($C$16*$B66)*(507*171))+10*LOG($C$16*$B66/(507*171))) -> <5 | L50: =IF(-15-114.08+32.01*LN(L$16/($C$16*$B66)*(507*171))+10*LOG($C$16*$B66/(507*171))<5,"<5",-15-114.08+32.01*LN(L$16/($C$16*$B66)*(507*171))+10*LOG($C$16*$B66/(507*171))) -> <5 | M50: =IF(-15-114.08+32.01*LN(M$16/($C$16*$B66)*(507*171))+10*LOG($C$16*$B66/(507*171))<5,"<5",-15-114.08+32.01*LN(M$16/($C$16*$B66)*(507*171))+10*LOG($C$16*$B66/(507*171))) -> 9.2682073 | N50: =IF(-15-114.08+32.01*LN(N$16/($C$16*$B66)*(507*171))+10*LOG($C$16*$B66/(507*171))<5,"<5",-15-114.08+32.01*LN(N$16/($C$16*$B66)*(507*171))+10*LOG($C$16*$B66/(507*171))) -> 13.542547 | O50: =IF(-15-114.08+32.01*LN(O$16/($C$16*$B66)*(507*171))+10*LOG($C$16*$B66/(507*171))<5,"<5",-15-114.08+32.01*LN(O$16/($C$16*$B66)*(507*171))+10*LOG($C$16*$B66/(507*171))) -> 17.312782 | P50: =IF(-15-114.08+32.01*LN(P$16/($C$16*$B66)*(507*171))+10*LOG($C$16*$B66/(507*171))<5,"<5",-15-114.08+32.01*LN(P$16/($C$16*$B66)*(507*171))+10*LOG($C$16*$B66/(507*171))) -> 20.685372 | Q50: =IF(-15-114.08+32.01*LN(Q$16/($C$16*$B66)*(507*171))+10*LOG($C$16*$B66/(507*171))<5,"<5",-15-114.08+32.01*LN(Q$16/($C$16*$B66)*(507*171))+10*LOG($C$16*$B66/(507*171))) -> 23.736251 | R50: =IF(-15-114.08+32.01*LN(R$16/($C$16*$B66)*(507*171))+10*LOG($C$16*$B66/(507*171))<5,"<5",-15-114.08+32.01*LN(R$16/($C$16*$B66)*(507*171))+10*LOG($C$16*$B66/(507*171))) -> 26.521485 | ... W50: =IF(-15-114.08+32.01*LN(W$16/($C$16*$B66)*(507*171))+10*LOG($C$16*$B66/(507*171))<5,"<5",-15-114.08+32.01*LN(W$16/($C$16*$B66)*(507*171))+10*LOG($C$16*$B66/(507*171))) -> 37.670783
D51: L Vsp.min | F51: =1.075*0.707*F62 -> 2.4132021 | K51: =1.075*0.707*K62 -> 1.6744791 | L51: =1.075*0.707*L62 -> 1.8383671 | M51: =1.075*0.707*M62 -> 1.9908814 | N51: =1.075*0.707*N62 -> 2.134806 | O51: =1.075*0.707*O62 -> 2.2721036 | P51: =1.075*0.707*P62 -> 2.4042276 | Q51: =1.075*0.707*Q62 -> 2.5322955 | R51: =1.075*0.707*R62 -> 2.6571934 | ... W51: =1.075*0.707*W62 -> 3.2556278
D52: L Vsp.max | F52: =1.075*0.707*F63 -> 5.2518755 | K52: =1.075*0.707*K63 -> 3.1437958 | L52: =1.075*0.707*L63 -> 3.534507 | M52: =1.075*0.707*M63 -> 3.9340048 | N52: =1.075*0.707*N63 -> 4.3497071 | O52: =1.075*0.707*O63 -> 4.7874108 | P52: =1.075*0.707*P63 -> 5.2518755 | Q52: =1.075*0.707*Q63 -> 5.7471532 | R52: =1.075*0.707*R63 -> 6.2767896 | ... W52: =1.075*0.707*W63 -> 9.5422576
D53: L throw max | F53: =1.075*0.707*F64 -> 5.3504468 | K53: =1.075*0.707*K64 -> 2.6752234 | L53: =1.075*0.707*L64 -> 3.2102681 | M53: =1.075*0.707*M64 -> 3.7453127 | N53: =1.075*0.707*N64 -> 4.2803574 | O53: =1.075*0.707*O64 -> 4.8154021 | P53: =1.075*0.707*P64 -> 5.3504468 | Q53: =1.075*0.707*Q64 -> 5.8854914 | R53: =1.075*0.707*R64 -> 6.4205361 | ... W53: =1.075*0.707*W64 -> 7.189492
D54: W Vsp.min | F54: =1.075*1.225*F62 -> 4.1812908 | K54: =1.075*1.225*K62 -> 2.9013251 | L54: =1.075*1.225*L62 -> 3.1852895 | M54: =1.075*1.225*M62 -> 3.4495469 | N54: =1.075*1.225*N62 -> 3.6989212 | O54: =1.075*1.225*O62 -> 3.9368132 | P54: =1.075*1.225*P62 -> 4.1657409 | Q54: =1.075*1.225*Q62 -> 4.3876407 | R54: =1.075*1.225*R62 -> 4.604048 | ... W54: =1.075*1.225*W62 -> 5.6409393
D55: W Vsp.max | F55: =1.075*1.225*F63 -> 9.0997843 | K55: =1.075*1.225*K63 -> 5.447171 | L55: =1.075*1.225*L63 -> 6.1241458 | M55: =1.075*1.225*M63 -> 6.816345 | N55: =1.075*1.225*N63 -> 7.5366212 | O55: =1.075*1.225*O63 -> 8.2950188 | P55: =1.075*1.225*P63 -> 9.0997843 | Q55: =1.075*1.225*Q63 -> 9.9579387 | R55: =1.075*1.225*R63 -> 10.875625 | ... W55: =1.075*1.225*W63 -> 16.533615
D56: W throw max | F56: =1.075*1.225*F64 -> 9.2705761 | K56: =1.075*1.225*K64 -> 4.635288 | L56: =1.075*1.225*L64 -> 5.5623456 | M56: =1.075*1.225*M64 -> 6.4894032 | N56: =1.075*1.225*N64 -> 7.4164609 | O56: =1.075*1.225*O64 -> 8.3435185 | P56: =1.075*1.225*P64 -> 9.2705761 | Q56: =1.075*1.225*Q64 -> 10.197634 | R56: =1.075*1.225*R64 -> 11.124691 | ... W56: =1.075*1.225*W64 -> 12.457041
D57: Hmin | F57: =2+(F$16/$C$16*$F$10/$F$8^3) -> 2.3890154 | G57: m | K57: =2+(K$16/$C$16*$F$10/$F$8^3) -> 2.1945077 | L57: =2+(L$16/$C$16*$F$10/$F$8^3) -> 2.2334093 | M57: =2+(M$16/$C$16*$F$10/$F$8^3) -> 2.2723108 | N57: =2+(N$16/$C$16*$F$10/$F$8^3) -> 2.3112123 | O57: =2+(O$16/$C$16*$F$10/$F$8^3) -> 2.3501139 | P57: =2+(P$16/$C$16*$F$10/$F$8^3) -> 2.3890154 | Q57: =2+(Q$16/$C$16*$F$10/$F$8^3) -> 2.427917 | R57: =2+(R$16/$C$16*$F$10/$F$8^3) -> 2.4668185 | ... W57: =2+(W$16/$C$16*$F$10/$F$8^3) -> 2.6613262
D58: Lmin | F58: =F51 -> 2.4132021 | G58: m | K58: =K51 -> 1.6744791 | L58: =L51 -> 1.8383671 | M58: =M51 -> 1.9908814 | N58: =N51 -> 2.134806 | O58: =O51 -> 2.2721036 | P58: =P51 -> 2.4042276 | Q58: =Q51 -> 2.5322955 | R58: =R51 -> 2.6571934 | ... W58: =W51 -> 3.2556278
C59: S | D59: Lmax | F59: =IF(F52<F53,F52,F53) -> 5.2518755 | G59: m | K59: =IF(K52<K53,K52,K53) -> 2.6752234 | L59: =IF(L52<L53,L52,L53) -> 3.2102681 | M59: =IF(M52<M53,M52,M53) -> 3.7453127 | N59: =IF(N52<N53,N52,N53) -> 4.2803574 | O59: =IF(O52<O53,O52,O53) -> 4.7874108 | P59: =IF(P52<P53,P52,P53) -> 5.2518755 | Q59: =IF(Q52<Q53,Q52,Q53) -> 5.7471532 | R59: =IF(R52<R53,R52,R53) -> 6.2767896 | ... W59: =IF(W52<W53,W52,W53) -> 7.189492
C60: Short | D60: Wmin | F60: =F54 -> 4.1812908 | G60: m | K60: =K54 -> 2.9013251 | L60: =L54 -> 3.1852895 | M60: =M54 -> 3.4495469 | N60: =N54 -> 3.6989212 | O60: =O54 -> 3.9368132 | P60: =P54 -> 4.1657409 | Q60: =Q54 -> 4.3876407 | R60: =R54 -> 4.604048 | ... W60: =W54 -> 5.6409393
D61: Wmax | F61: =IF(F55<F56,F55,F56) -> 9.0997843 | G61: m | K61: =IF(K55<K56,K55,K56) -> 4.635288 | L61: =IF(L55<L56,L55,L56) -> 5.5623456 | M61: =IF(M55<M56,M55,M56) -> 6.4894032 | N61: =IF(N55<N56,N55,N56) -> 7.4164609 | O61: =IF(O55<O56,O55,O56) -> 8.2950188 | P61: =IF(P55<P56,P55,P56) -> 9.0997843 | Q61: =IF(Q55<Q56,Q55,Q56) -> 9.9579387 | R61: =IF(R55<R56,R55,R56) -> 10.875625 | ... W61: =IF(W55<W56,W55,W56) -> 12.457041
D62: L,W Vsp.min | F62: =(0.2529+2.7683*10^-4*F48)*SQRT(F$16)/$F$4*$F$5*$F$7/$F$8 -> 3.1751615 | K62: =(0.2529+2.7683*10^-4*K48)*SQRT(K$16)*$F$7/$F$8 -> 2.2031894 | L62: =(0.2529+2.7683*10^-4*L48)*SQRT(L$16)*$F$7/$F$8 -> 2.4188245 | M62: =(0.2529+2.7683*10^-4*M48)*SQRT(M$16)*$F$7/$F$8 -> 2.6194946 | N62: =(0.2529+2.7683*10^-4*N48)*SQRT(N$16)*$F$7/$F$8 -> 2.8088628 | O62: =(0.2529+2.7683*10^-4*O48)*SQRT(O$16)*$F$7/$F$8 -> 2.9895117 | P62: =(0.2529+2.7683*10^-4*P48)*SQRT(P$16)*$F$7/$F$8 -> 3.1633533 | Q62: =(0.2529+2.7683*10^-4*Q48)*SQRT(Q$16)*$F$7/$F$8 -> 3.3318581 | R62: =(0.2529+2.7683*10^-4*R48)*SQRT(R$16)*$F$7/$F$8 -> 3.4961922 | ... W62: =(0.2529+2.7683*10^-4*W48)*SQRT(W$16)*$F$7/$F$8 -> 4.2835799
D63: L,W Vsp.max | F63: =(0.675+9.273*10^-3*F48)*SQRT(F$16)*$F$4*$F$6/$F$7*$F$8 -> 6.9101352 | K63: =(0.675+9.273*10^-3*K48)*SQRT(K$16)*$F$4/$F$7*$F$8 -> 4.1364374 | L63: =(0.675+9.273*10^-3*L48)*SQRT(L$16)*$F$4/$F$7*$F$8 -> 4.6505141 | M63: =(0.675+9.273*10^-3*M48)*SQRT(M$16)*$F$4/$F$7*$F$8 -> 5.1761519 | N63: =(0.675+9.273*10^-3*N48)*SQRT(N$16)*$F$4/$F$7*$F$8 -> 5.7231106 | O63: =(0.675+9.273*10^-3*O48)*SQRT(O$16)*$F$4/$F$7*$F$8 -> 6.2990176 | P63: =(0.675+9.273*10^-3*P48)*SQRT(P$16)*$F$4/$F$7*$F$8 -> 6.9101352 | Q63: =(0.675+9.273*10^-3*Q48)*SQRT(Q$16)*$F$4/$F$7*$F$8 -> 7.5617949 | R63: =(0.675+9.273*10^-3*R48)*SQRT(R$16)*$F$4/$F$7*$F$8 -> 8.258662 | ... W63: =(0.675+9.273*10^-3*W48)*SQRT(W$16)*$F$4/$F$7*$F$8 -> 12.555189
D64: L,W throw max | F64: =IF(($F$3*(F$16*10^-3)/SQRT($C$16*10^-3*$B$66*10^-3)*$F$4/$F$6^2*$F$8)<(4*$F$13*$F$8),($F$3*(F$16*10^-3)/SQRT($C$16*10^-3*$B$66*10^-3)*$F$4/$F$6^2*$F$8),(4*$F$13*$F$8)) -> 7.03983 | K64: =IF(($F$3*(K$16*10^-3)/SQRT($C$16*10^-3*$B$66*10^-3)*$F$4/$F$6^2*$F$8)<(4*$F$13*$F$8),($F$3*(K$16*10^-3)/SQRT($C$16*10^-3*$B$66*10^-3)*$F$4/$F$6^2*$F$8),(4*$F$13*$F$8)) -> 3.519915 | L64: =IF(($F$3*(L$16*10^-3)/SQRT($C$16*10^-3*$B$66*10^-3)*$F$4/$F$6^2*$F$8)<(4*$F$13*$F$8),($F$3*(L$16*10^-3)/SQRT($C$16*10^-3*$B$66*10^-3)*$F$4/$F$6^2*$F$8),(4*$F$13*$F$8)) -> 4.223898 | M64: =IF(($F$3*(M$16*10^-3)/SQRT($C$16*10^-3*$B$66*10^-3)*$F$4/$F$6^2*$F$8)<(4*$F$13*$F$8),($F$3*(M$16*10^-3)/SQRT($C$16*10^-3*$B$66*10^-3)*$F$4/$F$6^2*$F$8),(4*$F$13*$F$8)) -> 4.927881 | N64: =IF(($F$3*(N$16*10^-3)/SQRT($C$16*10^-3*$B$66*10^-3)*$F$4/$F$6^2*$F$8)<(4*$F$13*$F$8),($F$3*(N$16*10^-3)/SQRT($C$16*10^-3*$B$66*10^-3)*$F$4/$F$6^2*$F$8),(4*$F$13*$F$8)) -> 5.631864 | O64: =IF(($F$3*(O$16*10^-3)/SQRT($C$16*10^-3*$B$66*10^-3)*$F$4/$F$6^2*$F$8)<(4*$F$13*$F$8),($F$3*(O$16*10^-3)/SQRT($C$16*10^-3*$B$66*10^-3)*$F$4/$F$6^2*$F$8),(4*$F$13*$F$8)) -> 6.335847 | P64: =IF(($F$3*(P$16*10^-3)/SQRT($C$16*10^-3*$B$66*10^-3)*$F$4/$F$6^2*$F$8)<(4*$F$13*$F$8),($F$3*(P$16*10^-3)/SQRT($C$16*10^-3*$B$66*10^-3)*$F$4/$F$6^2*$F$8),(4*$F$13*$F$8)) -> 7.03983 | Q64: =IF(($F$3*(Q$16*10^-3)/SQRT($C$16*10^-3*$B$66*10^-3)*$F$4/$F$6^2*$F$8)<(4*$F$13*$F$8),($F$3*(Q$16*10^-3)/SQRT($C$16*10^-3*$B$66*10^-3)*$F$4/$F$6^2*$F$8),(4*$F$13*$F$8)) -> 7.7438129 | R64: =IF(($F$3*(R$16*10^-3)/SQRT($C$16*10^-3*$B$66*10^-3)*$F$4/$F$6^2*$F$8)<(4*$F$13*$F$8),($F$3*(R$16*10^-3)/SQRT($C$16*10^-3*$B$66*10^-3)*$F$4/$F$6^2*$F$8),(4*$F$13*$F$8)) -> 8.4477959 | ... W64: =IF(($F$3*(W$16*10^-3)/SQRT($C$16*10^-3*$B$66*10^-3)*$F$4/$F$6^2*$F$8)<(4*$F$13*$F$8),($F$3*(W$16*10^-3)/SQRT($C$16*10^-3*$B$66*10^-3)*$F$4/$F$6^2*$F$8),(4*$F$13*$F$8)) -> 9.4595467
D65: Lmin | F65: =F62 -> 3.1751615 | G65: m | K65: =K62 -> 2.2031894 | L65: =L62 -> 2.4188245 | M65: =M62 -> 2.6194946 | N65: =N62 -> 2.8088628 | O65: =O62 -> 2.9895117 | P65: =P62 -> 3.1633533 | Q65: =Q62 -> 3.3318581 | R65: =R62 -> 3.4961922 | ... W65: =W62 -> 4.2835799
B66: 138 | C66: M | D66: Lmax | F66: =IF(F63<F64,F63,F64) -> 6.9101352 | G66: m | K66: =IF(K63<K64,K63,K64) -> 3.519915 | L66: =IF(L63<L64,L63,L64) -> 4.223898 | M66: =IF(M63<M64,M63,M64) -> 4.927881 | N66: =IF(N63<N64,N63,N64) -> 5.631864 | O66: =IF(O63<O64,O63,O64) -> 6.2990176 | P66: =IF(P63<P64,P63,P64) -> 6.9101352 | Q66: =IF(Q63<Q64,Q63,Q64) -> 7.5617949 | R66: =IF(R63<R64,R63,R64) -> 8.258662 | ... W66: =IF(W63<W64,W63,W64) -> 9.4595467
B67: (2-row) | C67: Medium | D67: Wmin | F67: =F62 -> 3.1751615 | G67: m | K67: =K62 -> 2.2031894 | L67: =L62 -> 2.4188245 | M67: =M62 -> 2.6194946 | N67: =N62 -> 2.8088628 | O67: =O62 -> 2.9895117 | P67: =P62 -> 3.1633533 | Q67: =Q62 -> 3.3318581 | R67: =R62 -> 3.4961922 | ... W67: =W62 -> 4.2835799
D68: Wmax | F68: =IF(F63<F64,F63,F64) -> 6.9101352 | G68: m | K68: =IF(K63<K64,K63,K64) -> 3.519915 | L68: =IF(L63<L64,L63,L64) -> 4.223898 | M68: =IF(M63<M64,M63,M64) -> 4.927881 | N68: =IF(N63<N64,N63,N64) -> 5.631864 | O68: =IF(O63<O64,O63,O64) -> 6.2990176 | P68: =IF(P63<P64,P63,P64) -> 6.9101352 | Q68: =IF(Q63<Q64,Q63,Q64) -> 7.5617949 | R68: =IF(R63<R64,R63,R64) -> 8.258662 | ... W68: =IF(W63<W64,W63,W64) -> 9.4595467
D69: L Vsp.min | F69: =1.07*1.22*F62 -> 4.1448558 | K69: =1.07*1.22*K62 -> 2.8760435 | L69: =1.07*1.22*L62 -> 3.1575335 | M69: =1.07*1.22*M62 -> 3.4194882 | N69: =1.07*1.22*N62 -> 3.6666895 | O69: =1.07*1.22*O62 -> 3.9025086 | P69: =1.07*1.22*P62 -> 4.1294414 | Q69: =1.07*1.22*Q62 -> 4.3494076 | R69: =1.07*1.22*R62 -> 4.5639292 | ... W69: =1.07*1.22*W62 -> 5.5917852
D70: L Vsp.max | F70: =1.07*1.22*F63 -> 9.0204905 | K70: =1.07*1.22*K63 -> 5.3997054 | L70: =1.07*1.22*L63 -> 6.0707811 | M70: =1.07*1.22*M63 -> 6.7569487 | N70: =1.07*1.22*N63 -> 7.4709485 | O70: =1.07*1.22*O63 -> 8.2227375 | P70: =1.07*1.22*P63 -> 9.0204905 | Q70: =1.07*1.22*Q63 -> 9.8711671 | R70: =1.07*1.22*R63 -> 10.780857 | ... W70: =1.07*1.22*W63 -> 16.389544
D71: L throw max | F71: =1.07*1.22*F64 -> 9.189794 | K71: =1.07*1.22*K64 -> 4.594897 | L71: =1.07*1.22*L64 -> 5.5138764 | M71: =1.07*1.22*M64 -> 6.4328558 | N71: =1.07*1.22*N64 -> 7.3518352 | O71: =1.07*1.22*O64 -> 8.2708146 | P71: =1.07*1.22*P64 -> 9.189794 | Q71: =1.07*1.22*Q64 -> 10.108773 | R71: =1.07*1.22*R64 -> 11.027753 | ... W71: =1.07*1.22*W64 -> 12.348492
D72: W Vsp.min | F72: =1.07*0.707*F62 -> 2.4019779 | K72: =1.07*0.707*K62 -> 1.6666908 | L72: =1.07*0.707*L62 -> 1.8298165 | M72: =1.07*0.707*M62 -> 1.9816214 | N72: =1.07*0.707*N62 -> 2.1248766 | O72: =1.07*0.707*O62 -> 2.2615357 | P72: =1.07*0.707*P62 -> 2.3930451 | Q72: =1.07*0.707*Q62 -> 2.5205174 | R72: =1.07*0.707*R62 -> 2.6448344 | ... W72: =1.07*0.707*W62 -> 3.2404854
D73: W Vsp.max | F73: =1.07*0.707*F63 -> 5.2274482 | K73: =1.07*0.707*K63 -> 3.1291735 | L73: =1.07*0.707*L63 -> 3.5180674 | M73: =1.07*0.707*M63 -> 3.9157071 | N73: =1.07*0.707*N63 -> 4.3294759 | O73: =1.07*0.707*O63 -> 4.7651438 | P73: =1.07*0.707*P63 -> 5.2274482 | Q73: =1.07*0.707*Q63 -> 5.7204222 | R73: =1.07*0.707*R63 -> 6.2475952 | ... W73: =1.07*0.707*W63 -> 9.497875
D74: W throw max | F74: =1.07*0.707*F64 -> 5.325561 | K74: =1.07*0.707*K64 -> 2.6627805 | L74: =1.07*0.707*L64 -> 3.1953366 | M74: =1.07*0.707*M64 -> 3.7278927 | N74: =1.07*0.707*N64 -> 4.2604488 | O74: =1.07*0.707*O64 -> 4.7930049 | P74: =1.07*0.707*P64 -> 5.325561 | Q74: =1.07*0.707*Q64 -> 5.8581171 | R74: =1.07*0.707*R64 -> 6.3906732 | ... W74: =1.07*0.707*W64 -> 7.1560525
D75: Lmin | F75: =F69 -> 4.1448558 | G75: m | K75: =K69 -> 2.8760435 | L75: =L69 -> 3.1575335 | M75: =M69 -> 3.4194882 | N75: =N69 -> 3.6666895 | O75: =O69 -> 3.9025086 | P75: =P69 -> 4.1294414 | Q75: =Q69 -> 4.3494076 | R75: =R69 -> 4.5639292 | ... W75: =W69 -> 5.5917852
C76: L | D76: Lmax | F76: =IF(F70<F71,F70,F71) -> 9.0204905 | G76: m | K76: =IF(K70<K71,K70,K71) -> 4.594897 | L76: =IF(L70<L71,L70,L71) -> 5.5138764 | M76: =IF(M70<M71,M70,M71) -> 6.4328558 | N76: =IF(N70<N71,N70,N71) -> 7.3518352 | O76: =IF(O70<O71,O70,O71) -> 8.2227375 | P76: =IF(P70<P71,P70,P71) -> 9.0204905 | Q76: =IF(Q70<Q71,Q70,Q71) -> 9.8711671 | R76: =IF(R70<R71,R70,R71) -> 10.780857 | ... W76: =IF(W70<W71,W70,W71) -> 12.348492
