Workbook
Name adpi.: data!$A$2:$A$5
Name getImage: IF('BAW-FD'!$Z$14<0.4,#REF!,IF('BAW-FD'!$Z$14<0.65,#REF!,IF('BAW-FD'!$Z$14<1,#REF!,#REF!)))
Name getLayout: IF('BAW-FD equations'!$B$14=2,#REF!,#REF!)

Sheet BAW-FD
D2: SMARTEMP PRODUCT SELECTION CALCULATOR
D3: Bar Aspiration Wall Diffuser with Removable Core
C5: Project: | D5: <Project Name>
D7: Inputs | L7: Detailed Selection | S7: v 2.0 [11/2025]
D9: Diffuser Flowrate | E9: 100 | F9: [L/s] | G9: [m3/h] | L9: ADPI ≥ | M9: 0.8 | N9: default ≥ 80%
D11: VAV (turndown to) | E11: 100 | F11: % 30% to 100% (use 100% for CAV) | U11: Specific Airflow Rate (heating) | V11: 5 | W11: L/s/m2
L12: Diffuser Location | M12: Closed Ceiling (≤ 500 mm diffuser to ceiling)
D13: Maximum Permissible Static Pressure | E13: 15 | F13: Pa default 15 Pa | M13: Open Ceiling
D15: ΔT (cooling) | E15: -12 | F15: K 0 K to -15 K (default -12 K)
D17: Neck Height | E17: 150 | F17: mm 75mm, 100mm, 125mm, 150mm, 200mm
D19: Diffuser Mounting Height | E19: 2.5 | F19: m 2 m to 5 m
C24: SMARTEMP BAW-FD | O24: Key: | P24: Suitable | Q24: Not Suitable | R24: Warning | S24: Warning
C25: Dimensions* | D25: Width Flangeless Face | F25: [mm]
D26: Width Flanged Face | F26: [mm] | G26: 80 | H26: 105 | I26: 130 | J26: 180
D27: Width of Diffuser Throat | F27: [mm] | G27: 50 | H27: 75 | I27: 100 | J27: 150
C28: Dimensions | D28: Active Length | F28: [mm] | G28: ='BAW-FD equations'!B296 -> 200 | H28: ='BAW-FD equations'!C296 -> 300 | I28: ='BAW-FD equations'!D296 -> 400 | J28: ='BAW-FD equations'!E296 -> 500 | K28: ='BAW-FD equations'!F296 -> 600 | L28: ='BAW-FD equations'!G296 -> 700 | M28: ='BAW-FD equations'!H296 -> 800 | N28: ='BAW-FD equations'!I296 -> 1000
D29: Neck Height | F29: [mm] | G29: =$E$17 -> 150 | H29: =$E$17 -> 150 | I29: =$E$17 -> 150 | J29: =$E$17 -> 150 | K29: =$E$17 -> 150 | L29: =$E$17 -> 150 | M29: =$E$17 -> 150 | N29: =$E$17 -> 150
C30: Airflow | D30: Selected Airflow Rate | F30: ='BAW-FD equations'!$C$3 -> [L/s] | G30: ='BAW-FD equations'!B297 -> 100 | H30: ='BAW-FD equations'!C297 -> 100 | I30: ='BAW-FD equations'!D297 -> 100 | J30: ='BAW-FD equations'!E297 -> 100 | K30: ='BAW-FD equations'!F297 -> 100 | L30: ='BAW-FD equations'!G297 -> 100 | M30: ='BAW-FD equations'!H297 -> 100 | N30: ='BAW-FD equations'!I297 -> 100
D31: Airflow @ Max Static Pressure | F31: ='BAW-FD equations'!$C$3 -> [L/s] | G31: ='BAW-FD equations'!B298 -> 95 | H31: ='BAW-FD equations'!C298 -> 142 | I31: ='BAW-FD equations'!D298 -> 190 | J31: ='BAW-FD equations'!E298 -> 237 | K31: ='BAW-FD equations'!F298 -> 285 | L31: ='BAW-FD equations'!G298 -> 332 | M31: ='BAW-FD equations'!H298 -> 379 | N31: ='BAW-FD equations'!I298 -> 474
D32: Min Selected Airflow | F32: ='BAW-FD equations'!$C$3 -> [L/s] | G32: ='BAW-FD equations'!B299 -> 100 | H32: ='BAW-FD equations'!C299 -> 100 | I32: ='BAW-FD equations'!D299 -> 100 | J32: ='BAW-FD equations'!E299 -> 100 | K32: ='BAW-FD equations'!F299 -> 100 | L32: ='BAW-FD equations'!G299 -> 100 | M32: ='BAW-FD equations'!H299 -> 100 | N32: ='BAW-FD equations'!I299 -> 100
D33: ='BAW-FD equations'!A300 -> Min Permissible Airflow @ -12 K | F33: ='BAW-FD equations'!$C$3 -> [L/s] | G33: ='BAW-FD equations'!B300 -> 33 | H33: ='BAW-FD equations'!C300 -> 49 | I33: ='BAW-FD equations'!D300 -> 65 | J33: ='BAW-FD equations'!E300 -> 81 | K33: ='BAW-FD equations'!F300 -> 98 | L33: ='BAW-FD equations'!G300 -> - | M33: ='BAW-FD equations'!H300 -> - | N33: ='BAW-FD equations'!I300 -> -
D34: Selected Turndown to % | G34: ='BAW-FD equations'!B301 -> 1 | H34: ='BAW-FD equations'!C301 -> 1 | I34: ='BAW-FD equations'!D301 -> 1 | J34: ='BAW-FD equations'!E301 -> 1 | K34: ='BAW-FD equations'!F301 -> 1 | L34: ='BAW-FD equations'!G301 -> 1 | M34: ='BAW-FD equations'!H301 -> 1 | N34: ='BAW-FD equations'!I301 -> 1
D35: Min Permissible % Turndown to | G35: ='BAW-FD equations'!B302 -> 0.33 | H35: ='BAW-FD equations'!C302 -> 0.49 | I35: ='BAW-FD equations'!D302 -> 0.65 | J35: ='BAW-FD equations'!E302 -> 0.81 | K35: ='BAW-FD equations'!F302 -> 0.98 | L35: ='BAW-FD equations'!G302 -> - | M35: ='BAW-FD equations'!H302 -> - | N35: ='BAW-FD equations'!I302 -> -
C36: Pressure | D36: Static Pressure @ 100% Airflow | F36: [Pa] | G36: ='BAW-FD equations'!B303 -> 16.7 | H36: ='BAW-FD equations'!C303 -> 7.4 | I36: ='BAW-FD equations'!D303 -> 4.2 | J36: ='BAW-FD equations'!E303 -> 2.7 | K36: ='BAW-FD equations'!F303 -> 1.9 | L36: ='BAW-FD equations'!G303 -> 1.4 | M36: ='BAW-FD equations'!H303 -> 1 | N36: ='BAW-FD equations'!I303 -> < 1
D37: Total Pressure @ 100% Airflow | F37: [Pa] | G37: ='BAW-FD equations'!B304 -> 23.5 | H37: ='BAW-FD equations'!C304 -> 10.4 | I37: ='BAW-FD equations'!D304 -> 5.9 | J37: ='BAW-FD equations'!E304 -> 3.8 | K37: ='BAW-FD equations'!F304 -> 2.6 | L37: ='BAW-FD equations'!G304 -> 1.9 | M37: ='BAW-FD equations'!H304 -> 1.5 | N37: ='BAW-FD equations'!I304 -> < 1
D38: Max Selected Total Pressure | F38: [Pa] | G38: ='BAW-FD equations'!B305 -> 15 | H38: ='BAW-FD equations'!C305 -> 15 | I38: ='BAW-FD equations'!D305 -> 15 | J38: ='BAW-FD equations'!E305 -> 15 | K38: ='BAW-FD equations'!F305 -> 15 | L38: ='BAW-FD equations'!G305 -> 15 | M38: ='BAW-FD equations'!H305 -> 15 | N38: ='BAW-FD equations'!I305 -> 15
C39: Acoustic | D39: Sound Power Level | F39: [dB(A)/m] | G39: ='BAW-FD equations'!B306 -> 45.7 | H39: ='BAW-FD equations'!C306 -> 37.1 | I39: ='BAW-FD equations'!D306 -> 31 | J39: ='BAW-FD equations'!E306 -> 28.7 | K39: ='BAW-FD equations'!F306 -> 26.5 | L39: ='BAW-FD equations'!G306 -> 24.6 | M39: ='BAW-FD equations'!H306 -> 22.7 | N39: ='BAW-FD equations'!I306 -> 19.5
D40: Sound Pressure Level * | F40: [NC/m] | G40: ='BAW-FD equations'!B307 -> 30.7 | H40: ='BAW-FD equations'!C307 -> 22.1 | I40: ='BAW-FD equations'!D307 -> 16 | J40: ='BAW-FD equations'!E307 -> 13.7 | K40: ='BAW-FD equations'!F307 -> 11.5 | L40: ='BAW-FD equations'!G307 -> < 10 | M40: ='BAW-FD equations'!H307 -> < 10 | N40: ='BAW-FD equations'!I307 -> < 10 | O40: * Based on 10 dB(A) room absoprtion
C41: Recommended Distances & Layout | D41: Lmin | F41: [m] | G41: ='BAW-FD equations'!B310 -> 4.1 | H41: ='BAW-FD equations'!C310 -> 3.4 | I41: ='BAW-FD equations'!D310 -> 3.2 | J41: ='BAW-FD equations'!E310 -> 3.0 | K41: ='BAW-FD equations'!F310 -> 2.8 | L41: ='BAW-FD equations'!G310 -> 2.7 | M41: ='BAW-FD equations'!H310 -> 2.7 | N41: ='BAW-FD equations'!I310 -> 2.6
D42: Lmax | F42: [m] | G42: ='BAW-FD equations'!B311 -> 12.1 | H42: ='BAW-FD equations'!C311 -> 13.5 | I42: ='BAW-FD equations'!D311 -> 12.0 | J42: ='BAW-FD equations'!E311 -> 11.8 | K42: ='BAW-FD equations'!F311 -> 11.5 | L42: ='BAW-FD equations'!G311 -> 11.3 | M42: ='BAW-FD equations'!H311 -> 11.0 | N42: ='BAW-FD equations'!I311 -> 10.5
D43: Bmin | F43: [m] | G43: ='BAW-FD equations'!B312 -> 2.5 | H43: ='BAW-FD equations'!C312 -> 2.1 | I43: ='BAW-FD equations'!D312 -> 1.9 | J43: ='BAW-FD equations'!E312 -> 1.9 | K43: ='BAW-FD equations'!F312 -> 1.9 | L43: ='BAW-FD equations'!G312 -> 1.9 | M43: ='BAW-FD equations'!H312 -> 1.9 | N43: ='BAW-FD equations'!I312 -> 2.0
D44: Bmax | F44: [m] | G44: ='BAW-FD equations'!B313 -> 7.4 | H44: ='BAW-FD equations'!C313 -> 8.2 | I44: ='BAW-FD equations'!D313 -> 7.3 | J44: ='BAW-FD equations'!E313 -> 7.5 | K44: ='BAW-FD equations'!F313 -> 7.6 | L44: ='BAW-FD equations'!G313 -> 7.8 | M44: ='BAW-FD equations'!H313 -> 8.0 | N44: ='BAW-FD equations'!I313 -> 8.4 | O44: ='BAW-FD equations'!J334
D45: Min Diffuser Height | F45: [m] | G45: ='BAW-FD equations'!B316 -> 2.3 | H45: ='BAW-FD equations'!C316 -> 2.3 | I45: ='BAW-FD equations'!D316 -> 2.3 | J45: ='BAW-FD equations'!E316 -> 2.3 | K45: ='BAW-FD equations'!F316 -> 2.3 | L45: ='BAW-FD equations'!G316 -> 2.3 | M45: ='BAW-FD equations'!H316 -> 2.3 | N45: ='BAW-FD equations'!I316 -> 2.3
C46: Velocity | D46: Spigot Velocity | F46: [m/s] | G46: ='BAW-FD equations'!B317 -> 5.66 | H46: ='BAW-FD equations'!C317 -> 3.4 | I46: ='BAW-FD equations'!D317 -> 2.43 | J46: ='BAW-FD equations'!E317 -> 2.43 | K46: ='BAW-FD equations'!F317 -> 2.43 | L46: ='BAW-FD equations'!G317 -> 2.43 | M46: ='BAW-FD equations'!H317 -> 2.43 | N46: ='BAW-FD equations'!I317 -> 2.43 | O46: ='BAW-FD equations'!J336 -> - Warning: High spigot velocity. Recommend increasing 'Neck Height'.
D47: Face Velocity | F47: [m/s] | G47: ='BAW-FD equations'!B318 -> 3.33 | H47: ='BAW-FD equations'!C318 -> 2.22 | I47: ='BAW-FD equations'!D318 -> 1.67 | J47: ='BAW-FD equations'!E318 -> 1.33 | K47: ='BAW-FD equations'!F318 -> 1.11 | L47: ='BAW-FD equations'!G318 -> 0.95 | M47: ='BAW-FD equations'!H318 -> 0.83 | N47: ='BAW-FD equations'!I318 -> 0.67
C48: Spigot | D48: Spigot Size | G48: ='BAW-FD equations'!B319 -> DN150 | H48: ='BAW-FD equations'!C319 -> DN200 | I48: ='BAW-FD equations'!D319 -> DN250 | J48: ='BAW-FD equations'!E319 -> DN250 | K48: ='BAW-FD equations'!F319 -> DN250 | L48: ='BAW-FD equations'!G319 -> DN250 | M48: ='BAW-FD equations'!H319 -> DN250 | N48: ='BAW-FD equations'!I319 -> DN250
I53: click here to see product on smartair.asia | Q53: Copyright © 2025 SMARTAIR DIFFUSION

Sheet BAW-FD equations
A1: Units
A3: Units | B3: 1 | C3: =IF(B3=1,"[L/s]","[m³/h]") -> [L/s] | D3: =IF(B3=1,"L/s","m³/h") -> L/s
A4: Units Multiplier | B4: =IF(B3=1,1,3.6) -> 1 | C4: =IF(B4=1,"L/s","m³/h") -> L/s | D4: =IF(B3=1,"L/s","m³/h") -> L/s
A6: Input Values
A8: Airflow Rate | B8: ='BAW-FD'!E9 -> 100
A9: VAV | B9: ='BAW-FD'!E11 -> 100
A10: Max Static Pressure | B10: ='BAW-FD'!E13 -> 15
A11: dT(cooling) | B11: ='BAW-FD'!E15 -> -12
A12: Room Height | B12: ='BAW-FD'!E19 -> 2.5
A13: Length Ratio | B13: ='BAW-FD'!Z14 -> 0
A14: Air Pattern | B14: 1
A15: Specific airflow | B15: ='BAW-FD'!N20/B4 -> 0
A16: neck height | B16: ='BAW-FD'!$E$17 -> 150
A17: ADPI | B17: ='BAW-FD'!M9 -> 0.8
A18: LRA | B18: ='BAW-FD'!#REF! -> #REF!
A19: Ceiling | B19: 1
A20: Room Temperature | B20: ='BAW-FD'!#REF! -> #REF! | C20: C
A21: Manual C distance | B21: ='BAW-FD'!N18 -> 0 | C21: m
A22: distance input type | B22: 1
A25: Input Validation
A27: Airflow Rate | B27: =B8/B4 -> 100
A28: VAV | B28: =B9/100 -> 1
A29: Airflow Rate (TD) | B29: =B27*B28 -> 100
A30: Max Static Pressure | B30: =B10 -> 15
A31: dT(cooling) | B31: =MAX(ABS(B11),6) -> 12 | C31: Capped at 6
A32: Room Height | B32: =B12 -> 2.5
A33: Length Ratio | B33: =B13 -> 0
A34: Air Pattern | B34: =B14 -> 1
A36: ADPI | B36: =B17 -> 0.8
A37: Local Velocity | B37: =VLOOKUP('BAW-FD equations'!B36,data!A2:B5,2,0) -> 0.29
A38: LRA | B38: =(1+B18/100) -> #REF!
A39: Ceiling Type | B39: =B19-1 -> 0 | C39: =IF(B39=0,"Closed","Free") -> Closed
A40: Ceiling Type Heating | B40: =IF(B39=1,0.5,1) -> 1
A41: Ceiling Type Hmin | B41: =IF(B39=1,1,1) -> 1
A42: Cmin Ceiling Factor | B42: =IF($B$39=1,0.85,1) -> 1
A43: Cmax Ceiling Factor | B43: =IF($B$39=1,0.8,1) -> 1
A45: Spigot Selection
A46: Neck Height | B46: =$B$16/1000 -> 0.15 | G46: Selected Spigot Properties
A47: Target Spigot V | B47: 2.5 | C47: Round Spigot | E47: Oval Spigot | G47: Type | H47: Total Spigot Width | I47: Area | J47: Velocity | L47: Distance
B48: DN | C48: Area | D48: Circumf | E48: OH | F48: Area | J48: Design | K48: Turndown
A49: DN150 | B49: 0.15 | C49: =PI()*(B49/2)^2 -> 0.017671459 | D49: =PI()*B49 -> 0.4712389 | E49: =(D49-PI()*$B$46)/2 -> 0 | F49: =PI()*($B$46/2)^2 + $B$46*E49 -> 0.017671459 | G49: =IF(E49>0,"OVAL","ROUND") -> ROUND | H49: =IF(E49>0,E49+$B$46,B49) -> 0.15 | I49: =IF(E49>0,F49,C49) -> 0.017671459 | J49: =($B$27/1000)/I49 -> 5.6588424 | K49: =($B$29/1000)/I49 -> 5.6588424 | L49: =ABS(J49-$B$47) -> 3.1588424
A50: DN200 | B50: 0.2 | C50: =PI()*(B50/2)^2 -> 0.031415927 | D50: =PI()*B50 -> 0.62831853 | E50: =(D50-PI()*$B$46)/2 -> 0.078539816 | F50: =PI()*($B$46/2)^2 + $B$46*E50 -> 0.029452431 | G50: =IF(E50>0,"OVAL","ROUND") -> OVAL | H50: =IF(E50>0,E50+$B$46,B50) -> 0.22853982 | I50: =IF(E50>0,F50,C50) -> 0.029452431 | J50: =($B$27/1000)/I50 -> 3.3953055 | K50: =($B$29/1000)/I50 -> 3.3953055 | L50: =ABS(J50-$B$47) -> 0.89530545
A51: DN250 | B51: 0.25 | C51: =PI()*(B51/2)^2 -> 0.049087385 | D51: =PI()*B51 -> 0.78539816 | E51: =(D51-PI()*$B$46)/2 -> 0.15707963 | F51: =PI()*($B$46/2)^2 + $B$46*E51 -> 0.041233404 | G51: =IF(E51>0,"OVAL","ROUND") -> OVAL | H51: =IF(E51>0,E51+$B$46,B51) -> 0.30707963 | I51: =IF(E51>0,F51,C51) -> 0.041233404 | J51: =($B$27/1000)/I51 -> 2.4252182 | K51: =($B$29/1000)/I51 -> 2.4252182 | L51: =ABS(J51-$B$47) -> 0.07478182
A52: DN300 | B52: 0.3 | C52: =PI()*(B52/2)^2 -> 0.070685835 | D52: =PI()*B52 -> 0.9424778 | E52: =(D52-PI()*$B$46)/2 -> 0.23561945 | F52: =PI()*($B$46/2)^2 + $B$46*E52 -> 0.053014376 | G52: =IF(E52>0,"OVAL","ROUND") -> OVAL | H52: =IF(E52>0,E52+$B$46,B52) -> 0.38561945 | I52: =IF(E52>0,F52,C52) -> 0.053014376 | J52: =($B$27/1000)/I52 -> 1.8862808 | K52: =($B$29/1000)/I52 -> 1.8862808 | L52: =ABS(J52-$B$47) -> 0.61371919
A53: DN350 | B53: 0.35 | C53: =PI()*(B53/2)^2 -> 0.096211275 | D53: =PI()*B53 -> 1.0995574 | E53: =(D53-PI()*$B$46)/2 -> 0.31415927 | F53: =PI()*($B$46/2)^2 + $B$46*E53 -> 0.064795348 | G53: =IF(E53>0,"OVAL","ROUND") -> OVAL | H53: =IF(E53>0,E53+$B$46,B53) -> 0.46415927 | I53: =IF(E53>0,F53,C53) -> 0.064795348 | J53: =($B$27/1000)/I53 -> 1.5433207 | K53: =($B$29/1000)/I53 -> 1.5433207 | L53: =ABS(J53-$B$47) -> 0.95667934
A55: Vmin
A56: 0.95 | B56: =0.6725*A56-0.2053 -> 0.433575
A57: 0.9 | B57: 0.4 | G57: 0.9 | H57: 0.4
A58: 0.8 | B58: =0.6725*A58-0.2053 -> 0.3327 | G58: 0.7 | H58: 0.2655
A59: 0.7 | B59: 0.2655
A60: =B17 -> 0.8 | B60: =_xlfn.XLOOKUP(A60,A56:A59,B56:B59) -> 0.3327
A62: Lmin
B64: Throw / Width @ APDI
A65: Face width / Spigot width | B65: 0.7 | C65: 0.8 | D65: 0.9
A66: 1 | B66: 1.5 | C66: 1.7 | D66: 2
A67: 3 | B67: 1.2 | C67: 1.3 | D67: 1.5 | F67: ADPI | G67: =$B$17 -> 0.8
A68: m | B68: =(B66-B67)/($A$66-$A$67) -> -0.15 | C68: =(C66-C67)/($A$66-$A$67) -> -0.2 | D68: =(D66-D67)/($A$66-$A$67) -> -0.25 | F68: M | G68: =HLOOKUP($G$67,$B$65:$D$69,4,TRUE) -> -0.2
A69: b | B69: =B66-B68*$A$66 -> 1.65 | C69: =C66-C68*$A$66 -> 1.9 | D69: =D66-D68*$A$66 -> 2.25 | F69: B | G69: =HLOOKUP($G$67,$B$65:$D$69,5,TRUE) -> 1.9
A71: Adjustment Factor | B71: 0.9 | C71: Standard Data is giving higher coverage than PMW, so adjsutment factor has been added
A72: H | B72: ax | C72: ^b | D72: Target Q''
A73: 2.7 | B73: 2886 | C73: 2.152 | D73: =B73*$B$37^C73 -> 201.08368
A74: 4 | B74: 2651 | C74: 2.175 | D74: =B74*$B$37^C74 -> 179.52518
A75: 10.0001 | B75: 2317 | C75: 2.194 | D75: =B75*$B$37^C75 -> 153.25944
B76: Ax | C76: ^b
A77: =$B$32 -> 2.5 | B77: =EXP(INDEX(LINEST(LN(D73:D75),LN(A73:A75),,),1,2)) -> 242.13769 | C77: =INDEX(LINEST(LN(D73:D75),LN(A73:A75),,),1) -> -0.20126492 | D77: =B77*A77^C77 -> 201.35899 | E77: W/m2
A78: v' for Vmax | B78: =$D$77/$B$31*B71 -> 15.101924 | C78: L/s/m2
A79: v' for Vmin | B79: =B78+B80 -> 19.101924 | C79: L/s/m2
A80: v'' + correction factor | B80: 4
A82: Lmax
B84: Throw / Width @ APDI
A85: Face width / Spigot width | B85: 0.7 | C85: 0.8 | D85: 0.9
A86: 1 | B86: 1.5 | C86: 1.7 | D86: 2
A87: 3 | B87: 1.2 | C87: 1.3 | D87: 1.5 | F87: ADPI | G87: =$B$17 -> 0.8
A88: m | B88: =(B86-B87)/($A$86-$A$87) -> -0.15 | C88: =(C86-C87)/($A$86-$A$87) -> -0.2 | D88: =(D86-D87)/($A$86-$A$87) -> -0.25 | F88: M | G88: =HLOOKUP($G$87,$B$85:$D$89,4,TRUE) -> -0.2
A89: b | B89: =B86-B88*$A$86 -> 1.65 | C89: =C86-C88*$A$86 -> 1.9 | D89: =D86-D88*$A$86 -> 2.25 | F89: B | G89: =HLOOKUP($G$87,$B$85:$D$89,5,TRUE) -> 1.9
A92: Adjustment Factor | B92: 1.3 | C92: Standard Data is giving higher coverage than PMW and much higher than stadard bar grille, so adjsutment factor has been added
A93: ADPI | B93: for Vmax | C93: for Vmin | E93: Hfactor @ Vmax | F93: Hfactor @ Vmin
A94: 0.95 | B94: 1.91 | C94: 2.54 | D94: L/s/m2 | E94: 5.3170379 | F94: 4.4308649 | H94: 0.95 | I94: =B94*3 -> 5.73 | J94: =C94*3 -> 7.62
A95: 0.9 | B95: 1.5 | C95: 2 | D95: L/s/m2 | E95: 6 | F95: 5 | H95: 0.9 | I95: =B95*3 -> 4.5 | J95: =C95*3 -> 6
A96: 0.8 | B96: 1 | C96: 1.32 | D96: L/s/m2 | E96: 7.3659242 | F96: 6.1382702 | H96: 0.8 | I96: =B96*3 -> 3 | J96: =C96*3 -> 3.96
A97: 0.7 | B97: 0.7 | C97: 0.94 | D97: L/s/m2 | E97: 8.7318484 | F97: 7.2765403 | H97: 0.7 | I97: =B97*3 -> 2.1 | J97: =C97*3 -> 2.82 | AS97: Q | AT97: SWL | AU97: P | AW97: A | AX97: B
A98: at Vmax | B98: =VLOOKUP($B$36,A94:F97,2,0)*B92 -> 1.3 | D98: at adpi | E98: =VLOOKUP($B$36,A94:F97,5,0) -> 7.3659242 | H98: at Vmax | I98: =VLOOKUP($B$36,H94:M97,2,0) -> 3 | AS98: 130 | AT98: =AS98^2*#REF!+AS98*$AJ$172+$AK$172 -> #REF! | AU98: =(AS98/#REF!)^2*#REF! -> #REF! | AW98: 15.324 | AX98: -2.6401
A99: at Vmin | B99: =VLOOKUP($B$36,A94:F97,3,0)*B92 -> 1.716 | E99: =VLOOKUP($B$36,A94:F97,6,0) -> 6.1382702 | H99: at Vmin | I99: =VLOOKUP($B$36,H94:M97,3,0) -> 3.96 | AS99: 210 | AT99: =AS99^2*#REF!+AS99*$AJ$172+$AK$172 -> #REF! | AU99: =(AS99/#REF!)^2*#REF! -> #REF!
AS100: 280 | AT100: =AS100^2*#REF!+AS100*$AJ$172+$AK$172 -> #REF! | AU100: =(AS100/#REF!)^2*#REF! -> #REF!
B101: V | C101: L/s/m2 | E101: The diffuser is not pressure dominant enough to signifigantly reduce the velocity when the face is oversized, therefore it is more appropriate to scale according to spigot velocity.
A102: V'' Min | C102: 0.7
A103: at Spigot V = 2.5 m/s | B103: 2.5 | C103: =B98 -> 1.3
A104: at Spigot V = 1.0 m/s | B104: 1 | C104: =B99 -> 1.716
A105: V'' Max | C105: 2.5
A108: Hmin
A110: Hmin 1WAY | B110: =D110*SQRT($B$27*2)+E110 -> 2.6055662 | D110: 0.04282 | E110: 2
A112: ADPI
A113: Hmin | B113: 0.95 | C113: =C114+0.1 -> 2.7055662
B114: 0.9 | C114: =B110 -> 2.6055662
B115: 0.85 | C115: =(C114+C116)/2 -> 2.5555662
B116: 0.8 | C116: =C114-0.1 -> 2.5055662
B117: 0.7 | C117: =C116-0.1 -> 2.4055662
A119: Heating
A120: Height | B120: Slope
A121: 2 | B121: 1.011236 | AS121: SWL | AT121: =AW98*LN(#REF!)+AX98 -> #REF!
...

Sheet data
A1: ADPI
A2: 0.95 | B2: 0.2
A3: 0.9 | B3: 0.25
A4: 0.8 | B4: 0.29
A5: 0.7 | B5: 0.33
A7: Slots
B8: =IF(C8=5,"<slots>",C8) -> 1 | C8: 1
A10: Length
B11: Selection | C11: Code | D11: Type | E11: Description
B12: 1 | C12: N1200 | D12: Neck | E12: 1200 mm neck length
B13: 2 | C13: N1500 | D13: Neck | E13: 1500 mm neck length
B14: 3 | C14: <length> | D14: Custom | E14: Custom length
A16: Length | B16: 1 | C16: =VLOOKUP(B16,B12:D14,2,0) -> N1200 | D16: =VLOOKUP(B16,B12:D14,3,0) -> Neck | E16: =VLOOKUP(B16,B12:E14,4,0) -> 1200 mm neck length
A18: Neck Height
A19: 75
A20: 100
A21: 125
A22: 150
A23: 200
A25: Barrel Setting
B26: Selection | C26: Display | D26: Code | E26: Name
B27: 1 | C27: =C118 -> 10.2 | D27: ="1"&C118 -> 110.2 | E27: ="recommended (" & C118 &")" -> recommended (10.2)
B28: 2 | C28: Custom Horizontal/Vertical | D28: <direction> | E28: Custom discharge direction
A32: airpatterletter | B32: 1 | C32: =VLOOKUP(B32,B26:E28,2,0) -> 10.2 | D32: =VLOOKUP(B32,B26:E28,3,0) -> 110.2 | E32: =VLOOKUP(B32,B26:E28,4,0) -> recommended (10.2)
A34: Side Profile | C34: Code | D34: Description
B35: 1 | C35: SF | D35: with side flanges
B36: 2 | C36: SN | D36: flangeless side profile
B37: 1 | C37: =VLOOKUP(B37,B35:D36,2,0) -> SF | D37: =VLOOKUP(B37,B35:D36,3,0) -> with side flanges
A38: Selection
A40: Diffuser Ends
C41: Code | D41: Description
B42: 1 | C42: E2 | D42: with two end flanges
B43: 2 | C43: E1 | D43: with one end flange + one pair of joining strips
B44: 3 | C44: J | D44: include one pair of joining strips
B45: 4 | C45: E0 | D45: without end flanges
A46: Selection | B46: 1 | C46: =VLOOKUP(B46,B42:D45,2,0) -> E2 | D46: =VLOOKUP(B46,B42:D45,3,0) -> with two end flanges
A48: Fixing | C48: Code | D48: Description
B49: 1 | C49: F0 | D49: fixing by others; without accessories
B50: 2 | C50: EX | D50: expansion bracket fixing
A51: Selection | B51: 1 | C51: =VLOOKUP(B51,B49:D50,2,0) -> F0 | D51: =VLOOKUP(B51,B49:D50,3,0) -> fixing by others; without accessories
A53: Colour | B53: =IF(C53=1,"RAL9003",IF(C53=2,"RAL9005","<colour>")) -> RAL9003 | C53: 1 | D53: ='BAW-FD'!#REF! -> #REF!
A54: Barrel | B54: =IF(C54=1,"B","W") -> B | C54: 1
A56: connection box
B57: 1 | C57: K0 | D57: no connection box
B58: 2 | C58: K | D58: uninsulated connection box
B59: 3 | C59: KI | D59: internally insulated connection box
A60: Selection | B60: 1 | C60: =VLOOKUP(B60,B57:D59,2,0) -> K0 | D60: =VLOOKUP(B60,B57:D59,3,0) -> no connection box
B62: 0
B63: 1 | C63: t | D63: clipped to diffuser throat
B64: 2 | C64: n | D64: screwed to diffuser throat
A65: Selection | B65: 1
B66: =IF(B60=1,0,B65) -> 0 | C66: =VLOOKUP(B66,B62:D64,2,0) | D66: =VLOOKUP(B66,B62:D64,3,0)
A67: Selection | C67: =C60&C66 -> K0 | D67: =D60&" "&D66 -> no connection box
A70: Naming
B71: nominal length | C71: nslots | D71: airpattern letter | E71: profile type | F71: diffuserends | G71: fixing | H71: profile colour | I71: barrelcolour | J71: Box
A72: SMARTEMP LMW-AD- | B72: =C16&"-" -> N1200- | C72: =B8&"-" -> 1- | D72: =D32&"-" -> 110.2- | E72: =C37&"-" -> SF- | F72: =C46&"-" -> E2- | G72: =C51&"-" -> F0- | H72: =B53&"-" -> RAL9003- | I72: =B54&"-" -> B- | J72: =C67 -> K0
B75: =IF(OR(B8=0,B16=0),"Please select length and number of slots",CONCATENATE(A72,B72,C72,D72,E72,F72,G72,H72,I72,J72)) -> SMARTEMP LMW-AD-N1200-1-110.2-SF-E2-F0-RAL9003-B-K0
A80: Bespoke dimensions
A83: Summary
A84: Length | B84: =IF(B16=3,"Custom Face Length",IF(B16=0,"please select a length",D16&" "&RIGHT(C16,4)&" mm")) -> Neck 1200 mm
A85: Slots | B85: =IF(C8=9,"Custom Slots",IF(C8=0,"please select number of",B8)) -> 1
A86: Size | B86: =B84&" × "&B85&" slots" -> Neck 1200 mm × 1 slots
A87: Location | B87: =IF('BAW-FD equations'!B19=1,"Closed Ceiling","Freely Suspended") -> Closed Ceiling
A91: Description | B91: =C91&" with "&D91 -> 1200 mm neck length with 1 slots | C91: =E16 -> 1200 mm neck length | D91: =IF(C8=0,"(number of slots not selected)",B8&" slots") -> 1 slots
B92: ="Discharge direction '"&D32&"'" -> Discharge direction '110.2'
B93: =D37 -> with side flanges
B94: =D46 -> with two end flanges
B95: =D51 -> fixing by others; without accessories
B96: ="profile powder coated to "&C96&" with "&D96& " barrels" -> profile powder coated to RAL9003 with black barrels | C96: =IF(C53=3,"custom colour",B53) -> RAL9003 | D96: =IF(C54=1,"black","white") -> black
B97: =D67 -> no connection box
D99: Format
A100: 0 | B100: Slots | C100: =OFFSET('BAW-FD equations'!$B$296,data!A100,data!$C$8-1) -> 200
A101: 1 | B101: Selected Airflow [L/s/m] | C101: =OFFSET('BAW-FD equations'!$B$296,data!A101,data!$C$8-1) -> 100
A102: 2 | B102: Airflow @ Max Static Pressure[L/s/m] | C102: =OFFSET('BAW-FD equations'!$B$296,data!A102,data!$C$8-1) -> 95
A103: 3 | B103: Min Selected Airflow [L/s/m] | C103: =OFFSET('BAW-FD equations'!$B$296,data!A103,data!$C$8-1) -> 100
A104: 4 | B104: Min Permissible Airflow [L/s/m] | C104: =OFFSET('BAW-FD equations'!$B$296,data!A104,data!$C$8-1) -> 33
A105: 5 | B105: Min % Turndown to | C105: =OFFSET('BAW-FD equations'!$B$296,data!A105,data!$C$8-1) -> 1 | D105: =C105*100 -> 100
A106: 6 | B106: Min Permissible % Turndown to | C106: =OFFSET('BAW-FD equations'!$B$296,data!A106,data!$C$8-1) -> 0.33
A107: 7 | B107: Max Static Pressure (Pa) | C107: =OFFSET('BAW-FD equations'!$B$296,data!A107,data!$C$8-1) -> 16.7
A108: 8 | B108: Max Total Pressure (Pa) | C108: =OFFSET('BAW-FD equations'!$B$296,data!A108,data!$C$8-1) -> 23.5
A109: 9 | B109: Max Permissible Pressure (Pa) | C109: =OFFSET('BAW-FD equations'!$B$296,data!A109,data!$C$8-1) -> 15
A110: 10 | B110: Sound Power Level (dBA) | C110: =OFFSET('BAW-FD equations'!$B$296,data!A110,data!$C$8-1) -> 45.7
A111: 11 | B111: Sound Pressure Level (NC) | C111: =OFFSET('BAW-FD equations'!$B$296,data!A111,data!$C$8-1) -> 30.7
A112: 12 | B112: Heating Centre Zones for Air Direction 'A' [K] | C112: =OFFSET('BAW-FD equations'!$B$296,data!A112,data!$C$8-1) -> ≈ 0.0
A113: 13 | B113: heating Perimeter | C113: =OFFSET('BAW-FD equations'!$B$296,data!A113,data!$C$8-1) -> ≈ 0.0
A114: 14 | B114: Max C/L Distance (m) | C114: =OFFSET('BAW-FD equations'!$B$296,data!A114,data!$C$8-1) -> 4.1
A115: 15 | B115: Max Centre Z C/L Distance (m) | C115: =OFFSET('BAW-FD equations'!$B$296,data!A115,data!$C$8-1) -> 12.1
A116: 16 | B116: Min C/L Distance (m) | C116: =OFFSET('BAW-FD equations'!$B$296,data!A116,data!$C$8-1) -> 2.5
A117: 17 | B117: Min Diffuser Height (m) | C117: =OFFSET('BAW-FD equations'!$B$296,data!A117,data!$C$8-1) -> 7.4
... A124: 24 | B124: Nominal Spigot Size | C124: =OFFSET('BAW-FD equations'!$B$296,data!A124,data!$C$8-1) -> 0
A125: 25 | C125: =OFFSET('BAW-FD equations'!$B$296,data!A125,data!$C$8-1) -> FALSE
A127: dt | B127: ='BAW-FD'!E15 -> -12
A128: room temp | B128: ='BAW-FD'!#REF! -> #REF!
A129: dist type selection | B129: ='BAW-FD equations'!B22 -> 1
A130: height | B130: ='BAW-FD'!E19 -> 2.5
A131: Units | B131: ='BAW-FD equations'!D3 -> L/s | C131: ='BAW-FD equations'!C4 -> L/s
A133: Summary
B134: Text
A135: Airflow | B135: =C101&" "&B131&" @ "& C108 & " Pa total (" &C107& " Pa static)" -> 100 L/s @ 23.5 Pa total (16.7 Pa static)
A136: Min airflow | B136: =C103&" "&B131&" ("&D105&"% turndown to) @ ΔT = "&B127&" K" -> 100 L/s (100% turndown to) @ ΔT = -12 K
...

Sheet Dimensions
D2: SMARTEMP PRODUCT SELECTION CALCULATOR
D3: Linear Multistream Ceiling Diffuser [LMW-AD] Dimensions
C6: Dimensions
H8: 1 Slot | I8: 2 Slots | J8: 3 Slots | K8: 4 Slots
G9: Width Flangeless Face (Wn) | H9: 31 | I9: 59 | J9: 87 | K9: 115 | L9: mm
G10: Width Flanged Face (Wf) | H10: 48 | I10: 76 | J10: 104 | K10: 132 | L10: mm
G11: Width of Diffuser Throat (Wt) | H11: 27 | I11: 55 | J11: 83 | K11: 111 | L11: mm
G12: Recommended Plenum Height A * | H12: 200 | I12: 255 | J12: 300 | K12: 325 | L12: mm
G13: Recommended Plenum Width B * | H13: 81 | I13: 109 | J13: 137 | K13: 165 | L13: mm
G14: Recommended Spigot Dimension D * per 1 m length | H14: 124 | I14: 179 | J14: 224 | K14: 249 | L14: mm
G15: Recommended Spigot Dimension D * per 1.5 m length | H15: 149 | I15: 224 | J15: 249 | K15: 279 | L15: mm
O16: * | P16: Check exact dimension with local supplier

Sheet Selection Summary
B1: MBW-FD Performance Calculator Summary
A3: Project | B3: ='BAW-FD'!D5 -> <Project Name>
A4: Diffuser Location | B4: <Name>
A5: Consultant | B5: <Name>
A7: Product | B7: SMARTEMP MBW-FD
B8: Multi-Stream Bar Grille with Removable Core
A9: Size
A10: Diffuser Location | B10: =data!B87 -> Closed Ceiling
A13: Summary
A14: Selected Airflow | B14: =data!B135 -> 100 L/s @ 23.5 Pa total (16.7 Pa static)
A15: Min Seleted Airflow | B15: =data!B136 -> 100 L/s (100% turndown to) @ ΔT = -12 K
A16: Max Recommended Heating ΔT | B16: =data!B137 -> + ≈ 0.0 K for perimeter zones; + ≈ 0.0 K for centre zones
A17: Selected Air Discharge Setting | B17: =data!B138 -> Discharge barrels set to 110.2
A19: Acoustic Performance
A20: Sound Power Level | B20: =data!B141 -> 45.7 dB(A)/m
A21: Sound Pressure Level ^ | B21: =data!B142 -> 30.7 NC/m | D21: ^ based on 10dB room absorption
A22: Recommended Plenum Box Spigot Diameter (per 1200 mm length) | B22: =data!B143 -> 0 mm
A25: Comfort Performance
A26: ADPI | B26: =data!B146 -> ≥ 80%
A27: Mean Room Air Velocity | B27: =data!B147 -> 89.7 m/s
A28: Mean Draught Rating | B28: =data!B148 -> #REF!
A29: Mean PPD | B29: =data!B149 -> 566%
A30: Satisfies PPD (ISO7730) | B30: =data!B150 -> Category DN150
A31: Mean PMV * | B31: =data!B151 -> -3.33 < PMV < +3.33
A32: * ISO7730; ASHRAE Std 55
A44: Description | B44: =data!B91 -> 1200 mm neck length with 1 slots
B45: =data!B92 -> Discharge direction '110.2'
B46: =data!B93 -> with side flanges
B47: =data!B94 -> with two end flanges
B48: =data!B95 -> fixing by others; without accessories
B49: =data!B96 -> profile powder coated to RAL9003 with black barrels
B50: =data!B97 -> no connection box
A52: Order Code | B52: ='BAW-FD'!#REF! -> #REF!
