Workbook
Name adpi.: #REF!

Sheet ASF-AD
C2: SMARTEMP PRODUCT SELECTION CALCULATOR
C3: Auditorium Floor Swirl Diffuser [ASF-AD]
C6: Inputs | L6: v 2.0 [08/2017]
C8: Airflow Rate | D8: 12 | E8: L/s | F8: m3/h
C10: Maximum Permissible Pressure | D10: 20 | E10: Pa | F10: default 20 Pa
D12: Basket A1 | E12: For assembly halls with non-critical acoustical criteria, such as lecture theatres.
D13: Basket A2 | E13: For acoustically stringent assembly halls such as opera houses.
C16: Results
C17: Damper Setting | D17: ='ASF-ADequations'!B23 -> 1 | E17: ='ASF-ADequations'!C23 -> 0.8 | F17: ='ASF-ADequations'!D23 -> 0.6 | G17: ='ASF-ADequations'!E23 -> 0.4 | H17: ='ASF-ADequations'!F23 -> 0.2
C18: Sound Power Level (dB(A)) | D18: =IF('ASF-ADequations'!B24>10,'ASF-ADequations'!B24,"< 10") -> 17.283694 | E18: =IF('ASF-ADequations'!C24>10,'ASF-ADequations'!C24,"< 10") -> 19.880511 | F18: =IF('ASF-ADequations'!D24>10,'ASF-ADequations'!D24,"< 10") -> 25.223869 | G18: =IF('ASF-ADequations'!E24>10,'ASF-ADequations'!E24,"< 10") -> 34.82595 | H18: =IF('ASF-ADequations'!F24>10,'ASF-ADequations'!F24,"< 10") -> 55.731582
C19: Sound Pressure Level (dB(A)) * | D19: =IF('ASF-ADequations'!B25>10,'ASF-ADequations'!B25,"< 10") -> 28.283694 | E19: =IF('ASF-ADequations'!C25>10,'ASF-ADequations'!C25,"< 10") -> 30.880511 | F19: =IF('ASF-ADequations'!D25>10,'ASF-ADequations'!D25,"< 10") -> 36.223869 | G19: =IF('ASF-ADequations'!E25>10,'ASF-ADequations'!E25,"< 10") -> 45.82595 | H19: =IF('ASF-ADequations'!F25>10,'ASF-ADequations'!F25,"< 10") -> 66.731582
C20: Sound Pressure Level (NC) * | D20: =IF('ASF-ADequations'!B26>10,'ASF-ADequations'!B26,"< 10") -> 21.728298 | E20: =IF('ASF-ADequations'!C26>10,'ASF-ADequations'!C26,"< 10") -> 24.187187 | F20: =IF('ASF-ADequations'!D26>10,'ASF-ADequations'!D26,"< 10") -> 32.05831 | G20: =IF('ASF-ADequations'!E26>10,'ASF-ADequations'!E26,"< 10") -> 43.748019 | H20: =IF('ASF-ADequations'!F26>10,'ASF-ADequations'!F26,"< 10") -> 65.942244 | I20: Key: | J20: Suitable | K20: Not Suitable
C21: Total Pressure Loss (Pa) | D21: =IF('ASF-ADequations'!B27>=5,'ASF-ADequations'!B27,"< 5") -> 7.2546978 | E21: =IF('ASF-ADequations'!C27>=5,'ASF-ADequations'!C27,"< 5") -> 10.035436 | F21: =IF('ASF-ADequations'!D27>=5,'ASF-ADequations'!D27,"< 5") -> 16.343984 | G21: =IF('ASF-ADequations'!E27>=5,'ASF-ADequations'!E27,"< 5") -> 32.608018 | H21: =IF('ASF-ADequations'!F27>=5,'ASF-ADequations'!F27,"< 5") -> 118.91193 | I21: * | J21: Refer to 'ASF-AD Acoustic Data' worksheet for detailed acoustic data
C22: Max Permissible Pressure Loss (Pa) | D22: ='ASF-ADequations'!B28 -> 20 | E22: ='ASF-ADequations'!C28 -> 20 | F22: ='ASF-ADequations'!D28 -> 20 | G22: ='ASF-ADequations'!E28 -> 20 | H22: ='ASF-ADequations'!F28 -> 20 | J22: Estimated sound pressure level for seated occupant based on one
J23: diffuser per seat
C24: Product Selection & Code Generator
C25: Material | E25: Polycarbonate * | G25: Aluminium
C26: Basket 1 | E26: ="As selected *(cell "&IF('ASF-ADequations'!B10=1,"D12","D13")&")" -> As selected *(cell D12) | G26: No basket | K26: 1 only with mounting ring
C27: Dampers 2 | E27: No damper | G27: Damper *3 | K27: 2 only with basket
C28: Mounting Ring | E28: No mounting ring | G28: With rubber collar * | I28: With claw fastener 4 | K28: 3 damper to be set on-site (by others)
C29: Colour | E29: ST * (standard grey/alu) | G29: RAL9005 (jet black) | I29: custom ^ | K29: 4 only available with aluminium ring
C30: Connection | E30: No connection * | G30: Connection box | K30: ^ contact Smartair for custom colours
C31: Product Code | D31: ='ASF-ADequations'!B139 -> SMARTEMP ASF-AD-P-DN200-BA1-DD-RR-ST-O | K31: * indicates standard/default option
E33: click to see product on smartair.asia | J33: Copyright © 2017 SMARTAIR DIFFUSION

Sheet ASF-ADequations
A1: Units
A3: Units Type | B3: 1
A4: Units multiplier | B4: =IF(B3=1,1,3.6) -> 1
A6: Input Values
A8: Airflow Rate | B8: ='ASF-AD'!$D$8/B4 -> 12 | E8: 2.4L/s | F8: 20
A9: Max Pressure | B9: ='ASF-AD'!D10 -> 20
A10: Basket | B10: 1 | C10: =IF(B10=1,"A1","A2") -> A1
A13: A1 | B13: 1 | I13: A1 | J13: 0.8 | Q13: A1 | R13: 0.6 | Y13: A1 | Z13: 0.4 | AG13: A1 | AH13: 0.2 | AO13: A2 | AP13: 1 | AW13: A2 | AX13: 0.8 | BE13: A2 | BF13: 0.6 | BM13: A4 | BN13: 0.4
A14: SWL (dB(A)) | B14: =I42 -> 17.283694 | I14: SWL | J14: =I43 -> 19.880511 | Q14: SWL | R14: =I44 -> 25.223869 | Y14: SWL | Z14: =I45 -> 34.82595 | AG14: SWL | AH14: =I46 -> 55.731582 | AO14: SWL | AP14: =I79 -> 10.585687 | AW14: SWL | AX14: =I80 -> 19.850655 | BE14: SWL | BF14: =I81 -> 23.118571 | BM14: SWL | BN14: =I82 -> 30.096733
A15: SPL (dB(A)) | I15: SPL (dB(A)) | Q15: SPL (dB(A)) | Y15: SPL (dB(A)) | AG15: SPL (dB(A)) | AO15: SPL (dB(A)) | AW15: SPL (dB(A)) | BE15: SPL (dB(A)) | BM15: SPL (dB(A))
A16: SPL (NC) | B16: =R49 -> 21.728298 | I16: SPL (NC) | J16: =R50 -> 24.187187 | Q16: SPL (NC) | R16: =R51 -> 32.05831 | Y16: SPL (NC) | Z16: =R52 -> 43.748019 | AG16: SPL (NC) | AH16: =R53 -> 65.942244 | AO16: SPL (NC) | AP16: =R85 -> 14.726942 | AW16: SPL (NC) | AX16: =R86 -> 26.50631 | BE16: SPL (NC) | BF16: =R87 -> 29.762422 | BM16: SPL (NC) | BN16: =R88 -> 36.655772
A17: Total Pressure Loss (Pa) | B17: =F17*($B$8/E17)^2 -> 7.2546978 | D17: =$B$8 -> 12 | E17: 16.67 | F17: 14 | I17: Total Pressure Loss (Pa) | J17: =N17*(L17/M17)^2 -> 10.035436 | L17: =$B$8/J13 -> 15 | M17: =16.67*1.0628 -> 17.716876 | N17: 14 | Q17: Total Pressure Loss (Pa) | R17: =V17*(T17/U17)^2 -> 16.343984 | T17: =$B$8/R13 -> 20 | U17: =16.67*1.1104 -> 18.510368 | V17: 14 | Y17: Total Pressure Loss (Pa) | Z17: =AD17*(AB17/AC17)^2 -> 32.608018 | AB17: =$B$8/Z13 -> 30 | AC17: =16.67*1.1792 -> 19.657264 | AD17: 14 | AG17: Total Pressure Loss (Pa) | AH17: =AL17*(AJ17/AK17)^2 -> 118.91193 | AJ17: =$B$8/AH13 -> 60 | AK17: =16.67*1.235 -> 20.58745 | AL17: 14 | AO17: Total Pressure Loss (Pa) | AP17: =AT17*(AR17/AS17)^2 -> 9.8649222 | AR17: =$B$8 -> 12 | AS17: 15.2825 | AT17: 16 | AW17: Total Pressure Loss (Pa) | AX17: =BB17*(AZ17/BA17)^2 -> 13.64741 | AZ17: =$B$8 -> 12 | BA17: 12.9932 | BB17: 16 | BE17: Total Pressure Loss (Pa) | BF17: =BJ17*(BH17/BI17)^2 -> 22.223696 | BH17: =$B$8 -> 12 | BI17: 10.182 | BJ17: 16 | BM17: Total Pressure Loss (Pa) | BN17: =BR17*(BP17/BQ17)^2 -> 44.337231 | BP17: =$B$8 -> 12 | BQ17: 7.2087 | BR17: 16
E18: V | F18: P
J19: =M19*SQRT(J17/N17) -> 14.113662 | M19: 16.67 | R19: =U19*SQRT(R17/V17) *0.6 -> 10.806916 | U19: 16.67 | Z19: =AC19*SQRT(Z17/AD17)*0.4 -> 10.176391 | AC19: 16.67 | AH19: =AK19*SQRT(AH17/AL17)*0.2 -> 9.7165992 | AK19: 16.67 | AP19: Q
AM20: P | AN20: 5 | AP20: =$AS$17*SQRT(AN20/$AT$17) -> 8.5431772 | AW20: 5 | AX20: =BA$17*SQRT(AW20/BB$17) -> 7.2634196 | BE20: 5 | BF20: =BI$17*SQRT(BE20/BJ$17) -> 5.691911 | BM20: 5 | BN20: =BQ$17*SQRT(BM20/BR$17) -> 4.0297858
B21: 1 | C21: 0.8 | D21: 0.6 | E21: 0.4 | F21: 0.2 | AN21: 10 | AP21: =$AS$17*SQRT(AN21/$AT$17) -> 12.081877 | AW21: 10 | AX21: =BA$17*SQRT(AW21/BB$17) -> 10.272027 | BE21: 10 | BF21: =BI$17*SQRT(BE21/BJ$17) -> 8.0495778 | BM21: 10 | BN21: =BQ$17*SQRT(BM21/BR$17) -> 5.6989777
B22: 1 | C22: 0.8 | D22: 0.6 | E22: 0.4 | AN22: 15 | AP22: =$AS$17*SQRT(AN22/$AT$17) -> 14.797217 | AW22: 15 | AX22: =BA$17*SQRT(AW22/BB$17) -> 12.580612 | BE22: 15 | BF22: =BI$17*SQRT(BE22/BJ$17) -> 9.8586791 | BM22: 15 | BN22: =BQ$17*SQRT(BM22/BR$17) -> 6.9797938
A23: Results | B23: =IF($B$10=1,B21,B22) -> 1 | C23: =IF($B$10=1,C21,C22) -> 0.8 | D23: =IF($B$10=1,D21,D22) -> 0.6 | E23: =IF($B$10=1,E21,E22) -> 0.4 | F23: =IF($B$10=1,F21,"") -> 0.2 | AN23: 20 | AP23: =$AS$17*SQRT(AN23/$AT$17) -> 17.086354 | AW23: 20 | AX23: =BA$17*SQRT(AW23/BB$17) -> 14.526839 | BE23: 20 | BF23: =BI$17*SQRT(BE23/BJ$17) -> 11.383822 | BM23: 20 | BN23: =BQ$17*SQRT(BM23/BR$17) -> 8.0595716
A24: SWL (dB(A)) | B24: =IF($B$10=1,B14,AP14) -> 17.283694 | C24: =IF($B$10=1,J14,AX14) -> 19.880511 | D24: =IF($B$10=1,R14,BF14) -> 25.223869 | E24: =IF($B$10=1,Z14,BN14) -> 34.82595 | F24: =IF($B$10=1,AH14,"") -> 55.731582 | AN24: 25 | AP24: =$AS$17*SQRT(AN24/$AT$17) -> 19.103125 | AW24: 25 | AX24: =BA$17*SQRT(AW24/BB$17) -> 16.2415 | BE24: 25 | BF24: =BI$17*SQRT(BE24/BJ$17) -> 12.7275 | BM24: 25 | BN24: =BQ$17*SQRT(BM24/BR$17) -> 9.010875
A25: SPL (dB(A)) | B25: =B24+11 -> 28.283694 | C25: =C24+11 -> 30.880511 | D25: =D24+11 -> 36.223869 | E25: =E24+11 -> 45.82595 | F25: =IF($B$10=1,F24+11,"") -> 66.731582 | AN25: 30 | AP25: =$AS$17*SQRT(AN25/$AT$17) -> 20.926425 | AW25: 30 | AX25: =BA$17*SQRT(AW25/BB$17) -> 17.791672 | BE25: 30 | BF25: =BI$17*SQRT(BE25/BJ$17) -> 13.942278 | BM25: 30 | BN25: =BQ$17*SQRT(BM25/BR$17) -> 9.870919
A26: SPL (NC) | B26: =IF($B$10=1,B16,AP16) -> 21.728298 | C26: =IF($B$10=1,J16,AX16) -> 24.187187 | D26: =IF($B$10=1,R16,BF16) -> 32.05831 | E26: =IF($B$10=1,Z16,BN16) -> 43.748019 | F26: =IF($B$10=1,AH16,"") -> 65.942244
A27: Total Pressure Loss (Pa) | B27: =IF($B$10=1,B17,AP17) -> 7.2546978 | C27: =IF($B$10=1,J17,AX17) -> 10.035436 | D27: =IF($B$10=1,R17,BF17) -> 16.343984 | E27: =IF($B$10=1,Z17,BN17) -> 32.608018 | F27: =IF($B$10=1,AH17,"") -> 118.91193 | AN27: 80 | AP27: =$AS$17*SQRT(AN27/$AT$17) -> 34.172709 | AW27: 80 | AX27: =BA$17*SQRT(AW27/BB$17) -> 29.053678 | BE27: 80 | BF27: =BI$17*SQRT(BE27/BJ$17) -> 22.767644 | BM27: 80 | BN27: =BQ$17*SQRT(BM27/BR$17) -> 16.119143
A28: Max pressure | B28: =$B$9 -> 20 | C28: =$B$9 -> 20 | D28: =$B$9 -> 20 | E28: =$B$9 -> 20 | F28: =IF($B$10=1,B9,"") -> 20
A30: Acoustic A1 | M30: S Pressure L
B32: A*LOG | C32: 8.7273 | D32: 10.441 | E32: 9.8138 | F32: 18.981
B33: +B | C33: 2.9783 | D33: -3.4927 | E33: -2.1067 | F33: -28.027 | G33: 5 | H33: 5 | P33: dB | R33: SPL
B34: P | C34: 125 | D34: 250 | E34: 500 | F34: 1000 | G34: 2000 | H34: 4000 | I34: SWL | L34: 125 | M34: 250 | N34: 500 | O34: 1000 | P34: 2000 | Q34: 4000
A35: 1 | B35: =$B$17 -> 7.2546978 | C35: =C32*LN($B$35)+C33 -> 20.272747 | D35: =D32*LN($B$35)+D33 -> 17.1977 | E35: =E32*LN($B$35)+E33 -> 17.340809 | F35: =F32*LN($B$35)+F33 -> 9.5866841 | G35: =G32*LN($B$35)+G33 -> 5 | H35: =H32*LN($B$35)+H33 -> 5 | K35: 1 | L35: =C35+11 -> 31.272747 | M35: =D35+11 -> 28.1977 | N35: =E35+11 -> 28.340809 | O35: =F35+11 -> 20.586684 | P35: =G35+11 -> 16 | Q35: =H35+11 -> 16
A36: 0.8 | B36: =$J$17 -> 10.035436 | C36: =C$32*LN($B36)+C$33+(10*LOG10($A36)) -> 22.135422 | D36: =D$32*LN($B36)+D$33+(10*LOG10($A36)) -> 19.616425 | E36: =E$32*LN($B36)+E$33+(10*LOG10($A36)) -> 19.556025 | F36: =F$32*LN($B36)+F$33+(10*LOG10($A36)) -> 14.77641 | G36: =G$32*LN($B36)+G$33+(10*LOG10($A36)) -> 4.0308999 | H36: =H$32*LN($B36)+H$33+(10*LOG10($A36)) -> 4.0308999 | K36: 0.8 | L36: =C36+11 -> 33.135422 | M36: =D36+11 -> 30.616425 | N36: =E36+11 -> 30.556025 | O36: =F36+11 -> 25.77641 | P36: =G36+11 -> 15.0309 | Q36: =H36+11 -> 15.0309
A37: 0.6 | B37: =$R$17 -> 16.343984 | C37: =C$32*LN($B37)+C$33+(10*LOG10($A37)) -> 25.142666 | D37: =D$32*LN($B37)+D$33+(10*LOG10($A37)) -> 23.459503 | E37: =E$32*LN($B37)+E$33+(10*LOG10($A37)) -> 23.093194 | F37: =F$32*LN($B37)+F$33+(10*LOG10($A37)) -> 22.784767 | G37: =G$32*LN($B37)+G$33+(10*LOG10($A37)) -> 2.7815125 | H37: =H$32*LN($B37)+H$33+(10*LOG10($A37)) -> 2.7815125 | K37: 0.6 | L37: =C37+11 -> 36.142666 | M37: =D37+11 -> 34.459503 | N37: =E37+11 -> 34.093194 | O37: =F37+11 -> 33.784767 | P37: =G37+11 -> 13.781513 | Q37: =H37+11 -> 13.781513
A38: 0.4 | B38: =$Z$17 -> 32.608018 | C38: =C$32*LN($B38)+C$33+(10*LOG10($A38)) -> 29.409685 | D38: =D$32*LN($B38)+D$33+(10*LOG10($A38)) -> 28.910172 | E38: =E$32*LN($B38)+E$33+(10*LOG10($A38)) -> 28.110657 | F38: =F$32*LN($B38)+F$33+(10*LOG10($A38)) -> 34.133999 | G38: =G$32*LN($B38)+G$33+(10*LOG10($A38)) -> 1.0205999 | H38: =H$32*LN($B38)+H$33+(10*LOG10($A38)) -> 1.0205999 | K38: 0.4 | L38: =C38+11 -> 40.409685 | M38: =D38+11 -> 39.910172 | N38: =E38+11 -> 39.110657 | O38: =F38+11 -> 45.133999 | P38: =G38+11 -> 12.0206 | Q38: =H38+11 -> 12.0206
A39: 0.2 | B39: =$AH$17 -> 118.91193 | C39: =C$32*LN($B39)+C$33+(10*LOG10($A39)) -> 37.690983 | D39: =D$32*LN($B39)+D$33+(10*LOG10($A39)) -> 39.408698 | E39: =E$32*LN($B39)+E$33+(10*LOG10($A39)) -> 37.797696 | F39: =F$32*LN($B39)+F$33+(10*LOG10($A39)) -> 55.68179 | G39: =G$32*LN($B39)+G$33+(10*LOG10($A39)) -> -1.9897 | H39: =H$32*LN($B39)+H$33+(10*LOG10($A39)) -> -1.9897 | K39: 0.2 | L39: =C39+11 -> 48.690983 | M39: =D39+11 -> 50.408698 | N39: =E39+11 -> 48.797696 | O39: =F39+11 -> 66.68179 | P39: =G39+11 -> 9.0103 | Q39: =H39+11 -> 9.0103
C40: -16 | D40: -9 | E40: -3 | F40: 0 | G40: 1 | H40: 1 | L40: -16 | M40: -9 | N40: -3 | O40: 0 | P40: 1 | Q40: 1
I41: dBA | P41: dBA | R41: dBA
B42: 1 | C42: =C35+C$40 -> 4.2727474 | D42: =D35+D$40 -> 8.1976997 | E42: =E35+E$40 -> 14.340809 | F42: =F35+F$40 -> 9.5866841 | G42: =G35+G$40 -> 6 | H42: =H35+H$40 -> 6 | I42: =10*LOG(10^(C42/10)+10^(D42/10)+10^(E42/10)+10^(F42/10)+10^(G42/10)+10^(H42/10)) -> 17.283694 | K42: 1 | L42: =L35+L$40 -> 15.272747 | M42: =M35+M$40 -> 19.1977 | N42: =N35+N$40 -> 25.340809 | O42: =O35+O$40 -> 20.586684 | P42: =P35+P$40 -> 17 | Q42: =Q35+Q$40 -> 17 | R42: =10*LOG(10^(L42/10)+10^(M42/10)+10^(N42/10)+10^(O42/10)+10^(P42/10)+10^(Q42/10)) -> 28.283694
B43: 0.8 | C43: =C36+C$40 -> 6.1354225 | D43: =D36+D$40 -> 10.616425 | E43: =E36+E$40 -> 16.556025 | F43: =F36+F$40 -> 14.77641 | G43: =G36+G$40 -> 5.0308999 | H43: =H36+H$40 -> 5.0308999 | I43: =10*LOG(10^(C43/10)+10^(D43/10)+10^(E43/10)+10^(F43/10)+10^(G43/10)+10^(H43/10)) -> 19.880511 | K43: 0.8 | L43: =L36+L$40 -> 17.135422 | M43: =M36+M$40 -> 21.616425 | N43: =N36+N$40 -> 27.556025 | O43: =O36+O$40 -> 25.77641 | P43: =P36+P$40 -> 16.0309 | Q43: =Q36+Q$40 -> 16.0309 | R43: =10*LOG(10^(L43/10)+10^(M43/10)+10^(N43/10)+10^(O43/10)+10^(P43/10)+10^(Q43/10)) -> 30.880511
B44: 0.6 | C44: =C37+C$40 -> 9.1426657 | D44: =D37+D$40 -> 14.459503 | E44: =E37+E$40 -> 20.093194 | F44: =F37+F$40 -> 22.784767 | G44: =G37+G$40 -> 3.7815125 | H44: =H37+H$40 -> 3.7815125 | I44: =10*LOG(10^(C44/10)+10^(D44/10)+10^(E44/10)+10^(F44/10)+10^(G44/10)+10^(H44/10)) -> 25.223869 | K44: 0.6 | L44: =L37+L$40 -> 20.142666 | M44: =M37+M$40 -> 25.459503 | N44: =N37+N$40 -> 31.093194 | O44: =O37+O$40 -> 33.784767 | P44: =P37+P$40 -> 14.781513 | Q44: =Q37+Q$40 -> 14.781513 | R44: =10*LOG(10^(L44/10)+10^(M44/10)+10^(N44/10)+10^(O44/10)+10^(P44/10)+10^(Q44/10)) -> 36.223869
B45: 0.4 | C45: =C38+C$40 -> 13.409685 | D45: =D38+D$40 -> 19.910172 | E45: =E38+E$40 -> 25.110657 | F45: =F38+F$40 -> 34.133999 | G45: =G38+G$40 -> 2.0205999 | H45: =H38+H$40 -> 2.0205999 | I45: =10*LOG(10^(C45/10)+10^(D45/10)+10^(E45/10)+10^(F45/10)+10^(G45/10)+10^(H45/10)) -> 34.82595 | K45: 0.4 | L45: =L38+L$40 -> 24.409685 | M45: =M38+M$40 -> 30.910172 | N45: =N38+N$40 -> 36.110657 | O45: =O38+O$40 -> 45.133999 | P45: =P38+P$40 -> 13.0206 | Q45: =Q38+Q$40 -> 13.0206 | R45: =10*LOG(10^(L45/10)+10^(M45/10)+10^(N45/10)+10^(O45/10)+10^(P45/10)+10^(Q45/10)) -> 45.82595
B46: 0.2 | C46: =C39+C$40 -> 21.690983 | D46: =D39+D$40 -> 30.408698 | E46: =E39+E$40 -> 34.797696 | F46: =F39+F$40 -> 55.68179 | G46: =G39+G$40 -> -0.98970004 | H46: =H39+H$40 -> -0.98970004 | I46: =10*LOG(10^(C46/10)+10^(D46/10)+10^(E46/10)+10^(F46/10)+10^(G46/10)+10^(H46/10)) -> 55.731582 | K46: 0.2 | L46: =L39+L$40 -> 32.690983 | M46: =M39+M$40 -> 41.408698 | N46: =N39+N$40 -> 45.797696 | O46: =O39+O$40 -> 66.68179 | P46: =P39+P$40 -> 10.0103 | Q46: =Q39+Q$40 -> 10.0103 | R46: =10*LOG(10^(L46/10)+10^(M46/10)+10^(N46/10)+10^(O46/10)+10^(P46/10)+10^(Q46/10)) -> 66.731582
L48: 125 | M48: 250 | N48: 500 | O48: 1000 | P48: 2000 | Q48: 4000 | R48: NC
...

Sheet ASF-AD Acoustic Data
C2: SMARTEMP PRODUCT SELECTION CALCULATOR
C3: Auditorium Floor Swirl Diffuser [ASF-AD] Acoustic Data
C6: Basket A1 | K6: Basket A2
D25: 125 | E25: 250 | F25: 500 | G25: 1000 | H25: 2000 | I25: 4000
D26: ='ASF-ADequations'!L35 -> 31.272747 | E26: ='ASF-ADequations'!M35 -> 28.1977 | F26: ='ASF-ADequations'!N35 -> 28.340809 | G26: ='ASF-ADequations'!O35 -> 20.586684 | H26: ='ASF-ADequations'!P35 -> 16 | I26: ='ASF-ADequations'!Q35 -> 16 | L26: ='ASF-ADequations'!L73 -> 23.811682 | M26: ='ASF-ADequations'!M73 -> 22.479777 | N26: ='ASF-ADequations'!N73 -> 18.178548 | O26: ='ASF-ADequations'!O73 -> 16.958196 | P26: ='ASF-ADequations'!P73 -> 13.783224 | Q26: ='ASF-ADequations'!Q73 -> 3.873813
C30: Basket A1 100% Setting | D30: 125 Hz | E30: 250 Hz | F30: 500 Hz | G30: 1000 Hz | H30: 2000 Hz | I30: 4000 Hz | K30: Basket A2 100% Setting | L30: 125 Hz | M30: 250 Hz | N30: 500 Hz | O30: 1000 Hz | P30: 2000 Hz | Q30: 4000 Hz
C31: Sound Power Level (dB) | D31: ='ASF-ADequations'!C57 -> 20.272747 | E31: ='ASF-ADequations'!D57 -> 17.1977 | F31: ='ASF-ADequations'!E57 -> 17.340809 | G31: ='ASF-ADequations'!F57 -> 9.5866841 | H31: ='ASF-ADequations'!G57 -> <5 | I31: ='ASF-ADequations'!H57 -> <5 | K31: Sound Power Level (dB) | L31: ='ASF-ADequations'!C92 -> 12.811682 | M31: ='ASF-ADequations'!D92 -> 11.479777 | N31: ='ASF-ADequations'!E92 -> 7.1785483 | O31: ='ASF-ADequations'!F92 -> 5.9581964 | P31: ='ASF-ADequations'!G92 -> <5 | Q31: ='ASF-ADequations'!H92 -> <5
C32: Sound Power Level [dB(A)] | D32: ='ASF-ADequations'!I42 -> 17.283694 | K32: Sound Power Level [dB(A)] | L32: ='ASF-ADequations'!I79 -> 10.585687
C33: Sound Pressure Level [dB(A)] | D33: ='ASF-ADequations'!R42 -> 28.283694 | K33: Sound Pressure Level [dB(A)] | L33: ='ASF-ADequations'!R79 -> 21.585687
C34: Sound Pressure Level [NC] | D34: ='ASF-ADequations'!R49 -> 21.728298 | K34: Sound Pressure Level [NC] | L34: ='ASF-ADequations'!R85 -> 14.726942
D54: ='ASF-ADequations'!L36 -> 33.135422 | E54: ='ASF-ADequations'!M36 -> 30.616425 | F54: ='ASF-ADequations'!N36 -> 30.556025 | G54: ='ASF-ADequations'!O36 -> 25.77641 | H54: ='ASF-ADequations'!P36 -> 15.0309 | I54: ='ASF-ADequations'!Q36 -> 15.0309 | L54: ='ASF-ADequations'!L74 -> 17.952282 | M54: ='ASF-ADequations'!M74 -> 26.35695 | N54: ='ASF-ADequations'!N74 -> 23.815408 | O54: ='ASF-ADequations'!O74 -> 27.334483 | P54: ='ASF-ADequations'!P74 -> 25.90631 | Q54: ='ASF-ADequations'!Q74 -> 7.9940031
C58: Basket A1 80% Setting | D58: 125 Hz | E58: 250 Hz | F58: 500 Hz | G58: 1000 Hz | H58: 2000 Hz | I58: 4000 Hz | K58: Basket A2 80% Setting | L58: 125 Hz | M58: 250 Hz | N58: 500 Hz | O58: 1000 Hz | P58: 2000 Hz | Q58: 4000 Hz
C59: Sound Power Level (dB) | D59: ='ASF-ADequations'!C58 -> 22.135422 | E59: ='ASF-ADequations'!D58 -> 19.616425 | F59: ='ASF-ADequations'!E58 -> 19.556025 | G59: ='ASF-ADequations'!F58 -> 14.77641 | H59: ='ASF-ADequations'!G58 -> <5 | I59: ='ASF-ADequations'!H58 -> <5 | K59: Sound Power Level (dB) | L59: ='ASF-ADequations'!C93 -> 6.952282 | M59: ='ASF-ADequations'!D93 -> 15.35695 | N59: ='ASF-ADequations'!E93 -> 12.815408 | O59: ='ASF-ADequations'!F93 -> 16.334483 | P59: ='ASF-ADequations'!G93 -> 14.90631 | Q59: ='ASF-ADequations'!H93 -> <5
C60: Sound Power Level [dB(A)] | D60: ='ASF-ADequations'!I43 -> 19.880511 | K60: Sound Power Level [dB(A)] | L60: ='ASF-ADequations'!I80 -> 19.850655
C61: Sound Pressure Level [dB(A)] | D61: ='ASF-ADequations'!R43 -> 30.880511 | K61: Sound Pressure Level [dB(A)] | L61: ='ASF-ADequations'!R80 -> 30.850655
C62: Sound Pressure Level [NC] | D62: ='ASF-ADequations'!R50 -> 24.187187 | K62: Sound Pressure Level [NC] | L62: ='ASF-ADequations'!R86 -> 26.50631
D81: ='ASF-ADequations'!L37 -> 36.142666 | E81: ='ASF-ADequations'!M37 -> 34.459503 | F81: ='ASF-ADequations'!N37 -> 34.093194 | G81: ='ASF-ADequations'!O37 -> 33.784767 | H81: ='ASF-ADequations'!P37 -> 13.781513 | I81: ='ASF-ADequations'!Q37 -> 13.781513 | L81: ='ASF-ADequations'!L75 -> 28.501229 | M81: ='ASF-ADequations'!M75 -> 30.501229 | N81: ='ASF-ADequations'!N75 -> 28.475669 | O81: ='ASF-ADequations'!O75 -> 29.962212 | P81: ='ASF-ADequations'!P75 -> 29.162422 | Q81: ='ASF-ADequations'!Q75 -> 15.026453
C86: Basket A1 60% Setting | D86: 125 Hz | E86: 250 Hz | F86: 500 Hz | G86: 1000 Hz | H86: 2000 Hz | I86: 4000 Hz | K86: Basket A2 60% Setting | L86: 125 Hz | M86: 250 Hz | N86: 500 Hz | O86: 1000 Hz | P86: 2000 Hz | Q86: 4000 Hz
C87: Sound Power Level (dB) | D87: ='ASF-ADequations'!C59 -> 25.142666 | E87: ='ASF-ADequations'!D59 -> 23.459503 | F87: ='ASF-ADequations'!E59 -> 23.093194 | G87: ='ASF-ADequations'!F59 -> 22.784767 | H87: ='ASF-ADequations'!G59 -> <5 | I87: ='ASF-ADequations'!H59 -> <5 | K87: Sound Power Level (dB) | L87: ='ASF-ADequations'!C94 -> 17.501229 | M87: ='ASF-ADequations'!D94 -> 19.501229 | N87: ='ASF-ADequations'!E94 -> 17.475669 | O87: ='ASF-ADequations'!F94 -> 18.962212 | P87: ='ASF-ADequations'!G94 -> 18.162422 | Q87: ='ASF-ADequations'!H94 -> <5
C88: Sound Power Level [dB(A)] | D88: ='ASF-ADequations'!I44 -> 25.223869 | K88: Sound Power Level [dB(A)] | L88: ='ASF-ADequations'!I81 -> 23.118571
C89: Sound Pressure Level [dB(A)] | D89: ='ASF-ADequations'!R44 -> 36.223869 | K89: Sound Pressure Level [dB(A)] | L89: ='ASF-ADequations'!R81 -> 34.118571
C90: Sound Pressure Level [NC] | D90: ='ASF-ADequations'!R51 -> 32.05831 | K90: Sound Pressure Level [NC] | L90: ='ASF-ADequations'!R87 -> 29.762422
L109: ='ASF-ADequations'!L76 -> 34.026751 | M109: ='ASF-ADequations'!M76 -> 36.026751 | N109: ='ASF-ADequations'!N76 -> 35.575528 | O109: ='ASF-ADequations'!O76 -> 36.894111 | P109: ='ASF-ADequations'!P76 -> 36.055772 | Q109: ='ASF-ADequations'!Q76 -> 26.224383
D110: ='ASF-ADequations'!L38 -> 40.409685 | E110: ='ASF-ADequations'!M38 -> 39.910172 | F110: ='ASF-ADequations'!N38 -> 39.110657 | G110: ='ASF-ADequations'!O38 -> 45.133999 | H110: ='ASF-ADequations'!P38 -> 12.0206 | I110: ='ASF-ADequations'!Q38 -> 12.0206
C114: Basket A1 40% Setting | D114: 125 Hz | E114: 250 Hz | F114: 500 Hz | G114: 1000 Hz | H114: 2000 Hz | I114: 4000 Hz | K114: Basket A2 40% Setting | L114: 125 Hz | M114: 250 Hz | N114: 500 Hz | O114: 1000 Hz | P114: 2000 Hz | Q114: 4000 Hz
C115: Sound Power Level (dB) | D115: ='ASF-ADequations'!C60 -> 29.409685 | E115: ='ASF-ADequations'!D60 -> 28.910172 | F115: ='ASF-ADequations'!E60 -> 28.110657 | G115: ='ASF-ADequations'!F60 -> 34.133999 | H115: ='ASF-ADequations'!G60 -> <5 | I115: ='ASF-ADequations'!H60 -> <5 | K115: Sound Power Level (dB) | L115: ='ASF-ADequations'!C95 -> 23.026751 | M115: ='ASF-ADequations'!D95 -> 25.026751 | N115: ='ASF-ADequations'!E95 -> 24.575528 | O115: ='ASF-ADequations'!F95 -> 25.894111 | P115: ='ASF-ADequations'!G95 -> 25.055772 | Q115: ='ASF-ADequations'!H95 -> 15.224383
C116: Sound Power Level [dB(A)] | D116: ='ASF-ADequations'!I45 -> 34.82595 | K116: Sound Power Level [dB(A)] | L116: ='ASF-ADequations'!I82 -> 30.096733
C117: Sound Pressure Level [dB(A)] | D117: ='ASF-ADequations'!R45 -> 45.82595 | K117: Sound Pressure Level [dB(A)] | L117: ='ASF-ADequations'!R82 -> 41.096733
C118: Sound Pressure Level [NC] | D118: ='ASF-ADequations'!R52 -> 43.748019 | K118: Sound Pressure Level [NC] | L118: ='ASF-ADequations'!R88 -> 36.655772
D139: ='ASF-ADequations'!L39 -> 48.690983 | E139: ='ASF-ADequations'!M39 -> 50.408698 | F139: ='ASF-ADequations'!N39 -> 48.797696 | G139: ='ASF-ADequations'!O39 -> 66.68179 | H139: ='ASF-ADequations'!P39 -> 9.0103 | I139: ='ASF-ADequations'!Q39 -> 9.0103
C142: Basket A1 20% Setting | D142: 125 Hz | E142: 250 Hz | F142: 500 Hz | G142: 1000 Hz | H142: 2000 Hz | I142: 4000 Hz
C143: Sound Power Level (dB) | D143: ='ASF-ADequations'!C61 -> 37.690983 | E143: ='ASF-ADequations'!D61 -> 39.408698 | F143: ='ASF-ADequations'!E61 -> 37.797696 | G143: ='ASF-ADequations'!F61 -> 55.68179 | H143: ='ASF-ADequations'!G61 -> <5 | I143: ='ASF-ADequations'!H61 -> <5
C144: Sound Power Level [dB(A)] | D144: ='ASF-ADequations'!I46 -> 55.731582
C145: Sound Pressure Level [dB(A)] | D145: ='ASF-ADequations'!R46 -> 66.731582
C146: Sound Pressure Level [NC] | D146: ='ASF-ADequations'!R53 -> 65.942244
