Workbook
Name _productcode: 'HSC-AD data'!$D$72
Name adpi.: '[1]HSC-AD data'!$B$2:$B$5
Name adpi.: 'HSC-AD data'!$B$2:$B$5
Name face250: 'HSC-AD data'!$K$40:$K$42
Name face355: 'HSC-AD data'!$L$40:$L$45
Name face500: 'HSC-AD data'!$M$40:$M$44
Name getFrontChart: INDIRECT("Charts!$B$1")
Name size.: '[1]HSC-AD data'!$C$65:$C$71
Name size.: 'HSC-AD data'!$C$76:$C$81
Name testchart: INDIRECT('[1]HSC-AD data diagrams'!$C$11)

Sheet HSC-AD
D2: SMARTEMP PRODUCT SELECTION CALCULATOR
D3: Adjustable Helical Swirl Diffuser [HSC-AD]
C5: Project: | D5: <Name>
D7: Inputs | K7: Detailed Selection | AA7: v 8.2 [03/26]
D9: Diffuser Airflow Rate | E9: 800 | G9: [L/s] | H9: [m3/h] | L9: ADPI ≥ | M9: 0.9 | O9: default ≥ 90% (ADPI valid for cooling mode only)
E10: ="= "&ROUND(E9*'Equations HSC-AD'!C6,1) -> = 2880 | F10: ='Equations HSC-AD'!D6 -> m³/h
D11: Turndown to | E11: 100 | F11: % | G11: use 100% for CAV | K11: Draught Rating & Heating
D13: Maximum Static Pressure | E13: 60 | F13: Pa | G13: default 60 Pa | M13: Average Recommended Diffuser Coverage | O13: See Rows 50 to 52
K14: OR | M14: ="nominal distance = "&ROUND('Equations HSC-AD'!C198,1) -> nominal distance = 11.5 | N14: m
D15: Diffuser Height | E15: 6 | F15: m | G15: 2 m ≤ height ≤ 20 m (heating and cooling) | L15: Manual Diffuser Coverage | M15: 20 | N15: m | O15: see layout diagram below
G16: 2 m ≤ height ≤ 26 m (cooling only) | K16: OR | M16: ="= specific airflow rate: "&ROUND('Equations HSC-AD'!C185,1) -> = specific airflow rate: 6.1 | N16: ='Equations HSC-AD'!G3 -> L/s/m²
L17: Max Specific Airflow Rate | M17: 10 | N17: ='Equations HSC-AD'!G3 -> L/s/m² | O17: =IF('Equations HSC-AD'!C3=1,"≤ 30 L/s/m²","≤ 108 m³/h/m²") -> ≤ 30 L/s/m²
D18: ΔT supply (cooling) | E18: -12 | F18: K | G18: 0 K to -15 K (default -12 K) | M18: ="average diffuser coverage distance: " & ROUND('Equations HSC-AD'!C186,1) -> average diffuser coverage distance: 11.5 | N18: m
L19: Diffuser Location | M19: Closed Ceiling | O19: Freely Suspended (≥ 600mm below ceiling)
L21: ΔT supply (heating) | M21: 4 | N21: K | O21: check for manual supply temperature input
L23: Room Temperature (cooling) | M23: 23 | N23: °C | O23: 20 °C to 26 °C
L25: Room Temperature (heating) | M25: 22 | N25: °C | O25: check for manual input
M26: ="auto room temp. (heating) = "& 'Equations HSC-AD'!C23 -> auto room temp. (heating) = 21 | N26: °C
L27: Room Temp. @ heating startup | M27: 16 | N27: °C | O27: night setback temperature (default 16°C)
L29: % Low Level Return (heating) | M29: 0 | O29: 0% to 100% (default 0%)
C30: Related Products
C31: Smartemp JSC-AD: | D31: for use in ultra high ceilings; increased heating penetration also with electric and thermal actuator | K31: Thermal Comfort Guide
C32: Smartemp LJC-AD: | D32: for a linear-slot solution also with electric and thermal actuator | K32: ADPI ≥ 95%; ṽ ≤ 0.20 m/s: | L32: Premium comfort, sedentary activity, such as in auditoria.
K33: ADPI ≥ 90%; ṽ ≤ 0.25 m/s: | L33: High comfort near-sedentary activity, such as in board rooms, high end offices and libraries.
K34: ADPI ≥ 80%; ṽ ≤ 0.29 m/s: | L34: Good comfort near sedentary activity, such as open-plan offices and meeting rooms.
K35: ADPI ≥ 70%; ṽ ≤ 0.33 m/s: | L35: Standard comfort medium activity, such as in transient spaces, retail and lobbies.
K38: ex-factory only | N38: ex-factory only | Q38: engineered for FUSION Modulair | T38: Key: | U38: Suitable | V38: Not Suitable | W38: Warning | X38: Note: | Y38: R0 - no reducer; R1 - with reducer
C39: SMARTEMP HSC-AD- | G39: DN250-R1 | H39: DN250-R0 | I39: DN355-R1 | J39: DN355-R0 | K39: DN400-R0 | L39: DN500-R1 | M39: DN500-R0 | N39: DN630-R0 | O39: DN710-R1 | P39: DN710-R0 | Q39: DN1000-R1 | R39: DN1000-R0 | S39: DN1340
C40: Airflow | D40: Selected Airflow | F40: ='Equations HSC-AD'!$D$3 -> [L/s] | G40: ='Equations HSC-AD'!C245 -> 800 | H40: ='Equations HSC-AD'!D245 -> 800 | I40: ='Equations HSC-AD'!E245 -> 800 | J40: ='Equations HSC-AD'!F245 -> 800 | K40: ='Equations HSC-AD'!G245 -> 800 | L40: ='Equations HSC-AD'!H245 -> 800 | M40: ='Equations HSC-AD'!I245 -> 800 | N40: ='Equations HSC-AD'!J245 -> 800 | ... S40: ='Equations HSC-AD'!O245 -> 800
D41: Airflow @ Selected Pressure | F41: ='Equations HSC-AD'!$D$3 -> [L/s] | G41: ='Equations HSC-AD'!C246 -> 191.99447 | H41: ='Equations HSC-AD'!D246 -> 218.62734 | I41: ='Equations HSC-AD'!E246 -> 384.86176 | J41: ='Equations HSC-AD'!F246 -> 508.5015 | K41: ='Equations HSC-AD'!G246 -> 608.55171 | L41: ='Equations HSC-AD'!H246 -> 702.3724 | M41: ='Equations HSC-AD'!I246 -> 851.54937 | N41: ='Equations HSC-AD'!J246 -> 1351.3906 | ... S41: ='Equations HSC-AD'!O246 -> 6116.1682
D42: Selected Minimum Airflow | F42: ='Equations HSC-AD'!$D$3 -> [L/s] | G42: ='Equations HSC-AD'!C247 -> 800 | H42: ='Equations HSC-AD'!D247 -> 800 | I42: ='Equations HSC-AD'!E247 -> 800 | J42: ='Equations HSC-AD'!F247 -> 800 | K42: ='Equations HSC-AD'!G247 -> 800 | L42: ='Equations HSC-AD'!H247 -> 800 | M42: ='Equations HSC-AD'!I247 -> 800 | N42: ='Equations HSC-AD'!J247 -> 800 | ... S42: ='Equations HSC-AD'!O247 -> 800
D43: Min Permissible Airflow | F43: ='Equations HSC-AD'!$D$3 -> [L/s] | G43: ='Equations HSC-AD'!C248 -> 69.764 | H43: ='Equations HSC-AD'!D248 -> 77.896 | I43: ='Equations HSC-AD'!E248 -> 134.07 | J43: ='Equations HSC-AD'!F248 -> 168.92 | K43: ='Equations HSC-AD'!G248 -> 204.59 | L43: ='Equations HSC-AD'!H248 -> 247.23 | M43: ='Equations HSC-AD'!I248 -> 291.92 | N43: ='Equations HSC-AD'!J248 -> 463.3 | ... S43: ='Equations HSC-AD'!O248 -> 1803.6414
C44: Pressure | D44: Static Pressure @ Selected Airflow | F44: [Pa] | G44: ='Equations HSC-AD'!C249 -> 1041.7266 | H44: ='Equations HSC-AD'!D249 -> 803.38237 | I44: ='Equations HSC-AD'!E249 -> 259.25176 | J44: ='Equations HSC-AD'!F249 -> 148.50694 | K44: ='Equations HSC-AD'!G249 -> 103.68985 | L44: ='Equations HSC-AD'!H249 -> 77.838839 | M44: ='Equations HSC-AD'!I249 -> 52.95556 | N44: ='Equations HSC-AD'!J249 -> 21.026618 | ... S44: ='Equations HSC-AD'!O249 -> < 5
D45: Total Pressure @ Selected Airflow | F45: [Pa] | G45: ='Equations HSC-AD'!C250 -> 1204.4112 | H45: ='Equations HSC-AD'!D250 -> 966.0669 | I45: ='Equations HSC-AD'!E250 -> 299.264 | J45: ='Equations HSC-AD'!F250 -> 188.51918 | K45: ='Equations HSC-AD'!G250 -> 128.51354 | L45: ='Equations HSC-AD'!H250 -> 88.006622 | M45: ='Equations HSC-AD'!I250 -> 63.123343 | N45: ='Equations HSC-AD'!J250 -> 25.060694 | ... S45: ='Equations HSC-AD'!O250 -> < 10
D46: Max Permissible Static Pressure | F46: [Pa] | G46: ='Equations HSC-AD'!C251 -> 60 | H46: ='Equations HSC-AD'!D251 -> 60 | I46: ='Equations HSC-AD'!E251 -> 60 | J46: ='Equations HSC-AD'!F251 -> 60 | K46: ='Equations HSC-AD'!G251 -> 60 | L46: ='Equations HSC-AD'!H251 -> 60 | M46: ='Equations HSC-AD'!I251 -> 60 | N46: ='Equations HSC-AD'!J251 -> 60 | ... S46: ='Equations HSC-AD'!O251 -> 60
C47: Acoustic | D47: Sound Power Level | F47: [dB(A)] | G47: ='Equations HSC-AD'!C252 -> 94.469006 | H47: ='Equations HSC-AD'!D252 -> 89.658925 | I47: ='Equations HSC-AD'!E252 -> 79.331727 | J47: ='Equations HSC-AD'!F252 -> 69.386205 | K47: ='Equations HSC-AD'!G252 -> 64.067625 | L47: ='Equations HSC-AD'!H252 -> 59.773635 | M47: ='Equations HSC-AD'!I252 -> 54.203345 | N47: ='Equations HSC-AD'!J252 -> 42.967804 | ... S47: ='Equations HSC-AD'!O252 -> < 20
C48: Heating | D48: =IF('Equations HSC-AD'!C24,"Guide Ring Position for Selected Heating","Max Recommended ΔT (heating)") -> Max Recommended ΔT (heating) | F48: =IF('Equations HSC-AD'!C24,"[mm]","[K]") -> [K] | G48: ='Equations HSC-AD'!C253 -> +20 K | H48: ='Equations HSC-AD'!D253 -> +20 K | I48: ='Equations HSC-AD'!E253 -> +20 K | J48: ='Equations HSC-AD'!F253 -> +20 K | K48: ='Equations HSC-AD'!G253 -> +20 K | L48: ='Equations HSC-AD'!H253 -> +18 K | M48: ='Equations HSC-AD'!I253 -> +12.6 K | N48: ='Equations HSC-AD'!J253 -> +6.3 K | ... S48: ='Equations HSC-AD'!O253 -> < +1 K | T48: See note ¹
D49: Selected Room Temp. @ heating startup | F49: [°C] | G49: ='Equations HSC-AD'!C254 -> 16 | H49: ='Equations HSC-AD'!D254 -> 16 | I49: ='Equations HSC-AD'!E254 -> 16 | J49: ='Equations HSC-AD'!F254 -> 16 | K49: ='Equations HSC-AD'!G254 -> 16 | L49: ='Equations HSC-AD'!H254 -> 16 | M49: ='Equations HSC-AD'!I254 -> 16 | N49: ='Equations HSC-AD'!J254 -> 16 | ... S49: ='Equations HSC-AD'!O254 -> -
C50: Recommended Distances & Layout | D50: Max Coverage for Centre Zones (Cmax) | F50: [m] | G50: ='Equations HSC-AD'!C255 -> - | H50: ='Equations HSC-AD'!D255 -> - | I50: ='Equations HSC-AD'!E255 -> 34.6 | J50: ='Equations HSC-AD'!F255 -> 26.1 | K50: ='Equations HSC-AD'!G255 -> 23 | L50: ='Equations HSC-AD'!H255 -> 21.2 | M50: ='Equations HSC-AD'!I255 -> 20.1 | N50: ='Equations HSC-AD'!J255 -> 18.3 | ... R50: ='Equations HSC-AD'!N255 -> 16.8
D51: Max Coverage for Perimeter Zones (Cmax) | F51: [m] | G51: ='Equations HSC-AD'!C256 -> - | H51: ='Equations HSC-AD'!D256 -> - | I51: ='Equations HSC-AD'!E256 -> 31.4 | J51: ='Equations HSC-AD'!F256 -> 23.6 | K51: ='Equations HSC-AD'!G256 -> 20.8 | L51: ='Equations HSC-AD'!H256 -> 19.1 | M51: ='Equations HSC-AD'!I256 -> 18.1 | N51: ='Equations HSC-AD'!J256 -> 16.4 | ... S51: ='Equations HSC-AD'!O256 -> 14.8
D52: Min Coverage (Cmin) | F52: [m] | G52: ='Equations HSC-AD'!C257 -> - | H52: ='Equations HSC-AD'!D257 -> - | I52: ='Equations HSC-AD'!E257 -> 10.4 | J52: ='Equations HSC-AD'!F257 -> 8.4 | K52: ='Equations HSC-AD'!G257 -> 7.6 | L52: ='Equations HSC-AD'!H257 -> 7 | M52: ='Equations HSC-AD'!I257 -> 6.7 | N52: ='Equations HSC-AD'!J257 -> 6.2 | ... S52: ='Equations HSC-AD'!O257 -> 5.6 | T52: =IF('Equations HSC-AD'!R345,"Warning: Threat of draught when Cmin > Cmax. Consider increasing turndown % (Cell E11)","")
D53: Min Recommended Diffuser Height | F53: [m] | G53: ='Equations HSC-AD'!C258 -> 6.4 | H53: ='Equations HSC-AD'!D258 -> 5.2 | I53: ='Equations HSC-AD'!E258 -> 4.5 | J53: ='Equations HSC-AD'!F258 -> 3.9 | K53: ='Equations HSC-AD'!G258 -> 3.7 | L53: ='Equations HSC-AD'!H258 -> 3.6 | M53: ='Equations HSC-AD'!I258 -> 3.5 | N53: ='Equations HSC-AD'!J258 -> 3.5 | ... S53: ='Equations HSC-AD'!O258 -> 4.1
C54: Comfort | D54: Mean Room Air Velocity | F54: [m/s] | G54: ='Equations HSC-AD'!C259 | H54: ='Equations HSC-AD'!D259 | I54: ='Equations HSC-AD'!E259 -> 0.1827612 | J54: ='Equations HSC-AD'!F259 -> 0.17281705 | K54: ='Equations HSC-AD'!G259 -> 0.16572072 | L54: ='Equations HSC-AD'!H259 -> 0.15962664 | M54: ='Equations HSC-AD'!I259 -> 0.15495616 | N54: ='Equations HSC-AD'!J259 -> 0.14479868 | ... S54: ='Equations HSC-AD'!O259 -> 0.12974126 | T54: ='HSC-AD data'!B187 -> Comfort criteria valid for average diffuser spacing of 11.5 m & room temperature of 23 °C (see cells K14 & L23)
D55: Mean Draught Rating | F55: DR | G55: ='Equations HSC-AD'!C260 | H55: ='Equations HSC-AD'!D260 | I55: ='Equations HSC-AD'!E260 -> 0.18385326 | J55: ='Equations HSC-AD'!F260 -> 0.17077805 | K55: ='Equations HSC-AD'!G260 -> 0.16155728 | L55: ='Equations HSC-AD'!H260 -> 0.15370879 | M55: ='Equations HSC-AD'!I260 -> 0.14773567 | N55: ='Equations HSC-AD'!J260 -> 0.13486287 | ... S55: ='Equations HSC-AD'!O260 -> 0.1160383 | U55: ='HSC-AD data'!B188
D56: Mean PPD | G56: ='Equations HSC-AD'!C261 | H56: ='Equations HSC-AD'!D261 | I56: ='Equations HSC-AD'!E261 -> 0.092864326 | J56: ='Equations HSC-AD'!F261 -> 0.087277086 | K56: ='Equations HSC-AD'!G261 -> 0.083439695 | L56: ='Equations HSC-AD'!H261 -> 0.080240394 | M56: ='Equations HSC-AD'!I261 -> 0.077846833 | N56: ='Equations HSC-AD'!J261 -> 0.072809713 | ... S56: ='Equations HSC-AD'!O261 -> 0.06574202 | U56: ='HSC-AD data'!B189
D57: Satifies PPD Category | F57: ISO7730 | G57: ='Equations HSC-AD'!C262 | H57: ='Equations HSC-AD'!D262 | I57: ='Equations HSC-AD'!E262 -> B | J57: ='Equations HSC-AD'!F262 -> B | K57: ='Equations HSC-AD'!G262 -> B | L57: ='Equations HSC-AD'!H262 -> B | M57: ='Equations HSC-AD'!I262 -> B | N57: ='Equations HSC-AD'!J262 -> B | ... S57: ='Equations HSC-AD'!O262 -> B
D58: |PMV| | F58: ISO7730; ASHRAE Std 55 | G58: ='Equations HSC-AD'!C263 | H58: ='Equations HSC-AD'!D263 | I58: ='Equations HSC-AD'!E263 -> ≤ 0.5 | J58: ='Equations HSC-AD'!F263 -> ≤ 0.4 | K58: ='Equations HSC-AD'!G263 -> ≤ 0.4 | L58: ='Equations HSC-AD'!H263 -> ≤ 0.4 | M58: ='Equations HSC-AD'!I263 -> ≤ 0.4 | N58: ='Equations HSC-AD'!J263 -> ≤ 0.3 | ... S58: ='Equations HSC-AD'!O263 -> ≤ 0.3
C59: T-Element | D59: Thermal Element Setting | F59: [°C] | G59: ='Equations HSC-AD'!C264 -> n.r. | H59: ='Equations HSC-AD'!D264 -> n.r. | I59: ='Equations HSC-AD'!E264 -> n.r. | J59: ='Equations HSC-AD'!F264 -> n.r. | K59: ='Equations HSC-AD'!G264 -> n.r. | L59: ='Equations HSC-AD'!H264 -> 30‡ | M59: ='Equations HSC-AD'!I264 -> 30† | N59: ='Equations HSC-AD'!J264 -> 26 | ... S59: ='Equations HSC-AD'!O264 -> - | T59: ='HSC-AD data'!B191 -> 'n.r.' - thermal element not recommended; consider electric actuator ‡ moderately elevated air velocities in heating † slightly elevated air velocities in heating
C60: Pre-Occupancy Warm-up Boost | D60: Warm-Up Max Boost ΔT | F60: [K] | G60: ='Equations HSC-AD'!C265 | H60: ='Equations HSC-AD'!D265 | I60: ='Equations HSC-AD'!E265 | J60: ='Equations HSC-AD'!F265 | K60: ='Equations HSC-AD'!G265 | L60: ='Equations HSC-AD'!H265 -> 18 | M60: ='Equations HSC-AD'!I265 -> 14 | N60: ='Equations HSC-AD'!J265 -> 10.3 | ... R60: ='Equations HSC-AD'!N265 -> 6
D61: Warm-Up Airflow Boost Factor | G61: ='Equations HSC-AD'!C266 | H61: ='Equations HSC-AD'!D266 | I61: ='Equations HSC-AD'!E266 | J61: ='Equations HSC-AD'!F266 | K61: ='Equations HSC-AD'!G266 | L61: ='Equations HSC-AD'!H266 -> 1 | M61: ='Equations HSC-AD'!I266 -> 1.05 | N61: ='Equations HSC-AD'!J266 -> 1.28 | ... R61: ='Equations HSC-AD'!N266 -> 1.95 | T61: Thermal Element for Heating When the thermal element is used, the space should always be warmed up from night setback using a supply air temperature greater than or equal to the thermal element setting (row 59), otherwise the guide-ring will retract and prevent heat projection to the floor. Consider introducing a Pre-Occupancy Warm-Up Boost mode (see ‘Notes & Drawings’ rows 12:25).
D62: Warm-Up Pressure Boost Factor | G62: ='Equations HSC-AD'!C267 | H62: ='Equations HSC-AD'!D267 | I62: ='Equations HSC-AD'!E267 | J62: ='Equations HSC-AD'!F267 | K62: ='Equations HSC-AD'!G267 | L62: ='Equations HSC-AD'!H267 -> 1 | M62: ='Equations HSC-AD'!I267 -> 1.11 | N62: ='Equations HSC-AD'!J267 -> 1.63 | ... R62: ='Equations HSC-AD'!N267 -> 3.8
D63: Diffusers Active During Warm-Up Boost | F63: % | G63: ='Equations HSC-AD'!C268 | H63: ='Equations HSC-AD'!D268 | I63: ='Equations HSC-AD'!E268 | J63: ='Equations HSC-AD'!F268 | K63: ='Equations HSC-AD'!G268 | L63: ='Equations HSC-AD'!H268 -> 1 | M63: ='Equations HSC-AD'!I268 -> 0.95 | N63: ='Equations HSC-AD'!J268 -> 0.78 | ... R63: ='Equations HSC-AD'!N268 -> 0.51
D64: Recommended Spigot Diameter | F64: [mm] | G64: ='Equations HSC-AD'!C270 -> DN250 | H64: ='Equations HSC-AD'!D270 -> DN250 | I64: ='Equations HSC-AD'!E270 -> DN355 | J64: ='Equations HSC-AD'!F270 -> DN355 | K64: ='Equations HSC-AD'!G270 -> DN400 | L64: ='Equations HSC-AD'!H270 -> DN500 | M64: ='Equations HSC-AD'!I270 -> DN500 | N64: ='Equations HSC-AD'!J270 -> DN630 | ... R64: ='Equations HSC-AD'!N270 -> DN1000
D66: Product Code & Control Voltage Generator
D68: Select Size & Reducer
G69: DN250-R1 | H69: DN250-R0 | I69: DN355-R1 | J69: DN355-R0 | K69: DN400-R0 | L69: DN500-R1 | M69: DN500-R0 | N69: DN630-R0 | O69: DN710-R1 | P69: DN710-R0 | Q69: DN1000-R1 | R69: DN1000-R0 | S69: DN1340
D70: Face Shape | G70: ='HSC-AD data'!D49&"*" -> #N/A | J70: ='HSC-AD data'!E49 -> #N/A | M70: ='HSC-AD data'!F49
D71: Adjustment Type | G71: Manual* | H71: ='HSC-AD data'!D31 -> 24V Elec. motor 2-10V | J71: ='HSC-AD data'!D32 -> 24V Elec. motor 2-position | L71: ='HSC-AD data'!$D$33 -> 230V Elec. motor 2-position | N71: ='HSC-AD data'!$D$34 -> #N/A
D72: Colour | G72: RAL9003* (signal white) | I72: RAL9005 (jet black) | K72: RAL9006 (aluminium) | M72: custom colour^
D73: Accessories | G73: Diffuser only* | I73: With uninsulated connection box | L73: With mounting bracket (for round duct connection)
F74: Order Code | G74: =_productcode -> select size to generate order code | N74: refer to Selection Summary & Print' for a printable summary
F75: Product Description | H75: =IF('HSC-AD data'!$C$23=0,"","• "&'HSC-AD data'!C85) | N75: * indicates standard/default option
H76: =IF('HSC-AD data'!$C$23=0,"","• "&'HSC-AD data'!C86) | N76: ^ contact Smartair Diffusion for custom colours
H77: =IF('HSC-AD data'!C23=0,"","• "&'HSC-AD data'!C87)
H78: =IF('HSC-AD data'!$C$23=0,"","• "&'HSC-AD data'!C88)
H79: =IF('HSC-AD data'!$C$23=0,"","• "&'HSC-AD data'!C89)
K81: click to see product on smartair.asia | V81: Copyright © 2025 SMARTAIR DIFFUSION

Sheet Equations HSC-AD
B1: Units
B3: Unit Type | C3: 1 | D3: =IF(C3=1,"[L/s]","[m³/h]") -> [L/s] | E3: =IF(C3=1,"L/s","m³/h") -> L/s | G3: =IF(C3=1,"L/s/m²","m³/h/m²") -> L/s/m²
B4: Multiplier | C4: =IF(C3=1,1,3.6) -> 1
B6: Alternate | C6: =IF(C3=1,3.6,1/3.6) -> 3.6 | D6: =IF(C3=2,"L/s","m³/h") -> m³/h
B8: Input
B10: Size
B11: Max airflow rate | C11: ='HSC-AD'!E9/C4 -> 800
B12: Turndown to | C12: ='HSC-AD'!E11/100 -> 1
B13: min flowrate | C13: =C12*C11 -> 800
B14: max pressure | C14: ='HSC-AD'!E13 -> 60
B15: diffuser height | C15: ='HSC-AD'!E15 -> 6 | D15: m | J15: H actual | K15: Height Adjusted | L15: DT old | M15: DT new
B16: dT cooling | C16: =IF(ABS('HSC-AD'!E18)<6,6,ABS('HSC-AD'!E18)) -> 12 | J16: 2.7 | K16: 2 | L16: =(3.33/J16)^2*$C$89*$AG$100^2*SQRT($AG$95)*1.2 -> 174.14356 | M16: =(3.33/K16)^2*$C$89*$AG$100^2*SQRT($AG$95)*1.2 -> 317.37663
B17: Tn.s. | C17: ='HSC-AD'!$M$27 -> 16 | J17: 4.5 | K17: 4.5 | L17: =(3.33/J17)^2*$C$89*$AG$100^2*SQRT($AG$95)*1.2 -> 62.691681 | M17: =(3.33/K17)^2*$C$89*$AG$100^2*SQRT($AG$95)*1.2 -> 62.691681
J18: 3.5 | K18: =1.39*J18-1.75 -> 3.115 | L18: =(3.33/J18)^2*$C$89*$AG$100^2*SQRT($AG$95)*1.2 -> 103.63319 | M18: =(3.33/K18)^2*$C$89*$AG$100^2*SQRT($AG$95)*1.2 -> 130.83346
B19: adpi | C19: ='HSC-AD'!M9 -> 0.9
B20: Mean room v | C20: =VLOOKUP(C19,'HSC-AD data'!B2:C5,2,0) -> 0.25
B21: Room Temp Cooling | C21: ='HSC-AD'!$M$23 -> 23 | D21: C | J21: 1.389 | K21: -1.75
B22: room temp checkbox | C22: FALSE
B23: Room Temp Heating | C23: =IF(C22,'HSC-AD'!M25,'Equations HSC-AD'!C21-2) -> 21
B24: dT heating checkbox | C24: FALSE
B25: dT heating manual input | C25: ='HSC-AD'!M21 -> 4 | D25: K
B26: adjusted heating height | C26: =IF(C15<4.5,J21*C15+K21,C15) -> 6
B28: Thermal Element
B29: adpi | C29: Tmax correction | E29: Min Thermal Setting
B30: 0.7 | C30: 0 | D30: =(C33-C30)/25 -> 0.2 | E30: =20-C33 -> 15
B31: 0.8 | C31: =C30+D30*10 -> 2 | E31: =$E$30+C31 -> 17
B32: 0.9 | C32: =C30+D30*20 -> 4 | E32: =$E$30+C32 -> 19
B33: 0.95 | C33: =$C$23-$C$17 -> 5 | E33: =$E$30+C33 -> 20
B34: T max Correction | C34: =VLOOKUP($C$19,B30:E33,2,0) -> 4 | D34: K | E34: =VLOOKUP(C19,B30:E33,4,0) -> 19
B36: Hmin
B37: adpi | C37: Hmin factor | D37: Factor
B38: 0.7 | C38: 0.9 | D38: =VLOOKUP(C19,B38:C41,2,0) -> 1.1
B39: 0.8 | C39: 1
B40: 0.9 | C40: 1.1
B41: 0.95 | C41: 1.15
B42: T max Correction
B45: Freely Suspended | C45: 2 | D45: =IF(C45=1,"ceiling","free") -> free
B46: Hmin Multiplier | C46: =IF(C45=1,1,1.1) -> 1.1
B47: Cmin Multiplier | C47: =IF(C45=1,1,0.85) -> 0.85
B48: Cmax Multiplier | C48: =IF(C45=1,1,0.8) -> 0.8
B50: Cmin | C50: x = velocity
B51: H | C51: ax | D51: ^b | E51: Q''
B52: 2.7 | C52: 4510 | D52: 2.2693 | E52: =C52*$C$20^D52 -> 194.05364
B53: 4 | C53: 3884 | D53: 2.2426 | E53: =C53*$C$20^D53 -> 173.42012
B54: 10 | C54: 3435 | D54: 2.2754 | E54: =C54*$C$20^D54 -> 146.55459
B55: 30 | C55: 2736 | D55: 2.2624333 | E55: =C55*$C$20^D55 -> 118.84899
C56: Ax | D56: ^b | E56: Q'' Target
B57: =MIN($C$15,10) -> 6 | C57: =EXP(INDEX(LINEST(LN(E52:E55),LN(B52:B55),,),1,2)) -> 232.52865 | D57: =INDEX(LINEST(LN(E52:E55),LN(B52:B55),,),1) -> -0.1987981 | E57: =C57*B57^D57 -> 162.84765
B58: v' at Vmax | C58: =$E$57/$C$16 -> 13.570637
B59: v' at Vmin | C59: =C58+C60 -> 17.570637
B60: correction v' factor | C60: 4
B62: Cmax Table Permiter Zone
B63: adpi | C63: v' @Vmax | D63: v' @ Vmin | F63: Hfactor @ Vmax | G63: Hfactor @ Vmin
B64: 0.95 | C64: 0.955 | D64: 1.27 | F64: 5.3170379 | G64: 4.4308649
B65: 0.9 | C65: 0.75 | D65: 1 | F65: 6 | G65: 5
B66: 0.85 | C66: =6.623*0.85^2-8.55*0.85+3.09 -> 0.6076175 | D66: =9.17*0.85^2-11.971*0.85+4.3583 -> 0.808275 | F66: =-13.659*0.85+18.293 -> 6.68285 | G66: =-11.383*0.85+15.244 -> 5.56845
B67: 0.8 | C67: 0.5 | D67: 0.66 | F67: 7.3659242 | G67: 6.1382702
B68: 0.7 | C68: 0.35 | D68: 0.47 | F68: 8.7318484 | G68: 7.2765403
B69: v' & Vmax | C69: =VLOOKUP($C$19,B64:D68,2,0) -> 0.75 | E69: at ADPI | F69: =VLOOKUP($C$19,B63:G68,5,0) -> 6 | G69: factor * room height
B70: v' & Vmin | C70: =VLOOKUP($C$19,B64:D68,3,0) -> 1 | F70: =VLOOKUP($C$19,B63:G68,6,0) -> 5
B72: Cmax-Centre Zone Table
B73: adpi | C73: v' @Vmax | D73: v' @ Vmin | F73: Hfactor @ Vmax | G73: Hfactor @ Vmin
B74: 0.95 | C74: =6.623*(B74-0.05)^2-8.55*(B74-0.05)+3.09 -> 0.75963 | D74: =9.17*(B74-0.05)^2-11.971*(B74-0.05)+4.3583 -> 1.0121 | F74: 5.3170379 | G74: 4.4308649
B75: 0.9 | C75: =6.623*(B75-0.05)^2-8.55*(B75-0.05)+3.09 -> 0.6076175 | D75: =9.17*(B75-0.05)^2-11.971*(B75-0.05)+4.3583 -> 0.808275 | F75: 6 | G75: 5
B76: 0.85 | C76: =6.623*(B76-0.05)^2-8.55*(B76-0.05)+3.09 -> 0.48872 | D76: =9.17*(B76-0.05)^2-11.971*(B76-0.05)+4.3583 -> 0.6503 | F76: =-13.659*0.85+18.293 -> 6.68285 | G76: =-11.383*0.85+15.244 -> 5.56845
B77: 0.8 | C77: =6.623*(B77-0.05)^2-8.55*(B77-0.05)+3.09 -> 0.4029375 | D77: =9.17*(B77-0.05)^2-11.971*(B77-0.05)+4.3583 -> 0.538175 | F77: 7.3659242 | G77: 6.1382702
B78: 0.7 | C78: =6.623*(B78-0.05)^2-8.55*(B78-0.05)+3.09 -> 0.3307175 | D78: =9.17*(B78-0.05)^2-11.971*(B78-0.05)+4.3583 -> 0.451475 | F78: 8.7318484 | G78: 7.2765403
B79: v' & Vmax | C79: =VLOOKUP($C$19,B74:D78,2,0) -> 0.6076175 | E79: at ADPI | F79: =VLOOKUP($C$19,B73:G78,5,0) -> 6 | G79: factor * room height
B80: v' & Vmin | C80: =VLOOKUP($C$19,B74:D78,3,0) -> 0.808275 | F80: =VLOOKUP($C$19,B73:G78,6,0) -> 5
B82: Diffuser Distance Selection Type | C82: 1
B83: Manual Diffuser Distance | C83: ='HSC-AD'!M15 -> 20
B84: Specific Flow rate | C84: ='HSC-AD'!M17/C4 -> 10 | D84: max | E84: =IF(C3=1,31,109) -> 31
B85: dist spec flow rate | C85: =SQRT(C11/C84) -> 8.9442719
D86: heating factor
B87: Low level return | C87: ='HSC-AD'!M29 -> 0 | D87: =1+C87 -> 1
B89: Penetration Constant | C89: 4.642
B91: DN250-R1 | E91: pressure | F91: V | L91: DN250-R0 | O91: pressure | P91: v | V91: DN355-R1 | AF91: DN355-R0 | AZ91: DN400-R0 | BJ91: DN500-R1 | BT91: DN500-R0 | CD91: DN630-R1 | CN91: DN630-R0 | CX91: DN710-R1 | DH91: DN710-R0 | DR91: DN1000-R1 | EB91: DN1000-R0 | EL91: DN1340
B92: Pressure at airflow | C92: =E92*($C$11/F92)^2 -> 1204.4112 | D92: ptotal-v | E92: =O92 -> 50 | F92: 163 | L92: Pressure at airflow | M92: =O92*($C$11/P92)^2 -> 966.0669 | N92: p-v | O92: 50 | P92: 182 | Q92: =O98/P92 -> 0.428 | V92: Pressure at airflow | W92: =Y92*($C$11/Z92)^2 -> 299.264 | X92: p-v | Y92: =AI92 -> 50 | Z92: 327 | AA92: =Z92/AJ92 -> 0.79368932 | AF92: Pressure at airflow | AG92: =AI92*($C$11/AJ92)^2 -> 188.51918 | AH92: p-v | AI92: 50 | AJ92: 412 | AK92: =AI98/AJ92 -> 0.41 | AP92: Pressure at airflow | AQ92: =AS92*($C$11/AT92)^2 -> 186.70214 | AR92: p-v | AS92: =BC92 -> 50 | AT92: 414 | AZ92: Pressure at airflow | BA92: =BC92*($C$11/BD92)^2 -> 128.51354 | BB92: p-v | BC92: 50 | BD92: 499 | BE92: =BC98/BD92 -> 0.41 | BJ92: Pressure at airflow | BK92: =BM92*($C$11/BN92)^2 -> 88.006622 | BL92: p-v | BM92: =BW92 -> 50 | BN92: 603 | BO92: =BN92/BX92 -> 0.84691011 | BT92: Pressure at airflow | BU92: =BW92*($C$11/BX92)^2 -> 63.123343 | BV92: p-v | BW92: 50 | BX92: 712 | BY92: =BW98/BX92 -> 0.41 | CD92: Pressure at airflow | CE92: =CG92*($C$11/CH92)^2 -> 34.932227 | CF92: p-v | CG92: =CQ92 -> 50 | CH92: =CR92*0.847 -> 957.11 | CN92: Pressure at airflow | CO92: =CQ92*($C$11/CR92)^2 -> 25.060694 | CP92: p-v | CQ92: 50 | CR92: 1130 | CS92: =CQ98/CR92 -> 0.41 | CX92: Pressure at airflow | CY92: =DA92*($C$11/DB92)^2 -> 21.645219 | CZ92: p-v | DA92: =DK92 -> 50 | DB92: =BN92*(710/500)^2 -> 1215.8892 | DH92: Pressure at airflow | DI92: =DK92*($C$11/DL92)^2 -> 15.525179 | DJ92: p-v | DK92: 50 | DL92: =BX92*(710/500)^2 -> 1435.6768 | DR92: Pressure at airflow | DS92: =DU92*($C$11/DV92)^2 -> 5.5004139 | DT92: p-v | DU92: =EE92 -> 50 | DV92: =DB92*(1000/710)^2 -> 2412 | EB92: Pressure at airflow | EC92: =EE92*($C$11/EF92)^2 -> 3.9452089 | ED92: p-v | EE92: 50 | EF92: =DL92*(1000/710)^2 -> 2848 | EL92: Pressure at airflow | EM92: =EO92*($C$11/EP92)^2 -> 1.223632 | EN92: p-v | EO92: 50 | EP92: =EF92*(1340/1000)^2 -> 5113.8688
D93: pstatic | E93: =E92-(0.5*1.225*(F92/(1000*M95))^2) -> 43.246304 | N93: pstatic | O93: =O92-(0.5*1.225*(P92/(1000*M95))^2) -> 41.580059 | X93: pstatic | Y93: =Y92-(0.5*1.225*(Z92/(1000*AG95))^2) -> 43.314892 | AH93: pstatic | AI93: =AI92-(0.5*1.225*(AJ92/(1000*AG95))^2) -> 39.387753 | AR93: pstatic | AS93: =AS92-(0.5*1.225*(AT92/(1000*BA95))^2) -> 43.352061 | BB93: pstatic | BC93: =BC92-(0.5*1.225*(BD92/(1000*BA95))^2) -> 40.341994 | BL93: pstatic | BM93: =BM92-(0.5*1.225*(BN92/(1000*BU95))^2) -> 44.223285 | BV93: pstatic | BW93: =BW92-(0.5*1.225*(BX92/(1000*BU95))^2) -> 41.946099 | CF93: pstatic | CG93: =CG92-(0.5*1.225*(CH92/(1000*CO95))^2) -> 44.225853 | CP93: pstatic | CQ93: =CQ92-(0.5*1.225*(CR92/(1000*CO95))^2) -> 41.951387 | CZ93: pstatic | DA93: =DA92-(0.5*1.225*(DB92/(1000*DI95))^2) -> 44.223285 | DJ93: pstatic | DK93: =DK92-(0.5*1.225*(DL92/(1000*DI95))^2) -> 41.946099 | DT93: pstatic | DU93: =DU92-(0.5*1.225*(DV92/(1000*EC95))^2) -> 44.223285 | ED93: pstatic | EE93: =EE92-(0.5*1.225*(EF92/(1000*EC95))^2) -> 41.946099 | EN93: pstatic | EO93: =EO92-(0.5*1.225*(EP92/(1000*EM95))^2) -> 41.946099
B94: Diameter | C94: 209 | L94: Diameter | M94: 250 | V94: Diameter | W94: 297 | AF94: Diameter | AG94: 355 | AP94: Diameter | AQ94: 335 | AZ94: Diameter | BA94: 400 | BJ94: Diameter | BK94: 418 | BT94: Diameter | BU94: 500 | CD94: Diameter | CE94: 527 | CN94: Diameter | CO94: 630 | CX94: Diameter | CY94: 594 | DH94: Diameter | DI94: 710 | DR94: Diameter | DS94: 837 | EB94: Diameter | EC94: 1000 | EL94: Diameter | EM94: 1340
B95: Area | C95: =PI()*(C94/2000)^2 -> 0.034306977 | L95: Area | M95: =PI()*(M94/2000)^2 -> 0.049087385 | V95: Area | W95: =PI()*(W94/2000)^2 -> 0.069279187 | AF95: Area | AG95: =PI()*(AG94/2000)^2 -> 0.098979804 | AP95: Area | AQ95: =PI()*(AQ94/2000)^2 -> 0.088141309 | AZ95: Area | BA95: =PI()*(BA94/2000)^2 -> 0.12566371 | BJ95: Area | BK95: =PI()*(BK94/2000)^2 -> 0.13722791 | BT95: Area | BU95: =PI()*(BU94/2000)^2 -> 0.19634954 | CD95: Area | CE95: =PI()*(CE94/2000)^2 -> 0.21812785 | CN95: Area | CO95: =PI()*(CO94/2000)^2 -> 0.31172453 | CX95: Area | CY95: =PI()*(CY94/2000)^2 -> 0.27711675 | DH95: Area | DI95: =PI()*(DI94/2000)^2 -> 0.39591921 | DR95: Area | DS95: =PI()*(DS94/2000)^2 -> 0.55022561 | EB95: Area | EC95: =PI()*(EC94/2000)^2 -> 0.78539816 | EL95: Area | EM95: =PI()*(EM94/2000)^2 -> 1.4102609
B96: Static Pressure | C96: =E93*($C$11/F92)^2 -> 1041.7266 | L96: Static Pressure | M96: =O93*($C$11/P92)^2 -> 803.38237 | V96: Static Pressure | W96: =Y93*($C$11/Z92)^2 -> 259.25176 | AF96: Static Pressure | AG96: =AI93*($C$11/AJ92)^2 -> 148.50694 | AP96: Static Pressure | AQ96: =AS93*($C$11/AT92)^2 -> 161.87845 | AZ96: Static Pressure | BA96: =BC93*($C$11/BD92)^2 -> 103.68985 | BJ96: Static Pressure | BK96: =BM93*($C$11/BN92)^2 -> 77.838839 | BT96: Static Pressure | BU96: =BW93*($C$11/BX92)^2 -> 52.95556 | CD96: Static Pressure | CE96: =CG93*($C$11/CH92)^2 -> 30.89815 | CN96: Static Pressure | CO96: =CQ93*($C$11/CR92)^2 -> 21.026618 | CX96: Static Pressure | CY96: =DA93*($C$11/DB92)^2 -> 19.144453 | DH96: Static Pressure | DI96: =DK93*($C$11/DL92)^2 -> 13.024414 | DR96: Static Pressure | DS96: =DU93*($C$11/DV92)^2 -> 4.8649274 | EB96: Static Pressure | EC96: =EE93*($C$11/EF92)^2 -> 3.3097225 | EL96: Static Pressure | EM96: =EO93*($C$11/EP92)^2 -> 1.0265317
B97: Flow at max pressure | C97: =F92*SQRT($C$14/E93) -> 191.99447 | L97: Flow at max pressure | M97: =P92*SQRT($C$14/O93) -> 218.62734 | V97: Flow at max pressure | W97: =Z92*SQRT($C$14/Y93) -> 384.86176 | AF97: Flow at max pressure | AG97: =AJ92*SQRT($C$14/AI93) -> 508.5015 | AP97: Flow at max pressure | AQ97: =AT92*SQRT($C$14/AS93) -> 487.04725 | AZ97: Flow at max pressure | BA97: =BD92*SQRT($C$14/BC93) -> 608.55171 | BJ97: Flow at max pressure | BK97: =BN92*SQRT($C$14/BM93) -> 702.3724 | BT97: Flow at max pressure | BU97: =BX92*SQRT($C$14/BW93) -> 851.54937 | CD97: Flow at max pressure | CE97: =CH92*SQRT($C$14/CG93) -> 1114.8062 | CN97: Flow at max pressure | CO97: =CR92*SQRT($C$14/CQ93) -> 1351.3906 | CX97: Flow at max pressure | CY97: =DB92*SQRT($C$14/DA93) -> 1416.2637 | DH97: Flow at max pressure | DI97: =DL92*SQRT($C$14/DK93) -> 1717.0641 | DR97: Flow at max pressure | DS97: =DV92*SQRT($C$14/DU93) -> 2809.4896 | EB97: Flow at max pressure | EC97: =EF92*SQRT($C$14/EE93) -> 3406.1975 | EL97: Flow at max pressure | EM97: =EP92*SQRT($C$14/EO93) -> 6116.1682
B98: Vmin | C98: =E98*SQRT($C$16/F98) -> 69.764 | D98: V at -12K | E98: =163*0.428 -> 69.764 | F98: 12 | L98: Vmin | M98: =O98*SQRT($C$16/P98) -> 77.896 | N98: V at -12K | O98: =182*0.428 -> 77.896 | P98: 12 | V98: Vmin | W98: =Y98*SQRT($C$16/Z98) -> 134.07 | X98: V at -12K | Y98: =327*0.41 -> 134.07 | Z98: 12 | AF98: Vmin | AG98: =AI98*SQRT($C$16/AJ98) -> 168.92 | AH98: V at -12K | AI98: =412*0.41 -> 168.92 | AJ98: 12 | AP98: Vmin | AQ98: =AS98*SQRT($C$16/AT98) -> 172.746 | AR98: V at -12K | AS98: =411.3*0.42 -> 172.746 | AT98: 12 | AZ98: Vmin | BA98: =BC98*SQRT($C$16/BD98) -> 204.59 | BB98: V at -12K | BC98: =BD92*0.41 -> 204.59 | BD98: 12 | BJ98: Vmin | BK98: =BM98*SQRT($C$16/BN98) -> 247.23 | BL98: V at -12K | BM98: =BN92*0.41 -> 247.23 | BN98: 12 | BT98: Vmin | BU98: =BW98*SQRT($C$16/BX98) -> 291.92 | BV98: V at -12K | BW98: =BX92*0.41 -> 291.92 | BX98: 12 | CD98: Vmin | CE98: =CG98*SQRT($C$16/CH98) -> 392.4151 | CF98: V at -12K | CG98: =CH92*0.41 -> 392.4151 | CH98: 12 | CN98: Vmin | CO98: =CQ98*SQRT($C$16/CR98) -> 463.3 | CP98: V at -12K | CQ98: =CR92*0.41 -> 463.3 | CR98: 12 | CX98: Vmin | CY98: =DA98*SQRT($C$16/DB98) -> 498.51457 | CZ98: V at -12K | DA98: =DB92*0.41 -> 498.51457 | DB98: 12 | DH98: Vmin | DI98: =DK98*SQRT($C$16/DL98) -> 588.62749 | DJ98: V at -12K | DK98: =DL92*0.41 -> 588.62749 | DL98: 12 | DR98: Vmin | DS98: =DU98*SQRT($C$16/DV98) -> 988.92 | DT98: V at -12K | DU98: =DV92*0.41 -> 988.92 | DV98: 12 | EB98: Vmin | EC98: =EE98*SQRT($C$16/EF98) -> 1167.68 | ED98: V at -12K | EE98: =EF92*0.41 -> 1167.68 | EF98: 12 | EL98: Vmin | EM98: =EO98*SQRT($C$16/EP98) -> 1803.6414 | EN98: V at -12K | EO98: =1328.8*(1340/1000)^2 -> 2385.9933 | EP98: 21
B99: SWL | C99: =E99*LN(C92)+F99 -> 94.469006 | E99: 14.39 | F99: -7.61 | L99: SWL | M99: =O99*LN(M92)+P99 -> 89.658925 | O99: 14.05 | P99: -6.91 | V99: SWL | W99: =Y99*LN(W92)+Z99 -> 79.331727 | Y99: 15.63 | Z99: -9.78 | AF99: SWL | AG99: =AI99*LN(AG92)+AJ99 -> 69.386205 | AI99: 14.24 | AJ99: -5.22 | AP99: SWL | AQ99: =AS99*LN(AQ92)+AT99 -> 71.597917 | AS99: 15.332 | AT99: -8.581 | AZ99: SWL | BA99: =BC99*LN(BA92)+BD99 -> 64.067625 | BC99: 14.256 | BD99: -5.16 | BJ99: SWL | BK99: =BM99*LN(BK92)+BN99 -> 59.773635 | BM99: 14.67 | BN99: -5.91 | BT99: SWL | BU99: =BW99*LN(BU92)+BX99 -> 54.203345 | BW99: 14.29 | BX99: -5.03 | CD99: SWL | CE99: =CG99*LN(CE92)+CH99 -> 47.353752 | CG99: 14.459 | CH99: -4.025 | CN99: SWL | CO99: =CQ99*LN(CO92)+CR99 -> 42.967804 | CQ99: 14.319 | CR99: -3.158 | CX99: SWL | CY99: =DA99*LN(CY92)+DB99 -> 41.19128 | DA99: 14.328 | DB99: -2.8642331 | DH99: SWL | DI99: =DK99*LN(DI92)+DL99 -> 37.315264 | DK99: 14.33 | DL99: -1.9842331 | DR99: SWL | DS99: =DU99*LN(DS92)+DV99 -> 24.611652 | DU99: 14.33 | DV99: 0.18153378 | EB99: SWL | EC99: =EE99*LN(EC92)+EF99 -> 20.729486 | EE99: 14.33 | EF99: 1.0615338 | EL99: SWL | EM99: =EO99*LN(EM92)+EP99 -> 6.1194308 | EO99: 14.33 | EP99: 3.2273007
B100: velocity | C100: =$C$11/1000/C95 -> 23.318872 | L100: velocity | M100: =$C$11/1000/M95 -> 16.297466 | V100: velocity | W100: =$C$11/1000/W95 -> 11.54748 | AF100: velocity | AG100: =$C$11/1000/AG95 -> 8.0824569 | AP100: velocity | AQ100: =$C$11/1000/AQ95 -> 9.0763345 | AZ100: velocity | BA100: =$C$11/1000/BA95 -> 6.3661977 | BJ100: velocity | BK100: =$C$11/1000/BK95 -> 5.8297179 | BT100: velocity | BU100: =$C$11/1000/BU95 -> 4.0743665 | CD100: velocity | CE100: =$C$11/1000/CE95 -> 3.6675739 | CN100: velocity | CO100: =$C$11/1000/CO95 -> 2.5663684 | CX100: velocity | CY100: =$C$11/1000/CY95 -> 2.8868699 | DH100: velocity | DI100: =$C$11/1000/DI95 -> 2.0206142 | DR100: velocity | DS100: =$C$11/1000/DS95 -> 1.4539491 | EB100: velocity | EC100: =$C$11/1000/EC95 -> 1.0185916 | EL100: velocity | EM100: =$C$11/1000/EM95 -> 0.5672709
B102: Heating and Thermal Element | L102: Heating | V102: Heating | AF102: Heating | AP102: Heating | AZ102: Heating | BJ102: Heating | BT102: Heating | CD102: Heating | CN102: Heating | CX102: Heating | DH102: Heating | DR102: Heating | EB102: Heating | EL102: Heating
B103: dT Heating | C103: =(3.33/$C$26)^2*$C$89*C100^2*SQRT(C95) -> 144.01157 | L103: dT Heating | M103: =(3.33/$C$26)^2*$C$89*M100^2*SQRT(M95)*1.2 -> 100.97119 | V103: dT Heating | W103: =(3.33/$C$26)^2*$C$89*W100^2*SQRT(W95) -> 50.184189 | AF103: dT Heating | AG103: =(3.33/$C$26)^2*$C$89*AG100^2*SQRT(AG95)*1.2 -> 35.264071 | AP103: dT Heating | AQ103: =(3.33/$C$26)^2*$C$89*AQ100^2*SQRT(AQ95) -> 34.970499 | AZ103: dT Heating | BA103: =(3.33/$C$26)^2*$C$89*BA100^2*SQRT(BA95)*1.2 -> 24.651169 | BJ103: dT Heating | BK103: =(3.33/$C$26)^2*$C$89*BK100^2*SQRT(BK95) -> 18.001447 | BT103: dT Heating | BU103: =(3.33/$C$26)^2*$C$89*BU100^2*SQRT(BU95)*1.2 -> 12.621399 | CD103: dT Heating | CE103: =(3.33/$C$26)^2*$C$89*CE100^2*SQRT(CE95) -> 8.9826486 | CN103: dT Heating | CO103: =(3.33/$C$26)^2*$C$89*CO100^2*SQRT(CO95)*1.2 -> 6.3095132 | CX103: dT Heating | CY103: =(3.33/$C$26)^2*($C$89/1.1)*CY100^2*SQRT(CY95) -> 5.7027487 | DH103: dT Heating | DI103: =(3.33/$C$26)^2*$C$89*DI100^2*SQRT(DI95)*1.2 -> 4.4080088 | DR103: dT Heating | DS103: =(3.33/$C$26)^2*$C$89*DS100^2*SQRT(DS95) -> 2.2421253 | EB103: dT Heating | EC103: =(3.33/$C$26)^2*$C$89*EC100^2*SQRT(EC95)*1.2 -> 1.5776748 | EL103: dT Heating | EM103: =(3.33/$C$26)^2*$C$89*EM100^2*SQRT(EM95)*1.2 -> 0.65569686 | EN103: H | ER103: K
B104: dT Heating low level corrected | C104: =C103*$D$87 -> 144.01157 | L104: dT Heating low level corrected | M104: =M103*$D$87 -> 100.97119 | V104: dT Heating low level corrected | W104: =W103*$D$87 -> 50.184189 | AF104: dT Heating low level corrected | AG104: =AG103*$D$87 -> 35.264071 | AP104: dT Heating low level corrected | AQ104: =AQ103*$D$87 -> 34.970499 | AZ104: dT Heating low level corrected | BA104: =BA103*$D$87 -> 24.651169 | BJ104: dT Heating low level corrected | BK104: =BK103*$D$87 -> 18.001447 | BT104: dT Heating low level corrected | BU104: =BU103*$D$87 -> 12.621399 | CD104: dT Heating low level corrected | CE104: =CE103*$D$87 -> 8.9826486 | CN104: dT Heating low level corrected | CO104: =CO103*$D$87 -> 6.3095132 | CX104: dT Heating low level corrected | CY104: =CY103*$D$87 -> 5.7027487 | DH104: dT Heating low level corrected | DI104: =DI103*$D$87 -> 4.4080088 | DR104: dT Heating low level corrected | DS104: =DS103*$D$87 -> 2.2421253 | EB104: dT Heating low level corrected | EC104: =EC103*$D$87 -> 1.5776748 | EL104: dT Heating low level corrected | EM104: =EM103*$D$87 -> 0.65569686 | EN104: 6 | EO104: 4.43e-05 | EP104: 1.673 | ER104: =EO104*$C$11^EP104 -> 3.1862018
B105: Thermal element setting raw | C105: =C104+$C$17 -> 160.01157 | L105: Thermal element setting raw | M105: =M104+$C$17 -> 116.97119 | V105: Thermal element setting raw | W105: =W104+$C$17 -> 66.184189 | AF105: Thermal element setting raw | AG105: =AG104+$C$17 -> 51.264071 | AP105: Thermal element setting raw | AQ105: =AQ104+$C$17 -> 50.970499 | AZ105: Thermal element setting raw | BA105: =BA104+$C$17 -> 40.651169 | BJ105: Thermal element setting raw | BK105: =BK104+$C$17 -> 34.001447 | BT105: Thermal element setting raw | BU105: =BU104+$C$17 -> 28.621399 | CD105: Thermal element setting raw | CE105: =CE104+$C$17 -> 24.982649 | CN105: Thermal element setting raw | CO105: =CO104+$C$17 -> 22.309513 | CX105: Thermal element setting raw | CY105: =CY104+$C$17 -> 21.702749 | DH105: Thermal element setting raw | DI105: =DI104+$C$17 -> 20.408009 | DR105: Thermal element setting raw | DS105: =DS104+$C$17 -> 18.242125 | EB105: Thermal element setting raw | EC105: =EC104+$C$17 -> 17.577675 | EL105: Thermal element setting raw | EM105: =EM104+$C$17 -> 16.655697
B106: T s. comfort corrected | C106: =C105+$C$34 -> 164.01157 | L106: T s. comfort corrected | M106: =M105+$C$34 -> 120.97119 | V106: T s. comfort corrected | W106: =W105+$C$34 -> 70.184189 | AF106: T s. comfort corrected | AG106: =AG105+$C$34 -> 55.264071 | AP106: T s. comfort corrected | AQ106: =AQ105+$C$34 -> 54.970499 | AZ106: T s. comfort corrected | BA106: =BA105+$C$34 -> 44.651169 | BJ106: T s. comfort corrected | BK106: =BK105+$C$34 -> 38.001447 | BT106: T s. comfort corrected | BU106: =BU105+$C$34 -> 32.621399 | CD106: T s. comfort corrected | CE106: =CE105+$C$34 -> 28.982649 | CN106: T s. comfort corrected | CO106: =CO105+$C$34 -> 26.309513 | CX106: T s. comfort corrected | CY106: =CY105+$C$34 -> 25.702749 | DH106: T s. comfort corrected | DI106: =DI105+$C$34 -> 24.408009 | DR106: T s. comfort corrected | DS106: =DS105+$C$34 -> 22.242125 | EB106: T s. comfort corrected | EC106: =EC105+$C$34 -> 21.577675 | EL106: T s. comfort corrected | EM106: =EM105+$C$34 -> 20.655697
B107: T.e. setting not rounded | C107: =IF(OR(C106<$E$34,C106>40),"n.r.",IF(C106<22,22,IF(C106>30,30,C106))) -> n.r. | L107: T.e. setting not rounded | M107: =IF(OR(M106<$E$34,M106>40),"n.r.",IF(M106<22,22,IF(M106>30,30,M106))) -> n.r. | V107: T.e. setting not rounded | W107: =IF(OR(W106<$E$34,W106>40),"n.r.",IF(W106<22,22,IF(W106>30,30,W106))) -> n.r. | AF107: T.e. setting not rounded | AG107: =IF(OR(AG106<$E$34,AG106>40),"n.r.",IF(AG106<22,22,IF(AG106>30,30,AG106))) -> n.r. | AP107: T.e. setting not rounded | AQ107: =IF(OR(AQ106<$E$34,AQ106>40),"n.r.",IF(AQ106<22,22,IF(AQ106>30,30,AQ106))) -> n.r. | AZ107: T.e. setting not rounded | BA107: =IF(OR(BA106<$E$34,BA106>40),"n.r.",IF(BA106<22,22,IF(BA106>30,30,BA106))) -> n.r. | BJ107: T.e. setting not rounded | BK107: =IF(OR(BK106<$E$34,BK106>40),"n.r.",IF(BK106<22,22,IF(BK106>30,30,BK106))) -> 30 | BT107: T.e. setting not rounded | BU107: =IF(OR(BU106<$E$34,BU106>40),"n.r.",IF(BU106<22,22,IF(BU106>30,30,BU106))) -> 30 | CD107: T.e. setting not rounded | CE107: =IF(OR(CE106<$E$34,CE106>40),"n.r.",IF(CE106<22,22,IF(CE106>30,30,CE106))) -> 28.982649 | CN107: T.e. setting not rounded | CO107: =IF(OR(CO106<$E$34,CO106>40),"n.r.",IF(CO106<22,22,IF(CO106>30,30,CO106))) -> 26.309513 | CX107: T.e. setting not rounded | CY107: =IF(OR(CY106<$E$34,CY106>40),"n.r.",IF(CY106<22,22,IF(CY106>30,30,CY106))) -> 25.702749 | DH107: T.e. setting not rounded | DI107: =IF(OR(DI106<$E$34,DI106>40),"n.r.",IF(DI106<22,22,IF(DI106>30,30,DI106))) -> 24.408009 | DR107: T.e. setting not rounded | DS107: =IF(OR(DS106<$E$34,DS106>40),"n.r.",IF(DS106<22,22,IF(DS106>30,30,DS106))) -> 22.242125 | EB107: T.e. setting not rounded | EC107: =IF(OR(EC106<$E$34,EC106>40),"n.r.",IF(EC106<22,22,IF(EC106>30,30,EC106))) -> 22 | EL107: T.e. setting not rounded | EM107: =IF(OR(EM106<$E$34,EM106>40),"n.r.",IF(EM106<22,22,IF(EM106>30,30,EM106))) -> 22
B108: T element setting | C108: =IFERROR(ROUND(C107,0),C107) -> n.r. | L108: T element setting | M108: =IFERROR(ROUND(M107,0),M107) -> n.r. | V108: T element setting | W108: =IFERROR(ROUND(W107,0),W107) -> n.r. | AF108: T element setting | AG108: =IFERROR(ROUND(AG107,0),AG107) -> n.r. | AP108: T element setting | AQ108: =IFERROR(ROUND(AQ107,0),AQ107) -> n.r. | AZ108: T element setting | BA108: =IFERROR(ROUND(BA107,0),BA107) -> n.r. | BJ108: T element setting | BK108: =IFERROR(ROUND(BK107,0),BK107) -> 30 | BT108: T element setting | BU108: =IFERROR(ROUND(BU107,0),BU107) -> 30 | CD108: T element setting | CE108: =IFERROR(ROUND(CE107,0),CE107) -> 29 | CN108: T element setting | CO108: =IFERROR(ROUND(CO107,0),CO107) -> 26 | CX108: T element setting | CY108: =IFERROR(ROUND(CY107,0),CY107) -> 26 | DH108: T element setting | DI108: =IFERROR(ROUND(DI107,0),DI107) -> 24 | DR108: T element setting | DS108: =IFERROR(ROUND(DS107,0),DS107) -> 22 | EB108: T element setting | EC108: =IFERROR(ROUND(EC107,0),EC107) -> 22 | EL108: T element setting | EM108: =IFERROR(ROUND(EM107,0),EM107) -> 22
B109: T-element note category | C109: =IF(AND(C106<=40,C106>36),"high",IF(AND(C106<=40,C106>32),"mid","")) | L109: T-element note category | M109: =IF(AND(M106<=40,M106>36),"high",IF(AND(M106<=40,M106>32),"mid","")) | V109: T-element note category | W109: =IF(AND(W106<=40,W106>36),"high",IF(AND(W106<=40,W106>32),"mid","")) | AF109: T-element note category | AG109: =IF(AND(AG106<=40,AG106>36),"high",IF(AND(AG106<=40,AG106>32),"mid","")) | AP109: T-element note category | AQ109: =IF(AND(AQ106<=40,AQ106>36),"high",IF(AND(AQ106<=40,AQ106>32),"mid","")) | AZ109: T-element note category | BA109: =IF(AND(BA106<=40,BA106>36),"high",IF(AND(BA106<=40,BA106>32),"mid","")) | BJ109: T-element note category | BK109: =IF(AND(BK106<=40,BK106>36),"high",IF(AND(BK106<=40,BK106>32),"mid","")) -> high | BT109: T-element note category | BU109: =IF(AND(BU106<=40,BU106>36),"high",IF(AND(BU106<=40,BU106>32),"mid","")) -> mid | CD109: T-element note category | CE109: =IF(AND(CE106<=40,CE106>36),"high",IF(AND(CE106<=40,CE106>32),"mid","")) | CN109: T-element note category | CO109: =IF(AND(CO106<=40,CO106>36),"high",IF(AND(CO106<=40,CO106>32),"mid","")) | CX109: T-element note category | CY109: =IF(AND(CY106<=40,CY106>36),"high",IF(AND(CY106<=40,CY106>32),"mid","")) | DH109: T-element note category | DI109: =IF(AND(DI106<=40,DI106>36),"high",IF(AND(DI106<=40,DI106>32),"mid","")) | DR109: T-element note category | DS109: =IF(AND(DS106<=40,DS106>36),"high",IF(AND(DS106<=40,DS106>32),"mid","")) | EB109: T-element note category | EC109: =IF(AND(EC106<=40,EC106>36),"high",IF(AND(EC106<=40,EC106>32),"mid","")) | EL109: T-element note category | EM109: =IF(AND(EM106<=40,EM106>36),"high",IF(AND(EM106<=40,EM106>32),"mid",""))
B110: T- element Note | C110: =IF(AND(C106<=40,C106>36),"‡",IF(AND(C106<=40,C106>32),"†","")) | L110: T- element Note | M110: =IF(AND(M106<=40,M106>36),"‡",IF(AND(M106<=40,M106>32),"†","")) | V110: T- element Note | W110: =IF(AND(W106<=40,W106>36),"‡",IF(AND(W106<=40,W106>32),"†","")) | AF110: T- element Note | AG110: =IF(AND(AG106<=40,AG106>36),"‡",IF(AND(AG106<=40,AG106>32),"†","")) | AP110: T- element Note | AQ110: =IF(AND(AQ106<=40,AQ106>36),"‡",IF(AND(AQ106<=40,AQ106>32),"†","")) | AZ110: T- element Note | BA110: =IF(AND(BA106<=40,BA106>36),"‡",IF(AND(BA106<=40,BA106>32),"†","")) | BJ110: T- element Note | BK110: =IF(AND(BK106<=40,BK106>36),"‡",IF(AND(BK106<=40,BK106>32),"†","")) -> ‡ | BT110: T- element Note | BU110: =IF(AND(BU106<=40,BU106>36),"‡",IF(AND(BU106<=40,BU106>32),"†","")) -> † | CD110: T- element Note | CE110: =IF(AND(CE106<=40,CE106>36),"‡",IF(AND(CE106<=40,CE106>32),"†","")) | CN110: T- element Note | CO110: =IF(AND(CO106<=40,CO106>36),"‡",IF(AND(CO106<=40,CO106>32),"†","")) | CX110: T- element Note | CY110: =IF(AND(CY106<=40,CY106>36),"‡",IF(AND(CY106<=40,CY106>32),"†","")) | DH110: T- element Note | DI110: =IF(AND(DI106<=40,DI106>36),"‡",IF(AND(DI106<=40,DI106>32),"†","")) | DR110: T- element Note | DS110: =IF(AND(DS106<=40,DS106>36),"‡",IF(AND(DS106<=40,DS106>32),"†","")) | EB110: T- element Note | EC110: =IF(AND(EC106<=40,EC106>36),"‡",IF(AND(EC106<=40,EC106>32),"†","")) | EL110: T- element Note | EM110: =IF(AND(EM106<=40,EM106>36),"‡",IF(AND(EM106<=40,EM106>32),"†",""))
B112: Warm-up Boost | L112: Warm-up Boost | V112: Warm-up Boost | AF112: Warm-up Boost | AP112: Warm-up Boost | AZ112: Warm-up Boost | BJ112: Warm-up Boost | BT112: Warm-up Boost | CD112: Warm-up Boost | CN112: Warm-up Boost | CX112: Warm-up Boost | DH112: Warm-up Boost | DR112: Warm-up Boost | EB112: Warm-up Boost | EL112: Warm-up Boost
B113: Warm-up Room to Te setting | C113: =C107-$C$17 -> #VALUE! | L113: Warm-up Room to Te setting | M113: =M107-$C$17 -> #VALUE! | V113: Warm-up Room to Te setting | W113: =W107-$C$17 -> #VALUE! | AF113: Warm-up Room to Te setting | AG113: =AG107-$C$17 -> #VALUE! | AP113: Warm-up Room to Te setting | AQ113: =AQ107-$C$17 -> #VALUE! | AZ113: Warm-up Room to Te setting | BA113: =BA107-$C$17 -> #VALUE! | BJ113: Warm-up Room to Te setting | BK113: =BK107-$C$17 -> 14 | BT113: Warm-up Room to Te setting | BU113: =BU107-$C$17 -> 14 | CD113: Warm-up Room to Te setting | CE113: =CE107-$C$17 -> 12.982649 | CN113: Warm-up Room to Te setting | CO113: =CO107-$C$17 -> 10.309513 | CX113: Warm-up Room to Te setting | CY113: =CY107-$C$17 -> 9.7027487 | DH113: Warm-up Room to Te setting | DI113: =DI107-$C$17 -> 8.4080088 | DR113: Warm-up Room to Te setting | DS113: =DS107-$C$17 -> 6.2421253 | EB113: Warm-up Room to Te setting | EC113: =EC107-$C$17 -> 6 | EL113: Warm-up Room to Te setting | EM113: =EM107-$C$17 -> 6
B114: Actual max DT | C114: =MIN(C104,20) -> 20 | L114: Actual max DT | M114: =MIN(M104,20) -> 20 | V114: Actual max DT | W114: =MIN(W104,20) -> 20 | AF114: Actual max DT | AG114: =MIN(AG104,20) -> 20 | AP114: Actual max DT | AQ114: =MIN(AQ104,20) -> 20 | AZ114: Actual max DT | BA114: =MIN(BA104,20) -> 20 | BJ114: Actual max DT | BK114: =MIN(BK104,20) -> 18.001447 | BT114: Actual max DT | BU114: =MIN(BU104,20) -> 12.621399 | CD114: Actual max DT | CE114: =MIN(CE104,20) -> 8.9826486 | CN114: Actual max DT | CO114: =MIN(CO104,20) -> 6.3095132 | CX114: Actual max DT | CY114: =MIN(CY104,20) -> 5.7027487 | DH114: Actual max DT | DI114: =MIN(DI104,20) -> 4.4080088 | DR114: Actual max DT | DS114: =MIN(DS104,20) -> 2.2421253 | EB114: Actual max DT | EC114: =MIN(EC104,20) -> 1.5776748 | EL114: Actual max DT | EM114: =MIN(EM104,20) -> 0.65569686
B115: Choose warmup DT | C115: =MAX(C113,C114) -> #VALUE! | L115: Choose warmup DT | M115: =MAX(M113,M114) -> #VALUE! | V115: Choose warmup DT | W115: =MAX(W113,W114) -> #VALUE! | AF115: Choose warmup DT | AG115: =MAX(AG113,AG114) -> #VALUE! | AP115: Choose warmup DT | AQ115: =MAX(AQ113,AQ114) -> #VALUE! | AZ115: Choose warmup DT | BA115: =MAX(BA113,BA114) -> #VALUE! | BJ115: Choose warmup DT | BK115: =MAX(BK113,BK114) -> 18.001447 | BT115: Choose warmup DT | BU115: =MAX(BU113,BU114) -> 14 | CD115: Choose warmup DT | CE115: =MAX(CE113,CE114) -> 12.982649 | CN115: Choose warmup DT | CO115: =MAX(CO113,CO114) -> 10.309513 | CX115: Choose warmup DT | CY115: =MAX(CY113,CY114) -> 9.7027487 | DH115: Choose warmup DT | DI115: =MAX(DI113,DI114) -> 8.4080088 | DR115: Choose warmup DT | DS115: =MAX(DS113,DS114) -> 6.2421253 | EB115: Choose warmup DT | EC115: =MAX(EC113,EC114) -> 6 | EL115: Choose warmup DT | EM115: =MAX(EM113,EM114) -> 6
B116: DT warmup error | C116: =IFERROR(C115,"") | L116: DT warmup error | M116: =IFERROR(M115,"") | V116: DT warmup error | W116: =IFERROR(W115,"") | AF116: DT warmup error | AG116: =IFERROR(AG115,"") | AP116: DT warmup error | AQ116: =IFERROR(AQ115,"") | AZ116: DT warmup error | BA116: =IFERROR(BA115,"") | BJ116: DT warmup error | BK116: =IFERROR(BK115,"") -> 18.001447 | BT116: DT warmup error | BU116: =IFERROR(BU115,"") -> 14 | CD116: DT warmup error | CE116: =IFERROR(CE115,"") -> 12.982649 | CN116: DT warmup error | CO116: =IFERROR(CO115,"") -> 10.309513 | CX116: DT warmup error | CY116: =IFERROR(CY115,"") -> 9.7027487 | DH116: DT warmup error | DI116: =IFERROR(DI115,"") -> 8.4080088 | DR116: DT warmup error | DS116: =IFERROR(DS115,"") -> 6.2421253 | EB116: DT warmup error | EC116: =IFERROR(EC115,"") -> 6 | EL116: DT warmup error | EM116: =IFERROR(EM115,"") -> 6
...

Sheet Notes & Drawings
C2: SMARTEMP PRODUCT SELECTION CALCULATOR
C3: Adjustable Helical Swirl Diffuser [HSC-AD] Notes
C6: CEILING TYPE
C7: Diffuser can be installed substantially flush with a false ceiling or freely suspended.
C9: ACOUSTICS
C10: Sound power level is valid for diffusers used with round duct connection. For installation with connection boxes, add 6 dB(A). For non-acoustically lined connection boxes, add a further 2 dB(A).
C12: PRE-OCCUPANCY WARM-UP BOOST
C13: For warm-up from a low night setback temperature (cell M27), especially where high infiltration heat loss occurs (e.g. lobbies), consider introducing a Pre-Occupancy Warm-Up Boost mode that increases diffuser airflow by the Airflow Boost Factor (row 61) and pressure by the Pressure Boost Factor (row 62) during pre-occupancy warm-up only. This is typically achieved by either:
C15: 1. | D15: Speeding up the supply fan to increase total airflow by the Airflow Boost Factor (row 61); or
C16: 2. | D16: By not increasing total airflow, but instead only supplying air to the percentage of Diffusers Active During Warm-Up Boost (row 67), typically achieved by having motorised dampers (by others) shut off airflow to the remaining diffusers (typically to a duct run of diffusers). Round up/down the percentage to avoid fractions of diffusers to which airflow is to be shut-off. Minimise motorised dampers by grouping diffusers to be shut-off onto common ducts. Refer to example below.
C19: Pre-Occupancy Warm-Up is to be deactivated when room temperature setpoint is achieved, and is to remain deactivated until the next warm-up cycle is initiated.
C20: Example of Option 2, above: | F20: DN500-R1
C21: Selected Airflow | F21: 500 L/s @ 30.4 Pa static
C22: Room Temperature Setpoint | F22: 21°C
C23: Night Setback Temperature | F23: 16°C
C24: Results: | I24: Explanation:
C25: Row 59 | D25: Thermal Element Setting | H25: 27°C | I25: Supply air to be greater than or equal to 27 °C, otherwise the guide-ring will retract and prevent heat project to the floor.
C26: Row 60 | D26: Warm-Up Max Boost ΔT | H26: +11 K
C27: Row 61 | D27: Warm-Up Airflow Boost Factor | H27: 1.25 | I27: Boosted Airflow per diffuser: 1.25 × 500 L/s = 625 L/s
C28: Row 62 | D28: Warm-Up Pressure Boost Factor | H28: 1.57 | I28: Pressure required to achieve Boosted Airflow: 1.57 × 30.4 = 47.7 Pa
C29: Row 63 | D29: Diffusers Active During Warm-Up Boost | H29: 0.8 | I29: Boost airflow by supplying the fixed total airflow only to the percentage of Diffusers Active During Warm-Up (80%), achieved by shutting off airflow, via motorised dampers, to the remaining diffusers (i.e. 20%).
C32: DIFFUSER DIMENSIONS
C34: Model | D34: D2 | E34: D4 | F34: E | G34: D5 | H34: L | I34: H1 | J34: H2 | K34: H3 | L34: F | M34: - note: some dimensions currently not available
C35: DN355 | D35: =VLOOKUP($C$35,'HSC-AD data'!$C$76:$L$82,2,0) -> 395 | E35: =VLOOKUP($C$35,'HSC-AD data'!$C$76:$L$82,3,0) -> 530 | F35: =VLOOKUP($C$35,'HSC-AD data'!$C$76:$L$82,4,0) -> 445, 595, 603 | G35: =VLOOKUP($C$35,'HSC-AD data'!$C$76:$L$82,5,0) -> 354 | H35: =VLOOKUP($C$35,'HSC-AD data'!$C$76:$L$82,6,0) -> 495 | I35: =VLOOKUP($C$35,'HSC-AD data'!$C$76:$L$82,7,0) -> 550 | J35: =VLOOKUP($C$35,'HSC-AD data'!$C$76:$L$82,8,0) -> 20 | K35: =VLOOKUP($C$35,'HSC-AD data'!$C$76:$L$82,9,0) -> 80 | L35: =VLOOKUP($C$35,'HSC-AD data'!$C$76:$L$82,10,0) -> 320 | M35: * all dimensions in mm
C37: ="DN = "&D38 -> DN = 355 | D37: =D34&" = "&D35 -> D2 = 395 | E37: =E34&" = "&E35 -> D4 = 530 | F37: =F34&" = "&F35 -> E = 445, 595, 603 | G37: =G34&" = "&G35 -> D5 = 354 | H37: =H34&" = "&H35 -> L = 495 | I37: =I34&" = "&I35 -> H1 = 550 | J37: =J34&" = "&J35 -> H2 = 20 | K37: =K34&" = "&K35 -> H3 = 80 | L37: =L34&" = "&L35 -> F = 320
C38: ="> "& VLOOKUP($C$35,'HSC-AD data'!$C$76:$M$82,11,0) &"(1×DN)" -> > 355(1×DN) | D38: =VLOOKUP($C$35,'HSC-AD data'!$C$76:$M$82,11,0) -> 355
C39: ="D4 = Ø"&E35&" OR E = □"&F35 -> D4 = Ø530 OR E = □445, 595, 603
C78: Adjustment Type Description (for 'Product Code Generator')
C80: Symbol | D80: Description
C81: M | D81: Manual adjustment
C82: E1 | D82: Electric actuator 24V, 2-10V
C83: E2 | D83: Electric actuator 24V, 3-pt (2 position)
C84: E3 | D84: Electric actuator 230V, 3-pt (2 position)
C85: T__ | D85: With base module and thermal actuator set to __ (22°C - 30°C, default 26°C).

Sheet Acoustic_Tool

Sheet Heating 
A1: INPUT TO GREEN CELLS
A2: k | B2: 4.642
B4: Diameter | I4: Diameter
A5: DN250 R1 | B5: 0.209 | H5: DN250 | I5: 0.25
A6: DN355 R1 | B6: 0.297 | H6: DN355 | I6: 0.355
A7: DN500 R1 | B7: 0.418 | H7: DN400 | I7: 0.4
A8: DN710 R1 | B8: 0.594 | H8: DN500 | I8: 0.5
A9: DN1000 R1 | B9: 0.837 | H9: DN630 | I9: 0.63
H10: DN710 | I10: 0.71
H11: DN1000 | I11: 1
A14: WITH REDUCER | H14: NO REDUCER
A15: Diameter | B15: dT | C15: Area | D15: H | E15: Velocity | F15: Flowrate | H15: Diameter | I15: dT | J15: Area | K15: H | L15: Velocity | M15: Flowrate
A16: 0.837 | B16: 4 | C16: =PI()*A16^2/4 -> 0.55022561 | D16: 2.5 | E16: =D16*SQRT($B$16)/(SQRT($B$2*SQRT($C$16))*3.33) -> 0.8091667 | F16: =E16*$C$16*1000 -> 445.22424 | H16: 1 | I16: 4 | J16: =PI()*H16^2/4 -> 0.78539816 | K16: 2.5 | L16: =K16*SQRT($I$16/1.2)/(SQRT($B$2*SQRT($J$16))*3.33) -> 0.67578743 | M16: =L16*$J$16*1000 -> 530.76221
D17: 3 | E17: =D17*SQRT($B$16)/(SQRT($B$2*SQRT($C$16))*3.33) -> 0.97100004 | F17: =E17*$C$16*1000 -> 534.26909 | K17: 3 | L17: =K17*SQRT($I$16/1.2)/(SQRT($B$2*SQRT($J$16))*3.33) -> 0.81094492 | M17: =L17*$J$16*1000 -> 636.91465
D18: 4 | E18: =D18*SQRT($B$16)/(SQRT($B$2*SQRT($C$16))*3.33) -> 1.2946667 | F18: =E18*$C$16*1000 -> 712.35878 | K18: 4 | L18: =K18*SQRT($I$16/1.2)/(SQRT($B$2*SQRT($J$16))*3.33) -> 1.0812599 | M18: =L18*$J$16*1000 -> 849.21953
D19: 5 | E19: =D19*SQRT($B$16)/(SQRT($B$2*SQRT($C$16))*3.33) -> 1.6183334 | F19: =E19*$C$16*1000 -> 890.44848 | K19: 5 | L19: =K19*SQRT($I$16/1.2)/(SQRT($B$2*SQRT($J$16))*3.33) -> 1.3515749 | M19: =L19*$J$16*1000 -> 1061.5244
D20: 6 | E20: =D20*SQRT($B$16)/(SQRT($B$2*SQRT($C$16))*3.33) -> 1.9420001 | F20: =E20*$C$16*1000 -> 1068.5382 | K20: 6 | L20: =K20*SQRT($I$16/1.2)/(SQRT($B$2*SQRT($J$16))*3.33) -> 1.6218898 | M20: =L20*$J$16*1000 -> 1273.8293
D21: 7 | E21: =D21*SQRT($B$16)/(SQRT($B$2*SQRT($C$16))*3.33) -> 2.2656668 | F21: =E21*$C$16*1000 -> 1246.6279 | K21: 7 | L21: =K21*SQRT($I$16/1.2)/(SQRT($B$2*SQRT($J$16))*3.33) -> 1.8922048 | M21: =L21*$J$16*1000 -> 1486.1342
D22: 8 | E22: =D22*SQRT($B$16)/(SQRT($B$2*SQRT($C$16))*3.33) -> 2.5893335 | F22: =E22*$C$16*1000 -> 1424.7176 | K22: 8 | L22: =K22*SQRT($I$16/1.2)/(SQRT($B$2*SQRT($J$16))*3.33) -> 2.1625198 | M22: =L22*$J$16*1000 -> 1698.4391
D23: 9 | E23: =D23*SQRT($B$16)/(SQRT($B$2*SQRT($C$16))*3.33) -> 2.9130001 | F23: =E23*$C$16*1000 -> 1602.8073 | K23: 9 | L23: =K23*SQRT($I$16/1.2)/(SQRT($B$2*SQRT($J$16))*3.33) -> 2.4328347 | M23: =L23*$J$16*1000 -> 1910.7439
D24: 10 | E24: =D24*SQRT($B$16)/(SQRT($B$2*SQRT($C$16))*3.33) -> 3.2366668 | F24: =E24*$C$16*1000 -> 1780.897 | K24: 10 | L24: =K24*SQRT($I$16/1.2)/(SQRT($B$2*SQRT($J$16))*3.33) -> 2.7031497 | M24: =L24*$J$16*1000 -> 2123.0488
D25: 11 | E25: =D25*SQRT($B$16)/(SQRT($B$2*SQRT($C$16))*3.33) -> 3.5603335 | F25: =E25*$C$16*1000 -> 1958.9867 | K25: 11 | L25: =K25*SQRT($I$16/1.2)/(SQRT($B$2*SQRT($J$16))*3.33) -> 2.9734647 | M25: =L25*$J$16*1000 -> 2335.3537
D26: 12 | E26: =D26*SQRT($B$16)/(SQRT($B$2*SQRT($C$16))*3.33) -> 3.8840002 | F26: =E26*$C$16*1000 -> 2137.0763 | K26: 12 | L26: =K26*SQRT($I$16/1.2)/(SQRT($B$2*SQRT($J$16))*3.33) -> 3.2437797 | M26: =L26*$J$16*1000 -> 2547.6586
D27: 13 | E27: =D27*SQRT($B$16)/(SQRT($B$2*SQRT($C$16))*3.33) -> 4.2076669 | F27: =E27*$C$16*1000 -> 2315.166 | K27: 13 | L27: =K27*SQRT($I$16/1.2)/(SQRT($B$2*SQRT($J$16))*3.33) -> 3.5140946 | M27: =L27*$J$16*1000 -> 2759.9635
D28: 14 | E28: =D28*SQRT($B$16)/(SQRT($B$2*SQRT($C$16))*3.33) -> 4.5313335 | F28: =E28*$C$16*1000 -> 2493.2557 | K28: 14 | L28: =K28*SQRT($I$16/1.2)/(SQRT($B$2*SQRT($J$16))*3.33) -> 3.7844096 | M28: =L28*$J$16*1000 -> 2972.2684
D29: 15 | E29: =D29*SQRT($B$16)/(SQRT($B$2*SQRT($C$16))*3.33) -> 4.8550002 | F29: =E29*$C$16*1000 -> 2671.3454 | K29: 15 | L29: =K29*SQRT($I$16/1.2)/(SQRT($B$2*SQRT($J$16))*3.33) -> 4.0547246 | M29: =L29*$J$16*1000 -> 3184.5732
K30: 16 | L30: =K30*SQRT($I$16/1.2)/(SQRT($B$2*SQRT($J$16))*3.33) -> 4.3250396 | M30: =L30*$J$16*1000 -> 3396.8781

Sheet HSC-AD data
B2: 0.95 | C2: 0.2
B3: 0.9 | C3: 0.25
B4: 0.8 | C4: 0.29
B5: 0.7 | C5: 0.33
C7: Product code
D8: DN | E8: R
C9: 1 | D9: 250 | E9: 1
C10: 2 | D10: 250 | E10: 0
C11: 3 | D11: 355 | E11: 1
C12: 4 | D12: 355 | E12: 0
C13: 5 | D13: 400 | E13: 0
C14: 6 | D14: 500 | E14: 1
C15: 7 | D15: 500 | E15: 0
C16: 8 | D16: 630 | E16: 0
C17: 9 | D17: 710 | E17: 1
C18: 10 | D18: 710 | E18: 0
C19: 11 | D19: 1000 | E19: 1
C20: 12 | D20: 1000 | E20: 0
C21: 13 | H21: - option not available for size DN710 and DN1000
C22: 14 | H22: - option not available for DN250 - DN500
B23: Model | C23: ='Equations HSC-AD'!C295 -> 0 | D23: =VLOOKUP(C23,C9:E22,2,0) -> #N/A | E23: =VLOOKUP(C23,C9:E22,3,0) -> #N/A | G23: warning
B24: Mode Code | C24: ="DN"&D23&"-R"&E23 -> #N/A
B26: Adjustment
B27: Thermal El. Result | C27: =OFFSET('Equations HSC-AD'!B271,0,'HSC-AD data'!C23) -> T-setting Number | F27: ‡ moderately elevated air velocities in heating
B28: Thermal El. Note | C28: =OFFSET('Equations HSC-AD'!B272,0,'HSC-AD data'!C23) -> T-Setting Note | F28: † slightly elevated air velocities in heating
C29: 0
C30: 1 | D30: M | E30: M | F30: Manual adjustment | G30: Manual
C31: 2 | D31: 24V Elec. motor 2-10V | E31: E1 | F31: Electric actuator 24V; 2-10V | G31: Electric
C32: 3 | D32: 24V Elec. motor 2-position | E32: E2 | F32: Electric actuator 24V; 3-pt (2 position) | G32: Electric
C33: 4 | D33: 230V Elec. motor 2-position | E33: E3 | F33: Electric actuator 230V; 3-pt (2 position) | G33: Electric
C34: 5 | D34: =F34 -> #N/A | E34: ="T"&E36 -> #N/A | F34: =IF($C$23<=$C$20,IF(E36="<n.r.>","Thermal actuator not recommended","Thermal actuator "&"set to "&C27&"°C"&C28),"Thermal actuator N/A") -> #N/A | G34: Thermal element | I34: grey shade | J34: =IF(C23>=C21,TRUE,FALSE) -> FALSE
C36: 1 | D36: =VLOOKUP(C36,C29:E34,3,0) -> M | E36: =IF(HLOOKUP(C23,'Equations HSC-AD'!C243:O269,'Equations HSC-AD'!A264,0)="n.r.","<n.r.>",HLOOKUP(C23,'Equations HSC-AD'!C243:O269,'Equations HSC-AD'!A264,0)) -> #N/A | F36: =VLOOKUP(C36,C29:F34,4,0) -> Manual adjustment | G36: =IF(OR(C28="",C36<5,),"","Note: "&C28)
J37: Selection Table
C38: 1 | D38: 2 | E38: 3 | F38: 4 | G38: 5 | J38: Closed Ceiling | K38: Open Ceiling
B39: Face Size | C39: 250 | D39: =IF($B$141=1,J39,K39) -> C375 | E39: =IF($B$141=1,K39,J39) -> S295 | F39: <face> | G39: 375 | J39: S295 | K39: C375
C40: 355 | D40: =IF($B$141=1,J40,K40) -> C530 | E40: =IF($B$141=1,K40,J40) -> S595 | F40: <face> | G40: 530 | J40: S595 | K40: C530
C41: 400 | D41: =IF($B$141=1,J41,K41) -> C600 | E41: =IF($B$141=1,K41,J41) -> S595 | F41: <face> | G41: 600 | J41: S595 | K41: C600
C42: 500 | D42: =IF($B$141=1,J42,K42) -> C750 | E42: =IF($B$141=1,K42,"<face>") -> <face> | F42: <face> | G42: 750 | J42: S595 | K42: C750
C43: 630 | D43: =IF($B$141=1,J43,K43) -> C900 | E43: <face> | F43: <face> | G43: 900 | J43: C900 | K43: C900
C44: 710 | D44: =IF($B$141=1,J44,K44) -> C1000 | E44: <face> | F44: <face> | G44: 1000 | J44: C1000 | K44: C1000
C45: 1000 | D45: =IF($B$141=1,J45,K45) -> C1420 | E45: <face> | F45: <face> | G45: 1420 | J45: C1420 | K45: C1420
D46: 1 | E46: 2 | F46: 3 | G46: 4 | H46: 5
C47: Table | D47: =VLOOKUP($D$23,$C$39:$F$45,D38,0) -> #N/A | E47: =VLOOKUP($D$23,$C$39:$F$45,E38,0) -> #N/A | F47: =VLOOKUP($D$23,$C$39:$F$45,F38,0) -> #N/A | G47: =IFERROR(VLOOKUP($D$23,$C$39:$F$45,#REF!,0),"") | H47: =IFERROR(VLOOKUP($D$23,$C$39:$F$45,#REF!,0),"")
D49: =IF(C23=0,D47,IF(LEFT(D47,1)="C","ø" &RIGHT(D47,LEN(D47)-1)&" mm diameter circular face",IF(LEFT(D47,1)="S","□"&RIGHT(D47,LEN(D47)-1)&" mm square face",""))) -> #N/A | E49: =IF(C23=0,E47,IF(LEFT(E47,1)="C","ø" &RIGHT(E47,LEN(E47)-1)&" mm diameter circular face",IF(LEFT(E47,1)="S","□"&RIGHT(E47,LEN(E47)-1)&" mm square face",E47))) -> #N/A | F49: =IFERROR(IF(F47="<face>", "custom", "N/A"),"") | I49: □ | J49: ø
C50: SELECTION
C51: 1 | D51: =HLOOKUP(C51,D46:H47,2,0) -> #N/A
C52: size | D52: =RIGHT(D51,LEN(D51)-1) -> #N/A
C53: Shape | D53: =IF(OR(D51="custom",D51="N/A"),"",LEFT(D51,1)) -> #N/A | E53: =IF(D53="C"," mm diameter circular face",IF(D53="S"," mm square face","")) -> #N/A
C54: Description | D54: =IF(D51="<face>","Custom face size - please contact Smartair",IF(D51="N/A","please select a valid face shape",D52&E53)) -> #N/A
C55: Selection Code | D55: =IF(OR(D51="custom",D51="N/A"),"<face>",D51) -> #N/A
B58: Colour | C58: 1 | D58: RAL9003 | E58: RAL9003 (signal white)
C59: 2 | D59: RAL9005 | E59: RAL9005 (jet black)
C60: 3 | D60: RAL9006 | E60: RAL9006 (white aluminium)
C61: 4 | D61: <colour> | E61: custom colour
C63: 1 | D63: =VLOOKUP(C63,C58:D61,2,0) -> RAL9003
B65: Accessories | C65: 1 | D65: 0 | E65: Diffuser only
C66: 2 | D66: K | E66: With uninsulated connection box
C67: 3 | D67: B | E67: With mounting bracket (for round duct connection)
C69: 1 | D69: =VLOOKUP(C69,C65:E67,2,0) -> 0 | E69: =VLOOKUP(C69,C65:E67,3,0) -> Diffuser only
B72: Code | D72: =IF(C23=0,"select size to generate order code",CONCATENATE("SMARTEMP HSC-AD-",C24,"-",D55,"-",D36,"-",D63,"-",D69)) -> select size to generate order code
B75: Size | D75: D2 | E75: D4 | F75: E | G75: D5 | H75: L | I75: H1 | J75: H2 | K75: H3 | L75: F
B76: 1 | C76: DN250 | D76: 270 | E76: 375 | F76: 295 | G76: 249 | H76: 425 | I76: 400 | J76: 14 | K76: 60 | L76: 215 | M76: 250
B77: 2 | C77: DN355 | D77: 395 | E77: 530 | F77: 445, 595, 603 | G77: 354 | H77: 495 | I77: 550 | J77: 20 | K77: 80 | L77: 320 | M77: 355
B78: 3 | C78: DN400 | D78: 447 | E78: 600 | F78: 595, 603 | G78: 399 | H78: 555 | I78: 550 | J78: 19 | K78: 84 | L78: 365 | M78: 400
B79: 4 | C79: DN500 | D79: 560 | E79: 750 | F79: 595, 603 | G79: 499 | H79: 695 | I79: 690 | J79: 28 | K79: 100 | L79: 465 | M79: 500
B80: 5 | C80: DN630 | D80: 703 | E80: 900 | J80: 33 | K80: 217 | L80: 390 | M80: 630
B81: 6 | C81: DN710 | D81: 790 | E81: 1000 | J81: 32.2 | K81: 240 | L81: 440 | M81: 710
B82: 7 | C82: DN1000 | D82: 1110 | E82: 1420 | J82: 44 | K82: 295 | L82: 640 | M82: 1000
B84: description
B85: Size | C85: ="HSC-AD-" &C24&" (neck diameter " &D23&" mm" &D85&")" -> #N/A | D85: =IF(E23=0," without reducer", " with reducer") -> #N/A
C86: =D54 -> #N/A
C87: =F36 -> Manual adjustment
B88: Colour | C88: ="Powder coated to " & VLOOKUP(C63,C58:E61,3,0) -> Powder coated to RAL9003 (signal white)
B89: Acc | C89: =E69 -> Diffuser only
A91: summary
C92: =IF(C23=0,"please select valid size from 'HSC-AD' worksheet","DN"&D23&"-R"&E23) -> please select valid size from 'HSC-AD' worksheet | D92: Format
A93: 2 | C93: =VLOOKUP(A93,'Equations HSC-AD'!$A$244:$O$273,$C$23+2,0) -> 0
A94: 3 | B94: ='Equations HSC-AD'!B245 -> Max Airflow [L/s] | C94: =VLOOKUP(A94,'Equations HSC-AD'!$A$244:$O$273,$C$23+2,0) -> Max Airflow [L/s] | D94: =ROUND(C94,0) -> #VALUE!
A95: 4 | B95: ='Equations HSC-AD'!B246 -> Airflow @ Max Pressure [L/s] | C95: =VLOOKUP(A95,'Equations HSC-AD'!$A$244:$O$273,$C$23+2,0) -> Airflow @ Max Pressure [L/s] | D95: =ROUND(C95,1) -> #VALUE!
A96: 5 | B96: ='Equations HSC-AD'!B247 -> Min Airflow (Turndown To) [L/s] | C96: =VLOOKUP(A96,'Equations HSC-AD'!$A$244:$O$273,$C$23+2,0) -> Min Airflow (Turndown To) [L/s] | D96: =ROUND(C96,0) -> #VALUE!
A97: 6 | B97: ='Equations HSC-AD'!B248 -> Min Permissible Airflow [L/s] | C97: =VLOOKUP(A97,'Equations HSC-AD'!$A$244:$O$273,$C$23+2,0) -> Min Permissible Airflow [L/s] | D97: =ROUND(C97,0) -> #VALUE!
A98: 7 | B98: ='Equations HSC-AD'!B249 -> Static Pressure | C98: =VLOOKUP(A98,'Equations HSC-AD'!$A$244:$O$273,$C$23+2,0) -> Static Pressure | D98: =ROUND(C98,1) -> #VALUE!
A99: 8 | B99: ='Equations HSC-AD'!B250 -> Total Pressure | C99: =VLOOKUP(A99,'Equations HSC-AD'!$A$244:$O$273,$C$23+2,0) -> Total Pressure
A100: 9 | B100: ='Equations HSC-AD'!B251 -> Max Permissible P | C100: =VLOOKUP(A100,'Equations HSC-AD'!$A$244:$O$273,$C$23+2,0) -> Max Permissible P
A101: 10 | B101: ='Equations HSC-AD'!B252 -> Sound Power Level | C101: =VLOOKUP(A101,'Equations HSC-AD'!$A$244:$O$273,$C$23+2,0) -> Sound Power Level | D101: =ROUND(C101,1) -> #VALUE!
A102: 11 | B102: ='Equations HSC-AD'!B253 -> ΔT_max (heating) | C102: =VLOOKUP(A102,'Equations HSC-AD'!$A$244:$O$273,$C$23+2,0) -> ΔT_max (heating) | D102: =ROUND(C102,1) -> #VALUE!
A103: 12 | B103: ='Equations HSC-AD'!B254 -> T n.s. | C103: =VLOOKUP(A103,'Equations HSC-AD'!$A$244:$O$273,$C$23+2,0) -> T n.s.
A104: 13 | B104: ='Equations HSC-AD'!B255 -> Cmax - Centre | C104: =VLOOKUP(A104,'Equations HSC-AD'!$A$244:$O$273,$C$23+2,0) -> Cmax - Centre
A105: 14 | B105: ='Equations HSC-AD'!B256 -> Cmax - Perimeter | C105: =VLOOKUP(A105,'Equations HSC-AD'!$A$244:$O$273,$C$23+2,0) -> Cmax - Perimeter | D105: =ROUND(C105,1) -> #VALUE!
A106: 15 | B106: ='Equations HSC-AD'!B257 -> Cmin | C106: =VLOOKUP(A106,'Equations HSC-AD'!$A$244:$O$273,$C$23+2,0) -> Cmin | D106: =ROUND(C106,1) -> #VALUE!
A107: 16 | B107: ='Equations HSC-AD'!B258 -> Hmin | C107: =VLOOKUP(A107,'Equations HSC-AD'!$A$244:$O$273,$C$23+2,0) -> Hmin | D107: =ROUND(C107,2) -> #VALUE!
A108: 17 | B108: ='Equations HSC-AD'!B259 -> Mean Air Velocity | C108: =VLOOKUP(A108,'Equations HSC-AD'!$A$244:$O$273,$C$23+2,0) -> Mean Air Velocity | D108: =ROUND(C108,2) -> #VALUE!
A109: 18 | B109: ='Equations HSC-AD'!B260 -> Draft Rating | C109: =VLOOKUP(A109,'Equations HSC-AD'!$A$244:$O$273,$C$23+2,0) -> Draft Rating | D109: =ROUND(C109,3)*100 -> #VALUE!
A110: 19 | B110: ='Equations HSC-AD'!B261 -> PPD | C110: =VLOOKUP(A110,'Equations HSC-AD'!$A$244:$O$273,$C$23+2,0) -> PPD | D110: =ROUND(C110,3) -> #VALUE!
A111: 20 | B111: ='Equations HSC-AD'!B262 -> PPD Class | C111: =VLOOKUP(A111,'Equations HSC-AD'!$A$244:$O$273,$C$23+2,0) -> PPD Class
A112: 21 | B112: ='Equations HSC-AD'!B263 -> PMV | C112: =VLOOKUP(A112,'Equations HSC-AD'!$A$244:$O$273,$C$23+2,0) -> PMV | D112: =RIGHT(C112,3) -> PMV
A113: 22 | B113: ='Equations HSC-AD'!B264 -> T s. | C113: =VLOOKUP(A113,'Equations HSC-AD'!$A$244:$O$273,$C$23+2,0) -> T s. | D113: =IFERROR(ROUND(C113,1),C113) -> T s.
A114: 23 | B114: ='Equations HSC-AD'!B265 -> Warm-up DT | C114: =VLOOKUP(A114,'Equations HSC-AD'!$A$244:$O$273,$C$23+2,0) -> Warm-up DT
A115: 24 | B115: ='Equations HSC-AD'!B266 -> Warm-Up Airflow Boost | C115: =VLOOKUP(A115,'Equations HSC-AD'!$A$244:$O$273,$C$23+2,0) -> Warm-Up Airflow Boost
A116: 25 | B116: ='Equations HSC-AD'!B267 -> Warm-Up Pressure Boost | C116: =VLOOKUP(A116,'Equations HSC-AD'!$A$244:$O$273,$C$23+2,0) -> Warm-Up Pressure Boost
...

Sheet Charts
A1: Chart
A3: Title | B3: =VLOOKUP('Equations HSC-AD'!$C$296,'Equations HSC-AD'!M295:N306,2,0)&" Recommended Actuator Control (V) & Guide Ring Position (mm) for " &'Equations HSC-AD'!C15&" m discharge" -> DN500-R0 Recommended Actuator Control (V) & Guide Ring Position (mm) for 6 m discharge

Sheet Selection Summary & Print
B1: HSC-AD Performance Calculator Summary | H1: HSC-AD Performance Calculator Summary
A3: Project | B3: ='HSC-AD'!D5 -> <Name> | G3: Direction Adjustment | H3: ='HSC-AD data'!B147 -> Manual adjustment
A4: Company | B4: <Name> | H4: ='HSC-AD data'!B183
A5: Consultant | B5: <Name>
G6: Description | H6: ='HSC-AD data'!C85 -> #N/A
A7: Product | B7: SMARTEMP HSC-AD | H7: ='HSC-AD data'!C86 -> #N/A
B8: Adjustable Helical Swirl Diffuser | H8: ='HSC-AD data'!C87 -> Manual adjustment
A9: Size | B9: ='HSC-AD data'!$C$92 -> please select valid size from 'HSC-AD' worksheet | H9: ='HSC-AD data'!C88 -> Powder coated to RAL9003 (signal white)
A10: Guide Ring Adjustment Type | B10: =VLOOKUP('HSC-AD data'!C36,'HSC-AD data'!C29:G34,4,0) -> Manual adjustment | H10: ='HSC-AD data'!C89 -> Diffuser only
A12: Project Summary | G12: Order Code (select to copy) | H12: =_productcode -> select size to generate order code
A13: Selected Airflow Rate | B13: ='HSC-AD data'!B135 -> #VALUE!
A14: Min Selected Airflow | B14: ='HSC-AD data'!B136 -> #VALUE! | G14: Control Curve | H14: Control voltage only for Electric Motor Adjustment Type 24V 2-10V (E1)
A15: Min Permissible Airflow | B15: ='HSC-AD data'!B137 -> #VALUE! | H15: Guide ring position is the recessed distance as measured from the diffuser face to the bottom of the guide ring. Use curve as a guide for Manual Adjustment
A16: Max Recommended Heating ΔT | B16: ='HSC-AD data'!B138 -> #N/A
A18: Acoustic Performance
A19: Sound Power Level | B19: ='HSC-AD data'!C151 -> #VALUE!
A21: Comfort Performance & Recommended Layout
A22: ADPI | B22: ='HSC-AD data'!B172 -> ≥ 90% | C22: ADPI valid for cooling in horizontal mode only
A23: Selected Installation | B23: ='HSC-AD data'!B173 -> Freely Suspended
A24: Mean Room Air Velocity | B24: ='HSC-AD data'!B174 -> #VALUE!
A25: Mean Draught Rating | B25: ='HSC-AD data'!B175 -> #VALUE!
A26: Mean PPD | B26: ='HSC-AD data'!B176 -> #VALUE!
A27: Satisfies PPD (ISO7730) | B27: ='HSC-AD data'!B177 -> Category PPD Class
A28: Mean PMV * | B28: ='HSC-AD data'!B178 -> -PMV ≤ PMV ≤ PMV
A29: * ISO7730; ASHRAE Std 55
F50: ='HSC-AD'!$AA$7 -> v 8.2 [03/26] | L50: ='HSC-AD'!$AA$7 -> v 8.2 [03/26]

Sheet Tender Text
