Workbook
Name _productcode: 'HSC-AD data'!$D$72
Name adpi.: '[1]HSC-AD data'!$B$2:$B$5
Name adpi.: 'HSC-AD data'!$B$2:$B$5
Name face250: 'HSC-AD data'!$K$40:$K$42
Name face355: 'HSC-AD data'!$L$40:$L$45
Name face500: 'HSC-AD data'!$M$40:$M$44
Name getFrontChart: INDIRECT("Charts!$B$1")
Name size.: '[1]HSC-AD data'!$C$65:$C$71
Name size.: 'HSC-AD data'!$C$76:$C$81
Name testchart: INDIRECT('[1]HSC-AD data diagrams'!$C$11)

Sheet HSC-AD
D2: SMARTEMP PRODUCT SELECTION CALCULATOR
D3: Adjustable Helical Swirl Diffuser [HSC-AD]
C5: Project: | D5: <Name>
D7: Inputs | K7: Detailed Selection | AA7: v 8.2 [03/26]
D9: Diffuser Airflow Rate | E9: 800 | G9: [L/s] | H9: [m3/h] | L9: ADPI ≥ | M9: 0.9 | O9: default ≥ 90% (ADPI valid for cooling mode only)
E10: ="= "&ROUND(E9*'Equations HSC-AD'!C6,1) -> = 2880 | F10: ='Equations HSC-AD'!D6 -> m³/h
D11: Turndown to | E11: 100 | F11: % | G11: use 100% for CAV | K11: Draught Rating & Heating
D13: Maximum Static Pressure | E13: 60 | F13: Pa | G13: default 60 Pa | M13: Average Recommended Diffuser Coverage | O13: See Rows 50 to 52
K14: OR | M14: ="nominal distance = "&ROUND('Equations HSC-AD'!C198,1) -> nominal distance = 11.5 | N14: m
D15: Diffuser Height | E15: 6 | F15: m | G15: 2 m ≤ height ≤ 20 m (heating and cooling) | L15: Manual Diffuser Coverage | M15: 20 | N15: m | O15: see layout diagram below
G16: 2 m ≤ height ≤ 26 m (cooling only) | K16: OR | M16: ="= specific airflow rate: "&ROUND('Equations HSC-AD'!C185,1) -> = specific airflow rate: 6.1 | N16: ='Equations HSC-AD'!G3 -> L/s/m²
L17: Max Specific Airflow Rate | M17: 10 | N17: ='Equations HSC-AD'!G3 -> L/s/m² | O17: =IF('Equations HSC-AD'!C3=1,"≤ 30 L/s/m²","≤ 108 m³/h/m²") -> ≤ 30 L/s/m²
D18: ΔT supply (cooling) | E18: -12 | F18: K | G18: 0 K to -15 K (default -12 K) | M18: ="average diffuser coverage distance: " & ROUND('Equations HSC-AD'!C186,1) -> average diffuser coverage distance: 11.5 | N18: m
L19: Diffuser Location | M19: Closed Ceiling | O19: Freely Suspended (≥ 600mm below ceiling)
L21: ΔT supply (heating) | M21: 4 | N21: K | O21: check for manual supply temperature input
L23: Room Temperature (cooling) | M23: 23 | N23: °C | O23: 20 °C to 26 °C
L25: Room Temperature (heating) | M25: 22 | N25: °C | O25: check for manual input
M26: ="auto room temp. (heating) = "& 'Equations HSC-AD'!C23 -> auto room temp. (heating) = 21 | N26: °C
L27: Room Temp. @ heating startup | M27: 16 | N27: °C | O27: night setback temperature (default 16°C)
L29: % Low Level Return (heating) | M29: 0 | O29: 0% to 100% (default 0%)
C30: Related Products
C31: Smartemp JSC-AD: | D31: for use in ultra high ceilings; increased heating penetration also with electric and thermal actuator | K31: Thermal Comfort Guide
C32: Smartemp LJC-AD: | D32: for a linear-slot solution also with electric and thermal actuator | K32: ADPI ≥ 95%; ṽ ≤ 0.20 m/s: | L32: Premium comfort, sedentary activity, such as in auditoria.
K33: ADPI ≥ 90%; ṽ ≤ 0.25 m/s: | L33: High comfort near-sedentary activity, such as in board rooms, high end offices and libraries.
K34: ADPI ≥ 80%; ṽ ≤ 0.29 m/s: | L34: Good comfort near sedentary activity, such as open-plan offices and meeting rooms.
K35: ADPI ≥ 70%; ṽ ≤ 0.33 m/s: | L35: Standard comfort medium activity, such as in transient spaces, retail and lobbies.
K38: ex-factory only | N38: ex-factory only | Q38: engineered for FUSION Modulair | T38: Key: | U38: Suitable | V38: Not Suitable | W38: Warning | X38: Note: | Y38: R0 - no reducer; R1 - with reducer
C39: SMARTEMP HSC-AD- | G39: DN250-R1 | H39: DN250-R0 | I39: DN355-R1 | J39: DN355-R0 | K39: DN400-R0 | L39: DN500-R1 | M39: DN500-R0 | N39: DN630-R0 | O39: DN710-R1 | P39: DN710-R0 | Q39: DN1000-R1 | R39: DN1000-R0 | S39: DN1340
C40: Airflow | D40: Selected Airflow | F40: ='Equations HSC-AD'!$D$3 -> [L/s] | G40: ='Equations HSC-AD'!C245 -> 800 | H40: ='Equations HSC-AD'!D245 -> 800 | I40: ='Equations HSC-AD'!E245 -> 800 | J40: ='Equations HSC-AD'!F245 -> 800 | K40: ='Equations HSC-AD'!G245 -> 800 | L40: ='Equations HSC-AD'!H245 -> 800 | M40: ='Equations HSC-AD'!I245 -> 800 | N40: ='Equations HSC-AD'!J245 -> 800 | ... S40: ='Equations HSC-AD'!O245 -> 800
D41: Airflow @ Selected Pressure | F41: ='Equations HSC-AD'!$D$3 -> [L/s] | G41: ='Equations HSC-AD'!C246 -> 191.99447 | H41: ='Equations HSC-AD'!D246 -> 218.62734 | I41: ='Equations HSC-AD'!E246 -> 384.86176 | J41: ='Equations HSC-AD'!F246 -> 508.5015 | K41: ='Equations HSC-AD'!G246 -> 608.55171 | L41: ='Equations HSC-AD'!H246 -> 702.3724 | M41: ='Equations HSC-AD'!I246 -> 851.54937 | N41: ='Equations HSC-AD'!J246 -> 1351.3906 | ... S41: ='Equations HSC-AD'!O246 -> 6116.1682
D42: Selected Minimum Airflow | F42: ='Equations HSC-AD'!$D$3 -> [L/s] | G42: ='Equations HSC-AD'!C247 -> 800 | H42: ='Equations HSC-AD'!D247 -> 800 | I42: ='Equations HSC-AD'!E247 -> 800 | J42: ='Equations HSC-AD'!F247 -> 800 | K42: ='Equations HSC-AD'!G247 -> 800 | L42: ='Equations HSC-AD'!H247 -> 800 | M42: ='Equations HSC-AD'!I247 -> 800 | N42: ='Equations HSC-AD'!J247 -> 800 | ... S42: ='Equations HSC-AD'!O247 -> 800
D43: Min Permissible Airflow | F43: ='Equations HSC-AD'!$D$3 -> [L/s] | G43: ='Equations HSC-AD'!C248 -> 69.764 | H43: ='Equations HSC-AD'!D248 -> 77.896 | I43: ='Equations HSC-AD'!E248 -> 134.07 | J43: ='Equations HSC-AD'!F248 -> 168.92 | K43: ='Equations HSC-AD'!G248 -> 204.59 | L43: ='Equations HSC-AD'!H248 -> 247.23 | M43: ='Equations HSC-AD'!I248 -> 291.92 | N43: ='Equations HSC-AD'!J248 -> 463.3 | ... S43: ='Equations HSC-AD'!O248 -> 1803.6414
C44: Pressure | D44: Static Pressure @ Selected Airflow | F44: [Pa] | G44: ='Equations HSC-AD'!C249 -> 1041.7266 | H44: ='Equations HSC-AD'!D249 -> 803.38237 | I44: ='Equations HSC-AD'!E249 -> 259.25176 | J44: ='Equations HSC-AD'!F249 -> 148.50694 | K44: ='Equations HSC-AD'!G249 -> 103.68985 | L44: ='Equations HSC-AD'!H249 -> 77.838839 | M44: ='Equations HSC-AD'!I249 -> 52.95556 | N44: ='Equations HSC-AD'!J249 -> 21.026618 | ... S44: ='Equations HSC-AD'!O249 -> < 5
D45: Total Pressure @ Selected Airflow | F45: [Pa] | G45: ='Equations HSC-AD'!C250 -> 1204.4112 | H45: ='Equations HSC-AD'!D250 -> 966.0669 | I45: ='Equations HSC-AD'!E250 -> 299.264 | J45: ='Equations HSC-AD'!F250 -> 188.51918 | K45: ='Equations HSC-AD'!G250 -> 128.51354 | L45: ='Equations HSC-AD'!H250 -> 88.006622 | M45: ='Equations HSC-AD'!I250 -> 63.123343 | N45: ='Equations HSC-AD'!J250 -> 25.060694 | ... S45: ='Equations HSC-AD'!O250 -> < 10
D46: Max Permissible Static Pressure | F46: [Pa] | G46: ='Equations HSC-AD'!C251 -> 60 | H46: ='Equations HSC-AD'!D251 -> 60 | I46: ='Equations HSC-AD'!E251 -> 60 | J46: ='Equations HSC-AD'!F251 -> 60 | K46: ='Equations HSC-AD'!G251 -> 60 | L46: ='Equations HSC-AD'!H251 -> 60 | M46: ='Equations HSC-AD'!I251 -> 60 | N46: ='Equations HSC-AD'!J251 -> 60 | ... S46: ='Equations HSC-AD'!O251 -> 60
C47: Acoustic | D47: Sound Power Level | F47: [dB(A)] | G47: ='Equations HSC-AD'!C252 -> 94.469006 | H47: ='Equations HSC-AD'!D252 -> 89.658925 | I47: ='Equations HSC-AD'!E252 -> 79.331727 | J47: ='Equations HSC-AD'!F252 -> 69.386205 | K47: ='Equations HSC-AD'!G252 -> 64.067625 | L47: ='Equations HSC-AD'!H252 -> 59.773635 | M47: ='Equations HSC-AD'!I252 -> 54.203345 | N47: ='Equations HSC-AD'!J252 -> 42.967804 | ... S47: ='Equations HSC-AD'!O252 -> < 20
C48: Heating | D48: =IF('Equations HSC-AD'!C24,"Guide Ring Position for Selected Heating","Max Recommended ΔT (heating)") -> Max Recommended ΔT (heating) | F48: =IF('Equations HSC-AD'!C24,"[mm]","[K]") -> [K] | G48: ='Equations HSC-AD'!C253 -> +20 K | H48: ='Equations HSC-AD'!D253 -> +20 K | I48: ='Equations HSC-AD'!E253 -> +20 K | J48: ='Equations HSC-AD'!F253 -> +20 K | K48: ='Equations HSC-AD'!G253 -> +20 K | L48: ='Equations HSC-AD'!H253 -> +18 K | M48: ='Equations HSC-AD'!I253 -> +12.6 K | N48: ='Equations HSC-AD'!J253 -> +6.3 K | ... S48: ='Equations HSC-AD'!O253 -> < +1 K | T48: See note ¹
D49: Selected Room Temp. @ heating startup | F49: [°C] | G49: ='Equations HSC-AD'!C254 -> 16 | H49: ='Equations HSC-AD'!D254 -> 16 | I49: ='Equations HSC-AD'!E254 -> 16 | J49: ='Equations HSC-AD'!F254 -> 16 | K49: ='Equations HSC-AD'!G254 -> 16 | L49: ='Equations HSC-AD'!H254 -> 16 | M49: ='Equations HSC-AD'!I254 -> 16 | N49: ='Equations HSC-AD'!J254 -> 16 | ... S49: ='Equations HSC-AD'!O254 -> -
C50: Recommended Distances & Layout | D50: Max Coverage for Centre Zones (Cmax) | F50: [m] | G50: ='Equations HSC-AD'!C255 -> - | H50: ='Equations HSC-AD'!D255 -> - | I50: ='Equations HSC-AD'!E255 -> 34.6 | J50: ='Equations HSC-AD'!F255 -> 26.1 | K50: ='Equations HSC-AD'!G255 -> 23 | L50: ='Equations HSC-AD'!H255 -> 21.2 | M50: ='Equations HSC-AD'!I255 -> 20.1 | N50: ='Equations HSC-AD'!J255 -> 18.3 | ... R50: ='Equations HSC-AD'!N255 -> 16.8
D51: Max Coverage for Perimeter Zones (Cmax) | F51: [m] | G51: ='Equations HSC-AD'!C256 -> - | H51: ='Equations HSC-AD'!D256 -> - | I51: ='Equations HSC-AD'!E256 -> 31.4 | J51: ='Equations HSC-AD'!F256 -> 23.6 | K51: ='Equations HSC-AD'!G256 -> 20.8 | L51: ='Equations HSC-AD'!H256 -> 19.1 | M51: ='Equations HSC-AD'!I256 -> 18.1 | N51: ='Equations HSC-AD'!J256 -> 16.4 | ... S51: ='Equations HSC-AD'!O256 -> 14.8
...

Sheet Equations HSC-AD
B1: Units
B3: Unit Type | C3: 1 | D3: =IF(C3=1,"[L/s]","[m³/h]") -> [L/s] | E3: =IF(C3=1,"L/s","m³/h") -> L/s | G3: =IF(C3=1,"L/s/m²","m³/h/m²") -> L/s/m²
B4: Multiplier | C4: =IF(C3=1,1,3.6) -> 1
B6: Alternate | C6: =IF(C3=1,3.6,1/3.6) -> 3.6 | D6: =IF(C3=2,"L/s","m³/h") -> m³/h
B8: Input
B10: Size
B11: Max airflow rate | C11: ='HSC-AD'!E9/C4 -> 800
B12: Turndown to | C12: ='HSC-AD'!E11/100 -> 1
B13: min flowrate | C13: =C12*C11 -> 800
B14: max pressure | C14: ='HSC-AD'!E13 -> 60
B15: diffuser height | C15: ='HSC-AD'!E15 -> 6 | D15: m | J15: H actual | K15: Height Adjusted | L15: DT old | M15: DT new
B16: dT cooling | C16: =IF(ABS('HSC-AD'!E18)<6,6,ABS('HSC-AD'!E18)) -> 12 | J16: 2.7 | K16: 2 | L16: =(3.33/J16)^2*$C$89*$AG$100^2*SQRT($AG$95)*1.2 -> 174.14356 | M16: =(3.33/K16)^2*$C$89*$AG$100^2*SQRT($AG$95)*1.2 -> 317.37663
B17: Tn.s. | C17: ='HSC-AD'!$M$27 -> 16 | J17: 4.5 | K17: 4.5 | L17: =(3.33/J17)^2*$C$89*$AG$100^2*SQRT($AG$95)*1.2 -> 62.691681 | M17: =(3.33/K17)^2*$C$89*$AG$100^2*SQRT($AG$95)*1.2 -> 62.691681
J18: 3.5 | K18: =1.39*J18-1.75 -> 3.115 | L18: =(3.33/J18)^2*$C$89*$AG$100^2*SQRT($AG$95)*1.2 -> 103.63319 | M18: =(3.33/K18)^2*$C$89*$AG$100^2*SQRT($AG$95)*1.2 -> 130.83346
B19: adpi | C19: ='HSC-AD'!M9 -> 0.9
B20: Mean room v | C20: =VLOOKUP(C19,'HSC-AD data'!B2:C5,2,0) -> 0.25
B21: Room Temp Cooling | C21: ='HSC-AD'!$M$23 -> 23 | D21: C | J21: 1.389 | K21: -1.75
B22: room temp checkbox | C22: FALSE
B23: Room Temp Heating | C23: =IF(C22,'HSC-AD'!M25,'Equations HSC-AD'!C21-2) -> 21
B24: dT heating checkbox | C24: FALSE
B25: dT heating manual input | C25: ='HSC-AD'!M21 -> 4 | D25: K
B26: adjusted heating height | C26: =IF(C15<4.5,J21*C15+K21,C15) -> 6
B28: Thermal Element
B29: adpi | C29: Tmax correction | E29: Min Thermal Setting
B30: 0.7 | C30: 0 | D30: =(C33-C30)/25 -> 0.2 | E30: =20-C33 -> 15
B31: 0.8 | C31: =C30+D30*10 -> 2 | E31: =$E$30+C31 -> 17
B32: 0.9 | C32: =C30+D30*20 -> 4 | E32: =$E$30+C32 -> 19
B33: 0.95 | C33: =$C$23-$C$17 -> 5 | E33: =$E$30+C33 -> 20
B34: T max Correction | C34: =VLOOKUP($C$19,B30:E33,2,0) -> 4 | D34: K | E34: =VLOOKUP(C19,B30:E33,4,0) -> 19
B36: Hmin
B37: adpi | C37: Hmin factor | D37: Factor
B38: 0.7 | C38: 0.9 | D38: =VLOOKUP(C19,B38:C41,2,0) -> 1.1
B39: 0.8 | C39: 1
B40: 0.9 | C40: 1.1
B41: 0.95 | C41: 1.15
B42: T max Correction
B45: Freely Suspended | C45: 2 | D45: =IF(C45=1,"ceiling","free") -> free
B46: Hmin Multiplier | C46: =IF(C45=1,1,1.1) -> 1.1
B47: Cmin Multiplier | C47: =IF(C45=1,1,0.85) -> 0.85
B48: Cmax Multiplier | C48: =IF(C45=1,1,0.8) -> 0.8
...

Sheet Notes & Drawings
C2: SMARTEMP PRODUCT SELECTION CALCULATOR
C3: Adjustable Helical Swirl Diffuser [HSC-AD] Notes
C6: CEILING TYPE
C7: Diffuser can be installed substantially flush with a false ceiling or freely suspended.
C9: ACOUSTICS
C10: Sound power level is valid for diffusers used with round duct connection. For installation with connection boxes, add 6 dB(A). For non-acoustically lined connection boxes, add a further 2 dB(A).
C12: PRE-OCCUPANCY WARM-UP BOOST
C13: For warm-up from a low night setback temperature (cell M27), especially where high infiltration heat loss occurs (e.g. lobbies), consider introducing a Pre-Occupancy Warm-Up Boost mode that increases diffuser airflow by the Airflow Boost Factor (row 61) and pressure by the Pressure Boost Factor (row 62) during pre-occupancy warm-up only. This is typically achieved by either:
C15: 1. | D15: Speeding up the supply fan to increase total airflow by the Airflow Boost Factor (row 61); or
C16: 2. | D16: By not increasing total airflow, but instead only supplying air to the percentage of Diffusers Active During Warm-Up Boost (row 67), typically achieved by having motorised dampers (by others) shut off airflow to the remaining diffusers (typically to a duct run of diffusers). Round up/down the percentage to avoid fractions of diffusers to which airflow is to be shut-off. Minimise motorised dampers by grouping diffusers to be shut-off onto common ducts. Refer to example below.
C19: Pre-Occupancy Warm-Up is to be deactivated when room temperature setpoint is achieved, and is to remain deactivated until the next warm-up cycle is initiated.
C20: Example of Option 2, above: | F20: DN500-R1
C21: Selected Airflow | F21: 500 L/s @ 30.4 Pa static
C22: Room Temperature Setpoint | F22: 21°C
C23: Night Setback Temperature | F23: 16°C
C24: Results: | I24: Explanation:
C25: Row 59 | D25: Thermal Element Setting | H25: 27°C | I25: Supply air to be greater than or equal to 27 °C, otherwise the guide-ring will retract and prevent heat project to the floor.
C26: Row 60 | D26: Warm-Up Max Boost ΔT | H26: +11 K
C27: Row 61 | D27: Warm-Up Airflow Boost Factor | H27: 1.25 | I27: Boosted Airflow per diffuser: 1.25 × 500 L/s = 625 L/s
C28: Row 62 | D28: Warm-Up Pressure Boost Factor | H28: 1.57 | I28: Pressure required to achieve Boosted Airflow: 1.57 × 30.4 = 47.7 Pa
C29: Row 63 | D29: Diffusers Active During Warm-Up Boost | H29: 0.8 | I29: Boost airflow by supplying the fixed total airflow only to the percentage of Diffusers Active During Warm-Up (80%), achieved by shutting off airflow, via motorised dampers, to the remaining diffusers (i.e. 20%).
C32: DIFFUSER DIMENSIONS
C34: Model | D34: D2 | E34: D4 | F34: E | G34: D5 | H34: L | I34: H1 | J34: H2 | K34: H3 | L34: F | M34: - note: some dimensions currently not available
C35: DN355 | D35: =VLOOKUP($C$35,'HSC-AD data'!$C$76:$L$82,2,0) -> 395 | E35: =VLOOKUP($C$35,'HSC-AD data'!$C$76:$L$82,3,0) -> 530 | F35: =VLOOKUP($C$35,'HSC-AD data'!$C$76:$L$82,4,0) -> 445, 595, 603 | G35: =VLOOKUP($C$35,'HSC-AD data'!$C$76:$L$82,5,0) -> 354 | H35: =VLOOKUP($C$35,'HSC-AD data'!$C$76:$L$82,6,0) -> 495 | I35: =VLOOKUP($C$35,'HSC-AD data'!$C$76:$L$82,7,0) -> 550 | J35: =VLOOKUP($C$35,'HSC-AD data'!$C$76:$L$82,8,0) -> 20 | K35: =VLOOKUP($C$35,'HSC-AD data'!$C$76:$L$82,9,0) -> 80 | L35: =VLOOKUP($C$35,'HSC-AD data'!$C$76:$L$82,10,0) -> 320 | M35: * all dimensions in mm
C37: ="DN = "&D38 -> DN = 355 | D37: =D34&" = "&D35 -> D2 = 395 | E37: =E34&" = "&E35 -> D4 = 530 | F37: =F34&" = "&F35 -> E = 445, 595, 603 | G37: =G34&" = "&G35 -> D5 = 354 | H37: =H34&" = "&H35 -> L = 495 | I37: =I34&" = "&I35 -> H1 = 550 | J37: =J34&" = "&J35 -> H2 = 20 | K37: =K34&" = "&K35 -> H3 = 80 | L37: =L34&" = "&L35 -> F = 320
C38: ="> "& VLOOKUP($C$35,'HSC-AD data'!$C$76:$M$82,11,0) &"(1×DN)" -> > 355(1×DN) | D38: =VLOOKUP($C$35,'HSC-AD data'!$C$76:$M$82,11,0) -> 355
C39: ="D4 = Ø"&E35&" OR E = □"&F35 -> D4 = Ø530 OR E = □445, 595, 603
C78: Adjustment Type Description (for 'Product Code Generator')
C80: Symbol | D80: Description
C81: M | D81: Manual adjustment
C82: E1 | D82: Electric actuator 24V, 2-10V
C83: E2 | D83: Electric actuator 24V, 3-pt (2 position)
C84: E3 | D84: Electric actuator 230V, 3-pt (2 position)
C85: T__ | D85: With base module and thermal actuator set to __ (22°C - 30°C, default 26°C).

Sheet Acoustic_Tool

Sheet Heating 
A1: INPUT TO GREEN CELLS
A2: k | B2: 4.642
B4: Diameter | I4: Diameter
A5: DN250 R1 | B5: 0.209 | H5: DN250 | I5: 0.25
A6: DN355 R1 | B6: 0.297 | H6: DN355 | I6: 0.355
A7: DN500 R1 | B7: 0.418 | H7: DN400 | I7: 0.4
A8: DN710 R1 | B8: 0.594 | H8: DN500 | I8: 0.5
A9: DN1000 R1 | B9: 0.837 | H9: DN630 | I9: 0.63
H10: DN710 | I10: 0.71
H11: DN1000 | I11: 1
A14: WITH REDUCER | H14: NO REDUCER
A15: Diameter | B15: dT | C15: Area | D15: H | E15: Velocity | F15: Flowrate | H15: Diameter | I15: dT | J15: Area | K15: H | L15: Velocity | M15: Flowrate
A16: 0.837 | B16: 4 | C16: =PI()*A16^2/4 -> 0.55022561 | D16: 2.5 | E16: =D16*SQRT($B$16)/(SQRT($B$2*SQRT($C$16))*3.33) -> 0.8091667 | F16: =E16*$C$16*1000 -> 445.22424 | H16: 1 | I16: 4 | J16: =PI()*H16^2/4 -> 0.78539816 | K16: 2.5 | L16: =K16*SQRT($I$16/1.2)/(SQRT($B$2*SQRT($J$16))*3.33) -> 0.67578743 | M16: =L16*$J$16*1000 -> 530.76221
D17: 3 | E17: =D17*SQRT($B$16)/(SQRT($B$2*SQRT($C$16))*3.33) -> 0.97100004 | F17: =E17*$C$16*1000 -> 534.26909 | K17: 3 | L17: =K17*SQRT($I$16/1.2)/(SQRT($B$2*SQRT($J$16))*3.33) -> 0.81094492 | M17: =L17*$J$16*1000 -> 636.91465
D18: 4 | E18: =D18*SQRT($B$16)/(SQRT($B$2*SQRT($C$16))*3.33) -> 1.2946667 | F18: =E18*$C$16*1000 -> 712.35878 | K18: 4 | L18: =K18*SQRT($I$16/1.2)/(SQRT($B$2*SQRT($J$16))*3.33) -> 1.0812599 | M18: =L18*$J$16*1000 -> 849.21953
D19: 5 | E19: =D19*SQRT($B$16)/(SQRT($B$2*SQRT($C$16))*3.33) -> 1.6183334 | F19: =E19*$C$16*1000 -> 890.44848 | K19: 5 | L19: =K19*SQRT($I$16/1.2)/(SQRT($B$2*SQRT($J$16))*3.33) -> 1.3515749 | M19: =L19*$J$16*1000 -> 1061.5244
D20: 6 | E20: =D20*SQRT($B$16)/(SQRT($B$2*SQRT($C$16))*3.33) -> 1.9420001 | F20: =E20*$C$16*1000 -> 1068.5382 | K20: 6 | L20: =K20*SQRT($I$16/1.2)/(SQRT($B$2*SQRT($J$16))*3.33) -> 1.6218898 | M20: =L20*$J$16*1000 -> 1273.8293
D21: 7 | E21: =D21*SQRT($B$16)/(SQRT($B$2*SQRT($C$16))*3.33) -> 2.2656668 | F21: =E21*$C$16*1000 -> 1246.6279 | K21: 7 | L21: =K21*SQRT($I$16/1.2)/(SQRT($B$2*SQRT($J$16))*3.33) -> 1.8922048 | M21: =L21*$J$16*1000 -> 1486.1342
D22: 8 | E22: =D22*SQRT($B$16)/(SQRT($B$2*SQRT($C$16))*3.33) -> 2.5893335 | F22: =E22*$C$16*1000 -> 1424.7176 | K22: 8 | L22: =K22*SQRT($I$16/1.2)/(SQRT($B$2*SQRT($J$16))*3.33) -> 2.1625198 | M22: =L22*$J$16*1000 -> 1698.4391
D23: 9 | E23: =D23*SQRT($B$16)/(SQRT($B$2*SQRT($C$16))*3.33) -> 2.9130001 | F23: =E23*$C$16*1000 -> 1602.8073 | K23: 9 | L23: =K23*SQRT($I$16/1.2)/(SQRT($B$2*SQRT($J$16))*3.33) -> 2.4328347 | M23: =L23*$J$16*1000 -> 1910.7439
D24: 10 | E24: =D24*SQRT($B$16)/(SQRT($B$2*SQRT($C$16))*3.33) -> 3.2366668 | F24: =E24*$C$16*1000 -> 1780.897 | K24: 10 | L24: =K24*SQRT($I$16/1.2)/(SQRT($B$2*SQRT($J$16))*3.33) -> 2.7031497 | M24: =L24*$J$16*1000 -> 2123.0488
D25: 11 | E25: =D25*SQRT($B$16)/(SQRT($B$2*SQRT($C$16))*3.33) -> 3.5603335 | F25: =E25*$C$16*1000 -> 1958.9867 | K25: 11 | L25: =K25*SQRT($I$16/1.2)/(SQRT($B$2*SQRT($J$16))*3.33) -> 2.9734647 | M25: =L25*$J$16*1000 -> 2335.3537
D26: 12 | E26: =D26*SQRT($B$16)/(SQRT($B$2*SQRT($C$16))*3.33) -> 3.8840002 | F26: =E26*$C$16*1000 -> 2137.0763 | K26: 12 | L26: =K26*SQRT($I$16/1.2)/(SQRT($B$2*SQRT($J$16))*3.33) -> 3.2437797 | M26: =L26*$J$16*1000 -> 2547.6586
D27: 13 | E27: =D27*SQRT($B$16)/(SQRT($B$2*SQRT($C$16))*3.33) -> 4.2076669 | F27: =E27*$C$16*1000 -> 2315.166 | K27: 13 | L27: =K27*SQRT($I$16/1.2)/(SQRT($B$2*SQRT($J$16))*3.33) -> 3.5140946 | M27: =L27*$J$16*1000 -> 2759.9635
D28: 14 | E28: =D28*SQRT($B$16)/(SQRT($B$2*SQRT($C$16))*3.33) -> 4.5313335 | F28: =E28*$C$16*1000 -> 2493.2557 | K28: 14 | L28: =K28*SQRT($I$16/1.2)/(SQRT($B$2*SQRT($J$16))*3.33) -> 3.7844096 | M28: =L28*$J$16*1000 -> 2972.2684
D29: 15 | E29: =D29*SQRT($B$16)/(SQRT($B$2*SQRT($C$16))*3.33) -> 4.8550002 | F29: =E29*$C$16*1000 -> 2671.3454 | K29: 15 | L29: =K29*SQRT($I$16/1.2)/(SQRT($B$2*SQRT($J$16))*3.33) -> 4.0547246 | M29: =L29*$J$16*1000 -> 3184.5732
K30: 16 | L30: =K30*SQRT($I$16/1.2)/(SQRT($B$2*SQRT($J$16))*3.33) -> 4.3250396 | M30: =L30*$J$16*1000 -> 3396.8781

Sheet HSC-AD data
B2: 0.95 | C2: 0.2
B3: 0.9 | C3: 0.25
B4: 0.8 | C4: 0.29
B5: 0.7 | C5: 0.33
C7: Product code
D8: DN | E8: R
C9: 1 | D9: 250 | E9: 1
C10: 2 | D10: 250 | E10: 0
C11: 3 | D11: 355 | E11: 1
C12: 4 | D12: 355 | E12: 0
C13: 5 | D13: 400 | E13: 0
C14: 6 | D14: 500 | E14: 1
C15: 7 | D15: 500 | E15: 0
C16: 8 | D16: 630 | E16: 0
C17: 9 | D17: 710 | E17: 1
C18: 10 | D18: 710 | E18: 0
C19: 11 | D19: 1000 | E19: 1
C20: 12 | D20: 1000 | E20: 0
C21: 13 | H21: - option not available for size DN710 and DN1000
C22: 14 | H22: - option not available for DN250 - DN500
B23: Model | C23: ='Equations HSC-AD'!C295 -> 0 | D23: =VLOOKUP(C23,C9:E22,2,0) -> #N/A | E23: =VLOOKUP(C23,C9:E22,3,0) -> #N/A | G23: warning
B24: Mode Code | C24: ="DN"&D23&"-R"&E23 -> #N/A
B26: Adjustment
B27: Thermal El. Result | C27: =OFFSET('Equations HSC-AD'!B271,0,'HSC-AD data'!C23) -> T-setting Number | F27: ‡ moderately elevated air velocities in heating
B28: Thermal El. Note | C28: =OFFSET('Equations HSC-AD'!B272,0,'HSC-AD data'!C23) -> T-Setting Note | F28: † slightly elevated air velocities in heating
C29: 0
C30: 1 | D30: M | E30: M | F30: Manual adjustment | G30: Manual
C31: 2 | D31: 24V Elec. motor 2-10V | E31: E1 | F31: Electric actuator 24V; 2-10V | G31: Electric
C32: 3 | D32: 24V Elec. motor 2-position | E32: E2 | F32: Electric actuator 24V; 3-pt (2 position) | G32: Electric
C33: 4 | D33: 230V Elec. motor 2-position | E33: E3 | F33: Electric actuator 230V; 3-pt (2 position) | G33: Electric
C34: 5 | D34: =F34 -> #N/A | E34: ="T"&E36 -> #N/A | F34: =IF($C$23<=$C$20,IF(E36="<n.r.>","Thermal actuator not recommended","Thermal actuator "&"set to "&C27&"°C"&C28),"Thermal actuator N/A") -> #N/A | G34: Thermal element | I34: grey shade | J34: =IF(C23>=C21,TRUE,FALSE) -> FALSE
C36: 1 | D36: =VLOOKUP(C36,C29:E34,3,0) -> M | E36: =IF(HLOOKUP(C23,'Equations HSC-AD'!C243:O269,'Equations HSC-AD'!A264,0)="n.r.","<n.r.>",HLOOKUP(C23,'Equations HSC-AD'!C243:O269,'Equations HSC-AD'!A264,0)) -> #N/A | F36: =VLOOKUP(C36,C29:F34,4,0) -> Manual adjustment | G36: =IF(OR(C28="",C36<5,),"","Note: "&C28)
J37: Selection Table
C38: 1 | D38: 2 | E38: 3 | F38: 4 | G38: 5 | J38: Closed Ceiling | K38: Open Ceiling
B39: Face Size | C39: 250 | D39: =IF($B$141=1,J39,K39) -> C375 | E39: =IF($B$141=1,K39,J39) -> S295 | F39: <face> | G39: 375 | J39: S295 | K39: C375
C40: 355 | D40: =IF($B$141=1,J40,K40) -> C530 | E40: =IF($B$141=1,K40,J40) -> S595 | F40: <face> | G40: 530 | J40: S595 | K40: C530
C41: 400 | D41: =IF($B$141=1,J41,K41) -> C600 | E41: =IF($B$141=1,K41,J41) -> S595 | F41: <face> | G41: 600 | J41: S595 | K41: C600
C42: 500 | D42: =IF($B$141=1,J42,K42) -> C750 | E42: =IF($B$141=1,K42,"<face>") -> <face> | F42: <face> | G42: 750 | J42: S595 | K42: C750
C43: 630 | D43: =IF($B$141=1,J43,K43) -> C900 | E43: <face> | F43: <face> | G43: 900 | J43: C900 | K43: C900
C44: 710 | D44: =IF($B$141=1,J44,K44) -> C1000 | E44: <face> | F44: <face> | G44: 1000 | J44: C1000 | K44: C1000
...

Sheet Charts
A1: Chart
A3: Title | B3: =VLOOKUP('Equations HSC-AD'!$C$296,'Equations HSC-AD'!M295:N306,2,0)&" Recommended Actuator Control (V) & Guide Ring Position (mm) for " &'Equations HSC-AD'!C15&" m discharge" -> DN500-R0 Recommended Actuator Control (V) & Guide Ring Position (mm) for 6 m discharge

Sheet Selection Summary & Print
B1: HSC-AD Performance Calculator Summary | H1: HSC-AD Performance Calculator Summary
A3: Project | B3: ='HSC-AD'!D5 -> <Name> | G3: Direction Adjustment | H3: ='HSC-AD data'!B147 -> Manual adjustment
A4: Company | B4: <Name> | H4: ='HSC-AD data'!B183
A5: Consultant | B5: <Name>
G6: Description | H6: ='HSC-AD data'!C85 -> #N/A
A7: Product | B7: SMARTEMP HSC-AD | H7: ='HSC-AD data'!C86 -> #N/A
B8: Adjustable Helical Swirl Diffuser | H8: ='HSC-AD data'!C87 -> Manual adjustment
A9: Size | B9: ='HSC-AD data'!$C$92 -> please select valid size from 'HSC-AD' worksheet | H9: ='HSC-AD data'!C88 -> Powder coated to RAL9003 (signal white)
A10: Guide Ring Adjustment Type | B10: =VLOOKUP('HSC-AD data'!C36,'HSC-AD data'!C29:G34,4,0) -> Manual adjustment | H10: ='HSC-AD data'!C89 -> Diffuser only
A12: Project Summary | G12: Order Code (select to copy) | H12: =_productcode -> select size to generate order code
A13: Selected Airflow Rate | B13: ='HSC-AD data'!B135 -> #VALUE!
A14: Min Selected Airflow | B14: ='HSC-AD data'!B136 -> #VALUE! | G14: Control Curve | H14: Control voltage only for Electric Motor Adjustment Type 24V 2-10V (E1)
A15: Min Permissible Airflow | B15: ='HSC-AD data'!B137 -> #VALUE! | H15: Guide ring position is the recessed distance as measured from the diffuser face to the bottom of the guide ring. Use curve as a guide for Manual Adjustment
A16: Max Recommended Heating ΔT | B16: ='HSC-AD data'!B138 -> #N/A
A18: Acoustic Performance
A19: Sound Power Level | B19: ='HSC-AD data'!C151 -> #VALUE!
A21: Comfort Performance & Recommended Layout
A22: ADPI | B22: ='HSC-AD data'!B172 -> ≥ 90% | C22: ADPI valid for cooling in horizontal mode only
A23: Selected Installation | B23: ='HSC-AD data'!B173 -> Freely Suspended
A24: Mean Room Air Velocity | B24: ='HSC-AD data'!B174 -> #VALUE!
A25: Mean Draught Rating | B25: ='HSC-AD data'!B175 -> #VALUE!
A26: Mean PPD | B26: ='HSC-AD data'!B176 -> #VALUE!
A27: Satisfies PPD (ISO7730) | B27: ='HSC-AD data'!B177 -> Category PPD Class
A28: Mean PMV * | B28: ='HSC-AD data'!B178 -> -PMV ≤ PMV ≤ PMV
A29: * ISO7730; ASHRAE Std 55
F50: ='HSC-AD'!$AA$7 -> v 8.2 [03/26] | L50: ='HSC-AD'!$AA$7 -> v 8.2 [03/26]

Sheet Tender Text
