Workbook
Name _DN200size: 'CNW-ADsizing'!$B$10:$B$15
Name _DN250size: 'CNW-ADsizing'!$C$10:$C$15
Name _DN315size: 'CNW-ADsizing'!$D$10:$D$15
Name _DN400size: 'CNW-ADsizing'!$E$10:$E$15
Name _DN500size: 'CNW-ADsizing'!$F$10:$F$15
Name _DN630size: 'CNW-ADsizing'!$G$10:$G$15
Name _order_code: 'CNW-AD Data'!$C$58
Name _sizes: 'CNW-ADsizing'!$A$1:$A$6

Sheet CNW-AD
C2: SMARTEMP PRODUCT SELECTION CALCULATOR
C3: Circular Nozzle [CNW-AD]
C5: Project: | D5: <Project Name>
C7: Inputs | I7: Detailed Selection | Q7: v 4.2 [03/2025]
C9: Airflow Rate | D9: 200 | E9: [L/s] | F9: [m3/h] | I9: Supply Temperature and Deflection
D10: ="= " &ROUND('CNW-ADequations'!B7,0) -> = 720 | E10: ='CNW-ADequations'!D7 -> [m³/h]
C11: Maximum Total Pressure | D11: 60 | E11: Pa (default 60 Pa) | I11: ΔT (cooling) | J11: -6 | K11: K (-8 K to 0 K recommended)
C13: Diffuser Height | D13: 5 | E13: m | I13: ΔT (heating) | J13: 6 | K13: K (0 K to + 6 K recommended)
K14: use 0 K for isothermal applications
C15: Horizontal Throw Distance | D15: 24 | E15: m | I15: Jet Velocity
I17: Throw to 0.4 m/s terminal velocity (default)
I18: Throw to 0.2 m/s terminal velocity for sensitive applications
I19: e.g. towards projector screens
C21: Related Products | I21: Include Swirl Element [Type S1] (for reduced throw and velocity)
C22: Smartemp CSW-AD: | D22: wall mounted, high-induction swirl with adjustable throw settings
C23: Smartemp PMW-AD: | D23: wall mounted, high-induction perforated face solution
C24: Smartemp LMW-AD: | D24: wall-mounted, high-induction linear slot solution
C25: Smartemp JSC-AD: | D25: a vertical discharge solution suitable for ultra-high ceilings
D28: SMARTEMP CNW-AD | G28: ='CNW-ADequations'!C154 -> DN200 [S0] | H28: ='CNW-ADequations'!D154 -> DN250 [S0] | I28: ='CNW-ADequations'!E154 -> DN315 [S0] | J28: ='CNW-ADequations'!F154 -> DN400 [S0] | K28: ='CNW-ADequations'!G154 -> DN500 [S0] | L28: ='CNW-ADequations'!H154 -> DN630 [S0] | M28: Sizes DN100, DN125, DN160 available on request
C29: Airflow | D29: Selected Airflow Rate | F29: ='CNW-ADequations'!C3 -> [L/s] | G29: ='CNW-ADequations'!C155 -> 200 | H29: ='CNW-ADequations'!D155 -> 200 | I29: ='CNW-ADequations'!E155 -> 200 | J29: ='CNW-ADequations'!F155 -> 200 | K29: ='CNW-ADequations'!G155 -> 200 | L29: ='CNW-ADequations'!H155 -> 200
C30: Pressure * | D30: Static Pressure @ Airflow | F30: [Pa] | G30: ='CNW-ADequations'!C156 -> 279.3 | H30: ='CNW-ADequations'!D156 -> 106.4 | I30: ='CNW-ADequations'!E156 -> 39.6 | J30: ='CNW-ADequations'!F156 -> 12.7 | K30: ='CNW-ADequations'!G156 -> 4.4 | L30: ='CNW-ADequations'!H156 -> < 3 | M30: Key: | N30: Suitable | O30: Not Suitable | P30: Warning/Warning
D31: Total Pressure @ Airflow | F31: [Pa] | G31: ='CNW-ADequations'!C157 -> 304.1 | H31: ='CNW-ADequations'!D157 -> 116.5 | I31: ='CNW-ADequations'!E157 -> 43.7 | J31: ='CNW-ADequations'!F157 -> 14.2 | K31: ='CNW-ADequations'!G157 -> 5.1 | L31: ='CNW-ADequations'!H157 -> < 3
D32: Max Selected Pressure | F32: [Pa] | G32: ='CNW-ADequations'!C158 -> 60 | H32: ='CNW-ADequations'!D158 -> 60 | I32: ='CNW-ADequations'!E158 -> 60 | J32: ='CNW-ADequations'!F158 -> 60 | K32: ='CNW-ADequations'!G158 -> 60 | L32: ='CNW-ADequations'!H158 -> 60
C33: Acoustics * | D33: Sound Power Level | F33: [dB(A)] | G33: ='CNW-ADequations'!C159 -> 51.5 | H33: ='CNW-ADequations'!D159 -> 34.1 | I33: ='CNW-ADequations'!E159 -> 16.4 | J33: ='CNW-ADequations'!F159 -> < 4 | K33: ='CNW-ADequations'!G159 -> < 4 | L33: ='CNW-ADequations'!H159 -> < 4
C34: Throw & Velocity | D34: Isothermal Throw Distance | F34: [m] | G34: ='CNW-ADequations'!C160 -> 38.7 | H34: ='CNW-ADequations'!D160 -> 31 | I34: ='CNW-ADequations'!E160 -> 24 | J34: ='CNW-ADequations'!F160 -> 18.1 | K34: ='CNW-ADequations'!G160 -> 14.2 | L34: ='CNW-ADequations'!H160 -> 11.1
D35: ='CNW-ADequations'!B142 -> Jet Velocity at 24m | F35: [m/s] | G35: ='CNW-ADequations'!C161 -> 0.63 | H35: ='CNW-ADequations'!D161 -> 0.51 | I35: ='CNW-ADequations'!E161 -> 0.39 | J35: ='CNW-ADequations'!F161 -> 0.3 | K35: ='CNW-ADequations'!G161 -> 0.23 | L35: ='CNW-ADequations'!H161 -> 0.18
C36: Jet Temperature | D36: ='CNW-ADequations'!B162 -> Jet ΔT at 24 m (cooling) | F36: [K] | G36: ='CNW-ADequations'!C162 -> -0.1 | H36: ='CNW-ADequations'!D162 -> -0.1 | I36: ='CNW-ADequations'!E162 -> -0.1 | J36: ='CNW-ADequations'!F162 -> -0.2 | K36: ='CNW-ADequations'!G162 -> -0.2 | L36: ='CNW-ADequations'!H162 -> -0.3
D37: ='CNW-ADequations'!B163 -> Jet ΔT at floor level (heating) | F37: [K] | G37: ='CNW-ADequations'!C163 -> 0.1 | H37: ='CNW-ADequations'!D163 -> 0.2 | I37: ='CNW-ADequations'!E163 -> 0.3 | J37: ='CNW-ADequations'!F163 -> 0.5 | K37: ='CNW-ADequations'!G163 -> 0.8 | L37: ='CNW-ADequations'!H163 -> 1.3
C38: Discharge & Installation Angle | D38: Recommended Discharge Angle (cool) | F38: [°] | G38: ='CNW-ADequations'!C164 -> -5 | H38: ='CNW-ADequations'!D164 -> 1 | I38: ='CNW-ADequations'!E164 -> 16 | J38: ='CNW-ADequations'!F164 -> 44 | K38: ='CNW-ADequations'!G164 -> 66 | L38: ='CNW-ADequations'!H164 -> 78
D39: Recommended Discharge Angle (heat) | F39: [°] | G39: ='CNW-ADequations'!C165 -> -15 | H39: ='CNW-ADequations'!D165 -> -18 | I39: ='CNW-ADequations'!E165 -> -24 | J39: ='CNW-ADequations'!F165 -> -33 | K39: ='CNW-ADequations'!G165 -> -43 | L39: ='CNW-ADequations'!H165 -> -62
D40: Total Arc of Rotation (θ) | F40: [°] | G40: ='CNW-ADequations'!C166 -> 9 | H40: ='CNW-ADequations'!D166 -> 20 | I40: ='CNW-ADequations'!E166 -> 40 | J40: ='CNW-ADequations'!F166 -> 76 | K40: ='CNW-ADequations'!G166 -> 109 | L40: ='CNW-ADequations'!H166 -> 140 | M40: Note: θ < 60° (Manual & Electric motor) ; θ < 40° (Thermal Element )
D41: Recommended Mounting Angle (φ) | F41: [°] | G41: ='CNW-ADequations'!C167 -> 0 | H41: ='CNW-ADequations'!D167 -> 0 | I41: ='CNW-ADequations'!E167 -> 0 | J41: ='CNW-ADequations'!F167 -> -3 | K41: ='CNW-ADequations'!G167 -> -13 | L41: ='CNW-ADequations'!H167 -> -32 | M41: * Pressure and Sound Power Level valid for manual diffuser
D42: Min Centreline Distance ** | F42: [m] | G42: ='CNW-ADequations'!C168 -> 0.32 | H42: ='CNW-ADequations'!D168 -> 0.41 | I42: ='CNW-ADequations'!E168 -> 0.52 | J42: ='CNW-ADequations'!F168 -> 0.69 | K42: ='CNW-ADequations'!G168 -> 0.89 | L42: ='CNW-ADequations'!H168 -> 1.13 | M42: ** Refer to 'Notes' worksheet for example
D44: Product Code
D45: Select Size | G45: ='CNW-AD Data'!C32 -> DN200 | H45: ='CNW-AD Data'!D32 -> DN250 | I45: ='CNW-AD Data'!E32 -> DN315 | J45: ='CNW-AD Data'!F32 -> DN400 | K45: ='CNW-AD Data'!G32 -> DN500 | L45: ='CNW-AD Data'!H32 -> DN630 | M45: Sizes DN100, DN125, DN160 available on request
D46: Swirl Element | I46: ='CNW-AD Data'!C77 -> No swirl element | J46: (see cell F17)
D47: Adjustment Type | G47: ='CNW-AD Data'!D48 -> Manual | I47: ='CNW-AD Data'!E48 -> Electric Motor | K47: ='CNW-AD Data'!F48 -> Thermal Element | M47: Manual & Electric Motor θ < 60° ; Thermal Element θ < 40° (Row 34)
D48: Face Colour (Powder Coated) | G48: RAL9003* | I48: RAL9005 | K48: custom | M48: ='CNW-AD Data'!E56 -> RAL9003 - Signal White
D49: Order Code (select to copy) | G49: =_order_code -> please select a valid size in row 41 | M49: go to 'CNW-AD Selection Summary' for a printable summary of the selection
Q60: * note: not to scale
...

Sheet CNW-ADequations
A1: Units
A3: Unit Selection | B3: 1 | C3: =IF(B3=1,"[L/s]","[m³/h]") -> [L/s] | D3: =IF(B3=1,"L/s","m³/h") -> L/s
A4: Unit Multiplier | B4: =IF(B3=1,1,3.6) -> 1
A6: Airflow Rate | B6: ='CNW-AD'!D9 -> 200
A7: Airflow convert | B7: =ROUND(IF(B3=1,B6*3.6,B6/3.6),1) -> 720 | C7: alternate | D7: =IF(B3=2,"[L/s]","[m³/h]") -> [m³/h]
A10: Input Values
A12: Airflow Rate | B12: =B6/B4 -> 200 | I12: 630 | J12: 377 | K12: =J12^2 -> 142129 | L12: =K12/K13 -> 1.6331974
A13: Pressure | B13: ='CNW-AD'!D11 -> 60 | I13: 500 | J13: 295 | K13: =J13^2 -> 87025 | L13: =K13/K14 -> 1.6308727
A14: Height | B14: ='CNW-AD'!D13 -> 5 | I14: 400 | J14: 231 | K14: =J14^2 -> 53361 | L14: =K14/K15 -> 1.7424
A15: Distance | B15: ='CNW-AD'!D15 -> 24 | C15: =B15&" m" -> 24 m | I15: 315 | J15: 175 | K15: =J15^2 -> 30625 | L15: =K15/K16 -> 1.6803841
A16: Swirl | B16: FALSE | C16: =IF(B16,1,0) -> 0 | I16: 250 | J16: 135 | K16: =J16^2 -> 18225 | L16: =K16/K17 -> 1.5625
I17: 200 | J17: 108 | K17: =J17^2 -> 11664
A18: terminal velocity selection | B18: 1 | D18: 1 | E18: 0.4
A19: terminal velocity | B19: =VLOOKUP(B18,D18:E19,2,0) -> 0.4 | C19: m/s | D19: 2 | E19: 0.2
A21: dT cool | B21: ='CNW-AD'!J11 -> -6
A22: dt heat | B22: =ABS('CNW-AD'!J13) -> 6
A24: Heating to hit above floor level | B24: 1.5 | C24: m
A25: Input Diagonal Distance | B25: =SQRT(B15^2+B14^2) -> 24.515301
A27: Jet Decay Constant 'k' | B27: 10.48
A29: Centreline distance mulptiplier | B29: =IF(B16,4,3) -> 3 | C29: x exit diameter | Y29: Deflection constant x 2 for swirl
A31: 200 | B31: Type 0 | E31: 250 | F31: Type 0 | I31: 315 | J31: Type 0 | M31: 400 | N31: Type 0 | Q31: 500 | R31: Type 0 | U31: 630 | V31: Type 0 | Y31: 250 | Z31: Type 1 | AC31: 315 | AD31: Type 1 | AG31: 400 | AH31: Type 1 | AK31: 500 | AL31: Type 1 | AO31: 630 | AP31: Type 1 | AS31: 160 | AT31: TEST
A32: Diameter | B32: =B33*1000 -> 108 | E32: Diameter | F32: 135 | I32: Diameter | J32: =J33*1000 -> 174 | M32: Diameter | N32: 231 | Q32: Diameter | R32: 295 | U32: Diameter | V32: 377 | W32: mm | Y32: Diameter | Z32: 135 | AC32: Diameter | AD32: =AD33*1000 -> 174 | AG32: Diameter | AH32: 231 | AK32: Diameter | AL32: =R32 -> 295 | AO32: Diameter | AP32: =V32 -> 377 | AS32: Diameter | AT32: 86.4
A33: Diameter | B33: 0.108 | C33: m | E33: Diameter | F33: =F32/1000 -> 0.135 | G33: m | I33: Diameter | J33: 0.174 | K33: m | M33: Diameter | N33: =N32/1000 -> 0.231 | O33: m | Q33: Diameter | R33: =R32/1000 -> 0.295 | S33: m | U33: Diameter | V33: =V32/1000 -> 0.377 | W33: m | Y33: Diameter | Z33: =Z32/1000 -> 0.135 | AA33: m | AC33: Diameter | AD33: 0.174 | AE33: m | AG33: Diameter | AH33: 0.23 | AI33: m | AK33: Diameter | AL33: =AL32/1000 -> 0.295 | AO33: Diameter | AP33: =AP32/1000 -> 0.377 | AQ33: m | AS33: Diameter | AT33: 0.0864 | AU33: m
A34: Area | B34: =PI()/4*B33^2 -> 0.0091608842 | E34: Area | F34: =PI()/4*F33^2 -> 0.014313882 | I34: Area | J34: =PI()/4*J33^2 -> 0.023778715 | M34: Area | N34: =PI()/4*N33^2 -> 0.041909631 | Q34: Area | R34: =PI()/4*R33^2 -> 0.068349275 | U34: Area | V34: =PI()/4*V33^2 -> 0.11162786 | Y34: Area | Z34: =PI()/4*Z33^2 -> 0.014313882 | AC34: Area | AD34: =PI()/4*AD33^2 -> 0.023778715 | AG34: Area | AH34: =PI()/4*AH33^2 -> 0.041547563 | AK34: Area | AL34: =PI()/4*AL33^2 -> 0.068349275 | AO34: Area | AP34: =PI()/4*AP33^2 -> 0.11162786 | AS34: Area | AT34: =PI()/4*AT33^2 -> 0.0058629659
A35: Velocity | B35: =$B$12/(1000*B34) -> 21.831954 | E35: Velocity | F35: =$B$12/(1000*F34) -> 13.97245 | I35: Velocity | J35: =$B$12/(1000*J34) -> 8.4108835 | M35: Velocity | N35: =$B$12/(1000*N34) -> 4.7721727 | Q35: Velocity | R35: =$B$12/(1000*R34) -> 2.9261466 | U35: Velocity | V35: =$B$12/(1000*V34) -> 1.7916675 | Y35: Velocity | Z35: =$B$12/(1000*Z34) -> 13.97245 | AC35: Velocity | AD35: =$B$12/(1000*AD34) -> 8.4108835 | AG35: Velocity | AH35: =$B$12/(1000*AH34) -> 4.8137601 | AK35: Velocity | AL35: =$B$12/(1000*AL34) -> 2.9261466 | AO35: Velocity | AP35: =$B$12/(1000*AP34) -> 1.7916675 | AS35: Velocity | AT35: =BV24/(1000*AT34) -> 0
A36: data.TotalPressure | B36: 50 | E36: data.TotalPressure | F36: 50 | I36: data.TotalPressure | J36: 50 | M36: data.TotalPressure | N36: 50 | Q36: data.TotalPressure | R36: 50 | U36: data.TotalPressure | V36: 50
A37: data.Flowrate | B37: 81.1 | E37: data.Flowrate | F37: 131 | I37: data.Flowrate | J37: 214 | M37: data.Flowrate | N37: 375 | Q37: data.Flowrate | R37: 628 | U37: data.Flowrate | V37: 893
A38: Total Pressure Loss (Pa) | B38: =B36*($B$12/B37)^2 -> 304.0803 | E38: Total Pressure Loss (Pa) | F38: =F36*($B$12/F37)^2 -> 116.54332 | I38: Total Pressure Loss (Pa) | J38: =J36*($B$12/J37)^2 -> 43.671936 | M38: Total Pressure Loss (Pa) | N38: =N36*($B$12/N37)^2 -> 14.222222 | Q38: Total Pressure Loss (Pa) | R38: =R36*($B$12/R37)^2 -> 5.0711996 | U38: Total Pressure Loss (Pa) | V38: =V36*($B$12/V37)^2 -> 2.5079974 | Y38: Total Pressure Loss (Pa) | Z38: =F38*1.543 -> 179.82635 | AC38: Total Pressure Loss (Pa) | AD38: =J38*1.543 -> 67.385798 | AG38: Total Pressure Loss (Pa) | AH38: =N38*1.543 -> 21.944889 | AK38: Total Pressure Loss (Pa) | AL38: =R38*1.543 -> 7.824861 | AO38: Total Pressure Loss (Pa) | AP38: =V38*1.543 -> 3.86984 | AS38: Total Pressure Loss (Pa) | AT38: =0.5*1.225*AT35^2 -> 0
A39: Duct Area | B39: =PI()*(A31/2000)^2 -> 0.031415927 | E39: Duct Area | F39: =PI()*(E31/2000)^2 -> 0.049087385 | I39: Duct Area | J39: =PI()*(I31/2000)^2 -> 0.077931133 | M39: Duct Area | N39: =PI()*(M31/2000)^2 -> 0.12566371 | Q39: Duct Area | R39: =PI()*(Q31/2000)^2 -> 0.19634954 | U39: Duct Area | V39: =PI()*(U31/2000)^2 -> 0.31172453 | Y39: Duct Area | Z39: =PI()*(Y31/2000)^2 -> 0.049087385 | AC39: Duct Area | AD39: =PI()*(AC31/2000)^2 -> 0.077931133 | AG39: Duct Area | AH39: =PI()*(AG31/2000)^2 -> 0.12566371 | AK39: Duct Area | AL39: =PI()*(AK31/2000)^2 -> 0.19634954 | AO39: Duct Area | AP39: =PI()*(AO31/2000)^2 -> 0.31172453
A40: Duct Velocity | B40: =$B$12/1000/B39 -> 6.3661977 | E40: Duct Velocity | F40: =$B$12/1000/F39 -> 4.0743665 | I40: Duct Velocity | J40: =$B$12/1000/J39 -> 2.5663684 | M40: Duct Velocity | N40: =$B$12/1000/N39 -> 1.5915494 | Q40: Duct Velocity | R40: =$B$12/1000/R39 -> 1.0185916 | U40: Duct Velocity | V40: =$B$12/1000/V39 -> 0.64159211 | Y40: Duct Velocity | Z40: =$B$12/1000/Z39 -> 4.0743665 | AC40: Duct Velocity | AD40: =$B$12/1000/AD39 -> 2.5663684 | AG40: Duct Velocity | AH40: =$B$12/1000/AH39 -> 1.5915494 | AK40: Duct Velocity | AL40: =$B$12/1000/AL39 -> 1.0185916 | AO40: Duct Velocity | AP40: =$B$12/1000/AP39 -> 0.64159211
A41: Duct Dyn Pressure | B41: =0.5*1.225*B40^2 -> 24.82369 | E41: Duct Dyn Pressure | F41: =0.5*1.225*F40^2 -> 10.167783 | I41: Duct Dyn Pressure | J41: =0.5*1.225*J40^2 -> 4.0340763 | M41: Duct Dyn Pressure | N41: =0.5*1.225*N40^2 -> 1.5514806 | Q41: Duct Dyn Pressure | R41: =0.5*1.225*R40^2 -> 0.63548646 | U41: Duct Dyn Pressure | V41: =0.5*1.225*V40^2 -> 0.25212977 | Y41: Duct Dyn Pressure | Z41: =0.5*1.225*Z40^2 -> 10.167783 | AC41: Duct Dyn Pressure | AD41: =0.5*1.225*AD40^2 -> 4.0340763 | AG41: Duct Dyn Pressure | AH41: =0.5*1.225*AH40^2 -> 1.5514806 | AK41: Duct Dyn Pressure | AL41: =0.5*1.225*AL40^2 -> 0.63548646 | AO41: Duct Dyn Pressure | AP41: =0.5*1.225*AP40^2 -> 0.25212977 | AS41: Duct Dyn Pressure | AT41: =0.5*1.225*(AT35*(AT32/AS31)^2)^2 -> 0
A42: Duct Static Pressure | B42: =B38-B41 -> 279.25661 | E42: Duct Static Pressure | F42: =F38-F41 -> 106.37554 | I42: Duct Static Pressure | J42: =J38-J41 -> 39.63786 | M42: Duct Static Pressure | N42: =N38-N41 -> 12.670742 | Q42: Duct Static Pressure | R42: =R38-R41 -> 4.4357132 | U42: Duct Static Pressure | V42: =V38-V41 -> 2.2558676 | Y42: Duct Static Pressure | Z42: =Z38-Z41 -> 169.65857 | AC42: Duct Static Pressure | AD42: =AD38-AD41 -> 63.351722 | AG42: Duct Static Pressure | AH42: =AH38-AH41 -> 20.393408 | AK42: Duct Static Pressure | AL42: =AL38-AL41 -> 7.1893746 | AO42: Duct Static Pressure | AP42: =AP38-AP41 -> 3.6177102 | AS42: Duct Static Pressure | AT42: =AT38-AT41 -> 0
A43: Direct Throw Distance | B43: =(B35*$B$27*SQRT(B34)/(SQRT(2)*$B$19)) -> 38.712177 | E43: Direct Throw Distance | F43: =(F35*$B$27*SQRT(F34)/(SQRT(2)*$B$19)) -> 30.969741 | I43: Direct Throw Distance | J43: =(J35*$B$27*SQRT(J34)/(SQRT(2)*$B$19)) -> 24.028248 | M43: Direct Throw Distance | N43: =(N35*$B$27*SQRT(N34)/(SQRT(2)*$B$19)) -> 18.0992 | Q43: Direct Throw Distance | R43: =(R35*$B$27*SQRT(R34)/(SQRT(2)*$B$19)) -> 14.172594 | U43: Direct Throw Distance | V43: =(V35*$B$27*SQRT(V34)/(SQRT(2)*$B$19)) -> 11.08996 | Y43: Direct Throw Distance | Z43: =(Z35*$B$27*SQRT(Z34)/(SQRT(2)*$B$19))/1.85 -> 16.740401 | AC43: Direct Throw Distance | AD43: =(AD35*$B$27*SQRT(AD34)/(SQRT(2)*$B$19))/1.85 -> 12.988242 | AG43: Direct Throw Distance | AH43: =(AH35*$B$27*SQRT(AH34)/(SQRT(2)*$B$19))/1.85 -> 9.8258874 | AK43: Direct Throw Distance | AL43: =(AL35*$B$27*SQRT(AL34)/(SQRT(2)*$B$19))/1.85 -> 7.6608614 | AO43: Direct Throw Distance | AP43: =(AP35*$B$27*SQRT(AP34)/(SQRT(2)*$B$19))/1.85 -> 5.9945732 | AS43: Direct Throw Distance | AT43: =(AT35*$B$27*SQRT(AT34)/(SQRT(2)*$B$19))/1.85 -> 0
A44: (Isothermal Direct) Throw (m) | B44: =B43 -> 38.712177 | C44: =IFERROR(SQRT(B43^2-$B$14^2),B43) -> 38.387923 | E44: (Isothermal Direct) Throw (m) | F44: =F43 -> 30.969741 | G44: =IFERROR(SQRT(F43^2-$B$14^2),F43) -> 30.563457 | I44: (Isothermal Direct) Throw (m) | J44: =J43 -> 24.028248 | K44: =IFERROR(SQRT(J43^2-$B$14^2),J43) -> 23.50227 | M44: (Isothermal Direct) Throw (m) | N44: =N43 -> 18.0992 | O44: =IFERROR(SQRT(N43^2-$B$14^2),N43) -> 17.394856 | Q44: (Isothermal Direct) Throw (m) | R44: =R43 -> 14.172594 | S44: =IFERROR(SQRT(R43^2-$B$14^2),R43) -> 13.261312 | U44: (Isothermal Direct) Throw (m) | V44: =V43 -> 11.08996 | W44: =IFERROR(SQRT(V43^2-$B$14^2),V43) -> 9.8988496 | Y44: (Isothermal Direct) Throw (m) | Z44: =Z43 -> 16.740401 | AA44: =IFERROR(SQRT(Z43^2-$B$14^2),Z43) -> 15.976264 | AC44: (Isothermal Direct) Throw (m) | AD44: =AD43 -> 12.988242 | AE44: =IFERROR(SQRT(AD43^2-$B$14^2),AD43) -> 11.987261 | AG44: (Isothermal Direct) Throw (m) | AH44: =AH43 -> 9.8258874 | AI44: =IFERROR(SQRT(AH43^2-$B$14^2),AH43) -> 8.4586088 | AK44: (Isothermal Direct) Throw (m) | AL44: =AL43 -> 7.6608614 | AM44: =IFERROR(SQRT(AL43^2-$B$14^2),AL43) -> 5.8042051 | AO44: (Isothermal Direct) Throw (m) | AP44: =AP43 -> 5.9945732 | AQ44: =IFERROR(SQRT(AP43^2-$B$14^2),AP43) -> 3.3067973 | AS44: (Isothermal Direct) Throw (m) | AT44: =AT43 -> 0 | AU44: =IFERROR(SQRT(AT43^2-$B$14^2),AT43) -> 0
A45: Jet Velocity at Distance | B45: =(B35*$B$27*SQRT(B34))/(SQRT(2)*$B$25) -> 0.63164105 | E45: Jet Velocity at Distance | F45: =(F35*$B$27*SQRT(F34))/(SQRT(2)*$B$25) -> 0.50531284 | I45: Jet Velocity at Distance | J45: =(J35*$B$27*SQRT(J34))/(SQRT(2)*$B$25) -> 0.39205307 | M45: Jet Velocity at Distance | N45: =(N35*$B$27*SQRT(N34))/(SQRT(2)*$B$25) -> 0.2953127 | Q45: Jet Velocity at Distance | R45: =(R35*$B$27*SQRT(R34))/(SQRT(2)*$B$25) -> 0.23124486 | U45: Jet Velocity at Distance | V45: =(V35*$B$27*SQRT(V34))/(SQRT(2)*$B$25) -> 0.18094757 | Y45: Jet Velocity at Distance | Z45: =(Z35*$B$27*SQRT(Z34))/(SQRT(2)*$B$15)/2 -> 0.25808118 | AC45: Jet Velocity at Distance | AD45: =(AD35*$B$27*SQRT(AD34))/(SQRT(2)*$B$15)/2 -> 0.2002354 | AG45: Jet Velocity at Distance | AH45: =(AH35*$B$27*SQRT(AH34))/(SQRT(2)*$B$15)/2 -> 0.15148243 | AK45: Jet Velocity at Distance | AL45: =(AL35*$B$27*SQRT(AL34))/(SQRT(2)*$B$15)/2 -> 0.11810495 | AO45: Jet Velocity at Distance | AP45: =(AP35*$B$27*SQRT(AP34))/(SQRT(2)*$B$15)/2 -> 0.092416337 | AS45: Jet Velocity at Distance | AT45: =(AT35*$B$27*SQRT(AT34))/(SQRT(2)*$B$15)/2 -> 0
A47: SWL A | B47: 20.2 | E47: SWL A | F47: 20.2 | I47: SWL A | J47: 20.2 | M47: SWL A | N47: 20.2 | Q47: SWL A | R47: 20.2 | U47: SWL A | V47: 20.2 | Y47: SWL A | Z47: 14.2 | AC47: SWL A | AD47: 14.2 | AG47: SWL A | AH47: 14.2 | AK47: SWL A | AL47: 14.2 | AO47: SWL A | AP47: 14.2
A48: SWL B | B48: -64 | E48: SWL B | F48: -62 | I48: SWL B | J48: -59.9 | M48: SWL B | N48: -57 | Q48: SWL B | R48: -54.8 | U48: SWL B | V48: -52.7 | Y48: SWL B | Z48: -13.4 | AC48: SWL B | AD48: -13.4 | AG48: SWL B | AH48: -13.4 | AK48: SWL B | AL48: -13.4 | AO48: SWL B | AP48: -13.4
A49: SWL (dB(A)) | B49: =B47*LN(B38)+B48 -> 51.489295 | E49: SWL (dB(A)) | F49: =F47*LN(F38)+F48 -> 34.116914 | I49: SWL (dB(A)) | J49: =J47*LN(J38)+J48 -> 16.389455 | M49: SWL (dB(A)) | N49: =N47*LN(N38)+N48 -> -3.3729251 | Q49: SWL (dB(A)) | R49: =R47*LN(R38)+R48 -> -22.003736 | U49: SWL (dB(A)) | V49: =V47*LN(V38)+V48 -> -34.126412 | Y49: SWL (dB(A)) | Z49: =Z47*LN(Z38)+Z48+20*LOG(Z32/200)+5 -> 61.912357 | AA49: + 5 dbA buffer | AC49: SWL (dB(A)) | AD49: =AD47*LN(AD38)+AD48+20*LOG(AD32/200)+5 -> 50.178552 | AE49: + 5 dbA buffer | AG49: SWL (dB(A)) | AH49: =AH47*LN(AH38)+AH48+20*LOG(AH32/200)+5 -> 36.708826 | AI49: + 5 dbA buffer | AK49: SWL (dB(A)) | AL49: =AL47*LN(AL38)+AL48+20*LOG(AL32/200)+5 -> 24.189585 | AM49: + 5 dbA buffer | AO49: SWL (dB(A)) | AP49: =AP47*LN(AP38)+AP48+20*LOG(AP32/200)+5 -> 16.321854 | AQ49: + 5 dbA buffer | AS49: SWL (dB(A)) | AT49: =14.21*LN(AT38)-13.365+20*LOG(AT32/200)+5 -> #NUM! | AU49: + 5 dbA buffer
A51: Cooling Angle | E51: Cooling Angle | I51: Cooling Angle | M51: Cooling Angle | Q51: Cooling Angle | U51: Cooling Angle | Y51: Cooling Angle | AC51: Cooling Angle | AG51: Cooling Angle | AK51: Cooling Angle | AO51: Cooling Angle | AS51: Cooling Angle
A52: dT at Distance (cool) | B52: =B33*$B$21/(0.3*$B$25) -> -0.088108238 | E52: dT at Distance (cool) | F52: =F33*$B$21/(0.3*$B$25) -> -0.1101353 | I52: dT at Distance (cool) | J52: =J33*$B$21/(0.3*$B$25) -> -0.14195216 | M52: dT at Distance (cool) | N52: =N33*$B$21/(0.3*$B$25) -> -0.18845373 | Q52: dT at Distance (cool) | R52: =R33*$B$21/(0.3*$B$25) -> -0.24066602 | U52: dT at Distance (cool) | V52: =V33*$B$21/(0.3*$B$25) -> -0.30756302 | Y52: dT at Distance (cool) | Z52: =Z33*$B$21/(0.3*$B$25)/2 -> -0.055067649 | AC52: dT at Distance (cool) | AD52: =AD33*$B$21/(0.3*$B$25)/2 -> -0.07097608 | AG52: dT at Distance (cool) | AH52: =AH33*$B$21/(0.3*$B$25)/2 -> -0.093818957 | AK52: dT at Distance (cool) | AL52: =AL33*$B$21/(0.3*$B$25)/2 -> -0.12033301 | AO52: dT at Distance (cool) | AP52: =AP33*$B$21/(0.3*$B$25)/2 -> -0.15378151 | AS52: dT at Distance | AT52: =AT33*$B$21/(0.3*$B$15)/2 -> -0.036
...

Sheet Notes
C2: SMARTEMP PRODUCT SELECTION CALCULATOR
C3: Circular Nozzle [CNW-AD] Notes
C6: Dimensions
C8: Select Unit Size | E8: DN250
G15: 1 | H15: D3 | I15: =INDEX(INDIRECT("_"&$E$8&"size"),G15) -> 248 | J15: =CONCATENATE(H15," = ",I15) -> D3 = 248
G16: 2 | H16: D1 | I16: =INDEX(INDIRECT("_"&$E$8&"size"),G16) -> 136 | J16: =CONCATENATE(H16," = ",I16) -> D1 = 136
G17: 3 | H17: D2 | I17: =INDEX(INDIRECT("_"&$E$8&"size"),G17) -> 302 | J17: =CONCATENATE(H17," = ",I17) -> D2 = 302
G18: 4 | H18: L | I18: =INDEX(INDIRECT("_"&$E$8&"size"),G18) -> 164 | J18: =CONCATENATE(H18," = ",I18) -> L = 164
G19: 5 | H19: E | I19: =INDEX(INDIRECT("_"&$E$8&"size"),G19) -> 24 | J19: =CONCATENATE(H19," = ",I19) -> E = 24
G20: 6 | H20: LE | I20: =INDEX(INDIRECT("_"&$E$8&"size"),G20) -> 340 | J20: =CONCATENATE("Le"," = ",I20) -> Le = 340
N36: ALL DIMENSIONS IN mm
C37: Minimum Centreline Distance
C39: Minimum Spacing Between Nozzles | G39: DN200 | H39: DN250 | I39: DN315 | J39: DN400 | K39: DN500 | L39: DN630
C40: min centreline distance [m] | E40: without swirl [S0] | G40: 0.32 | H40: 0.41 | I40: 0.52 | J40: 0.69 | K40: 0.89 | L40: 1.13
E41: with swirl [S1] | G41: - | H41: 0.54 | I41: 0.7 | J41: 0.92 | K41: 1.18 | L41: 1.51

Sheet CNW-AD Data
B2: Selection Button | C2: 0
B3: Selection | C3: =C2+IF('CNW-ADequations'!B16,6,0) -> 0
A4: 0 | C4: =OFFSET('CNW-ADequations'!$B$154,A4,$C$2) -> Results Units
A5: 1 | B5: Selected Airflow Rate [L/s] | C5: =OFFSET('CNW-ADequations'!$B$154,A5,$C$2) -> Selected Airflow Rate [L/s]
A6: 2 | B6: Static Pressure @ Airflow [Pa] | C6: =OFFSET('CNW-ADequations'!$B$154,A6,$C$2) -> Static Pressure @ Airflow [Pa]
A7: 3 | B7: Total Pressure @ Airflow [Pa] | C7: =OFFSET('CNW-ADequations'!$B$154,A7,$C$2) -> Total Pressure @ Airflow [Pa]
A8: 4 | B8: Max Selected Pressure [Pa] | C8: =OFFSET('CNW-ADequations'!$B$154,A8,$C$2) -> Max Selected Pressure [Pa]
A9: 5 | B9: SWL | C9: =OFFSET('CNW-ADequations'!$B$154,A9,$C$2) -> SWL
A10: 6 | B10: Max Throw Distance [m] | C10: =OFFSET('CNW-ADequations'!$B$154,A10,$C$2) -> Max Throw Distance [m]
A11: 7 | B11: Jet Velocity at 20m | C11: =OFFSET('CNW-ADequations'!$B$154,A11,$C$2) -> Jet Velocity at 24m
A12: 8 | B12: Jet ΔT at 20 m (cooling) | C12: =OFFSET('CNW-ADequations'!$B$154,A12,$C$2) -> Jet ΔT at 24 m (cooling) | D12: =IF(C12>0, "+"&C12,C12) -> +Jet ΔT at 24 m (cooling)
A13: 9 | B13: Jet ΔT at floor level (heating) | C13: =OFFSET('CNW-ADequations'!$B$154,A13,$C$2) -> Jet ΔT at floor level (heating) | D13: =IF(C13>0, "+"&C13,C13) -> +Jet ΔT at floor level (heating)
A14: 10 | B14: Recommended Cooling Angle | C14: =OFFSET('CNW-ADequations'!$B$154,A14,$C$2) -> Recommended Cooling Angle | D14: =IF(C14>0, "+"&C14,C14) -> +Recommended Cooling Angle
A15: 11 | B15: Recommended Heating Angle | C15: =OFFSET('CNW-ADequations'!$B$154,A15,$C$2) -> Recommended Heating Angle | D15: =IF(C15>0, "+"&C15,C15) -> +Recommended Heating Angle
A16: 12 | B16: Arc of Rotation | C16: =OFFSET('CNW-ADequations'!$B$154,A16,$C$2) -> Arc of Rotation
A17: 13 | B17: Mounting Angle | C17: =OFFSET('CNW-ADequations'!$B$154,A17,$C$2) -> Mounting Angle | D17: =IF(C17>0, "+"&C17,C17) -> +Mounting Angle
A18: 14 | B18: Min Centreline Dist | C18: =OFFSET('CNW-ADequations'!$B$154,A18,$C$2) -> Min Centreline Dist
A19: 15 | B19: Duct Diameter | C19: =OFFSET('CNW-ADequations'!$B$154,A19,$C$2) -> Duct Diameter
A20: 16 | B20: Exit Diameter | C20: =OFFSET('CNW-ADequations'!$B$154,A20,$C$2) -> Exit Diameter
B23: Input
B24: Distance Selected | C24: ='CNW-ADequations'!B15 -> 24
B25: Cooling | C25: ='CNW-AD'!J11 -> -6
B26: heating | C26: ='CNW-AD'!J13 -> 6 | D26: =IF(C26>0, "+"&C26,C26) -> +6
B28: SELECTION
B30: Available Sizes | C30: 1 | D30: 2 | E30: 3 | F30: 4 | G30: 5 | H30: 6 | I30: 0
C31: DN200 | D31: DN250 | E31: DN315 | F31: DN400 | G31: DN500 | H31: DN630 | I31: N/A | L31: DN630 | M31: DN500 | N31: DN400 | O31: DN315 | P31: DN250 | Q31: DN200
B32: Selection Data | C32: =IF('CNW-ADequations'!$B$16,"N/A",'CNW-AD Data'!C31) -> DN200 | D32: =IF('CNW-ADequations'!$B$16,D31,'CNW-AD Data'!D31) -> DN250 | E32: =IF('CNW-ADequations'!$B$16,E31,'CNW-AD Data'!E31) -> DN315 | F32: =IF('CNW-ADequations'!$B$16,F31,'CNW-AD Data'!F31) -> DN400 | G32: =IF('CNW-ADequations'!$B$16,G31,'CNW-AD Data'!G31) -> DN500 | H32: =IF('CNW-ADequations'!$B$16,H31,'CNW-AD Data'!H31) -> DN630 | I32: =IF('CNW-ADequations'!$B$16,I31,'CNW-AD Data'!I31) -> N/A
B34: Size | C34: =HLOOKUP(C2,C30:I32,3,0) -> N/A | D34: =RIGHT(C34,3) -> N/A
B35: Swirl | C35: =IF('CNW-ADequations'!B16,"S1","S0") -> S0
B39: Adjustment | D39: Adjustments
B40: 0 | D40: M | E40: E | F40: T
B41: 1 | C41: =C32 -> DN200 | D41: M | E41: E | F41: T | H41: M | I41: Manual
B42: 2 | C42: =D32 -> DN250 | D42: M | E42: E | F42: T | H42: E | I42: Electric Motor
B43: 3 | C43: =E32 -> DN315 | D43: M | E43: E | F43: T | H43: T | I43: Thermal Element
B44: 4 | C44: =F32 -> DN400 | D44: M | E44: E | F44: T | H44: <N/A> | I44: Not Available
B45: 5 | C45: =G32 -> DN500 | D45: M | E45: E | F45: T
B46: 6 | C46: =H32 -> DN630 | D46: M | E46: E | F46: T
B47: =C2 -> 0 | C47: =OFFSET(C40,$B$47,0) -> 0 | D47: =OFFSET(D40,$B$47,0) -> M | E47: =OFFSET(E40,$B$47,0) -> E | F47: =OFFSET(F40,$B$47,0) -> T
D48: =VLOOKUP(D47,$H$41:$I$43,2,0) -> Manual | E48: =VLOOKUP(E47,$H$41:$I$44,2,0) -> Electric Motor | F48: =VLOOKUP(F47,$H$41:$I$44,2,0) -> Thermal Element
B49: Adjustment Selection | C49: 1 | D49: =OFFSET(C47,0,C49) -> M | E49: =OFFSET(C47,1,C49) -> Manual
...

Sheet CNW-ADsizing
A1: DN200
A2: DN250
A3: DN315
A4: DN400
A5: DN500
A6: DN630
B9: DN200 | C9: DN250 | D9: DN315 | E9: DN400 | F9: DN500 | G9: DN630
A10: D3 | B10: 198 | C10: 248 | D10: 313 | E10: 398 | F10: 498 | G10: 628
A11: D1 | B11: 108 | C11: 136 | D11: 174 | E11: 230 | F11: 295 | G11: 377
A12: D2 | B12: 257 | C12: 302 | D12: 384 | E12: 467 | F12: 600 | G12: 733
A13: L | B13: 140 | C13: 164 | D13: 177 | E13: 194 | F13: 258 | G13: 240
A14: E | B14: 20 | C14: 24 | D14: 24 | E14: 24 | F14: 28 | G14: 32
A15: Le | B15: N/A | C15: 340 | D15: 340 | E15: 340 | F15: 415 | G15: 460

Sheet Selection Summary
B1: CNW-AD Performance Calculator Summary
A3: Project | B3: ='CNW-AD'!D5 -> <Project Name>
A4: Company | B4: <Name>
A5: Consultant | B5: <Name>
A7: Product | B7: SMARTEMP CNW-AD Adjustable Nozzle
A8: Size | B8: ='CNW-AD Data'!C61 -> please select a valid size on CNW-AD page
A10: Summary
A11: Selected Airflow | B11: ='CNW-AD Data'!C62
A12: Selected Throw Distance | B12: ='CNW-AD Data'!C63
A13: Centreline Velocity | B13: ='CNW-AD Data'!C64
A14: Tcentreline - Troom for Cooling | B14: ='CNW-AD Data'!C65
A15: Tcentreline - Troom for Heating | B15: ='CNW-AD Data'!C66
A17: Acoustic Performance
A18: Sound Power Level ¹ | B18: ='CNW-AD Data'!C68 -> SWL dB(A) | G18: ¹ Valid for manual adjustment
A20: Recommended Discharge Settings
A44: Configuration | B44: ='CNW-AD Data'!C76 -> Nozzle diffuser with neck size N/A mm
B45: ='CNW-AD Data'!C77 -> No swirl element
B46: ='CNW-AD Data'!C78 -> Manual direction adjustment
B47: ='CNW-AD Data'!C79 -> Powder coated to RAL9003 - Signal White
A48: Order Code | B48: =_order_code -> please select a valid size in row 41
