Workbook
Name _DN200size: 'CNW-ADsizing'!$B$10:$B$15
Name _DN250size: 'CNW-ADsizing'!$C$10:$C$15
Name _DN315size: 'CNW-ADsizing'!$D$10:$D$15
Name _DN400size: 'CNW-ADsizing'!$E$10:$E$15
Name _DN500size: 'CNW-ADsizing'!$F$10:$F$15
Name _DN630size: 'CNW-ADsizing'!$G$10:$G$15
Name _order_code: 'CNW-AD Data'!$C$58
Name _sizes: 'CNW-ADsizing'!$A$1:$A$6

Sheet CNW-AD
C2: SMARTEMP PRODUCT SELECTION CALCULATOR
C3: Circular Nozzle [CNW-AD]
C5: Project: | D5: <Project Name>
C7: Inputs | I7: Detailed Selection | Q7: v 4.2 [03/2025]
C9: Airflow Rate | D9: 200 | E9: [L/s] | F9: [m3/h] | I9: Supply Temperature and Deflection
D10: ="= " &ROUND('CNW-ADequations'!B7,0) -> = 720 | E10: ='CNW-ADequations'!D7 -> [m³/h]
C11: Maximum Total Pressure | D11: 60 | E11: Pa (default 60 Pa) | I11: ΔT (cooling) | J11: -6 | K11: K (-8 K to 0 K recommended)
C13: Diffuser Height | D13: 5 | E13: m | I13: ΔT (heating) | J13: 6 | K13: K (0 K to + 6 K recommended)
K14: use 0 K for isothermal applications
C15: Horizontal Throw Distance | D15: 24 | E15: m | I15: Jet Velocity
I17: Throw to 0.4 m/s terminal velocity (default)
I18: Throw to 0.2 m/s terminal velocity for sensitive applications
I19: e.g. towards projector screens
C21: Related Products | I21: Include Swirl Element [Type S1] (for reduced throw and velocity)
C22: Smartemp CSW-AD: | D22: wall mounted, high-induction swirl with adjustable throw settings
C23: Smartemp PMW-AD: | D23: wall mounted, high-induction perforated face solution
C24: Smartemp LMW-AD: | D24: wall-mounted, high-induction linear slot solution
C25: Smartemp JSC-AD: | D25: a vertical discharge solution suitable for ultra-high ceilings
D28: SMARTEMP CNW-AD | G28: ='CNW-ADequations'!C154 -> DN200 [S0] | H28: ='CNW-ADequations'!D154 -> DN250 [S0] | I28: ='CNW-ADequations'!E154 -> DN315 [S0] | J28: ='CNW-ADequations'!F154 -> DN400 [S0] | K28: ='CNW-ADequations'!G154 -> DN500 [S0] | L28: ='CNW-ADequations'!H154 -> DN630 [S0] | M28: Sizes DN100, DN125, DN160 available on request
C29: Airflow | D29: Selected Airflow Rate | F29: ='CNW-ADequations'!C3 -> [L/s] | G29: ='CNW-ADequations'!C155 -> 200 | H29: ='CNW-ADequations'!D155 -> 200 | I29: ='CNW-ADequations'!E155 -> 200 | J29: ='CNW-ADequations'!F155 -> 200 | K29: ='CNW-ADequations'!G155 -> 200 | L29: ='CNW-ADequations'!H155 -> 200
C30: Pressure * | D30: Static Pressure @ Airflow | F30: [Pa] | G30: ='CNW-ADequations'!C156 -> 279.3 | H30: ='CNW-ADequations'!D156 -> 106.4 | I30: ='CNW-ADequations'!E156 -> 39.6 | J30: ='CNW-ADequations'!F156 -> 12.7 | K30: ='CNW-ADequations'!G156 -> 4.4 | L30: ='CNW-ADequations'!H156 -> < 3 | M30: Key: | N30: Suitable | O30: Not Suitable | P30: Warning/Warning
D31: Total Pressure @ Airflow | F31: [Pa] | G31: ='CNW-ADequations'!C157 -> 304.1 | H31: ='CNW-ADequations'!D157 -> 116.5 | I31: ='CNW-ADequations'!E157 -> 43.7 | J31: ='CNW-ADequations'!F157 -> 14.2 | K31: ='CNW-ADequations'!G157 -> 5.1 | L31: ='CNW-ADequations'!H157 -> < 3
D32: Max Selected Pressure | F32: [Pa] | G32: ='CNW-ADequations'!C158 -> 60 | H32: ='CNW-ADequations'!D158 -> 60 | I32: ='CNW-ADequations'!E158 -> 60 | J32: ='CNW-ADequations'!F158 -> 60 | K32: ='CNW-ADequations'!G158 -> 60 | L32: ='CNW-ADequations'!H158 -> 60
C33: Acoustics * | D33: Sound Power Level | F33: [dB(A)] | G33: ='CNW-ADequations'!C159 -> 51.5 | H33: ='CNW-ADequations'!D159 -> 34.1 | I33: ='CNW-ADequations'!E159 -> 16.4 | J33: ='CNW-ADequations'!F159 -> < 4 | K33: ='CNW-ADequations'!G159 -> < 4 | L33: ='CNW-ADequations'!H159 -> < 4
C34: Throw & Velocity | D34: Isothermal Throw Distance | F34: [m] | G34: ='CNW-ADequations'!C160 -> 38.7 | H34: ='CNW-ADequations'!D160 -> 31 | I34: ='CNW-ADequations'!E160 -> 24 | J34: ='CNW-ADequations'!F160 -> 18.1 | K34: ='CNW-ADequations'!G160 -> 14.2 | L34: ='CNW-ADequations'!H160 -> 11.1
D35: ='CNW-ADequations'!B142 -> Jet Velocity at 24m | F35: [m/s] | G35: ='CNW-ADequations'!C161 -> 0.63 | H35: ='CNW-ADequations'!D161 -> 0.51 | I35: ='CNW-ADequations'!E161 -> 0.39 | J35: ='CNW-ADequations'!F161 -> 0.3 | K35: ='CNW-ADequations'!G161 -> 0.23 | L35: ='CNW-ADequations'!H161 -> 0.18
C36: Jet Temperature | D36: ='CNW-ADequations'!B162 -> Jet ΔT at 24 m (cooling) | F36: [K] | G36: ='CNW-ADequations'!C162 -> -0.1 | H36: ='CNW-ADequations'!D162 -> -0.1 | I36: ='CNW-ADequations'!E162 -> -0.1 | J36: ='CNW-ADequations'!F162 -> -0.2 | K36: ='CNW-ADequations'!G162 -> -0.2 | L36: ='CNW-ADequations'!H162 -> -0.3
D37: ='CNW-ADequations'!B163 -> Jet ΔT at floor level (heating) | F37: [K] | G37: ='CNW-ADequations'!C163 -> 0.1 | H37: ='CNW-ADequations'!D163 -> 0.2 | I37: ='CNW-ADequations'!E163 -> 0.3 | J37: ='CNW-ADequations'!F163 -> 0.5 | K37: ='CNW-ADequations'!G163 -> 0.8 | L37: ='CNW-ADequations'!H163 -> 1.3
C38: Discharge & Installation Angle | D38: Recommended Discharge Angle (cool) | F38: [°] | G38: ='CNW-ADequations'!C164 -> -5 | H38: ='CNW-ADequations'!D164 -> 1 | I38: ='CNW-ADequations'!E164 -> 16 | J38: ='CNW-ADequations'!F164 -> 44 | K38: ='CNW-ADequations'!G164 -> 66 | L38: ='CNW-ADequations'!H164 -> 78
D39: Recommended Discharge Angle (heat) | F39: [°] | G39: ='CNW-ADequations'!C165 -> -15 | H39: ='CNW-ADequations'!D165 -> -18 | I39: ='CNW-ADequations'!E165 -> -24 | J39: ='CNW-ADequations'!F165 -> -33 | K39: ='CNW-ADequations'!G165 -> -43 | L39: ='CNW-ADequations'!H165 -> -62
D40: Total Arc of Rotation (θ) | F40: [°] | G40: ='CNW-ADequations'!C166 -> 9 | H40: ='CNW-ADequations'!D166 -> 20 | I40: ='CNW-ADequations'!E166 -> 40 | J40: ='CNW-ADequations'!F166 -> 76 | K40: ='CNW-ADequations'!G166 -> 109 | L40: ='CNW-ADequations'!H166 -> 140 | M40: Note: θ < 60° (Manual & Electric motor) ; θ < 40° (Thermal Element )
D41: Recommended Mounting Angle (φ) | F41: [°] | G41: ='CNW-ADequations'!C167 -> 0 | H41: ='CNW-ADequations'!D167 -> 0 | I41: ='CNW-ADequations'!E167 -> 0 | J41: ='CNW-ADequations'!F167 -> -3 | K41: ='CNW-ADequations'!G167 -> -13 | L41: ='CNW-ADequations'!H167 -> -32 | M41: * Pressure and Sound Power Level valid for manual diffuser
D42: Min Centreline Distance ** | F42: [m] | G42: ='CNW-ADequations'!C168 -> 0.32 | H42: ='CNW-ADequations'!D168 -> 0.41 | I42: ='CNW-ADequations'!E168 -> 0.52 | J42: ='CNW-ADequations'!F168 -> 0.69 | K42: ='CNW-ADequations'!G168 -> 0.89 | L42: ='CNW-ADequations'!H168 -> 1.13 | M42: ** Refer to 'Notes' worksheet for example
D44: Product Code
D45: Select Size | G45: ='CNW-AD Data'!C32 -> DN200 | H45: ='CNW-AD Data'!D32 -> DN250 | I45: ='CNW-AD Data'!E32 -> DN315 | J45: ='CNW-AD Data'!F32 -> DN400 | K45: ='CNW-AD Data'!G32 -> DN500 | L45: ='CNW-AD Data'!H32 -> DN630 | M45: Sizes DN100, DN125, DN160 available on request
D46: Swirl Element | I46: ='CNW-AD Data'!C77 -> No swirl element | J46: (see cell F17)
D47: Adjustment Type | G47: ='CNW-AD Data'!D48 -> Manual | I47: ='CNW-AD Data'!E48 -> Electric Motor | K47: ='CNW-AD Data'!F48 -> Thermal Element | M47: Manual & Electric Motor θ < 60° ; Thermal Element θ < 40° (Row 34)
D48: Face Colour (Powder Coated) | G48: RAL9003* | I48: RAL9005 | K48: custom | M48: ='CNW-AD Data'!E56 -> RAL9003 - Signal White
D49: Order Code (select to copy) | G49: =_order_code -> please select a valid size in row 41 | M49: go to 'CNW-AD Selection Summary' for a printable summary of the selection
Q60: * note: not to scale
H64: click to see product on smartair.asia | P64: Copyright © 2021 SMARTAIR DIFFUSION

Sheet CNW-ADequations
A1: Units
A3: Unit Selection | B3: 1 | C3: =IF(B3=1,"[L/s]","[m³/h]") -> [L/s] | D3: =IF(B3=1,"L/s","m³/h") -> L/s
A4: Unit Multiplier | B4: =IF(B3=1,1,3.6) -> 1
A6: Airflow Rate | B6: ='CNW-AD'!D9 -> 200
A7: Airflow convert | B7: =ROUND(IF(B3=1,B6*3.6,B6/3.6),1) -> 720 | C7: alternate | D7: =IF(B3=2,"[L/s]","[m³/h]") -> [m³/h]
A10: Input Values
A12: Airflow Rate | B12: =B6/B4 -> 200 | I12: 630 | J12: 377 | K12: =J12^2 -> 142129 | L12: =K12/K13 -> 1.6331974
A13: Pressure | B13: ='CNW-AD'!D11 -> 60 | I13: 500 | J13: 295 | K13: =J13^2 -> 87025 | L13: =K13/K14 -> 1.6308727
A14: Height | B14: ='CNW-AD'!D13 -> 5 | I14: 400 | J14: 231 | K14: =J14^2 -> 53361 | L14: =K14/K15 -> 1.7424
A15: Distance | B15: ='CNW-AD'!D15 -> 24 | C15: =B15&" m" -> 24 m | I15: 315 | J15: 175 | K15: =J15^2 -> 30625 | L15: =K15/K16 -> 1.6803841
A16: Swirl | B16: FALSE | C16: =IF(B16,1,0) -> 0 | I16: 250 | J16: 135 | K16: =J16^2 -> 18225 | L16: =K16/K17 -> 1.5625
I17: 200 | J17: 108 | K17: =J17^2 -> 11664
A18: terminal velocity selection | B18: 1 | D18: 1 | E18: 0.4
A19: terminal velocity | B19: =VLOOKUP(B18,D18:E19,2,0) -> 0.4 | C19: m/s | D19: 2 | E19: 0.2
A21: dT cool | B21: ='CNW-AD'!J11 -> -6
A22: dt heat | B22: =ABS('CNW-AD'!J13) -> 6
A24: Heating to hit above floor level | B24: 1.5 | C24: m
A25: Input Diagonal Distance | B25: =SQRT(B15^2+B14^2) -> 24.515301
A27: Jet Decay Constant 'k' | B27: 10.48
A29: Centreline distance mulptiplier | B29: =IF(B16,4,3) -> 3 | C29: x exit diameter | Y29: Deflection constant x 2 for swirl
A31: 200 | B31: Type 0 | E31: 250 | F31: Type 0 | I31: 315 | J31: Type 0 | M31: 400 | N31: Type 0 | Q31: 500 | R31: Type 0 | U31: 630 | V31: Type 0 | Y31: 250 | Z31: Type 1 | AC31: 315 | AD31: Type 1 | AG31: 400 | AH31: Type 1 | AK31: 500 | AL31: Type 1 | AO31: 630 | AP31: Type 1 | AS31: 160 | AT31: TEST
A32: Diameter | B32: =B33*1000 -> 108 | E32: Diameter | F32: 135 | I32: Diameter | J32: =J33*1000 -> 174 | M32: Diameter | N32: 231 | Q32: Diameter | R32: 295 | U32: Diameter | V32: 377 | W32: mm | Y32: Diameter | Z32: 135 | AC32: Diameter | AD32: =AD33*1000 -> 174 | AG32: Diameter | AH32: 231 | AK32: Diameter | AL32: =R32 -> 295 | AO32: Diameter | AP32: =V32 -> 377 | AS32: Diameter | AT32: 86.4
A33: Diameter | B33: 0.108 | C33: m | E33: Diameter | F33: =F32/1000 -> 0.135 | G33: m | I33: Diameter | J33: 0.174 | K33: m | M33: Diameter | N33: =N32/1000 -> 0.231 | O33: m | Q33: Diameter | R33: =R32/1000 -> 0.295 | S33: m | U33: Diameter | V33: =V32/1000 -> 0.377 | W33: m | Y33: Diameter | Z33: =Z32/1000 -> 0.135 | AA33: m | AC33: Diameter | AD33: 0.174 | AE33: m | AG33: Diameter | AH33: 0.23 | AI33: m | AK33: Diameter | AL33: =AL32/1000 -> 0.295 | AO33: Diameter | AP33: =AP32/1000 -> 0.377 | AQ33: m | AS33: Diameter | AT33: 0.0864 | AU33: m
A34: Area | B34: =PI()/4*B33^2 -> 0.0091608842 | E34: Area | F34: =PI()/4*F33^2 -> 0.014313882 | I34: Area | J34: =PI()/4*J33^2 -> 0.023778715 | M34: Area | N34: =PI()/4*N33^2 -> 0.041909631 | Q34: Area | R34: =PI()/4*R33^2 -> 0.068349275 | U34: Area | V34: =PI()/4*V33^2 -> 0.11162786 | Y34: Area | Z34: =PI()/4*Z33^2 -> 0.014313882 | AC34: Area | AD34: =PI()/4*AD33^2 -> 0.023778715 | AG34: Area | AH34: =PI()/4*AH33^2 -> 0.041547563 | AK34: Area | AL34: =PI()/4*AL33^2 -> 0.068349275 | AO34: Area | AP34: =PI()/4*AP33^2 -> 0.11162786 | AS34: Area | AT34: =PI()/4*AT33^2 -> 0.0058629659
A35: Velocity | B35: =$B$12/(1000*B34) -> 21.831954 | E35: Velocity | F35: =$B$12/(1000*F34) -> 13.97245 | I35: Velocity | J35: =$B$12/(1000*J34) -> 8.4108835 | M35: Velocity | N35: =$B$12/(1000*N34) -> 4.7721727 | Q35: Velocity | R35: =$B$12/(1000*R34) -> 2.9261466 | U35: Velocity | V35: =$B$12/(1000*V34) -> 1.7916675 | Y35: Velocity | Z35: =$B$12/(1000*Z34) -> 13.97245 | AC35: Velocity | AD35: =$B$12/(1000*AD34) -> 8.4108835 | AG35: Velocity | AH35: =$B$12/(1000*AH34) -> 4.8137601 | AK35: Velocity | AL35: =$B$12/(1000*AL34) -> 2.9261466 | AO35: Velocity | AP35: =$B$12/(1000*AP34) -> 1.7916675 | AS35: Velocity | AT35: =BV24/(1000*AT34) -> 0
A36: data.TotalPressure | B36: 50 | E36: data.TotalPressure | F36: 50 | I36: data.TotalPressure | J36: 50 | M36: data.TotalPressure | N36: 50 | Q36: data.TotalPressure | R36: 50 | U36: data.TotalPressure | V36: 50
A37: data.Flowrate | B37: 81.1 | E37: data.Flowrate | F37: 131 | I37: data.Flowrate | J37: 214 | M37: data.Flowrate | N37: 375 | Q37: data.Flowrate | R37: 628 | U37: data.Flowrate | V37: 893
A38: Total Pressure Loss (Pa) | B38: =B36*($B$12/B37)^2 -> 304.0803 | E38: Total Pressure Loss (Pa) | F38: =F36*($B$12/F37)^2 -> 116.54332 | I38: Total Pressure Loss (Pa) | J38: =J36*($B$12/J37)^2 -> 43.671936 | M38: Total Pressure Loss (Pa) | N38: =N36*($B$12/N37)^2 -> 14.222222 | Q38: Total Pressure Loss (Pa) | R38: =R36*($B$12/R37)^2 -> 5.0711996 | U38: Total Pressure Loss (Pa) | V38: =V36*($B$12/V37)^2 -> 2.5079974 | Y38: Total Pressure Loss (Pa) | Z38: =F38*1.543 -> 179.82635 | AC38: Total Pressure Loss (Pa) | AD38: =J38*1.543 -> 67.385798 | AG38: Total Pressure Loss (Pa) | AH38: =N38*1.543 -> 21.944889 | AK38: Total Pressure Loss (Pa) | AL38: =R38*1.543 -> 7.824861 | AO38: Total Pressure Loss (Pa) | AP38: =V38*1.543 -> 3.86984 | AS38: Total Pressure Loss (Pa) | AT38: =0.5*1.225*AT35^2 -> 0
A39: Duct Area | B39: =PI()*(A31/2000)^2 -> 0.031415927 | E39: Duct Area | F39: =PI()*(E31/2000)^2 -> 0.049087385 | I39: Duct Area | J39: =PI()*(I31/2000)^2 -> 0.077931133 | M39: Duct Area | N39: =PI()*(M31/2000)^2 -> 0.12566371 | Q39: Duct Area | R39: =PI()*(Q31/2000)^2 -> 0.19634954 | U39: Duct Area | V39: =PI()*(U31/2000)^2 -> 0.31172453 | Y39: Duct Area | Z39: =PI()*(Y31/2000)^2 -> 0.049087385 | AC39: Duct Area | AD39: =PI()*(AC31/2000)^2 -> 0.077931133 | AG39: Duct Area | AH39: =PI()*(AG31/2000)^2 -> 0.12566371 | AK39: Duct Area | AL39: =PI()*(AK31/2000)^2 -> 0.19634954 | AO39: Duct Area | AP39: =PI()*(AO31/2000)^2 -> 0.31172453
A40: Duct Velocity | B40: =$B$12/1000/B39 -> 6.3661977 | E40: Duct Velocity | F40: =$B$12/1000/F39 -> 4.0743665 | I40: Duct Velocity | J40: =$B$12/1000/J39 -> 2.5663684 | M40: Duct Velocity | N40: =$B$12/1000/N39 -> 1.5915494 | Q40: Duct Velocity | R40: =$B$12/1000/R39 -> 1.0185916 | U40: Duct Velocity | V40: =$B$12/1000/V39 -> 0.64159211 | Y40: Duct Velocity | Z40: =$B$12/1000/Z39 -> 4.0743665 | AC40: Duct Velocity | AD40: =$B$12/1000/AD39 -> 2.5663684 | AG40: Duct Velocity | AH40: =$B$12/1000/AH39 -> 1.5915494 | AK40: Duct Velocity | AL40: =$B$12/1000/AL39 -> 1.0185916 | AO40: Duct Velocity | AP40: =$B$12/1000/AP39 -> 0.64159211
A41: Duct Dyn Pressure | B41: =0.5*1.225*B40^2 -> 24.82369 | E41: Duct Dyn Pressure | F41: =0.5*1.225*F40^2 -> 10.167783 | I41: Duct Dyn Pressure | J41: =0.5*1.225*J40^2 -> 4.0340763 | M41: Duct Dyn Pressure | N41: =0.5*1.225*N40^2 -> 1.5514806 | Q41: Duct Dyn Pressure | R41: =0.5*1.225*R40^2 -> 0.63548646 | U41: Duct Dyn Pressure | V41: =0.5*1.225*V40^2 -> 0.25212977 | Y41: Duct Dyn Pressure | Z41: =0.5*1.225*Z40^2 -> 10.167783 | AC41: Duct Dyn Pressure | AD41: =0.5*1.225*AD40^2 -> 4.0340763 | AG41: Duct Dyn Pressure | AH41: =0.5*1.225*AH40^2 -> 1.5514806 | AK41: Duct Dyn Pressure | AL41: =0.5*1.225*AL40^2 -> 0.63548646 | AO41: Duct Dyn Pressure | AP41: =0.5*1.225*AP40^2 -> 0.25212977 | AS41: Duct Dyn Pressure | AT41: =0.5*1.225*(AT35*(AT32/AS31)^2)^2 -> 0
A42: Duct Static Pressure | B42: =B38-B41 -> 279.25661 | E42: Duct Static Pressure | F42: =F38-F41 -> 106.37554 | I42: Duct Static Pressure | J42: =J38-J41 -> 39.63786 | M42: Duct Static Pressure | N42: =N38-N41 -> 12.670742 | Q42: Duct Static Pressure | R42: =R38-R41 -> 4.4357132 | U42: Duct Static Pressure | V42: =V38-V41 -> 2.2558676 | Y42: Duct Static Pressure | Z42: =Z38-Z41 -> 169.65857 | AC42: Duct Static Pressure | AD42: =AD38-AD41 -> 63.351722 | AG42: Duct Static Pressure | AH42: =AH38-AH41 -> 20.393408 | AK42: Duct Static Pressure | AL42: =AL38-AL41 -> 7.1893746 | AO42: Duct Static Pressure | AP42: =AP38-AP41 -> 3.6177102 | AS42: Duct Static Pressure | AT42: =AT38-AT41 -> 0
A43: Direct Throw Distance | B43: =(B35*$B$27*SQRT(B34)/(SQRT(2)*$B$19)) -> 38.712177 | E43: Direct Throw Distance | F43: =(F35*$B$27*SQRT(F34)/(SQRT(2)*$B$19)) -> 30.969741 | I43: Direct Throw Distance | J43: =(J35*$B$27*SQRT(J34)/(SQRT(2)*$B$19)) -> 24.028248 | M43: Direct Throw Distance | N43: =(N35*$B$27*SQRT(N34)/(SQRT(2)*$B$19)) -> 18.0992 | Q43: Direct Throw Distance | R43: =(R35*$B$27*SQRT(R34)/(SQRT(2)*$B$19)) -> 14.172594 | U43: Direct Throw Distance | V43: =(V35*$B$27*SQRT(V34)/(SQRT(2)*$B$19)) -> 11.08996 | Y43: Direct Throw Distance | Z43: =(Z35*$B$27*SQRT(Z34)/(SQRT(2)*$B$19))/1.85 -> 16.740401 | AC43: Direct Throw Distance | AD43: =(AD35*$B$27*SQRT(AD34)/(SQRT(2)*$B$19))/1.85 -> 12.988242 | AG43: Direct Throw Distance | AH43: =(AH35*$B$27*SQRT(AH34)/(SQRT(2)*$B$19))/1.85 -> 9.8258874 | AK43: Direct Throw Distance | AL43: =(AL35*$B$27*SQRT(AL34)/(SQRT(2)*$B$19))/1.85 -> 7.6608614 | AO43: Direct Throw Distance | AP43: =(AP35*$B$27*SQRT(AP34)/(SQRT(2)*$B$19))/1.85 -> 5.9945732 | AS43: Direct Throw Distance | AT43: =(AT35*$B$27*SQRT(AT34)/(SQRT(2)*$B$19))/1.85 -> 0
A44: (Isothermal Direct) Throw (m) | B44: =B43 -> 38.712177 | C44: =IFERROR(SQRT(B43^2-$B$14^2),B43) -> 38.387923 | E44: (Isothermal Direct) Throw (m) | F44: =F43 -> 30.969741 | G44: =IFERROR(SQRT(F43^2-$B$14^2),F43) -> 30.563457 | I44: (Isothermal Direct) Throw (m) | J44: =J43 -> 24.028248 | K44: =IFERROR(SQRT(J43^2-$B$14^2),J43) -> 23.50227 | M44: (Isothermal Direct) Throw (m) | N44: =N43 -> 18.0992 | O44: =IFERROR(SQRT(N43^2-$B$14^2),N43) -> 17.394856 | Q44: (Isothermal Direct) Throw (m) | R44: =R43 -> 14.172594 | S44: =IFERROR(SQRT(R43^2-$B$14^2),R43) -> 13.261312 | U44: (Isothermal Direct) Throw (m) | V44: =V43 -> 11.08996 | W44: =IFERROR(SQRT(V43^2-$B$14^2),V43) -> 9.8988496 | Y44: (Isothermal Direct) Throw (m) | Z44: =Z43 -> 16.740401 | AA44: =IFERROR(SQRT(Z43^2-$B$14^2),Z43) -> 15.976264 | AC44: (Isothermal Direct) Throw (m) | AD44: =AD43 -> 12.988242 | AE44: =IFERROR(SQRT(AD43^2-$B$14^2),AD43) -> 11.987261 | AG44: (Isothermal Direct) Throw (m) | AH44: =AH43 -> 9.8258874 | AI44: =IFERROR(SQRT(AH43^2-$B$14^2),AH43) -> 8.4586088 | AK44: (Isothermal Direct) Throw (m) | AL44: =AL43 -> 7.6608614 | AM44: =IFERROR(SQRT(AL43^2-$B$14^2),AL43) -> 5.8042051 | AO44: (Isothermal Direct) Throw (m) | AP44: =AP43 -> 5.9945732 | AQ44: =IFERROR(SQRT(AP43^2-$B$14^2),AP43) -> 3.3067973 | AS44: (Isothermal Direct) Throw (m) | AT44: =AT43 -> 0 | AU44: =IFERROR(SQRT(AT43^2-$B$14^2),AT43) -> 0
A45: Jet Velocity at Distance | B45: =(B35*$B$27*SQRT(B34))/(SQRT(2)*$B$25) -> 0.63164105 | E45: Jet Velocity at Distance | F45: =(F35*$B$27*SQRT(F34))/(SQRT(2)*$B$25) -> 0.50531284 | I45: Jet Velocity at Distance | J45: =(J35*$B$27*SQRT(J34))/(SQRT(2)*$B$25) -> 0.39205307 | M45: Jet Velocity at Distance | N45: =(N35*$B$27*SQRT(N34))/(SQRT(2)*$B$25) -> 0.2953127 | Q45: Jet Velocity at Distance | R45: =(R35*$B$27*SQRT(R34))/(SQRT(2)*$B$25) -> 0.23124486 | U45: Jet Velocity at Distance | V45: =(V35*$B$27*SQRT(V34))/(SQRT(2)*$B$25) -> 0.18094757 | Y45: Jet Velocity at Distance | Z45: =(Z35*$B$27*SQRT(Z34))/(SQRT(2)*$B$15)/2 -> 0.25808118 | AC45: Jet Velocity at Distance | AD45: =(AD35*$B$27*SQRT(AD34))/(SQRT(2)*$B$15)/2 -> 0.2002354 | AG45: Jet Velocity at Distance | AH45: =(AH35*$B$27*SQRT(AH34))/(SQRT(2)*$B$15)/2 -> 0.15148243 | AK45: Jet Velocity at Distance | AL45: =(AL35*$B$27*SQRT(AL34))/(SQRT(2)*$B$15)/2 -> 0.11810495 | AO45: Jet Velocity at Distance | AP45: =(AP35*$B$27*SQRT(AP34))/(SQRT(2)*$B$15)/2 -> 0.092416337 | AS45: Jet Velocity at Distance | AT45: =(AT35*$B$27*SQRT(AT34))/(SQRT(2)*$B$15)/2 -> 0
A47: SWL A | B47: 20.2 | E47: SWL A | F47: 20.2 | I47: SWL A | J47: 20.2 | M47: SWL A | N47: 20.2 | Q47: SWL A | R47: 20.2 | U47: SWL A | V47: 20.2 | Y47: SWL A | Z47: 14.2 | AC47: SWL A | AD47: 14.2 | AG47: SWL A | AH47: 14.2 | AK47: SWL A | AL47: 14.2 | AO47: SWL A | AP47: 14.2
A48: SWL B | B48: -64 | E48: SWL B | F48: -62 | I48: SWL B | J48: -59.9 | M48: SWL B | N48: -57 | Q48: SWL B | R48: -54.8 | U48: SWL B | V48: -52.7 | Y48: SWL B | Z48: -13.4 | AC48: SWL B | AD48: -13.4 | AG48: SWL B | AH48: -13.4 | AK48: SWL B | AL48: -13.4 | AO48: SWL B | AP48: -13.4
A49: SWL (dB(A)) | B49: =B47*LN(B38)+B48 -> 51.489295 | E49: SWL (dB(A)) | F49: =F47*LN(F38)+F48 -> 34.116914 | I49: SWL (dB(A)) | J49: =J47*LN(J38)+J48 -> 16.389455 | M49: SWL (dB(A)) | N49: =N47*LN(N38)+N48 -> -3.3729251 | Q49: SWL (dB(A)) | R49: =R47*LN(R38)+R48 -> -22.003736 | U49: SWL (dB(A)) | V49: =V47*LN(V38)+V48 -> -34.126412 | Y49: SWL (dB(A)) | Z49: =Z47*LN(Z38)+Z48+20*LOG(Z32/200)+5 -> 61.912357 | AA49: + 5 dbA buffer | AC49: SWL (dB(A)) | AD49: =AD47*LN(AD38)+AD48+20*LOG(AD32/200)+5 -> 50.178552 | AE49: + 5 dbA buffer | AG49: SWL (dB(A)) | AH49: =AH47*LN(AH38)+AH48+20*LOG(AH32/200)+5 -> 36.708826 | AI49: + 5 dbA buffer | AK49: SWL (dB(A)) | AL49: =AL47*LN(AL38)+AL48+20*LOG(AL32/200)+5 -> 24.189585 | AM49: + 5 dbA buffer | AO49: SWL (dB(A)) | AP49: =AP47*LN(AP38)+AP48+20*LOG(AP32/200)+5 -> 16.321854 | AQ49: + 5 dbA buffer | AS49: SWL (dB(A)) | AT49: =14.21*LN(AT38)-13.365+20*LOG(AT32/200)+5 -> #NUM! | AU49: + 5 dbA buffer
A51: Cooling Angle | E51: Cooling Angle | I51: Cooling Angle | M51: Cooling Angle | Q51: Cooling Angle | U51: Cooling Angle | Y51: Cooling Angle | AC51: Cooling Angle | AG51: Cooling Angle | AK51: Cooling Angle | AO51: Cooling Angle | AS51: Cooling Angle
A52: dT at Distance (cool) | B52: =B33*$B$21/(0.3*$B$25) -> -0.088108238 | E52: dT at Distance (cool) | F52: =F33*$B$21/(0.3*$B$25) -> -0.1101353 | I52: dT at Distance (cool) | J52: =J33*$B$21/(0.3*$B$25) -> -0.14195216 | M52: dT at Distance (cool) | N52: =N33*$B$21/(0.3*$B$25) -> -0.18845373 | Q52: dT at Distance (cool) | R52: =R33*$B$21/(0.3*$B$25) -> -0.24066602 | U52: dT at Distance (cool) | V52: =V33*$B$21/(0.3*$B$25) -> -0.30756302 | Y52: dT at Distance (cool) | Z52: =Z33*$B$21/(0.3*$B$25)/2 -> -0.055067649 | AC52: dT at Distance (cool) | AD52: =AD33*$B$21/(0.3*$B$25)/2 -> -0.07097608 | AG52: dT at Distance (cool) | AH52: =AH33*$B$21/(0.3*$B$25)/2 -> -0.093818957 | AK52: dT at Distance (cool) | AL52: =AL33*$B$21/(0.3*$B$25)/2 -> -0.12033301 | AO52: dT at Distance (cool) | AP52: =AP33*$B$21/(0.3*$B$25)/2 -> -0.15378151 | AS52: dT at Distance | AT52: =AT33*$B$21/(0.3*$B$15)/2 -> -0.036
A53: deflection constant k | B53: =0.02*$B$21/(13.6*B35^2*SQRT(B34)) -> -0.00019341424 | E53: deflection constant k | F53: =0.02*$B$21/(13.6*F35^2*SQRT(F34)) -> -0.00037776218 | I53: deflection constant k | J53: =0.02*$B$21/(13.6*J35^2*SQRT(J34)) -> -0.00080884427 | M53: deflection constant k | N53: =0.02*$B$21/(13.6*N35^2*SQRT(N34)) -> -0.001892575 | Q53: deflection constant k | R53: =0.02*$B$21/(13.6*R35^2*SQRT(R34)) -> -0.0039416968 | U53: deflection constant k | V53: =0.02*$B$21/(13.6*V35^2*SQRT(V34)) -> -0.0082269947 | Y53: deflection constant k | Z53: =0.02*$B$21/(13.6*Z35^2*SQRT(Z34))*2 -> -0.00075552436 | AC53: deflection constant k | AD53: =0.02*$B$21/(13.6*AD35^2*SQRT(AD34))*2 -> -0.0016176885 | AG53: deflection constant k | AH53: =0.02*$B$21/(13.6*AH35^2*SQRT(AH34))*2 -> -0.0037362048 | AK53: deflection constant k | AL53: =0.02*$B$21/(13.6*AL35^2*SQRT(AL34))*2 -> -0.0078833936 | AO53: deflection constant k | AP53: =0.02*$B$21/(13.6*AP35^2*SQRT(AP34))*2 -> -0.016453989
A54: Deflection (cool) | B54: =B53*$B$25^3 -> -2.8497066 | E54: Deflection (cool) | F54: =F53*$B$25^3 -> -5.5658331 | I54: Deflection (cool) | J54: =J53*$B$25^3 -> -11.917266 | M54: Deflection (cool) | N54: =N53*$B$25^3 -> -27.884625 | Q54: Deflection (cool) | R54: =R53*$B$25^3 -> -58.075763 | U54: Deflection (cool) | V54: =V53*$B$25^3 -> -121.21404 | Y54: Deflection (cool) | Z54: =Z53*$B$25^3 -> -11.131666 | AC54: Deflection (cool) | AD54: =AD53*$B$25^3 -> -23.834531 | AG54: Deflection (cool) | AH54: =AH53*$B$25^3 -> -55.048106 | AK54: Deflection (cool) | AL54: =AL53*$B$25^3 -> -116.15153 | AO54: Deflection (cool) | AP54: =AP53*$B$25^3 -> -242.42808 | AS54: Deflection (cool) | AT54: =2*(0.02*$B$21*AT34/(13.6*AT35^2)*($B$15/SQRT(AT34))^3) -> #DIV/0!
A55: Discharge Angle | B55: =DEGREES(ATAN((-1*$B$14-B54)/$B$15)) -> -5.1197772 | E55: Discharge Angle | F55: =DEGREES(ATAN((-1*$B$14-F54)/$B$15)) -> 1.3505769 | I55: Discharge Angle | J55: =DEGREES(ATAN((-1*$B$14-J54)/$B$15)) -> 16.078008 | M55: Discharge Angle | N55: =DEGREES(ATAN((-1*$B$14-N54)/$B$15)) -> 43.637204 | Q55: Discharge Angle | R55: =DEGREES(ATAN((-1*$B$14-R54)/$B$15)) -> 65.668288 | U55: Discharge Angle | V55: =DEGREES(ATAN((-1*$B$14-V54)/$B$15)) -> 78.331569 | Y55: Discharge Angle | Z55: =DEGREES(ATAN((-1*$B$14-Z54)/$B$15)) -> 14.3317 | AC55: Discharge Angle | AD55: =DEGREES(ATAN((-1*$B$14-AD54)/$B$15)) -> 38.123835 | AG55: Discharge Angle | AH55: =DEGREES(ATAN((-1*$B$14-AH54)/$B$15)) -> 64.380483 | AK55: Discharge Angle | AL55: =DEGREES(ATAN((-1*$B$14-AL54)/$B$15)) -> 77.815666 | AO55: Discharge Angle | AP55: =DEGREES(ATAN((-1*$B$14-AP54)/$B$15)) -> 84.227963 | AS55: Discharge Angle | AT55: =DEGREES(ATAN((-1*$B$14-AT54)/$B$15)) -> #DIV/0!
A57: Heating Angle | E57: Heating Angle | I57: Heating Angle | M57: Heating Angle | Q57: Heating Angle | U57: Heating Angle | Y57: Heating Angle | AC57: Heating Angle | AG57: Heating Angle | AK57: Heating Angle | AO57: Heating Angle | AS57: Heating Angle
A59: deflection constant k | B59: =0.02*$B$22/(13.6*B35^2*SQRT(B34)) -> 0.00019341424 | E59: deflection constant k | F59: =0.02*$B$22/(13.6*F35^2*SQRT(F34)) -> 0.00037776218 | I59: deflection constant k | J59: =0.02*$B$22/(13.6*J35^2*SQRT(J34)) -> 0.00080884427 | M59: deflection constant k | N59: =0.02*$B$22/(13.6*N35^2*SQRT(N34)) -> 0.001892575 | Q59: deflection constant k | R59: =0.02*$B$22/(13.6*R35^2*SQRT(R34)) -> 0.0039416968 | U59: deflection constant k | V59: =0.02*$B$22/(13.6*V35^2*SQRT(V34)) -> 0.0082269947 | Y59: deflection constant k | Z59: =0.02*$B$22/(13.6*Z35^2*SQRT(Z34))*2 -> 0.00075552436 | AC59: deflection constant k | AD59: =0.02*$B$22/(13.6*AD35^2*SQRT(AD34))*2 -> 0.0016176885 | AG59: deflection constant k | AH59: =0.02*$B$22/(13.6*AH35^2*SQRT(AH34))*2 -> 0.0037362048 | AK59: deflection constant k | AL59: =0.02*$B$22/(13.6*AL35^2*SQRT(AL34))*2 -> 0.0078833936 | AO59: deflection constant k | AP59: =0.02*$B$22/(13.6*AP35^2*SQRT(AP34))*2 -> 0.016453989 | AS59: deflection constant k | AT59: =0.02*$B$22/(13.6*AT35^2*SQRT(AT34))*2 -> #DIV/0!
A60: Y penetration | B60: =$B$24-$B$14 -> -3.5 | E60: Y penetration | F60: =$B$24-$B$14 -> -3.5 | I60: Y penetration | J60: =$B$24-$B$14 -> -3.5 | M60: Y penetration | N60: =$B$24-$B$14 -> -3.5 | Q60: Y penetration | R60: =$B$24-$B$14 -> -3.5 | U60: Y penetration | V60: =$B$24-$B$14 -> -3.5 | Y60: Y penetration | Z60: =$B$24-$B$14 -> -3.5 | AC60: Y penetration | AD60: =$B$24-$B$14 -> -3.5 | AG60: Y penetration | AH60: =$B$24-$B$14 -> -3.5 | AK60: Y penetration | AL60: =$B$24-$B$14 -> -3.5 | AO60: Y penetration | AP60: =$B$24-$B$14 -> -3.5 | AS60: Y penetration | AT60: =$B$24-$B$14 -> -3.5
A62: angle of depression case 1 | E62: angle of depression case 1 | I62: angle of depression case 1 | M62: angle of depression case 1 | Q62: angle of depression case 1 | U62: angle of depression case 1 | Y62: angle of depression case 1 | AC62: angle of depression case 1 | AG62: angle of depression case 1 | AK62: angle of depression case 1 | AO62: angle of depression case 1 | AS62: angle of depression case 1
A63: Angle of Depression | B63: =DEGREES(-1*ASIN((3*SQRT(3*B59)*B60/-2)^(2/3))) -> -14.592764 | C63: deg | E63: Angle of Depression | F63: =DEGREES(-1*ASIN((3*SQRT(3*F59)*F60/-2)^(2/3))) -> -18.356825 | G63: deg | I63: Angle of Depression | J63: =DEGREES(-1*ASIN((3*SQRT(3*J59)*J60/-2)^(2/3))) -> -23.948468 | K63: deg | M63: Angle of Depression | N63: =DEGREES(-1*ASIN((3*SQRT(3*N59)*N60/-2)^(2/3))) -> -32.6079 | O63: deg | Q63: Angle of Depression | R63: =DEGREES(-1*ASIN((3*SQRT(3*R59)*R60/-2)^(2/3))) -> -43.486919 | S63: deg | U63: Angle of Depression | V63: =DEGREES(-1*ASIN((3*SQRT(3*V59)*V60/-2)^(2/3))) -> -61.579958 | W63: deg | Y63: Angle of Depression | Z63: =DEGREES(-1*ASIN((3*SQRT(3*Z59)*Z60/-2)^(2/3))) -> -23.377776 | AA63: deg | AC63: Angle of Depression | AD63: =DEGREES(-1*ASIN((3*SQRT(3*AD59)*AD60/-2)^(2/3))) -> -30.758505 | AE63: deg | AG63: Angle of Depression | AH63: =DEGREES(-1*ASIN((3*SQRT(3*AH59)*AH60/-2)^(2/3))) -> -42.533082 | AI63: deg | AK63: Angle of Depression | AL63: =DEGREES(-1*ASIN((3*SQRT(3*AL59)*AL60/-2)^(2/3))) -> -60.119199 | AO63: Angle of Depression | AP63: =DEGREES(-1*ASIN((3*SQRT(3*AP59)*AP60/-2)^(2/3))) -> #NUM! | AQ63: deg | AS63: Angle of Depression | AT63: =DEGREES(-1*ASIN((3*SQRT(3*AT59)*AT60/-2)^(2/3))) -> #DIV/0! | AU63: deg
A64: Straight Path Length | B64: =IF($B$22=0,B43,SQRT(-1*SIN(RADIANS(B63))/(3*B59))) -> 20.837704 | C64: m | E64: Straight Path Length | F64: =IF($B$22=0,F43,SQRT(-1*SIN(RADIANS(F63))/(3*F59))) -> 16.670163 | G64: m | I64: Straight Path Length | J64: =IF($B$22=0,J43,SQRT(-1*SIN(RADIANS(J63))/(3*J59))) -> 12.933748 | K64: m | M64: Straight Path Length | N64: =IF($B$22=0,N43,SQRT(-1*SIN(RADIANS(N63))/(3*N59))) -> 9.7423033 | O64: m | Q64: Straight Path Length | R64: =IF($B$22=0,R43,SQRT(-1*SIN(RADIANS(R63))/(3*R59))) -> 7.6287189 | S64: m | U64: Straight Path Length | V64: =IF($B$22=0,V43,SQRT(-1*SIN(RADIANS(V63))/(3*V59))) -> 5.9694219 | W64: m | Y64: Straight Path Length | Z64: =IF($B$22=0,Z43,SQRT(-1*SIN(RADIANS(Z63))/(3*Z59))) -> 13.231118 | AA64: m | AC64: Straight Path Length | AD64: =IF($B$22=0,AD43,SQRT(-1*SIN(RADIANS(AD63))/(3*AD59))) -> 10.265522 | AE64: m | AG64: Straight Path Length | AH64: =IF($B$22=0,AH43,SQRT(-1*SIN(RADIANS(AH63))/(3*AH59))) -> 7.7660907 | AI64: m | AK64: Straight Path Length | AL64: =IF($B$22=0,AL43,SQRT(-1*SIN(RADIANS(AL63))/(3*AL59))) -> 6.0549182 | AM64: m | AO64: Straight Path Length | AP64: =IF($B$22=0,AP43,SQRT(-1*SIN(RADIANS(AP63))/(3*AP59))) -> #NUM! | AQ64: m | AS64: Straight Path Length | AT64: =IF($B$22=0,AT43,SQRT(-1*SIN(RADIANS(AT63))/(3*AT59))) -> #DIV/0! | AU64: m
A65: X location of minimum | B65: =B64*COS(RADIANS(B63)) -> 20.165501 | C65: m | E65: X location of minimum | F65: =F64*COS(RADIANS(F63)) -> 15.821879 | G65: m | I65: X location of minimum | J65: =J64*COS(RADIANS(J63)) -> 11.820293 | K65: m | M65: X location of minimum | N65: =N64*COS(RADIANS(N63)) -> 8.206703 | O65: m | Q65: X location of minimum | R65: =R64*COS(RADIANS(R63)) -> 5.5348759 | S65: m | U65: X location of minimum | V65: =V64*COS(RADIANS(V63)) -> 2.8410382 | W65: m | Y65: X location of minimum | Z65: =Z64*COS(RADIANS(Z63)) -> 12.144957 | AA65: m | AC65: X location of minimum | AD65: =AD64*COS(RADIANS(AD63)) -> 8.8214764 | AE65: m | AG65: X location of minimum | AH65: =AH64*COS(RADIANS(AH63)) -> 5.7227323 | AI65: m | AK65: X location of minimum | AL65: =AL64*COS(RADIANS(AL63)) -> 3.0165434 | AO65: X location of minimum | AP65: =AP64*COS(RADIANS(AP63)) -> #NUM! | AQ65: m | AS65: X location of minimum | AT65: =AT64*COS(RADIANS(AT63)) -> #DIV/0! | AU65: m
A67: satifies throw requirement | B67: =AND(B65<=$B$15,NOT($B$22=0)) -> TRUE | E67: satifies throw requirement | F67: =AND(F65<=$B$15,NOT($B$22=0)) -> TRUE | I67: satifies throw requirement | J67: =AND(J65<=$B$15,NOT($B$22=0)) -> TRUE | M67: satifies throw requirement | N67: =AND(N65<=$B$15,NOT($B$22=0)) -> TRUE | Q67: satifies throw requirement | R67: =AND(R65<=$B$15,NOT($B$22=0)) -> TRUE | U67: satifies throw requirement | V67: =AND(V65<=$B$15,NOT($B$22=0)) -> TRUE | Y67: satifies throw requirement | Z67: =AND(Z65<=$B$15,NOT($B$22=0)) -> TRUE | AC67: satifies throw requirement | AD67: =AND(AD65<=$B$15,NOT($B$22=0)) -> TRUE | AG67: satifies throw requirement | AH67: =AND(AH65<=$B$15,NOT($B$22=0)) -> TRUE | AK67: satifies throw requirement | AL67: =AND(AL65<=$B$15,NOT($B$22=0)) -> TRUE | AO67: satifies throw requirement | AP67: =AND(AP65<=$B$15,NOT($B$22=0)) -> #NUM! | AS67: satifies throw requirement | AT67: =AND(AT65<=$B$15,NOT($B$22=0)) -> #DIV/0!
A69: angle of depression case 2 | E69: angle of depression case 2 | I69: angle of depression case 2 | M69: angle of depression case 2 | Q69: angle of depression case 2 | U69: angle of depression case 2 | Y69: angle of depression case 2 | AC69: angle of depression case 2 | AG69: angle of depression case 2 | AK69: angle of depression case 2 | AO69: angle of depression case 2 | AS69: angle of depression case 2
A70: centreline distance | B70: =SQRT(B60^2+$B$15^2) -> 24.253866 | E70: centreline distance | F70: =SQRT(F60^2+$B$15^2) -> 24.253866 | I70: centreline distance | J70: =SQRT(J60^2+$B$15^2) -> 24.253866 | M70: centreline distance | N70: =SQRT(N60^2+$B$15^2) -> 24.253866 | Q70: centreline distance | R70: =SQRT(R60^2+$B$15^2) -> 24.253866 | U70: centreline distance | V70: =SQRT(V60^2+$B$15^2) -> 24.253866 | Y70: centreline distance | Z70: =SQRT(Z60^2+$B$15^2) -> 24.253866 | AC70: centreline distance | AD70: =SQRT(AD60^2+$B$15^2) -> 24.253866 | AG70: centreline distance | AH70: =SQRT(AH60^2+$B$15^2) -> 24.253866 | AK70: centreline distance | AL70: =SQRT(AL60^2+$B$15^2) -> 24.253866 | AO70: centreline distance | AP70: =SQRT(AP60^2+$B$15^2) -> 24.253866 | AS70: centreline distance | AT70: =SQRT(AT60^2+$B$15^2) -> 24.253866
A71: compensated angle | B71: =DEGREES(ASIN((B60-B59*B70^3)/B70)) -> -14.956334 | E71: compensated angle | F71: =DEGREES(ASIN((F60-F59*F70^3)/F70)) -> -21.501494 | I71: compensated angle | J71: =DEGREES(ASIN((J60-J59*J70^3)/J70)) -> -38.324134 | M71: compensated angle | N71: =DEGREES(ASIN((N60-N59*N70^3)/N70)) -> #NUM! | Q71: compensated angle | R71: =DEGREES(ASIN((R60-R59*R70^3)/R70)) -> #NUM! | U71: compensated angle | V71: =DEGREES(ASIN((V60-V59*V70^3)/V70)) -> #NUM! | Y71: compensated angle | Z71: =DEGREES(ASIN((Z60-Z59*Z70^3)/Z70)) -> -36.067936 | AC71: compensated angle | AD71: =DEGREES(ASIN((AD60-AD59*AD70^3)/AD70)) -> #NUM! | AG71: compensated angle | AH71: =DEGREES(ASIN((AH60-AH59*AH70^3)/AH70)) -> #NUM! | AK71: compensated angle | AL71: =DEGREES(ASIN((AL60-AL59*AL70^3)/AL70)) -> #NUM! | AO71: compensated angle | AP71: =DEGREES(ASIN((AP60-AP59*AP70^3)/AP70)) -> #NUM! | AS71: compensated angle | AT71: =DEGREES(ASIN((AT60-AT59*AT70^3)/AT70)) -> #DIV/0!
A72: direct angle | B72: =DEGREES(ATAN(B60/$B$15)) -> -8.297145 | E72: direct angle | F72: =DEGREES(ATAN(F60/$B$15)) -> -8.297145 | I72: direct angle | J72: =DEGREES(ATAN(J60/$B$15)) -> -8.297145 | M72: direct angle | N72: =DEGREES(ATAN(N60/$B$15)) -> -8.297145 | Q72: direct angle | R72: =DEGREES(ATAN(R60/$B$15)) -> -8.297145 | U72: direct angle | V72: =DEGREES(ATAN(V60/$B$15)) -> -8.297145 | Y72: direct angle | Z72: =DEGREES(ATAN(Z60/$B$15)) -> -8.297145 | AC72: direct angle | AD72: =DEGREES(ATAN(AD60/$B$15)) -> -8.297145 | AG72: direct angle | AH72: =DEGREES(ATAN(AH60/$B$15)) -> -8.297145 | AK72: direct angle | AL72: =DEGREES(ATAN(AL60/$B$15)) -> -8.297145 | AO72: direct angle | AP72: =DEGREES(ATAN(AP60/$B$15)) -> -8.297145 | AS72: direct angle | AT72: =DEGREES(ATAN(AT60/$B$15)) -> -8.297145
A73: x distance ratio | B73: =$B$15/B65 -> 1.1901515 | E73: x distance ratio | F73: =$B$15/F65 -> 1.5168869 | I73: x distance ratio | J73: =$B$15/J65 -> 2.0304065 | M73: x distance ratio | N73: =$B$15/N65 -> 2.9244387 | Q73: x distance ratio | R73: =$B$15/R65 -> 4.3361406 | U73: x distance ratio | V73: =$B$15/V65 -> 8.447616 | Y73: x distance ratio | Z73: =$B$15/Z65 -> 1.9761289 | AC73: x distance ratio | AD73: =$B$15/AD65 -> 2.720633 | AG73: x distance ratio | AH73: =$B$15/AH65 -> 4.1938009 | AK73: x distance ratio | AL73: =$B$15/AL65 -> 7.9561262 | AO73: x distance ratio | AP73: =$B$15/AP65 -> #NUM! | AS73: x distance ratio | AT73: =$B$15/AT65 -> #DIV/0!
A74: factored angle of depression | B74: =B72-B73*(B72-B71) -> -16.222588 | E74: factored angle of depression | F74: =F72-F73*(F72-F71) -> -28.326649 | I74: factored angle of depression | J74: =J72-J73*(J72-J71) -> -69.264139 | M74: factored angle of depression | N74: =N72-N73*(N72-N71) -> #NUM! | Q74: factored angle of depression | R74: =R72-R73*(R72-R71) -> #NUM! | U74: factored angle of depression | V74: =V72-V73*(V72-V71) -> #NUM! | Y74: factored angle of depression | Z74: =Z72-Z73*(Z72-Z71) -> -63.175808 | AC74: factored angle of depression | AD74: =AD72-AD73*(AD72-AD71) -> #NUM! | AG74: factored angle of depression | AH74: =AH72-AH73*(AH72-AH71) -> #NUM! | AK74: factored angle of depression | AL74: =AL72-AL73*(AL72-AL71) -> #NUM! | AO74: factored angle of depression | AP74: =AP72-AP73*(AP72-AP71) -> #NUM! | AS74: factored angle of depression | AT74: =AT72-AT73*(AT72-AT71) -> #DIV/0!
A76: Heating Angle of Depression | B76: =IF(B67,B63,B74) -> -14.592764 | E76: Heating Angle of Depression | F76: =IF(F67,F63,F74) -> -18.356825 | I76: Heating Angle of Depression | J76: =IF(J67,J63,J74) -> -23.948468 | M76: Heating Angle of Depression | N76: =IF(N67,N63,N74) -> -32.6079 | Q76: Heating Angle of Depression | R76: =IF(R67,R63,R74) -> -43.486919 | U76: Heating Angle of Depression | V76: =IF(V67,V63,V74) -> -61.579958 | Y76: Heating Angle of Depression | Z76: =IF(Z67,Z63,Z74) -> -23.377776 | AC76: Heating Angle of Depression | AD76: =IF(AD67,AD63,AD74) -> -30.758505 | AG76: Heating Angle of Depression | AH76: =IF(AH67,AH63,AH74) -> -42.533082 | AK76: Heating Angle of Depression | AL76: =IF(AL67,AL63,AL74) -> -60.119199 | AO76: Heating Angle of Depression | AP76: =IF(AP67,AP63,AP74) -> #NUM! | AS76: Heating Angle of Depression | AT76: =IF(AT67,AT63,AT74) -> #DIV/0!
A77: Adjusted vs Cooling Angle | B77: =IF(B76>B55,B55,B76) -> -14.592764 | C77: degrees | E77: Adjusted vs Cooling Angle | F77: =IF(F76>F55,F55,F76) -> -18.356825 | G77: degrees | I77: Adjusted vs Cooling Angle | J77: =IF(J76>J55,J55,J76) -> -23.948468 | K77: degrees | M77: Adjusted vs Cooling Angle | N77: =IF(N76>N55,N55,N76) -> -32.6079 | O77: degrees | Q77: Adjusted vs Cooling Angle | R77: =IF(R76>R55,R55,R76) -> -43.486919 | S77: degrees | U77: Adjusted vs Cooling Angle | V77: =IF(V76>V55,V55,V76) -> -61.579958 | W77: degrees | Y77: Adjusted vs Cooling Angle | Z77: =IF(Z76>Z55,Z55,Z76) -> -23.377776 | AA77: degrees | AC77: Adjusted vs Cooling Angle | AD77: =IF(AD76>AD55,AD55,AD76) -> -30.758505 | AE77: degrees | AG77: Adjusted vs Cooling Angle | AH77: =IF(AH76>AH55,AH55,AH76) -> -42.533082 | AI77: degrees | AK77: Adjusted vs Cooling Angle | AL77: =IF(AL76>AL55,AL55,AL76) -> -60.119199 | AM77: degrees | AO77: Adjusted vs Cooling Angle | AP77: =IF(AP76>AP55,AP55,AP76) -> #NUM! | AQ77: degrees | AS77: Adjusted vs Cooling Angle | AT77: =IF(AT76>AT55,AT55,AT76) -> #DIV/0! | AU77: degrees
A79: Heating distance | B79: =IF(B67,B64,B70) -> 20.837704 | E79: Heating distance | F79: =IF(F67,F64,F70) -> 16.670163 | I79: Heating distance | J79: =IF(J67,J64,J70) -> 12.933748 | M79: Heating distance | N79: =IF(N67,N64,N70) -> 9.7423033 | Q79: Heating distance | R79: =IF(R67,R64,R70) -> 7.6287189 | U79: Heating distance | V79: =IF(V67,V64,V70) -> 5.9694219 | Y79: Heating distance | Z79: =IF(Z67,Z64,Z70) -> 13.231118 | AC79: Heating distance | AD79: =IF(AD67,AD64,AD70) -> 10.265522 | AG79: Heating distance | AH79: =IF(AH67,AH64,AH70) -> 7.7660907 | AK79: Heating distance | AL79: =IF(AL67,AL64,AL70) -> 6.0549182 | AO79: Heating distance | AP79: =IF(AP67,AP64,AP70) -> #NUM! | AS79: Heating distance | AT79: =IF(AT67,AT64,AT70) -> #DIV/0!
A80: x location heat | B80: =IF(B67,B65,$B$15) -> 20.165501 | E80: x location heat | F80: =IF(F67,F65,$B$15) -> 15.821879 | I80: x location heat | J80: =IF(J67,J65,$B$15) -> 11.820293 | M80: x location heat | N80: =IF(N67,N65,$B$15) -> 8.206703 | Q80: x location heat | R80: =IF(R67,R65,$B$15) -> 5.5348759 | U80: x location heat | V80: =IF(V67,V65,$B$15) -> 2.8410382 | Y80: x location heat | Z80: =IF(Z67,Z65,$B$15) -> 12.144957 | AC80: x location heat | AD80: =IF(AD67,AD65,$B$15) -> 8.8214764 | AG80: x location heat | AH80: =IF(AH67,AH65,$B$15) -> 5.7227323 | AK80: x location heat | AL80: =IF(AL67,AL65,$B$15) -> 3.0165434 | AO80: x location heat | AP80: =IF(AP67,AP65,$B$15) -> #NUM! | AS80: x location heat | AT80: =IF(AT67,AT65,$B$15) -> #DIV/0!
A82: dT at Distance (heat) | B82: =B33*$B$22/(0.3*B79) -> 0.10365825 | E82: dT at Distance (heat) | F82: =F33*$B$22/(0.3*F79) -> 0.16196602 | I82: dT at Distance (heat) | J82: =J33*$B$22/(0.3*J79) -> 0.26906355 | M82: dT at Distance (heat) | N82: =N33*$B$22/(0.3*N79) -> 0.47422051 | Q82: dT at Distance (heat) | R82: =R33*$B$22/(0.3*R79) -> 0.77339329 | U82: dT at Distance (heat) | V82: =V33*$B$22/(0.3*V79) -> 1.2631039 | Y82: dT at Distance (heat) | Z82: =Z33*$B$22/(0.3*Z79) -> 0.2040644 | AC82: dT at Distance (heat) | AD82: =AD33*$B$22/(0.3*AD79) -> 0.33899883 | AG82: dT at Distance (heat) | AH82: =AH33*$B$22/(0.3*AH79) -> 0.5923186 | AK82: dT at Distance (heat) | AL82: =AL33*$B$22/(0.3*AL79) -> 0.97441449 | AO82: dT at Distance (heat) | AP82: =AP33*$B$22/(0.3*AP79) -> #NUM! | AS82: dT at Distance (heat) | AT82: =AT33*$B$22/(0.3*AT79) -> #DIV/0!
A83: Deflection (heat) | B83: =0.02*$B$22*B34/(13.6*B35^2)*($B$25/SQRT(B34))^3 -> 2.8497066 | E83: Deflection (heat) | F83: =0.02*$B$22*F34/(13.6*F35^2)*($B$25/SQRT(F34))^3 -> 5.5658331 | I83: Deflection (heat) | J83: =0.02*$B$22*J34/(13.6*J35^2)*($B$25/SQRT(J34))^3 -> 11.917266 | M83: Deflection (heat) | N83: =0.02*$B$22*N34/(13.6*N35^2)*($B$25/SQRT(N34))^3 -> 27.884625 | Q83: Deflection (heat) | R83: =0.02*$B$22*R34/(13.6*R35^2)*($B$25/SQRT(R34))^3 -> 58.075763 | U83: Deflection (heat) | V83: =0.02*$B$22*V34/(13.6*V35^2)*($B$25/SQRT(V34))^3 -> 121.21404 | Y83: Deflection (heat) | Z83: =0.02*$B$22*Z34/(13.6*Z35^2)*($B$25/SQRT(Z34))^3 -> 5.5658331 | AC83: Deflection (heat) | AD83: =0.02*$B$22*AD34/(13.6*AD35^2)*($B$25/SQRT(AD34))^3 -> 11.917266 | AG83: Deflection (heat) | AH83: =0.02*$B$22*AH34/(13.6*AH35^2)*($B$25/SQRT(AH34))^3 -> 27.524053 | AK83: Deflection (heat) | AL83: =0.02*$B$22*AL34/(13.6*AL35^2)*($B$25/SQRT(AL34))^3 -> 58.075763 | AO83: Deflection (heat) | AP83: =0.02*$B$22*AP34/(13.6*AP35^2)*($B$25/SQRT(AP34))^3 -> 121.21404 | AS83: Deflection (heat) | AT83: =0.02*$B$22*AT34/(13.6*AT35^2)*($B$25/SQRT(AT34))^3 -> #DIV/0!
A85: Arc of rotation | B85: =B55-B77 -> 9.4729866 | C85: deg | E85: Arc of rotation | F85: =F55-F77 -> 19.707402 | G85: deg | I85: Arc of rotation | J85: =J55-J77 -> 40.026476 | K85: deg | M85: Arc of rotation | N85: =N55-N77 -> 76.245104 | O85: deg | Q85: Arc of rotation | R85: =R55-R77 -> 109.15521 | S85: deg | U85: Arc of rotation | V85: =V55-V77 -> 139.91153 | W85: deg | Y85: Arc of rotation | Z85: =Z55-Z77 -> 37.709476 | AA85: deg | AC85: Arc of rotation | AD85: =AD55-AD77 -> 68.88234 | AE85: deg | AG85: Arc of rotation | AH85: =AH55-AH77 -> 106.91357 | AI85: deg | AK85: Arc of rotation | AL85: =AL55-AL77 -> 137.93487 | AM85: deg | AO85: Arc of rotation | AP85: =AP55-AP77 -> #NUM! | AQ85: deg | AS85: Arc of rotation | AT85: =AT55-AT77 -> #DIV/0!
A86: Can Thermal Adj | B86: =B55-B77<40 -> TRUE | E86: Can Thermal Adj | F86: =F55-F77<40 -> TRUE | I86: Can Thermal Adj | J86: =J55-J77<40 -> FALSE | M86: Can Thermal Adj | N86: =N55-N77<40 -> FALSE | Q86: Can Thermal Adj | R86: =R55-R77<40 -> FALSE | U86: Can Thermal Adj | V86: =V55-V77<40 -> FALSE | Y86: Can Thermal Adj | Z86: =Z55-Z77<40 -> TRUE | AC86: Can Thermal Adj | AD86: =AD55-AD77<40 -> FALSE | AG86: Can Thermal Adj | AH86: =AH55-AH77<40 -> FALSE | AK86: Can Thermal Adj | AL86: =AL55-AL77<40 -> FALSE | AO86: Can Thermal Adj | AP86: =AP55-AP77<40 -> #NUM! | AS86: Can Thermal Adj | AT86: =AT55-AT77<40 -> #DIV/0!
A87: Can Electric Adj | B87: =B55-B77<60 -> TRUE | E87: Can Electric Adj | F87: =F55-F77<60 -> TRUE | I87: Can Electric Adj | J87: =J55-J77<60 -> TRUE | M87: Can Electric Adj | N87: =N55-N77<60 -> FALSE | Q87: Can Electric Adj | R87: =R55-R77<60 -> FALSE | U87: Can Electric Adj | V87: =V55-V77<60 -> FALSE | Y87: Can Electric Adj | Z87: =Z55-Z77<60 -> TRUE | AC87: Can Electric Adj | AD87: =AD55-AD77<60 -> FALSE | AG87: Can Electric Adj | AH87: =AH55-AH77<60 -> FALSE | AK87: Can Electric Adj | AL87: =AL55-AL77<60 -> FALSE | AO87: Can Electric Adj | AP87: =AP55-AP77<60 -> #NUM! | AS87: Can Electric Adj | AT87: =AT55-AT77<60 -> #DIV/0!
A89: Mounting angle | B89: =IF(B77>-30,0,B77+30) -> 0 | E89: Mounting angle | F89: =IF(F77>-30,0,F77+30) -> 0 | I89: Mounting angle | J89: =IF(J77>-30,0,J77+30) -> 0 | M89: Mounting angle | N89: =IF(N77>-30,0,N77+30) -> -2.6079 | Q89: Mounting angle | R89: =IF(R77>-30,0,R77+30) -> -13.486919 | U89: Mounting angle | V89: =IF(V77>-30,0,V77+30) -> -31.579958 | Y89: Mounting angle | Z89: =IF(Z77>-30,0,Z77+30) -> 0 | AC89: Mounting angle | AD89: =IF(AD77>-30,0,AD77+30) -> -0.7585047 | AG89: Mounting angle | AH89: =IF(AH77>-30,0,AH77+30) -> -12.533082 | AK89: Mounting angle | AL89: =IF(AL77>-30,0,AL77+30) -> -30.119199 | AO89: Mounting angle | AP89: =IF(AP77>-30,0,AP77+30) -> #NUM! | AS89: Mounting angle | AT89: =IF(AT77>-30,0,AT77+30) -> #DIV/0!
A90: Min Centreline Dist | B90: =B33*$B$29 -> 0.324 | E90: Min Centreline Dist | F90: =F33*$B$29 -> 0.405 | I90: Min Centreline Dist | J90: =J33*$B$29 -> 0.522 | M90: Min Centreline Dist | N90: =N33*$B$29 -> 0.693 | Q90: Min Centreline Dist | R90: =R33*$B$29 -> 0.885 | U90: Min Centreline Dist | V90: =V33*$B$29 -> 1.131 | Y90: Min Centreline Dist | Z90: =Z33*$B$29 -> 0.405 | AC90: Min Centreline Dist | AD90: =AD33*$B$29 -> 0.522 | AG90: Min Centreline Dist | AH90: =AH33*$B$29 -> 0.69 | AK90: Min Centreline Dist | AL90: =AL33*$B$29 -> 0.885 | AO90: Min Centreline Dist | AP90: =AP33*$B$29 -> 1.131 | AS90: Min Centreline Dist | AT90: =AT33*$B$29 -> 0.2592
C94: 1 | D94: 2 | E94: 3 | F94: 4 | G94: 5 | H94: 6 | I94: 7 | J94: 8 | K94: 9 | L94: 10 | M94: 11
B95: Results Collate | C95: DN200 [S0] | D95: DN250 [S0] | E95: DN315 [S0] | F95: DN400 [S0] | G95: DN500 [S0] | H95: DN630 [S0] | I95: DN250 [S1] | J95: DN315 [S1] | K95: DN400 [S1] | L95: DN500 [S1] | M95: DN630 [S1]
A96: 1 | B96: Airflow Rate | C96: =$B$6 -> 200 | D96: =$B$6 -> 200 | E96: =$B$6 -> 200 | F96: =$B$6 -> 200 | G96: =$B$6 -> 200 | H96: =$B$6 -> 200 | I96: =$B$6 -> 200 | J96: =$B$6 -> 200 | ... M96: =$B$6 -> 200
A97: 2 | B97: Static Pressure | C97: =B42 -> 279.25661 | D97: =F42 -> 106.37554 | E97: =J42 -> 39.63786 | F97: =N42 -> 12.670742 | G97: =R42 -> 4.4357132 | H97: =V42 -> 2.2558676 | I97: =Z42 -> 169.65857 | J97: =AD42 -> 63.351722 | K97: =AH42 -> 20.393408 | L97: =AL42 -> 7.1893746 | M97: =AP42 -> 3.6177102
A98: 3 | B98: Total Pressure Loss (Pa) | C98: =B38 -> 304.0803 | D98: =F38 -> 116.54332 | E98: =J38 -> 43.671936 | F98: =N38 -> 14.222222 | G98: =R38 -> 5.0711996 | H98: =V38 -> 2.5079974 | I98: =Z38 -> 179.82635 | J98: =AD38 -> 67.385798 | K98: =AH38 -> 21.944889 | L98: =AL38 -> 7.824861 | M98: =AP38 -> 3.86984
A99: 4 | B99: Permissible Pressure | C99: =$B$13 -> 60 | D99: =$B$13 -> 60 | E99: =$B$13 -> 60 | F99: =$B$13 -> 60 | G99: =$B$13 -> 60 | H99: =$B$13 -> 60 | I99: =$B$13 -> 60 | J99: =$B$13 -> 60 | ... M99: =$B$13 -> 60
A100: 5 | B100: SWL (dB(A)) | C100: =B49 -> 51.489295 | D100: =F49 -> 34.116914 | E100: =J49 -> 16.389455 | F100: =N49 -> -3.3729251 | G100: =R49 -> -22.003736 | H100: =V49 -> -34.126412 | I100: =Z49 -> 61.912357 | J100: =AD49 -> 50.178552 | K100: =AH49 -> 36.708826 | L100: =AL49 -> 24.189585 | M100: =AP49 -> 16.321854
A101: 6 | B101: Throw (m) | C101: =B44 -> 38.712177 | D101: =F44 -> 30.969741 | E101: =J44 -> 24.028248 | F101: =N44 -> 18.0992 | G101: =R44 -> 14.172594 | H101: =V44 -> 11.08996 | I101: =Z44 -> 16.740401 | J101: =AD44 -> 12.988242 | K101: =AH44 -> 9.8258874 | L101: =AL44 -> 7.6608614 | M101: =AP44 -> 5.9945732
A102: 7 | B102: Jet Velocity at Distance | C102: =B45 -> 0.63164105 | D102: =F45 -> 0.50531284 | E102: =J45 -> 0.39205307 | F102: =N45 -> 0.2953127 | G102: =R45 -> 0.23124486 | H102: =V45 -> 0.18094757 | I102: =Z45 -> 0.25808118 | J102: =AD45 -> 0.2002354 | K102: =AH45 -> 0.15148243 | L102: =AL45 -> 0.11810495 | M102: =AP45 -> 0.092416337
A103: 8 | B103: Jet dT at Distance (cool) | C103: =B52 -> -0.088108238 | D103: =F52 -> -0.1101353 | E103: =J52 -> -0.14195216 | F103: =N52 -> -0.18845373 | G103: =R52 -> -0.24066602 | H103: =V52 -> -0.30756302 | I103: =Z52 -> -0.055067649 | J103: =AD52 -> -0.07097608 | K103: =AH52 -> -0.093818957 | L103: =AL52 -> -0.12033301 | M103: =AP52 -> -0.15378151
A104: 9 | B104: Jet dT at Distance (heat) | C104: =B82 -> 0.10365825 | D104: =F82 -> 0.16196602 | E104: =J82 -> 0.26906355 | F104: =N82 -> 0.47422051 | G104: =R82 -> 0.77339329 | H104: =V82 -> 1.2631039 | I104: =Z82 -> 0.2040644 | J104: =AD82 -> 0.33899883 | K104: =AH82 -> 0.5923186 | L104: =AL82 -> 0.97441449 | M104: =AP82 -> #NUM!
A105: 10 | B105: Recommended Cooling Angle | C105: =B55 -> -5.1197772 | D105: =F55 -> 1.3505769 | E105: =J55 -> 16.078008 | F105: =N55 -> 43.637204 | G105: =R55 -> 65.668288 | H105: =V55 -> 78.331569 | I105: =Z55 -> 14.3317 | J105: =AD55 -> 38.123835 | K105: =AH55 -> 64.380483 | L105: =AL55 -> 77.815666 | M105: =AP55 -> 84.227963
A106: 11 | B106: Recommended Heating Angle | C106: =B77 -> -14.592764 | D106: =F77 -> -18.356825 | E106: =J77 -> -23.948468 | F106: =N77 -> -32.6079 | G106: =R77 -> -43.486919 | H106: =V77 -> -61.579958 | I106: =Z77 -> -23.377776 | J106: =AD77 -> -30.758505 | K106: =AH77 -> -42.533082 | L106: =AL77 -> -60.119199 | M106: =AP77 -> #NUM!
A107: 12 | B107: Arc of Rotation | C107: =B85 -> 9.4729866 | D107: =F85 -> 19.707402 | E107: =J85 -> 40.026476 | F107: =N85 -> 76.245104 | G107: =R85 -> 109.15521 | H107: =V85 -> 139.91153 | I107: =Z85 -> 37.709476 | J107: =AD85 -> 68.88234 | K107: =AH85 -> 106.91357 | L107: =AL85 -> 137.93487 | M107: =AP85 -> #NUM!
A108: 13 | B108: Mounting Angle | C108: =B89 -> 0 | D108: =F89 -> 0 | E108: =J89 -> 0 | F108: =N89 -> -2.6079 | G108: =R89 -> -13.486919 | H108: =V89 -> -31.579958 | I108: =Z89 -> 0 | J108: =AD89 -> -0.7585047 | K108: =AH89 -> -12.533082 | L108: =AL89 -> -30.119199 | M108: =AP89 -> #NUM!
A109: 14 | B109: Min Centreline Dist | C109: =B90 -> 0.324 | D109: =F90 -> 0.405 | E109: =J90 -> 0.522 | F109: =N90 -> 0.693 | G109: =R90 -> 0.885 | H109: =V90 -> 1.131 | I109: =Z90 -> 0.405 | J109: =AD90 -> 0.522 | K109: =AH90 -> 0.69 | L109: =AL90 -> 0.885 | M109: =AP90 -> 1.131
A110: 15 | B110: Area | C110: =B34 -> 0.0091608842 | D110: =F34 -> 0.014313882 | E110: =J34 -> 0.023778715 | F110: =N34 -> 0.041909631 | G110: =R34 -> 0.068349275 | H110: =V34 -> 0.11162786 | I110: =Z34 -> 0.014313882 | J110: =AD34 -> 0.023778715 | K110: =AH34 -> 0.041547563 | L110: =AL34 -> 0.068349275 | M110: =AP34 -> 0.11162786
A111: 16 | B111: Velocity | C111: =B35 -> 21.831954 | D111: =F35 -> 13.97245 | E111: =J35 -> 8.4108835 | F111: =N35 -> 4.7721727 | G111: =R35 -> 2.9261466 | H111: =V35 -> 1.7916675 | I111: =Z35 -> 13.97245 | J111: =AD35 -> 8.4108835 | K111: =AH35 -> 4.8137601 | L111: =AL35 -> 2.9261466 | M111: =AP35 -> 1.7916675
A112: 17 | B112: X dist heat location | C112: =B80 -> 20.165501 | D112: =F80 -> 15.821879 | E112: =J80 -> 11.820293 | F112: =N80 -> 8.206703 | G112: =R80 -> 5.5348759 | H112: =V80 -> 2.8410382 | I112: =Z80 -> 12.144957 | J112: =AD80 -> 8.8214764 | K112: =AH80 -> 5.7227323 | L112: =AL80 -> 3.0165434 | M112: =AP80 -> #NUM!
A113: 18 | B113: deflection k (cool) | C113: =B53 -> -0.00019341424 | D113: =F53 -> -0.00037776218 | E113: =J53 -> -0.00080884427 | F113: =N53 -> -0.001892575 | G113: =R53 -> -0.0039416968 | H113: =V53 -> -0.0082269947 | I113: =Z53 -> -0.00075552436 | J113: =AD53 -> -0.0016176885 | K113: =AH53 -> -0.0037362048 | L113: =AL53 -> -0.0078833936 | M113: =AP53 -> -0.016453989
A114: 19 | B114: deflection k (heat) | C114: =B59 -> 0.00019341424 | D114: =F59 -> 0.00037776218 | E114: =J59 -> 0.00080884427 | F114: =N59 -> 0.001892575 | G114: =R59 -> 0.0039416968 | H114: =V59 -> 0.0082269947 | I114: =Z59 -> 0.00075552436 | J114: =AD59 -> 0.0016176885 | K114: =AH59 -> 0.0037362048 | L114: =AL59 -> 0.0078833936 | M114: =AP59 -> 0.016453989
B116: Results Format | C116: =C95 -> DN200 [S0] | D116: =D95 -> DN250 [S0] | E116: =E95 -> DN315 [S0] | F116: =F95 -> DN400 [S0] | G116: =G95 -> DN500 [S0] | H116: =H95 -> DN630 [S0] | I116: =I95 -> DN250 [S1] | J116: =J95 -> DN315 [S1] | ... M116: =M95 -> DN630 [S1] | N116: =""
B117: Airflow Rate | C117: =C96 -> 200 | D117: =D96 -> 200 | E117: =E96 -> 200 | F117: =F96 -> 200 | G117: =G96 -> 200 | H117: =H96 -> 200 | I117: =I96 -> 200 | J117: =J96 -> 200 | ... M117: =M96 -> 200 | N117: =""
B118: Static Pressure (Pa) | C118: =IF(ROUND(C97,1)<3,"< 3", ROUND(C97,1)) -> 279.3 | D118: =IF(ROUND(D97,1)<3,"< 3", ROUND(D97,1)) -> 106.4 | E118: =IF(ROUND(E97,1)<3,"< 3", ROUND(E97,1)) -> 39.6 | F118: =IF(ROUND(F97,1)<3,"< 3", ROUND(F97,1)) -> 12.7 | G118: =IF(ROUND(G97,1)<3,"< 3", ROUND(G97,1)) -> 4.4 | H118: =IF(ROUND(H97,1)<3,"< 3", ROUND(H97,1)) -> < 3 | I118: =IF(ROUND(I97,1)<3,"< 3", ROUND(I97,1)) -> 169.7 | J118: =IF(ROUND(J97,1)<3,"< 3", ROUND(J97,1)) -> 63.4 | ... M118: =IF(ROUND(M97,1)<3,"< 3", ROUND(M97,1)) -> 3.6 | N118: =""
B119: Total Pressure (Pa) | C119: =IF(ROUND(C98,1)<3,"< 3", ROUND(C98,1)) -> 304.1 | D119: =IF(ROUND(D98,1)<3,"< 3", ROUND(D98,1)) -> 116.5 | E119: =IF(ROUND(E98,1)<3,"< 3", ROUND(E98,1)) -> 43.7 | F119: =IF(ROUND(F98,1)<3,"< 3", ROUND(F98,1)) -> 14.2 | G119: =IF(ROUND(G98,1)<3,"< 3", ROUND(G98,1)) -> 5.1 | H119: =IF(ROUND(H98,1)<3,"< 3", ROUND(H98,1)) -> < 3 | I119: =IF(ROUND(I98,1)<3,"< 3", ROUND(I98,1)) -> 179.8 | J119: =IF(ROUND(J98,1)<3,"< 3", ROUND(J98,1)) -> 67.4 | ... M119: =IF(ROUND(M98,1)<3,"< 3", ROUND(M98,1)) -> 3.9 | N119: =""
B120: Permissible Pressure | C120: =C99 -> 60 | D120: =D99 -> 60 | E120: =E99 -> 60 | F120: =F99 -> 60 | G120: =G99 -> 60 | H120: =H99 -> 60 | I120: =I99 -> 60 | J120: =J99 -> 60 | ... M120: =M99 -> 60 | N120: =""
B121: SWL (dB(A)) | C121: =IF(ROUND(C100,1)<4, "< 4", ROUND(C100,1)) -> 51.5 | D121: =IF(ROUND(D100,1)<4, "< 4", ROUND(D100,1)) -> 34.1 | E121: =IF(ROUND(E100,1)<4, "< 4", ROUND(E100,1)) -> 16.4 | F121: =IF(ROUND(F100,1)<4, "< 4", ROUND(F100,1)) -> < 4 | G121: =IF(ROUND(G100,1)<4, "< 4", ROUND(G100,1)) -> < 4 | H121: =IF(ROUND(H100,1)<4, "< 4", ROUND(H100,1)) -> < 4 | I121: =IF(ROUND(I100,1)<4, "< 4", ROUND(I100,1)) -> 61.9 | J121: =IF(ROUND(J100,1)<4, "< 4", ROUND(J100,1)) -> 50.2 | ... M121: =IF(ROUND(M100,1)<4, "< 4", ROUND(M100,1)) -> 16.3 | N121: =""
B122: Throw (m) | C122: =ROUND(C101,1) -> 38.7 | D122: =ROUND(D101,1) -> 31 | E122: =ROUND(E101,1) -> 24 | F122: =ROUND(F101,1) -> 18.1 | G122: =ROUND(G101,1) -> 14.2 | H122: =ROUND(H101,1) -> 11.1 | I122: =ROUND(I101,1) -> 16.7 | J122: =ROUND(J101,1) -> 13 | ... M122: =ROUND(M101,1) -> 6 | N122: =""
B123: Jet Velocity at Distance | C123: =ROUND(C102,2) -> 0.63 | D123: =ROUND(D102,2) -> 0.51 | E123: =ROUND(E102,2) -> 0.39 | F123: =ROUND(F102,2) -> 0.3 | G123: =ROUND(G102,2) -> 0.23 | H123: =ROUND(H102,2) -> 0.18 | I123: =ROUND(I102,2) -> 0.26 | J123: =ROUND(J102,2) -> 0.2 | ... M123: =ROUND(M102,2) -> 0.09 | N123: =""
B124: Jet dT at Distance (cool) | C124: =ROUND(C103,1) -> -0.1 | D124: =ROUND(D103,1) -> -0.1 | E124: =ROUND(E103,1) -> -0.1 | F124: =ROUND(F103,1) -> -0.2 | G124: =ROUND(G103,1) -> -0.2 | H124: =ROUND(H103,1) -> -0.3 | I124: =ROUND(I103,1) -> -0.1 | J124: =ROUND(J103,1) -> -0.1 | ... M124: =ROUND(M103,1) -> -0.2 | N124: =""
B125: Jet dT at Distance (heat) | C125: =ROUND(C104,1) -> 0.1 | D125: =ROUND(D104,1) -> 0.2 | E125: =ROUND(E104,1) -> 0.3 | F125: =ROUND(F104,1) -> 0.5 | G125: =ROUND(G104,1) -> 0.8 | H125: =ROUND(H104,1) -> 1.3 | I125: =ROUND(I104,1) -> 0.2 | J125: =ROUND(J104,1) -> 0.3 | ... M125: =ROUND(M104,1) -> #NUM! | N125: =""
B126: Recommended Cooling Angle | C126: =ROUND(C105,0) -> -5 | D126: =ROUND(D105,0) -> 1 | E126: =ROUND(E105,0) -> 16 | F126: =ROUND(F105,0) -> 44 | G126: =ROUND(G105,0) -> 66 | H126: =ROUND(H105,0) -> 78 | I126: =ROUND(I105,0) -> 14 | J126: =ROUND(J105,0) -> 38 | ... M126: =ROUND(M105,0) -> 84 | N126: =""
...

Sheet Notes
C2: SMARTEMP PRODUCT SELECTION CALCULATOR
C3: Circular Nozzle [CNW-AD] Notes
C6: Dimensions
C8: Select Unit Size | E8: DN250
G15: 1 | H15: D3 | I15: =INDEX(INDIRECT("_"&$E$8&"size"),G15) -> 248 | J15: =CONCATENATE(H15," = ",I15) -> D3 = 248
G16: 2 | H16: D1 | I16: =INDEX(INDIRECT("_"&$E$8&"size"),G16) -> 136 | J16: =CONCATENATE(H16," = ",I16) -> D1 = 136
G17: 3 | H17: D2 | I17: =INDEX(INDIRECT("_"&$E$8&"size"),G17) -> 302 | J17: =CONCATENATE(H17," = ",I17) -> D2 = 302
G18: 4 | H18: L | I18: =INDEX(INDIRECT("_"&$E$8&"size"),G18) -> 164 | J18: =CONCATENATE(H18," = ",I18) -> L = 164
G19: 5 | H19: E | I19: =INDEX(INDIRECT("_"&$E$8&"size"),G19) -> 24 | J19: =CONCATENATE(H19," = ",I19) -> E = 24
G20: 6 | H20: LE | I20: =INDEX(INDIRECT("_"&$E$8&"size"),G20) -> 340 | J20: =CONCATENATE("Le"," = ",I20) -> Le = 340
N36: ALL DIMENSIONS IN mm
C37: Minimum Centreline Distance
C39: Minimum Spacing Between Nozzles | G39: DN200 | H39: DN250 | I39: DN315 | J39: DN400 | K39: DN500 | L39: DN630
C40: min centreline distance [m] | E40: without swirl [S0] | G40: 0.32 | H40: 0.41 | I40: 0.52 | J40: 0.69 | K40: 0.89 | L40: 1.13
E41: with swirl [S1] | G41: - | H41: 0.54 | I41: 0.7 | J41: 0.92 | K41: 1.18 | L41: 1.51

Sheet CNW-AD Data
B2: Selection Button | C2: 0
B3: Selection | C3: =C2+IF('CNW-ADequations'!B16,6,0) -> 0
A4: 0 | C4: =OFFSET('CNW-ADequations'!$B$154,A4,$C$2) -> Results Units
A5: 1 | B5: Selected Airflow Rate [L/s] | C5: =OFFSET('CNW-ADequations'!$B$154,A5,$C$2) -> Selected Airflow Rate [L/s]
A6: 2 | B6: Static Pressure @ Airflow [Pa] | C6: =OFFSET('CNW-ADequations'!$B$154,A6,$C$2) -> Static Pressure @ Airflow [Pa]
A7: 3 | B7: Total Pressure @ Airflow [Pa] | C7: =OFFSET('CNW-ADequations'!$B$154,A7,$C$2) -> Total Pressure @ Airflow [Pa]
A8: 4 | B8: Max Selected Pressure [Pa] | C8: =OFFSET('CNW-ADequations'!$B$154,A8,$C$2) -> Max Selected Pressure [Pa]
A9: 5 | B9: SWL | C9: =OFFSET('CNW-ADequations'!$B$154,A9,$C$2) -> SWL
A10: 6 | B10: Max Throw Distance [m] | C10: =OFFSET('CNW-ADequations'!$B$154,A10,$C$2) -> Max Throw Distance [m]
A11: 7 | B11: Jet Velocity at 20m | C11: =OFFSET('CNW-ADequations'!$B$154,A11,$C$2) -> Jet Velocity at 24m
A12: 8 | B12: Jet ΔT at 20 m (cooling) | C12: =OFFSET('CNW-ADequations'!$B$154,A12,$C$2) -> Jet ΔT at 24 m (cooling) | D12: =IF(C12>0, "+"&C12,C12) -> +Jet ΔT at 24 m (cooling)
A13: 9 | B13: Jet ΔT at floor level (heating) | C13: =OFFSET('CNW-ADequations'!$B$154,A13,$C$2) -> Jet ΔT at floor level (heating) | D13: =IF(C13>0, "+"&C13,C13) -> +Jet ΔT at floor level (heating)
A14: 10 | B14: Recommended Cooling Angle | C14: =OFFSET('CNW-ADequations'!$B$154,A14,$C$2) -> Recommended Cooling Angle | D14: =IF(C14>0, "+"&C14,C14) -> +Recommended Cooling Angle
A15: 11 | B15: Recommended Heating Angle | C15: =OFFSET('CNW-ADequations'!$B$154,A15,$C$2) -> Recommended Heating Angle | D15: =IF(C15>0, "+"&C15,C15) -> +Recommended Heating Angle
A16: 12 | B16: Arc of Rotation | C16: =OFFSET('CNW-ADequations'!$B$154,A16,$C$2) -> Arc of Rotation
A17: 13 | B17: Mounting Angle | C17: =OFFSET('CNW-ADequations'!$B$154,A17,$C$2) -> Mounting Angle | D17: =IF(C17>0, "+"&C17,C17) -> +Mounting Angle
A18: 14 | B18: Min Centreline Dist | C18: =OFFSET('CNW-ADequations'!$B$154,A18,$C$2) -> Min Centreline Dist
A19: 15 | B19: Duct Diameter | C19: =OFFSET('CNW-ADequations'!$B$154,A19,$C$2) -> Duct Diameter
A20: 16 | B20: Exit Diameter | C20: =OFFSET('CNW-ADequations'!$B$154,A20,$C$2) -> Exit Diameter
B23: Input
B24: Distance Selected | C24: ='CNW-ADequations'!B15 -> 24
B25: Cooling | C25: ='CNW-AD'!J11 -> -6
B26: heating | C26: ='CNW-AD'!J13 -> 6 | D26: =IF(C26>0, "+"&C26,C26) -> +6
B28: SELECTION
B30: Available Sizes | C30: 1 | D30: 2 | E30: 3 | F30: 4 | G30: 5 | H30: 6 | I30: 0
C31: DN200 | D31: DN250 | E31: DN315 | F31: DN400 | G31: DN500 | H31: DN630 | I31: N/A | L31: DN630 | M31: DN500 | N31: DN400 | O31: DN315 | P31: DN250 | Q31: DN200
B32: Selection Data | C32: =IF('CNW-ADequations'!$B$16,"N/A",'CNW-AD Data'!C31) -> DN200 | D32: =IF('CNW-ADequations'!$B$16,D31,'CNW-AD Data'!D31) -> DN250 | E32: =IF('CNW-ADequations'!$B$16,E31,'CNW-AD Data'!E31) -> DN315 | F32: =IF('CNW-ADequations'!$B$16,F31,'CNW-AD Data'!F31) -> DN400 | G32: =IF('CNW-ADequations'!$B$16,G31,'CNW-AD Data'!G31) -> DN500 | H32: =IF('CNW-ADequations'!$B$16,H31,'CNW-AD Data'!H31) -> DN630 | I32: =IF('CNW-ADequations'!$B$16,I31,'CNW-AD Data'!I31) -> N/A
B34: Size | C34: =HLOOKUP(C2,C30:I32,3,0) -> N/A | D34: =RIGHT(C34,3) -> N/A
B35: Swirl | C35: =IF('CNW-ADequations'!B16,"S1","S0") -> S0
B39: Adjustment | D39: Adjustments
B40: 0 | D40: M | E40: E | F40: T
B41: 1 | C41: =C32 -> DN200 | D41: M | E41: E | F41: T | H41: M | I41: Manual
B42: 2 | C42: =D32 -> DN250 | D42: M | E42: E | F42: T | H42: E | I42: Electric Motor
B43: 3 | C43: =E32 -> DN315 | D43: M | E43: E | F43: T | H43: T | I43: Thermal Element
B44: 4 | C44: =F32 -> DN400 | D44: M | E44: E | F44: T | H44: <N/A> | I44: Not Available
B45: 5 | C45: =G32 -> DN500 | D45: M | E45: E | F45: T
B46: 6 | C46: =H32 -> DN630 | D46: M | E46: E | F46: T
B47: =C2 -> 0 | C47: =OFFSET(C40,$B$47,0) -> 0 | D47: =OFFSET(D40,$B$47,0) -> M | E47: =OFFSET(E40,$B$47,0) -> E | F47: =OFFSET(F40,$B$47,0) -> T
D48: =VLOOKUP(D47,$H$41:$I$43,2,0) -> Manual | E48: =VLOOKUP(E47,$H$41:$I$44,2,0) -> Electric Motor | F48: =VLOOKUP(F47,$H$41:$I$44,2,0) -> Thermal Element
B49: Adjustment Selection | C49: 1 | D49: =OFFSET(C47,0,C49) -> M | E49: =OFFSET(C47,1,C49) -> Manual
B50: Max Arc | C50: =IF(D49="T",40,60) -> 60
B51: Warning Highlight | C51: =C16>C50 -> TRUE
B53: Colour | C53: 1 | D53: RAL9003 | E53: RAL9003 - Signal White
C54: 2 | D54: RAL9005 | E54: RAL9005 - Jet Black
C55: 3 | D55: <colour> | E55: custom colour
B56: Selection | C56: 1 | D56: =OFFSET(D53,C56-1,0) -> RAL9003 | E56: =OFFSET(E53,C56-1,0) -> RAL9003 - Signal White
B58: Code | C58: =IF(C2=0,"please select a valid size in row 41","SMARTEMP CNW-AD-"&C34&"-"&C35&"-"&D49&"-"&D56) -> please select a valid size in row 41
B60: Summary
B61: Size and model | C61: =IF(C3=0,"please select a valid size on CNW-AD page",C34 & IF('CNW-ADequations'!B16, " with swirl element", "")) -> please select a valid size on CNW-AD page
B62: Selected Airflow | C62: =IF($C$2=0,"",D62) | D62: =C5 &" " & 'CNW-ADequations'!D3 & " @ " & C6 & " Pa static (" &C7&" Pa total)" -> Selected Airflow Rate [L/s] L/s @ Static Pressure @ Airflow [Pa] Pa static (Total Pressure @ Airflow [Pa] Pa total)
B63: Selected throw distance | C63: =IF($C$2=0,"",D63) | D63: =C24 & " m ("&C10& " m recommended @ "& C5 & 'CNW-ADequations'!D3&")" -> 24 m (Max Throw Distance [m] m recommended @ Selected Airflow Rate [L/s]L/s)
B64: Centreline velocity | C64: =IF($C$2=0,"",D64) | D64: =C11 &" m/s at "&C24&" m from discharge" -> Jet Velocity at 24m m/s at 24 m from discharge
B65: cool temp | C65: =IF($C$2=0,"",D65) | D65: ="ΔT = " & D12 & " K at " &C24 & " m" -> ΔT = +Jet ΔT at 24 m (cooling) K at 24 m
B66: heat temp | C66: =IF($C$2=0,"",D66) | D66: ="ΔT = " & D13 & " K at occupancy level" -> ΔT = +Jet ΔT at floor level (heating) K at occupancy level
B68: Sound Power Level | C68: =C9 & " dB(A)" -> SWL dB(A)
B70: Discharge
B71: Cooling | C71: =D14& "° recommended discharge angle for cooling at ΔT = " &C25& " K (relative to horizontal)" -> +Recommended Cooling Angle° recommended discharge angle for cooling at ΔT = -6 K (relative to horizontal)
B72: Heating | C72: =D15& "° recommended discharge angle for heating at ΔT = " &D26& " K (relative to horizontal)" -> +Recommended Heating Angle° recommended discharge angle for heating at ΔT = +6 K (relative to horizontal)
B73: Angle | C73: =D17 &" ° recommended face mounting angle (relative to vertical)" -> +Mounting Angle ° recommended face mounting angle (relative to vertical)
B75: Nozzle Configuration
B76: Size | C76: ="Nozzle diffuser with neck size "& D34 & " mm" -> Nozzle diffuser with neck size N/A mm
C77: =IF('CNW-ADequations'!B16,"With swirl element","No swirl element") -> No swirl element
C78: =IF(D49="M","Manual direction adjustment",E49& " adjustment to " & C16 & "° rotation") -> Manual direction adjustment
C79: ="Powder coated to "&E56 -> Powder coated to RAL9003 - Signal White
B83: Diagram
B85: Velocity Profile
B86: Exit Diameter | C86: =C18/1000 -> #VALUE!
B87: Area | C87: =PI()/4*C86^2 -> #VALUE!
B88: Velocity | C88: =$C$5/(1000*C87) -> #VALUE!
D90: Jet Velocity
B91: 0.25D | C91: =C24/4 -> 6 | D91: =($C$88*10.8*SQRT($C$87))/(SQRT(2)*C91) -> #VALUE!
B92: 0.5D | C92: =C24/2 -> 12 | D92: =($C$88*10.8*SQRT($C$87))/(SQRT(2)*C92) -> #VALUE!
B93: 0.75D | C93: =C24/4*3 -> 18 | D93: =($C$88*10.8*SQRT($C$87))/(SQRT(2)*C93) -> #VALUE!
B94: 1D | C94: =C24 -> 24 | D94: =($C$88*10.8*SQRT($C$87))/(SQRT(2)*C94) -> #VALUE!
B96: Deflection Profile
B98: Straight Throw Distance | C98: =C24 -> 24
B99: Total Angle | C99: =#REF!+#REF! -> #REF! | D99: Rad
B100: Throw Height | C100: =C98*SIN(C99) -> #REF!
B101: Throw Distance | C101: =C98*COS(C99) -> #REF!
B103: Cooling
B104: Deflection Height | C104: =C100+C13 -> #REF!
B105: Distance | C105: =SQRT(C98^2-(C104)^2) -> #REF!
B107: Heating
B108: Deflection Height | C108: =C100+C15 -> #REF!
B109: Distance | C109: =SQRT(C98^2-(C108)^2) -> #REF!

Sheet CNW-ADsizing
A1: DN200
A2: DN250
A3: DN315
A4: DN400
A5: DN500
A6: DN630
B9: DN200 | C9: DN250 | D9: DN315 | E9: DN400 | F9: DN500 | G9: DN630
A10: D3 | B10: 198 | C10: 248 | D10: 313 | E10: 398 | F10: 498 | G10: 628
A11: D1 | B11: 108 | C11: 136 | D11: 174 | E11: 230 | F11: 295 | G11: 377
A12: D2 | B12: 257 | C12: 302 | D12: 384 | E12: 467 | F12: 600 | G12: 733
A13: L | B13: 140 | C13: 164 | D13: 177 | E13: 194 | F13: 258 | G13: 240
A14: E | B14: 20 | C14: 24 | D14: 24 | E14: 24 | F14: 28 | G14: 32
A15: Le | B15: N/A | C15: 340 | D15: 340 | E15: 340 | F15: 415 | G15: 460

Sheet Selection Summary
B1: CNW-AD Performance Calculator Summary
A3: Project | B3: ='CNW-AD'!D5 -> <Project Name>
A4: Company | B4: <Name>
A5: Consultant | B5: <Name>
A7: Product | B7: SMARTEMP CNW-AD Adjustable Nozzle
A8: Size | B8: ='CNW-AD Data'!C61 -> please select a valid size on CNW-AD page
A10: Summary
A11: Selected Airflow | B11: ='CNW-AD Data'!C62
A12: Selected Throw Distance | B12: ='CNW-AD Data'!C63
A13: Centreline Velocity | B13: ='CNW-AD Data'!C64
A14: Tcentreline - Troom for Cooling | B14: ='CNW-AD Data'!C65
A15: Tcentreline - Troom for Heating | B15: ='CNW-AD Data'!C66
A17: Acoustic Performance
A18: Sound Power Level ¹ | B18: ='CNW-AD Data'!C68 -> SWL dB(A) | G18: ¹ Valid for manual adjustment
A20: Recommended Discharge Settings
A44: Configuration | B44: ='CNW-AD Data'!C76 -> Nozzle diffuser with neck size N/A mm
B45: ='CNW-AD Data'!C77 -> No swirl element
B46: ='CNW-AD Data'!C78 -> Manual direction adjustment
B47: ='CNW-AD Data'!C79 -> Powder coated to RAL9003 - Signal White
A48: Order Code | B48: =_order_code -> please select a valid size in row 41
